{"text_format":"1","workbook":"xlsx","n_sheets":32,"sheets":["Informations","Cover Page","Inscriptions","Tests","J4","U10","U13","J3","J2","J1","Seniors","All categories","U1 RSR","U2 RSR","U3 RSR","U15","U18","1","2","Novizen","Nachwuchs","Juniors","RR","Masters","Combo","Highlight","Data2","Data","Import2","Import","Languages","Logos"],"not_rendered":{"charts":0,"images":74,"macros":1,"external_links":1,"defined_names":39,"comments":0,"pivot_tables":0},"unopened":[],"bounds":{"document_bytes":16777216,"sheet_cells":100000,"rows_first":2000,"rows_last":500,"rows_between":2000,"halvings":0,"cell_chars":16384,"cell_head_chars":4096},"cells_cut":0,"cells_raw":0,"read":"whole","date_system":"1900"}

{"sheet":"Informations","index":0,"n_rows":40,"n_cols":24,"rows_kept":40,"cut":false,"hidden":false,"merged":[[1,15,4,16],[28,14,28,15],[30,14,30,15],[33,15,34,15],[1,21,4,22],[28,20,28,21],[30,20,30,21],[33,21,34,21],[1,3,4,4],[1,9,4,10],[28,8,28,9],[30,8,30,9],[33,9,34,9]]}
[]
[null,null,null,"Fichier d'inscription aux compétitions\nde natation artistique",null,null,null,null,null,"Anmeldedatei in den Wettkampfen\nArtisticschwimmens",null,null,null,null,null,"?",null,null,null,null,null,"??",null,"Choisir la langue dans l'onglet \"Cover Page\""]
[]
[null,null,null,null,null,null,null,null,null,null,null,null,null,null,null,null,null,null,null,null,null,null,null,"Sprachauswahl im \"Cover Page\" Lasche"]
[]
[null,null,null,null,null,null,null,null,null,null,null,null,"?",null,null,null,null,null,"??"]
[null,null,null,null,null,null,null,"Vorverhandlungen (vor jedem Ettkampfveranstaltungen durchzuführen)",null,null,null,null,null,"?",null,null,null,null,null,"??"]
[null,"Opérations préalables (à effectuer avant chaque compétion)",null,null,null,null,null,null,null,null,null,null,null,"?",null,null,null,null,null,"??"]
[]
[null,"1)","Choisir la langue",null,"Cover Page",null,null,"1)","Sprache auswählen",null,"Cover Page",null,null,"1)",null,null,"Cover Page",null,null,"1)",null,null,"Cover Page"]
[]
[null,"2)","Saisir toutes les informations du club",null,"Cover Page",null,null,"2)","Alle Klubinformationen erfühlen",null,"Cover Page",null,null,"2)",null,null,"Cover Page",null,null,"2)",null,null,"Cover Page"]
[]
[]
[null,"3)","Importer les nageuses depuis Internet (bouton)",null,"Import",null,null,"3)","Schwimmerinnen von Internet importieren (Knopf)",null,"Import",null,null,"3)",null,null,"Import",null,null,"3)",null,null,"Import"]
[null,null,"Importer les juges depuis Internet (bouton)",null,null,null,null,null,"Richter aus Internet Importieren (Knopf)"]
[null,null,"Cliquer sur Transférer les données vers Data (Nageuses et Juges)",null,null,null,null,null,"Auf die Knöpfe \"Überweisen …\" drücken (Schwimmerinnene und Richter)"]
[]
[null,"4)","Vérifier les données dans Data",null,"Data",null,null,"4)","Dateien auf Data Lasche kontrolieren",null,"Data",null,null,"4)",null,null,"Data",null,null,"4)",null,null,"Data"]
[]
[]
[null,"Finaliser les inscriptions",null,null,null,null,null,"Die Anmeldungen fertig machen",null,null,null,null,null,"?",null,null,null,null,null,"??"]
[null,"5)","Choisir le type de compétition (Tests ou compétition)",null,"Cover Page",null,null,"5)","Den Typ von Wettkampf wählen (Test oder Wettkampf)",null,"Cover Page",null,null,"5)",null,null,"Cover Page",null,null,"5)",null,null,"Cover Page"]
[]
[null,"6)","Choisir les catégories qui seront utilisées ",null,"Cover Page",null,null,"6)","Die Kategorien wählen, die benutzt sein werden",null,"Cover Page",null,null,"6)",null,null,"Cover Page",null,null,"6)",null,null,"Cover Page"]
[]
[null,"7)","Remplir les données propres à la compétition",null,"Cover Page",null,null,"7)","Die für den Wettbewerb reinen Daten erfüllen",null,"Cover Page",null,null,"7)",null,null,"Cover Page",null,null,"7)",null,null,"Cover Page"]
[]
[null,"8)","Indiquer les juges qui seront présents lors de cette compétition",null,"Cover Page",null,null,"8)","Die Richter angeben, die während dieses Wettbewerbes anwesend sein werden",null,"Cover Page",null,null,"8)",null,null,"Cover Page",null,null,"8)",null,null,"Cover Page"]
[]
[null,"9)","Indiquer les nageuses qui nageront lors de cette compétition",null,"Inscriptions",null,null,"9)","Die Schwimmerinnen angeben, die während dieses Wettbewerbes schwimmen werden",null,"Inscriptions",null,null,"9)",null,null,"Inscriptions",null,null,"9)",null,null,"Inscriptions"]
[]
[null,"9)","Indiquer les catégories dans lesquelles elles nageront",null,"Inscriptions",null,null,"10)","Die Kategorien angeben, in welchen sie schwimmen werden",null,"Inscriptions",null,null,"10)",null,null,"Inscriptions",null,null,"10)",null,null,"Inscriptions"]
[null,null,null,"les cases \"bleues\" et \"vertes\" indiquent les catégories",null,null,null,null,null,"Die \"grünen\" und \" blauen\" Felder zeigen die \"ordnungsgemäßen\" Kategorien dem Alter der Schwimmerinnen entsprechend an"]
[null,null,null," \"règlementaires\" en fonction de l'âge des nageuses"]
[]
[null,"10)","Dans chaque onglet spécifique",null,null,null,null,"11)","In jedem spezifischen Laschen",null,null,null,null,"11)",null,null,null,null,null,"11)"]
[null,null,null,"Indiquer les disiciplines nagées par les nageuses",null,null,null,null,null,"Die von den Schwimmerinnen geschwommenen Disziplinen angeben"]
[null,null,null,"Duo, Groupe et Combo saisir des numéros par regroupement",null,null,null,null,null,"Duett, Team und Combo, Nummern von Gruppierung zu erfassen"]
[null,null,null,"ainsi que la lettre R pour les réserves",null,null,null,null,null,"Sowie der Buchstabe \"R\" für die Reserve Schwimmerinnen"]

{"sheet":"Cover Page","index":1,"n_rows":332,"n_cols":9,"rows_kept":332,"cut":false,"hidden":false,"merged":[[321,1,321,2],[322,1,322,2],[323,1,323,2],[324,1,324,2],[325,1,325,2],[326,1,326,2],[327,1,327,2],[328,1,328,2],[329,1,329,2],[312,1,312,2],[313,1,313,2],[314,1,314,2],[315,1,315,2],[316,1,316,2],[317,1,317,2],[318,1,318,2],[319,1,319,2],[320,1,320,2],[309,1,309,2],[308,1,308,2],[0,4,1,6],[2,4,2,6],[3,10,3,11],[4,1,4,2],[4,4,5,6],[5,1,5,2],[0,1,0,2],[19,2,19,4],[20,2,20,4],[21,2,21,4],[22,2,22,4],[23,2,23,4],[17,1,17,2],[6,1,6,2],[6,4,6,6],[7,1,7,2],[9,1,9,2],[10,1,10,2],[11,1,11,2],[12,1,12,2],[13,1,13,2],[15,1,15,2],[16,1,16,2],[12,4,12,9],[29,2,29,4],[30,2,30,4],[31,2,31,4],[32,2,32,4],[33,2,33,4],[24,2,24,4],[25,2,25,4],[26,2,26,4],[27,2,27,4],[28,2,28,4],[18,4,18,7],[19,5,19,6],[20,5,20,6],[21,5,21,6],[22,5,22,6],[23,5,23,6],[24,5,24,6],[25,5,25,6],[26,5,26,6],[27,5,27,6],[28,8,29,11],[30,8,56,11],[46,2,46,4],[47,2,47,4],[48,2,48,4],[39,2,39,4],[40,2,40,4],[41,2,41,4],[42,2,42,4],[43,2,43,4],[34,2,34,4],[35,2,35,4],[36,2,36,4],[37,2,37,4],[38,2,38,4],[69,2,69,4],[1,1,1,2],[64,2,64,4],[65,2,65,4],[66,2,66,4],[67,2,67,4],[68,2,68,4],[59,2,59,4],[60,2,60,4],[61,2,61,4],[62,2,62,4],[63,2,63,4],[54,2,54,4],[55,2,55,4],[56,2,56,4],[57,2,57,4],[58,2,58,4],[49,2,49,4],[50,2,50,4],[51,2,51,4],[52,2,52,4],[53,2,53,4],[44,2,44,4],[45,2,45,4],[28,5,28,6],[29,5,29,6],[30,5,30,6],[31,5,31,6],[42,5,42,6],[43,5,43,6],[44,5,44,6],[45,5,45,6],[52,5,52,6],[46,5,46,6],[53,5,53,6],[54,5,54,6],[55,5,55,6],[56,5,56,6],[59,5,59,6],[60,5,60,6],[61,5,61,6],[47,5,47,6],[48,5,48,6],[49,5,49,6],[50,5,50,6],[51,5,51,6],[7,4,7,6],[311,1,311,2],[310,1,310,2],[307,1,307,2],[37,5,37,6],[38,5,38,6],[39,5,39,6],[40,5,40,6],[41,5,41,6],[32,5,32,6],[33,5,33,6],[34,5,34,6],[35,5,35,6],[36,5,36,6],[67,5,67,6],[68,5,68,6],[69,5,69,6],[62,5,62,6],[63,5,63,6],[64,5,64,6],[65,5,65,6],[66,5,66,6],[57,5,57,6],[58,5,58,6]]}
[null,{"$f":"IF(B332=\"Français\",\"v. \"&TEXT(A332,\"0000.000\")&\" du \"&TEXT(D332,\"j MMM aa\"),IF(B332=\"Allemand\",\"v. \"&TEXT(A332,\"0000.000\")&\" von \"&TEXT(D332,\"t. MMM jj\"),IF(B332=\"Anglais\",\"v. \"&TEXT(A332,\"0000.000\")&\" from \"&TEXT(D332,\"d MMM yy\"),IF(B332=\"Italien\",\"v. \"&TEXT(A332,\"0000.000\")&\" del \"&TEXT(D332,\"g MMM aa\"),\"\"))))","v":"v. 2020.004 du 15 janv 20"},null,null,{"$f":"IF(Languages!L2=\"\",\"\",Languages!L2)","v":"Sprachwahl, Choix de la langue, Choose your language"}]
[null,{"$f":"IF(ChoixLangue=Languages!B$1,Languages!B47,IF(ChoixLangue=Languages!C$1,Languages!C47,IF(ChoixLangue=Languages!D$1,Languages!D47,Languages!E47)))","v":"Saisir l'e-mail du juge arbitre"}]
["e-mail :","artistic-swimming@swiss-aquatics.ch",null,null,"Français"]
[{"$f":"IF(ChoixLangue=Languages!B$1,Languages!B10,IF(ChoixLangue=Languages!C$1,Languages!C10,IF(ChoixLangue=Languages!D$1,Languages!D10,Languages!E10)))","v":"Données de la compétition :"}]
[{"$f":"IF(ChoixLangue=Languages!B$1,Languages!B9,IF(ChoixLangue=Languages!C$1,Languages!C9,IF(ChoixLangue=Languages!D$1,Languages!D9,Languages!E9)))","v":"Nom de la compétition :"},null,null,null,{"$f":"IF(ChoixLangue=Languages!B$1,Languages!B44,IF(ChoixLangue=Languages!C$1,Languages!C44,IF(ChoixLangue=Languages!D$1,Languages!D44,Languages!E44)))","v":"Type d'événement"}]
[{"$f":"IF(ChoixLangue=Languages!B$1,Languages!B11,IF(ChoixLangue=Languages!C$1,Languages!C11,IF(ChoixLangue=Languages!D$1,Languages!D11,Languages!E11)))","v":"Date de la compétition :"}]
[{"$f":"IF(ChoixLangue=Languages!B$1,Languages!B12,IF(ChoixLangue=Languages!C$1,Languages!C12,IF(ChoixLangue=Languages!D$1,Languages!D12,Languages!E12)))","v":"Lieu de la compétition :"},null,null,null,"Compétition"]
[{"$f":"IF(ChoixLangue=Languages!B$1,Languages!B13,IF(ChoixLangue=Languages!C$1,Languages!C13,IF(ChoixLangue=Languages!D$1,Languages!D13,Languages!E13)))","v":"Délai d'inscription :"},null,null,null,{"$f":"IF(ChoixLangue=Languages!B$1,Languages!B135,IF(ChoixLangue=Languages!C$1,Languages!C135,IF(ChoixLangue=Languages!D$1,Languages!D135,Languages!E135)))","v":"Choisissez ici le logo à afficher ►►► "},null,null,"SAAS","NON"]
[{"$f":"IF(ChoixLangue=Languages!B$1,Languages!B14,IF(ChoixLangue=Languages!C$1,Languages!C14,IF(ChoixLangue=Languages!D$1,Languages!D14,Languages!E14)))","v":"Données du club :"}]
[{"$f":"IF(ChoixLangue=Languages!B$1,Languages!B15,IF(ChoixLangue=Languages!C$1,Languages!C15,IF(ChoixLangue=Languages!D$1,Languages!D15,Languages!E15)))","v":"Club :"},null,null,null,{"$f":"IF(ChoixLangue=Languages!B$1,Languages!B24,IF(ChoixLangue=Languages!C$1,Languages!C24,IF(ChoixLangue=Languages!D$1,Languages!D24,Languages!E24)))","v":"Instructions :"}]
[{"$f":"IF(ChoixLangue=Languages!B$1,Languages!B16,IF(ChoixLangue=Languages!C$1,Languages!C16,IF(ChoixLangue=Languages!D$1,Languages!D16,Languages!E16)))","v":"Abréviation officielle :"},{"$f":"IF(B10=\"\",\"\",INDEX(Data!M2:M50,MATCH(B10,Data!N2:N50,0),0))","v":""},null,null,{"$f":"IF(ChoixLangue=Languages!B$1,Languages!B25,IF(ChoixLangue=Languages!C$1,Languages!C25,IF(ChoixLangue=Languages!D$1,Languages!D25,Languages!E25)))","v":"1. Remplissez les plages jaunes à gauche"}]
[{"$f":"IF(ChoixLangue=Languages!B$1,Languages!B17,IF(ChoixLangue=Languages!C$1,Languages!C17,IF(ChoixLangue=Languages!D$1,Languages!D17,Languages!E17)))","v":"Adresse :"},null,null,null,{"$f":"IF(ChoixLangue=Languages!B$1,Languages!B26,IF(ChoixLangue=Languages!C$1,Languages!C26,IF(ChoixLangue=Languages!D$1,Languages!D26,Languages!E26)))","v":"2. Choisissez le type de compétition"}]
[{"$f":"IF(ChoixLangue=Languages!B$1,Languages!B18,IF(ChoixLangue=Languages!C$1,Languages!C18,IF(ChoixLangue=Languages!D$1,Languages!D18,Languages!E18)))","v":"N° postal et domicile :"},null,null,null,{"$f":"IF(ChoixLangue=Languages!B$1,Languages!B27,IF(ChoixLangue=Languages!C$1,Languages!C27,IF(ChoixLangue=Languages!D$1,Languages!D27,Languages!E27)))","v":"3. Sélectionnez les onglets (Catégories) à masquer avec les cases à cocher ci-contre"}]
[{"$f":"IF(ChoixLangue=Languages!B$1,Languages!B19,IF(ChoixLangue=Languages!C$1,Languages!C19,IF(ChoixLangue=Languages!D$1,Languages!D19,Languages!E19)))","v":"Adresse e-mail :"},null,null,null,{"$f":"IF(ChoixLangue=Languages!B$1,Languages!B28,IF(ChoixLangue=Languages!C$1,Languages!C28,IF(ChoixLangue=Languages!D$1,Languages!D28,Languages!E28)))","v":"4. Saisissez les juges dans les cellules jaunes du bas"}]
[{"$f":"IF(ChoixLangue=Languages!B$1,Languages!B20,IF(ChoixLangue=Languages!C$1,Languages!C20,IF(ChoixLangue=Languages!D$1,Languages!D20,Languages!E20)))","v":"Données du responsable technique :"},null,null,null,{"$f":"IF(ChoixLangue=Languages!B$1,Languages!B29,IF(ChoixLangue=Languages!C$1,Languages!C29,IF(ChoixLangue=Languages!D$1,Languages!D29,Languages!E29)))","v":"5. Saisissez les nageuses dans l'onglet \"Inscriptions\""}]
[{"$f":"IF(ChoixLangue=Languages!B$1,Languages!B21,IF(ChoixLangue=Languages!C$1,Languages!C21,IF(ChoixLangue=Languages!D$1,Languages!D21,Languages!E21)))","v":"Nom, prénom :"},null,null,null,{"$f":"IF(ChoixLangue=Languages!B$1,Languages!B30,IF(ChoixLangue=Languages!C$1,Languages!C30,IF(ChoixLangue=Languages!D$1,Languages!D30,Languages!E30)))","v":"6. Sur chaque onglet indiquez les épreuves nagées par nageuse"}]
[{"$f":"IF(ChoixLangue=Languages!B$1,Languages!B22,IF(ChoixLangue=Languages!C$1,Languages!C22,IF(ChoixLangue=Languages!D$1,Languages!D22,Languages!E22)))","v":"N° de tél. :"},null,null,null,{"$f":"IF(ChoixLangue=Languages!B$1,Languages!B31,IF(ChoixLangue=Languages!C$1,Languages!C31,IF(ChoixLangue=Languages!D$1,Languages!D31,Languages!E31)))","v":"7. Envoyez le nouveau fichier comme pièce jointe depuis un Webmail à Artistic Swimming"}]
[{"$f":"IF(ChoixLangue=Languages!B$1,Languages!B23,IF(ChoixLangue=Languages!C$1,Languages!C23,IF(ChoixLangue=Languages!D$1,Languages!D23,Languages!E23)))","v":"Adresse e-mail :"},null,null,null,{"$f":"IF(ChoixLangue=Languages!B$1,Languages!B32,IF(ChoixLangue=Languages!C$1,Languages!C32,IF(ChoixLangue=Languages!D$1,Languages!D32,Languages!E32)))","v":"    L'adresse e-mail est indiquée en haut à gauche à côté de \"e-mail :\""}]
[{"$f":"IF(ChoixLangue=Languages!B$1,Languages!B33,IF(ChoixLangue=Languages!C$1,Languages!C33,IF(ChoixLangue=Languages!D$1,Languages!D33,Languages!E33)))","v":"Juges à inscrire :"},null,null,null,{"$f":"IF(ChoixLangue=Languages!B$1,Languages!B133,IF(ChoixLangue=Languages!C$1,Languages!C133,IF(ChoixLangue=Languages!D$1,Languages!D133,Languages!E133)))","v":"8. Le Team manager et les officiels (accréditations) peuvent être\n    saisis sur les lignes 66 à 70"}]
[{"$f":"IF(ChoixLangue=Languages!B$1,Languages!B34,IF(ChoixLangue=Languages!C$1,Languages!C34,IF(ChoixLangue=Languages!D$1,Languages!D34,Languages!E34)))","v":"NOM Prénom"},{"$f":"IF(ChoixLangue=Languages!B$1,Languages!B35,IF(ChoixLangue=Languages!C$1,Languages!C35,IF(ChoixLangue=Languages!D$1,Languages!D35,Languages!E35)))","v":"Qualification (A-F)"},{"$f":"IF(ChoixLangue=Languages!B$1,Languages!B45,IF(ChoixLangue=Languages!C$1,Languages!C45,IF(ChoixLangue=Languages!D$1,Languages!D45,Languages!E45)))","v":"Remarques"},null,null,{"$f":"Data!E1","v":"E-mail du juge"},null,null,{"$f":"IF(ChoixLangue=Languages!B$1,Languages!B36,IF(ChoixLangue=Languages!C$1,Languages!C36,IF(ChoixLangue=Languages!D$1,Languages!D36,Languages!E36)))","v":"Nombre de juges"}]
[null,{"$f":"IF(A21=\"\",\"zzz\",IF(ISNA(VLOOKUP(A21,Data!A$2:E$51,4,FALSE)),\"?\",VLOOKUP(A21,Data!A$2:E$51,4,FALSE)))","v":"zzz"},null,null,null,{"$f":"IF(A21=\"\",\"\",IF(ISNA(VLOOKUP(A21,Data!A$2:E$51,5,FALSE)),\"\",VLOOKUP(A21,Data!A$2:E$51,5,FALSE)))","v":""},null,null,{"$f":"IF(TypeComp=\"Test\",IF(ChoixLangue=Languages!B$1,Languages!B37,IF(ChoixLangue=Languages!C$1,Languages!C37,IF(ChoixLangue=Languages!D$1,Languages!D37,Languages!E37))),IF(ChoixLangue=Languages!B$1,Languages!B48,IF(ChoixLangue=Languages!C$1,Languages!C48,IF(ChoixLangue=Languages!D$1,Languages!D48,Languages!E48))))","v":"Voir l'article 1.4.2 du règlement 6.2"}]
[null,{"$f":"IF(A22=\"\",\"zzz\",IF(ISNA(VLOOKUP(A22,Data!A$2:E$51,4,FALSE)),\"?\",VLOOKUP(A22,Data!A$2:E$51,4,FALSE)))","v":"zzz"},null,null,null,{"$f":"IF(A22=\"\",\"\",IF(ISNA(VLOOKUP(A22,Data!A$2:E$51,5,FALSE)),\"\",VLOOKUP(A22,Data!A$2:E$51,5,FALSE)))","v":""},null,null,{"$f":"IF(TypeComp=\"Test\",IF(ChoixLangue=Languages!B$1,Languages!B38,IF(ChoixLangue=Languages!C$1,Languages!C38,IF(ChoixLangue=Languages!D$1,Languages!D38,Languages!E38))),IF(ChoixLangue=Languages!B$1,Languages!B49,IF(ChoixLangue=Languages!C$1,Languages!C49,IF(ChoixLangue=Languages!D$1,Languages!D49,Languages!E49))))","v":"(1 - 10 nageuses = 1 juge)"}]
[null,{"$f":"IF(A23=\"\",\"zzz\",IF(ISNA(VLOOKUP(A23,Data!A$2:E$51,4,FALSE)),\"?\",VLOOKUP(A23,Data!A$2:E$51,4,FALSE)))","v":"zzz"},null,null,null,{"$f":"IF(A23=\"\",\"\",IF(ISNA(VLOOKUP(A23,Data!A$2:E$51,5,FALSE)),\"\",VLOOKUP(A23,Data!A$2:E$51,5,FALSE)))","v":""},null,null,{"$f":"IF(TypeComp=\"Test\",IF(ChoixLangue=Languages!B$1,Languages!B39,IF(ChoixLangue=Languages!C$1,Languages!C39,IF(ChoixLangue=Languages!D$1,Languages!D39,Languages!E39))),IF(ChoixLangue=Languages!B$1,Languages!B50,IF(ChoixLangue=Languages!C$1,Languages!C50,IF(ChoixLangue=Languages!D$1,Languages!D50,Languages!E50))))","v":"(11 - 20 nageuses = 2 juges)"}]
[null,{"$f":"IF(A24=\"\",\"zzz\",IF(ISNA(VLOOKUP(A24,Data!A$2:E$51,4,FALSE)),\"?\",VLOOKUP(A24,Data!A$2:E$51,4,FALSE)))","v":"zzz"},null,null,null,{"$f":"IF(A24=\"\",\"\",IF(ISNA(VLOOKUP(A24,Data!A$2:E$51,5,FALSE)),\"\",VLOOKUP(A24,Data!A$2:E$51,5,FALSE)))","v":""},null,null,{"$f":"IF(TypeComp=\"Test\",IF(ChoixLangue=Languages!B$1,Languages!B40,IF(ChoixLangue=Languages!C$1,Languages!C40,IF(ChoixLangue=Languages!D$1,Languages!D40,Languages!E40))),IF(ChoixLangue=Languages!B$1,Languages!B51,IF(ChoixLangue=Languages!C$1,Languages!C51,IF(ChoixLangue=Languages!D$1,Languages!D51,Languages!E51))))","v":"(plus de 20 nageuses = 3 juges)"}]
[null,{"$f":"IF(A25=\"\",\"zzz\",IF(ISNA(VLOOKUP(A25,Data!A$2:E$51,4,FALSE)),\"?\",VLOOKUP(A25,Data!A$2:E$51,4,FALSE)))","v":"zzz"},null,null,null,{"$f":"IF(A25=\"\",\"\",IF(ISNA(VLOOKUP(A25,Data!A$2:E$51,5,FALSE)),\"\",VLOOKUP(A25,Data!A$2:E$51,5,FALSE)))","v":""},null,null,{"$f":"IF(TypeComp=\"Test\",IF(ChoixLangue=Languages!B$1,Languages!B41,IF(ChoixLangue=Languages!C$1,Languages!C41,IF(ChoixLangue=Languages!D$1,Languages!D41,Languages!E41))),IF(ChoixLangue=Languages!B$1,Languages!B52,IF(ChoixLangue=Languages!C$1,Languages!C52,IF(ChoixLangue=Languages!D$1,Languages!D52,Languages!E52))))","v":"Chaque club participant met au moins un juge F à disposition"}]
[null,{"$f":"IF(A26=\"\",\"zzz\",IF(ISNA(VLOOKUP(A26,Data!A$2:E$51,4,FALSE)),\"?\",VLOOKUP(A26,Data!A$2:E$51,4,FALSE)))","v":"zzz"},null,null,null,{"$f":"IF(A26=\"\",\"\",IF(ISNA(VLOOKUP(A26,Data!A$2:E$51,5,FALSE)),\"\",VLOOKUP(A26,Data!A$2:E$51,5,FALSE)))","v":""},null,null,{"$f":"IF(TypeComp=\"Test\",IF(ChoixLangue=Languages!B$1,Languages!B42,IF(ChoixLangue=Languages!C$1,Languages!C42,IF(ChoixLangue=Languages!D$1,Languages!D42,Languages!E42))),IF(ChoixLangue=Languages!B$1,Languages!B53,IF(ChoixLangue=Languages!C$1,Languages!C53,IF(ChoixLangue=Languages!D$1,Languages!D53,Languages!E53))))","v":"Dans les compétitions régionales des règles particulières peuvent être appliquées"}]
[null,{"$f":"IF(A27=\"\",\"zzz\",IF(ISNA(VLOOKUP(A27,Data!A$2:E$51,4,FALSE)),\"?\",VLOOKUP(A27,Data!A$2:E$51,4,FALSE)))","v":"zzz"},null,null,null,{"$f":"IF(A27=\"\",\"\",IF(ISNA(VLOOKUP(A27,Data!A$2:E$51,5,FALSE)),\"\",VLOOKUP(A27,Data!A$2:E$51,5,FALSE)))","v":""},null,null,{"$f":"IF(TypeComp=\"Test\",IF(ChoixLangue=Languages!B$1,Languages!B43,IF(ChoixLangue=Languages!C$1,Languages!C43,IF(ChoixLangue=Languages!D$1,Languages!D43,Languages!E43))),\"\")","v":""}]
[null,{"$f":"IF(A28=\"\",\"zzz\",IF(ISNA(VLOOKUP(A28,Data!A$2:E$51,4,FALSE)),\"?\",VLOOKUP(A28,Data!A$2:E$51,4,FALSE)))","v":"zzz"},null,null,null,{"$f":"IF(A28=\"\",\"\",IF(ISNA(VLOOKUP(A28,Data!A$2:E$51,5,FALSE)),\"\",VLOOKUP(A28,Data!A$2:E$51,5,FALSE)))","v":""}]
[null,{"$f":"IF(A29=\"\",\"zzz\",IF(ISNA(VLOOKUP(A29,Data!A$2:E$51,4,FALSE)),\"?\",VLOOKUP(A29,Data!A$2:E$51,4,FALSE)))","v":"zzz"},null,null,null,{"$f":"IF(A29=\"\",\"\",IF(ISNA(VLOOKUP(A29,Data!A$2:E$51,5,FALSE)),\"\",VLOOKUP(A29,Data!A$2:E$51,5,FALSE)))","v":""},null,null,{"$f":"IF(ChoixLangue=Languages!B$1,Languages!B46,IF(ChoixLangue=Languages!C$1,Languages!C46,IF(ChoixLangue=Languages!D$1,Languages!D46,Languages!E46)))","v":"Remarques générales [retour à la ligne avec (Alt + ENTER)]"}]
[null,{"$f":"IF(A30=\"\",\"zzz\",IF(ISNA(VLOOKUP(A30,Data!A$2:E$51,4,FALSE)),\"?\",VLOOKUP(A30,Data!A$2:E$51,4,FALSE)))","v":"zzz"},null,null,null,{"$f":"IF(A30=\"\",\"\",IF(ISNA(VLOOKUP(A30,Data!A$2:E$51,5,FALSE)),\"\",VLOOKUP(A30,Data!A$2:E$51,5,FALSE)))","v":""}]
[null,{"$f":"IF(A31=\"\",\"zzz\",IF(ISNA(VLOOKUP(A31,Data!A$2:E$51,4,FALSE)),\"?\",VLOOKUP(A31,Data!A$2:E$51,4,FALSE)))","v":"zzz"},null,null,null,{"$f":"IF(A31=\"\",\"\",IF(ISNA(VLOOKUP(A31,Data!A$2:E$51,5,FALSE)),\"\",VLOOKUP(A31,Data!A$2:E$51,5,FALSE)))","v":""}]
[null,{"$f":"IF(A32=\"\",\"zzz\",IF(ISNA(VLOOKUP(A32,Data!A$2:E$51,4,FALSE)),\"?\",VLOOKUP(A32,Data!A$2:E$51,4,FALSE)))","v":"zzz"},null,null,null,{"$f":"IF(A32=\"\",\"\",IF(ISNA(VLOOKUP(A32,Data!A$2:E$51,5,FALSE)),\"\",VLOOKUP(A32,Data!A$2:E$51,5,FALSE)))","v":""}]
[null,{"$f":"IF(A33=\"\",\"zzz\",IF(ISNA(VLOOKUP(A33,Data!A$2:E$51,4,FALSE)),\"?\",VLOOKUP(A33,Data!A$2:E$51,4,FALSE)))","v":"zzz"},null,null,null,{"$f":"IF(A33=\"\",\"\",IF(ISNA(VLOOKUP(A33,Data!A$2:E$51,5,FALSE)),\"\",VLOOKUP(A33,Data!A$2:E$51,5,FALSE)))","v":""}]
[null,{"$f":"IF(A34=\"\",\"zzz\",IF(ISNA(VLOOKUP(A34,Data!A$2:E$51,4,FALSE)),\"?\",VLOOKUP(A34,Data!A$2:E$51,4,FALSE)))","v":"zzz"},null,null,null,{"$f":"IF(A34=\"\",\"\",IF(ISNA(VLOOKUP(A34,Data!A$2:E$51,5,FALSE)),\"\",VLOOKUP(A34,Data!A$2:E$51,5,FALSE)))","v":""}]
[null,{"$f":"IF(A35=\"\",\"zzz\",IF(ISNA(VLOOKUP(A35,Data!A$2:E$51,4,FALSE)),\"?\",VLOOKUP(A35,Data!A$2:E$51,4,FALSE)))","v":"zzz"},null,null,null,{"$f":"IF(A35=\"\",\"\",IF(ISNA(VLOOKUP(A35,Data!A$2:E$51,5,FALSE)),\"\",VLOOKUP(A35,Data!A$2:E$51,5,FALSE)))","v":""}]
[null,{"$f":"IF(A36=\"\",\"zzz\",IF(ISNA(VLOOKUP(A36,Data!A$2:E$51,4,FALSE)),\"?\",VLOOKUP(A36,Data!A$2:E$51,4,FALSE)))","v":"zzz"},null,null,null,{"$f":"IF(A36=\"\",\"\",IF(ISNA(VLOOKUP(A36,Data!A$2:E$51,5,FALSE)),\"\",VLOOKUP(A36,Data!A$2:E$51,5,FALSE)))","v":""}]
[null,{"$f":"IF(A37=\"\",\"zzz\",IF(ISNA(VLOOKUP(A37,Data!A$2:E$51,4,FALSE)),\"?\",VLOOKUP(A37,Data!A$2:E$51,4,FALSE)))","v":"zzz"},null,null,null,{"$f":"IF(A37=\"\",\"\",IF(ISNA(VLOOKUP(A37,Data!A$2:E$51,5,FALSE)),\"\",VLOOKUP(A37,Data!A$2:E$51,5,FALSE)))","v":""}]
[null,{"$f":"IF(A38=\"\",\"zzz\",IF(ISNA(VLOOKUP(A38,Data!A$2:E$51,4,FALSE)),\"?\",VLOOKUP(A38,Data!A$2:E$51,4,FALSE)))","v":"zzz"},null,null,null,{"$f":"IF(A38=\"\",\"\",IF(ISNA(VLOOKUP(A38,Data!A$2:E$51,5,FALSE)),\"\",VLOOKUP(A38,Data!A$2:E$51,5,FALSE)))","v":""}]
[null,{"$f":"IF(A39=\"\",\"zzz\",IF(ISNA(VLOOKUP(A39,Data!A$2:E$51,4,FALSE)),\"?\",VLOOKUP(A39,Data!A$2:E$51,4,FALSE)))","v":"zzz"},null,null,null,{"$f":"IF(A39=\"\",\"\",IF(ISNA(VLOOKUP(A39,Data!A$2:E$51,5,FALSE)),\"\",VLOOKUP(A39,Data!A$2:E$51,5,FALSE)))","v":""}]
[null,{"$f":"IF(A40=\"\",\"zzz\",IF(ISNA(VLOOKUP(A40,Data!A$2:E$51,4,FALSE)),\"?\",VLOOKUP(A40,Data!A$2:E$51,4,FALSE)))","v":"zzz"},null,null,null,{"$f":"IF(A40=\"\",\"\",IF(ISNA(VLOOKUP(A40,Data!A$2:E$51,5,FALSE)),\"\",VLOOKUP(A40,Data!A$2:E$51,5,FALSE)))","v":""}]
[null,{"$f":"IF(A41=\"\",\"zzz\",IF(ISNA(VLOOKUP(A41,Data!A$2:E$51,4,FALSE)),\"?\",VLOOKUP(A41,Data!A$2:E$51,4,FALSE)))","v":"zzz"},null,null,null,{"$f":"IF(A41=\"\",\"\",IF(ISNA(VLOOKUP(A41,Data!A$2:E$51,5,FALSE)),\"\",VLOOKUP(A41,Data!A$2:E$51,5,FALSE)))","v":""}]
[null,{"$f":"IF(A42=\"\",\"zzz\",IF(ISNA(VLOOKUP(A42,Data!A$2:E$51,4,FALSE)),\"?\",VLOOKUP(A42,Data!A$2:E$51,4,FALSE)))","v":"zzz"},null,null,null,{"$f":"IF(A42=\"\",\"\",IF(ISNA(VLOOKUP(A42,Data!A$2:E$51,5,FALSE)),\"\",VLOOKUP(A42,Data!A$2:E$51,5,FALSE)))","v":""}]
[null,{"$f":"IF(A43=\"\",\"zzz\",IF(ISNA(VLOOKUP(A43,Data!A$2:E$51,4,FALSE)),\"?\",VLOOKUP(A43,Data!A$2:E$51,4,FALSE)))","v":"zzz"},null,null,null,{"$f":"IF(A43=\"\",\"\",IF(ISNA(VLOOKUP(A43,Data!A$2:E$51,5,FALSE)),\"\",VLOOKUP(A43,Data!A$2:E$51,5,FALSE)))","v":""}]
[null,{"$f":"IF(A44=\"\",\"zzz\",IF(ISNA(VLOOKUP(A44,Data!A$2:E$51,4,FALSE)),\"?\",VLOOKUP(A44,Data!A$2:E$51,4,FALSE)))","v":"zzz"},null,null,null,{"$f":"IF(A44=\"\",\"\",IF(ISNA(VLOOKUP(A44,Data!A$2:E$51,5,FALSE)),\"\",VLOOKUP(A44,Data!A$2:E$51,5,FALSE)))","v":""}]
[null,{"$f":"IF(A45=\"\",\"zzz\",IF(ISNA(VLOOKUP(A45,Data!A$2:E$51,4,FALSE)),\"?\",VLOOKUP(A45,Data!A$2:E$51,4,FALSE)))","v":"zzz"},null,null,null,{"$f":"IF(A45=\"\",\"\",IF(ISNA(VLOOKUP(A45,Data!A$2:E$51,5,FALSE)),\"\",VLOOKUP(A45,Data!A$2:E$51,5,FALSE)))","v":""}]
[null,{"$f":"IF(A46=\"\",\"zzz\",IF(ISNA(VLOOKUP(A46,Data!A$2:E$51,4,FALSE)),\"?\",VLOOKUP(A46,Data!A$2:E$51,4,FALSE)))","v":"zzz"},null,null,null,{"$f":"IF(A46=\"\",\"\",IF(ISNA(VLOOKUP(A46,Data!A$2:E$51,5,FALSE)),\"\",VLOOKUP(A46,Data!A$2:E$51,5,FALSE)))","v":""}]
[null,{"$f":"IF(A47=\"\",\"zzz\",IF(ISNA(VLOOKUP(A47,Data!A$2:E$51,4,FALSE)),\"?\",VLOOKUP(A47,Data!A$2:E$51,4,FALSE)))","v":"zzz"},null,null,null,{"$f":"IF(A47=\"\",\"\",IF(ISNA(VLOOKUP(A47,Data!A$2:E$51,5,FALSE)),\"\",VLOOKUP(A47,Data!A$2:E$51,5,FALSE)))","v":""}]
[null,{"$f":"IF(A48=\"\",\"zzz\",IF(ISNA(VLOOKUP(A48,Data!A$2:E$51,4,FALSE)),\"?\",VLOOKUP(A48,Data!A$2:E$51,4,FALSE)))","v":"zzz"},null,null,null,{"$f":"IF(A48=\"\",\"\",IF(ISNA(VLOOKUP(A48,Data!A$2:E$51,5,FALSE)),\"\",VLOOKUP(A48,Data!A$2:E$51,5,FALSE)))","v":""}]
[null,{"$f":"IF(A49=\"\",\"zzz\",IF(ISNA(VLOOKUP(A49,Data!A$2:E$51,4,FALSE)),\"?\",VLOOKUP(A49,Data!A$2:E$51,4,FALSE)))","v":"zzz"},null,null,null,{"$f":"IF(A49=\"\",\"\",IF(ISNA(VLOOKUP(A49,Data!A$2:E$51,5,FALSE)),\"\",VLOOKUP(A49,Data!A$2:E$51,5,FALSE)))","v":""}]
[null,{"$f":"IF(A50=\"\",\"zzz\",IF(ISNA(VLOOKUP(A50,Data!A$2:E$51,4,FALSE)),\"?\",VLOOKUP(A50,Data!A$2:E$51,4,FALSE)))","v":"zzz"},null,null,null,{"$f":"IF(A50=\"\",\"\",IF(ISNA(VLOOKUP(A50,Data!A$2:E$51,5,FALSE)),\"\",VLOOKUP(A50,Data!A$2:E$51,5,FALSE)))","v":""}]
[null,{"$f":"IF(A51=\"\",\"zzz\",IF(ISNA(VLOOKUP(A51,Data!A$2:E$51,4,FALSE)),\"?\",VLOOKUP(A51,Data!A$2:E$51,4,FALSE)))","v":"zzz"},null,null,null,{"$f":"IF(A51=\"\",\"\",IF(ISNA(VLOOKUP(A51,Data!A$2:E$51,5,FALSE)),\"\",VLOOKUP(A51,Data!A$2:E$51,5,FALSE)))","v":""}]
[null,{"$f":"IF(A52=\"\",\"zzz\",IF(ISNA(VLOOKUP(A52,Data!A$2:E$51,4,FALSE)),\"?\",VLOOKUP(A52,Data!A$2:E$51,4,FALSE)))","v":"zzz"},null,null,null,{"$f":"IF(A52=\"\",\"\",IF(ISNA(VLOOKUP(A52,Data!A$2:E$51,5,FALSE)),\"\",VLOOKUP(A52,Data!A$2:E$51,5,FALSE)))","v":""}]
[null,{"$f":"IF(A53=\"\",\"zzz\",IF(ISNA(VLOOKUP(A53,Data!A$2:E$51,4,FALSE)),\"?\",VLOOKUP(A53,Data!A$2:E$51,4,FALSE)))","v":"zzz"},null,null,null,{"$f":"IF(A53=\"\",\"\",IF(ISNA(VLOOKUP(A53,Data!A$2:E$51,5,FALSE)),\"\",VLOOKUP(A53,Data!A$2:E$51,5,FALSE)))","v":""}]
[null,{"$f":"IF(A54=\"\",\"zzz\",IF(ISNA(VLOOKUP(A54,Data!A$2:E$51,4,FALSE)),\"?\",VLOOKUP(A54,Data!A$2:E$51,4,FALSE)))","v":"zzz"},null,null,null,{"$f":"IF(A54=\"\",\"\",IF(ISNA(VLOOKUP(A54,Data!A$2:E$51,5,FALSE)),\"\",VLOOKUP(A54,Data!A$2:E$51,5,FALSE)))","v":""}]
[null,{"$f":"IF(A55=\"\",\"zzz\",IF(ISNA(VLOOKUP(A55,Data!A$2:E$51,4,FALSE)),\"?\",VLOOKUP(A55,Data!A$2:E$51,4,FALSE)))","v":"zzz"},null,null,null,{"$f":"IF(A55=\"\",\"\",IF(ISNA(VLOOKUP(A55,Data!A$2:E$51,5,FALSE)),\"\",VLOOKUP(A55,Data!A$2:E$51,5,FALSE)))","v":""}]
[null,{"$f":"IF(A56=\"\",\"zzz\",IF(ISNA(VLOOKUP(A56,Data!A$2:E$51,4,FALSE)),\"?\",VLOOKUP(A56,Data!A$2:E$51,4,FALSE)))","v":"zzz"},null,null,null,{"$f":"IF(A56=\"\",\"\",IF(ISNA(VLOOKUP(A56,Data!A$2:E$51,5,FALSE)),\"\",VLOOKUP(A56,Data!A$2:E$51,5,FALSE)))","v":""}]
[null,{"$f":"IF(A57=\"\",\"zzz\",IF(ISNA(VLOOKUP(A57,Data!A$2:E$51,4,FALSE)),\"?\",VLOOKUP(A57,Data!A$2:E$51,4,FALSE)))","v":"zzz"},null,null,null,{"$f":"IF(A57=\"\",\"\",IF(ISNA(VLOOKUP(A57,Data!A$2:E$51,5,FALSE)),\"\",VLOOKUP(A57,Data!A$2:E$51,5,FALSE)))","v":""}]
[null,{"$f":"IF(A58=\"\",\"zzz\",IF(ISNA(VLOOKUP(A58,Data!A$2:E$51,4,FALSE)),\"?\",VLOOKUP(A58,Data!A$2:E$51,4,FALSE)))","v":"zzz"},null,null,null,{"$f":"IF(A58=\"\",\"\",IF(ISNA(VLOOKUP(A58,Data!A$2:E$51,5,FALSE)),\"\",VLOOKUP(A58,Data!A$2:E$51,5,FALSE)))","v":""}]
[null,{"$f":"IF(A59=\"\",\"zzz\",IF(ISNA(VLOOKUP(A59,Data!A$2:E$51,4,FALSE)),\"?\",VLOOKUP(A59,Data!A$2:E$51,4,FALSE)))","v":"zzz"},null,null,null,{"$f":"IF(A59=\"\",\"\",IF(ISNA(VLOOKUP(A59,Data!A$2:E$51,5,FALSE)),\"\",VLOOKUP(A59,Data!A$2:E$51,5,FALSE)))","v":""}]
[null,{"$f":"IF(A60=\"\",\"zzz\",IF(ISNA(VLOOKUP(A60,Data!A$2:E$51,4,FALSE)),\"?\",VLOOKUP(A60,Data!A$2:E$51,4,FALSE)))","v":"zzz"},null,null,null,{"$f":"IF(A60=\"\",\"\",IF(ISNA(VLOOKUP(A60,Data!A$2:E$51,5,FALSE)),\"\",VLOOKUP(A60,Data!A$2:E$51,5,FALSE)))","v":""}]
[null,{"$f":"IF(A61=\"\",\"zzz\",IF(ISNA(VLOOKUP(A61,Data!A$2:E$51,4,FALSE)),\"?\",VLOOKUP(A61,Data!A$2:E$51,4,FALSE)))","v":"zzz"},null,null,null,{"$f":"IF(A61=\"\",\"\",IF(ISNA(VLOOKUP(A61,Data!A$2:E$51,5,FALSE)),\"\",VLOOKUP(A61,Data!A$2:E$51,5,FALSE)))","v":""}]
[null,{"$f":"IF(A62=\"\",\"zzz\",IF(ISNA(VLOOKUP(A62,Data!A$2:E$51,4,FALSE)),\"?\",VLOOKUP(A62,Data!A$2:E$51,4,FALSE)))","v":"zzz"},null,null,null,{"$f":"IF(A62=\"\",\"\",IF(ISNA(VLOOKUP(A62,Data!A$2:E$51,5,FALSE)),\"\",VLOOKUP(A62,Data!A$2:E$51,5,FALSE)))","v":""}]
[null,{"$f":"IF(A63=\"\",\"zzz\",IF(ISNA(VLOOKUP(A63,Data!A$2:E$51,4,FALSE)),\"?\",VLOOKUP(A63,Data!A$2:E$51,4,FALSE)))","v":"zzz"},null,null,null,{"$f":"IF(A63=\"\",\"\",IF(ISNA(VLOOKUP(A63,Data!A$2:E$51,5,FALSE)),\"\",VLOOKUP(A63,Data!A$2:E$51,5,FALSE)))","v":""}]
[null,{"$f":"IF(A64=\"\",\"zzz\",IF(ISNA(VLOOKUP(A64,Data!A$2:E$51,4,FALSE)),\"?\",VLOOKUP(A64,Data!A$2:E$51,4,FALSE)))","v":"zzz"},null,null,null,{"$f":"IF(A64=\"\",\"\",IF(ISNA(VLOOKUP(A64,Data!A$2:E$51,5,FALSE)),\"\",VLOOKUP(A64,Data!A$2:E$51,5,FALSE)))","v":""}]
[null,{"$f":"IF(A65=\"\",\"zzz\",IF(ISNA(VLOOKUP(A65,Data!A$2:E$51,4,FALSE)),\"?\",VLOOKUP(A65,Data!A$2:E$51,4,FALSE)))","v":"zzz"},null,null,null,{"$f":"IF(A65=\"\",\"\",IF(ISNA(VLOOKUP(A65,Data!A$2:E$51,5,FALSE)),\"\",VLOOKUP(A65,Data!A$2:E$51,5,FALSE)))","v":""}]
[null,{"$f":"IF(A66=\"\",\"\",IF(ISNA(VLOOKUP(A66,Data!A$2:E$51,4,FALSE)),\"\",VLOOKUP(A66,Data!A$2:E$51,4,FALSE)))","v":""},null,null,null,{"$f":"IF(A66=\"\",\"\",IF(ISNA(VLOOKUP(A66,Data!A$2:E$51,5,FALSE)),\"\",VLOOKUP(A66,Data!A$2:E$51,5,FALSE)))","v":""}]
[null,{"$f":"IF(A67=\"\",\"\",IF(ISNA(VLOOKUP(A67,Data!A$2:E$51,4,FALSE)),\"\",VLOOKUP(A67,Data!A$2:E$51,4,FALSE)))","v":""},null,null,null,{"$f":"IF(A67=\"\",\"\",IF(ISNA(VLOOKUP(A67,Data!A$2:E$51,5,FALSE)),\"\",VLOOKUP(A67,Data!A$2:E$51,5,FALSE)))","v":""}]
[null,{"$f":"IF(A68=\"\",\"\",IF(ISNA(VLOOKUP(A68,Data!A$2:E$51,4,FALSE)),\"\",VLOOKUP(A68,Data!A$2:E$51,4,FALSE)))","v":""},null,null,null,{"$f":"IF(A68=\"\",\"\",IF(ISNA(VLOOKUP(A68,Data!A$2:E$51,5,FALSE)),\"\",VLOOKUP(A68,Data!A$2:E$51,5,FALSE)))","v":""}]
[null,{"$f":"IF(A69=\"\",\"\",IF(ISNA(VLOOKUP(A69,Data!A$2:E$51,4,FALSE)),\"\",VLOOKUP(A69,Data!A$2:E$51,4,FALSE)))","v":""},null,null,null,{"$f":"IF(A69=\"\",\"\",IF(ISNA(VLOOKUP(A69,Data!A$2:E$51,5,FALSE)),\"\",VLOOKUP(A69,Data!A$2:E$51,5,FALSE)))","v":""}]
[null,{"$f":"IF(A70=\"\",\"\",IF(ISNA(VLOOKUP(A70,Data!A$2:E$51,4,FALSE)),\"\",VLOOKUP(A70,Data!A$2:E$51,4,FALSE)))","v":""},null,null,null,{"$f":"IF(A70=\"\",\"\",IF(ISNA(VLOOKUP(A70,Data!A$2:E$51,5,FALSE)),\"\",VLOOKUP(A70,Data!A$2:E$51,5,FALSE)))","v":""}]
["-","-","-","-","-","-","-"]
[]
[]
[]
[]
[]
[]
[]
[]
[]
[]
[]
[]
[]
[]
[]
[]
[]
[]
[]
[]
[]
[]
[]
[]
[]
[]
[]
[]
[]
[]
[]
[]
[]
[]
[]
[]
[]
[]
[]
[]
[]
[]
[]
[]
[]
[]
[]
[]
[]
[]
[]
[]
[]
[]
[]
[]
[]
[]
[]
[]
[]
[]
[]
[]
[]
[]
[]
[]
[]
[]
[]
[]
[]
[]
[]
[]
[]
[]
[]
[]
[]
[]
[]
[]
[]
[]
[]
[]
[]
[]
[]
[]
[]
[]
[]
[]
[]
[]
[]
[]
[]
[]
[]
[]
[]
[]
[]
[]
["N° de version","Modifications",null,"Date"]
[2015,"Première version du fichier",null,"2014-11-14"]
[null,"Pas aboutie"]
[]
[2015.5,"Finalisation des fonctions",null,"2015-10-18"]
[null,"de base et début de la page d'infos"]
[]
[2015.6,"Finalisation des traductions",null,"2015-10-19"]
[null,"y compris composants divers"]
[null,"Ajout des fonctions d'aide à la saisie"]
[]
[2015.7,"Ajout d'un menu de navigation",null,"2015-10-19"]
[null,"Création du guide utilisateur"]
[]
[2015.8,"Ajout de deux macros",null,"2015-10-20"]
[null,"    Tri nageuses"]
[null,"   Effacement onglet \"Import\""]
[null,"Finalisation du guide"]
[null,"MàJ des traductions"]
[]
[2015.9,"Corrigé les traductions allemandes",null,"2015-11-23"]
[null,"Ajouté les traductions anglaises"]
[null,"Modifié la macrio de tri des nageuses"]
[]
[2015.9010000000001,"Modifié l'en-tête de l'onglet",null,"2015-12-01"]
[null,"\"Languages\""]
[null,"Contrôlé et mis à jour quelques"]
[null,"      Macros"]
[]
[2015.902,"Rajouté des champs pour els juges",null,"2015-12-11"]
[null,"    (engagement)"]
[null,"Rajouté un champ de remarques "]
[null,"    globales"]
[null,"Rajouté la saisie de l'e-mail du JA"]
[null,"Rajouté les e-mails des juges"]
[null,"    (Data + cover Page)"]
[null,"+ Traductions"]
[]
[2015.903,"Rajouté deux onglets",null,"2012-12-15"]
[null,"    (1 et 2) selon demande de NW"]
[null,"Rajouté les fonctions pour ces onglets"]
[null,"Rajouté les traductions"]
[null,"Rajouté les case à cocher"]
[null,"Rajouté les macros"]
[null,"Modifié les macros"]
[null,"Modifié le mnu de navigation"]
[]
[2015.904,"Corrigé la formule d'affiche de la",null,"2015-12-29"]
[null,"catégorie sur les différents onglets"]
[null,"problème soulevé par Nicola"]
[]
[2015.905,"Corrigé quelques bugs",null,"2016-01-18"]
[null,"de l'emplacement d'affichage de "]
[null,"la catégorie"]
[null,"Aggrandi la colone e-mail sur"]
[null,"Cover Page pour Mania"]
[]
[2015.9059999999999,"Ajouté une colonne N° Test"]
[null,"Dans l'onglet Data et dans tous"]
[null,"les onglets"]
[]
[null,"Rajouté des tests sur les"]
[null,"catégories pour indiquer"]
[null,"en rouge lorsque le niveau"]
[null,"de test est insuffisant pour"]
[null,"l'inscriptions (Onglets"]
[null,"Inscriptions et Combo)"]
[]
[null,"Rajouté un onglet \"RR\" et"]
[null,"une colonne, adapté les macros",null,"2016-02-23"]
[]
[2015.9069999999999,"Rajouté la gestion du nombre de juges"]
[null,"en fonction des tests ou des compétitions",null,"2016-03-01"]
[]
[2015.9079999999999,"Rajouté le test 1"]
[null,"Rajouté le formatage conditionnel "]
[null,"dans les colonnes des tests",null,"2016-03-17"]
[]
[2015.9090000000001,"Corrigé un bug dans la gestion",null,"2016-04-03"]
[null,"du type de compétition"]
[]
[2017,"Corrigé les catégories romandes",null,"2016-10-09"]
[null,"    NPT --> Union"]
[null,"Vérifié le nombre de juges en"]
[null,"    concordance avec les règlements"]
[null,"Masqué la colonne Test 1 de l'onglet Tests"]
[]
[2017.001,"Rajouté le \"cochage\" automatique",null,"2016-10-14"]
[null,"de la colonne Tests de l'onglet Inscriptions"]
[null,"Corrigé quelques bugs de mise en page"]
[null,"Modifié la liste des clubs"]
[null,"    (rajouté un \"club vide\" pour menu déroulant)"]
[]
[2017.002,"Vérifié la liste des clubs",null,"2017-01-03"]
[null,"Rajouté le SCL - Schwimm-Club Limmattal "]
[]
[2017.0029999999999,"Vérifié la liste des clubs",null,"2017-01-12"]
[null,"Modifié les abréviations de deux clubs"]
[null,"Rajouté deux clubs"]
[]
[2017.0039999999999,"Rajouté la zone d'import des tests"]
[null,"    depuis le site swsytest.geckco.ch"]
[null,"    (Copier-coller le fichier exporté)",null,"2017-01-28"]
[]
[2017.0050000000001,"Modifié les macros de tri de "]
[null,"    l'onglet \"Data\" (sans la ligne 2)"]
[null,"Masqué la ligne \"2\" de l'onglet \"Data\""]
[null,"    Menus déroulant plus conviviaux",null,"2017-02-10"]
[]
[2017.0060000000001,"Modifié une formule dans l'onglet"]
[null,"   \"Inscriptions\" cochage automatique"]
[null,"Masqué la case à cocher \"Tests\""]
[null,"   double emploi avec le choix \"Tests\""]
[null,"    ou \"Compétition\"",null,"2017-02-17"]
[]
[2017.0070000000001,"Corrigé deux bugs signalés par"]
[null,"   Alex Tuscher dans l'utilisation "]
[null,"   des noms de composants francisés"]
[null,"    (Nomfichier et Bouton)",null,"2017-03-20"]
[]
[null,"Rajouté la zone d'import des juges"]
[null,"    depuis le site swsyjuge.geckco.ch"]
[null,"    (Copier-coller le fichier exporté)"]
[null,"+ boutons de transfert (macros)",null,"2017-03-21"]
[]
[2017.008,"Finalisation import des tests",null,"2017-06-27"]
[null,"Rajouté une macro"]
[]
[2018.001,"Modification des formules de recherche\ndes juges sur l'onglet \"Cover Page\"\nPour que cela fonctionne aussi si les\njuges ne sont pas triés alpabétiquement",null,"2017-08-11"]
[2018.002,"Modifier la formule de recherche des tests sur l'onglet \"Data\"\nModifié le Logo",null,"2017-09-12"]
[2018.0029999999999,"- Modifié une macro qui plantait depuis le changement de Logo.\n- Déprotégé les lignes 66 à 70 sur l'onglet \"Cover Page\" poour la saisie des Team Manager et des officiels pour les accréditations\n- Rajouté une traduction",null,"2017-09-13"]
[2018.0039999999999,"- Modifié des traductions pour qu'elles soient en adéquation avec les nouveaux règlements",null,"2017-09-30"]
[2018.0050000000001,"Modification du nom des catégories\nPremier jet en attente de la romande\nModifié quelques traductions et \nréférences au règlement",null,"2017-10-02"]
[2018.0060000000001,"Correction d'un bug sur l'onglet \n  Cover page (recherches sur les juges)\nAdaptation des formats conditionnels\n  au nouveaux règlements (âge et test)",null,"2017-10-19"]
[2018.0070000000001,"Correction d'un bug sur l'affichage du numéro de version dans les autres langues que le français",null,"2017-11-09"]
[2018.008,"Rajouté la catégorie Seniors et le Highlight,\nRajouté les colonnes Tech dans la catégorie J1\nRajouté le Mixed Duet dans 11 catégories\nMis à jour les diverses macros\nModifié quelques noms de catégories",null,"2017-11-24"]
[2018.009,"Rajouté deux communautés de start dans la liste des clubs",null,"2018-03-23"]
[2019.001,"Modifié les catégories Union, Union U15, Union U19 en U1 RSR, U2 RSR, U3 RSR",null,"2018-11-06"]
[2019.002,"Corrigé des règles de validation U1, U2, U3\nRajouté une colonne Combo Union\nModifié la protection de la cellule Test des Combo sur Inscriptions\nModifié la macro AutoCheckBox",null,"2018-11-18"]
[2019.0029999999999,"Correction d'une petite erreur sur l'onglet Combo",null,"2019-02-28"]
[2020,"Rajout de la gestion des Logos\nMise à jour des traductions\nMise à jour de la liste des clubs (42)",null,"2019-09-16"]
[2020.001,"Mise à jour de la liste des clubs (43) SRSO",null,"2019-11-09"]
[2020.002,"Mise à jour de l'adresse e-mail du secrétariat, mise à jour du logo de la RSR",null,"2019-12-30"]
[2020.0029999999999,"Ajouté les logos des différentes régions + mis à jour celui de la SYC",null,"2020-01-07"]
[2020.0039999999999,"Ajout du tri des juges sur l'onglet Cover Page (Nom ou brevet)",null,"2020-01-15"]
[]
[]
[]
[]
[]
[]
["-","-","-","-"]
[{"$f":"MAX(A181:A330)","v":2020.0039999999999},{"$f":"LangueSysteme()","v":"Français"},null,{"$f":"MAX(D181:D330)","v":"2020-01-15"}]

{"sheet":"Inscriptions","index":2,"n_rows":312,"n_cols":29,"rows_kept":312,"cut":false,"hidden":false,"merged":[[1,0,1,4],[303,0,303,4]]}
[{"$f":"IF(ChoixLangue=Languages!B$1,Languages!B55,IF(ChoixLangue=Languages!C$1,Languages!C55,IF(ChoixLangue=Languages!D$1,Languages!D55,Languages!E55)))","v":"Nageuses à inscrire :"},null,null,null,null,null,2,2,2,3,4,5,6,null,null,null,2,3,5,null,null,3,2,2,3,4,6,5,{"$f":"IF(ChoixLangue=Languages!$B$1,Languages!$B61,IF(ChoixLangue=Languages!$C$1,Languages!$C61,IF(ChoixLangue=Languages!$D$1,Languages!$D61,Languages!$E61)))","v":"N° de test nécessaire"}]
[{"$f":"A304","v":"Nbes de nageuses par catégorie"},null,null,null,null,{"$f":"F304","v":0},{"$f":"G304","v":0},0,0,0,0,0,0,0,0,0,0,0,0,0,0,0,0,0,0]
[{"$f":"IF(ChoixLangue=Languages!B$1,Languages!B56,IF(ChoixLangue=Languages!C$1,Languages!C56,IF(ChoixLangue=Languages!D$1,Languages!D56,Languages!E56)))","v":"NOM Prénom"},{"$f":"IF(ChoixLangue=Languages!B$1,Languages!B57,IF(ChoixLangue=Languages!C$1,Languages!C57,IF(ChoixLangue=Languages!D$1,Languages!D57,Languages!E57)))","v":"Club"},{"$f":"IF(ChoixLangue=Languages!B$1,Languages!B58,IF(ChoixLangue=Languages!C$1,Languages!C58,IF(ChoixLangue=Languages!D$1,Languages!D58,Languages!E58)))","v":"Licence"},{"$f":"IF(ChoixLangue=Languages!B$1,Languages!B59,IF(ChoixLangue=Languages!C$1,Languages!C59,IF(ChoixLangue=Languages!D$1,Languages!D59,Languages!E59)))","v":"N° Test"},{"$f":"IF(ChoixLangue=Languages!B$1,Languages!B60,IF(ChoixLangue=Languages!C$1,Languages!C60,IF(ChoixLangue=Languages!D$1,Languages!D60,Languages!E60)))","v":"An. Nais."},{"$f":"IF(ChoixLangue=Languages!B$1,Languages!B62,IF(ChoixLangue=Languages!C$1,Languages!C62,IF(ChoixLangue=Languages!D$1,Languages!D62,Languages!E62)))","v":"Tests"},{"$f":"IF(ChoixLangue=Languages!B$1,Languages!B63,IF(ChoixLangue=Languages!C$1,Languages!C63,IF(ChoixLangue=Languages!D$1,Languages!D63,Languages!E63)))","v":"J4"},{"$f":"IF(ChoixLangue=Languages!B$1,Languages!B64,IF(ChoixLangue=Languages!C$1,Languages!C64,IF(ChoixLangue=Languages!D$1,Languages!D64,Languages!E64)))","v":"U10"},{"$f":"IF(ChoixLangue=Languages!B$1,Languages!B65,IF(ChoixLangue=Languages!C$1,Languages!C65,IF(ChoixLangue=Languages!D$1,Languages!D65,Languages!E65)))","v":"U13"},{"$f":"IF(ChoixLangue=Languages!B$1,Languages!B66,IF(ChoixLangue=Languages!C$1,Languages!C66,IF(ChoixLangue=Languages!D$1,Languages!D66,Languages!E66)))","v":"J3"},{"$f":"IF(ChoixLangue=Languages!B$1,Languages!B67,IF(ChoixLangue=Languages!C$1,Languages!C67,IF(ChoixLangue=Languages!D$1,Languages!D67,Languages!E67)))","v":"J2"},{"$f":"IF(ChoixLangue=Languages!B$1,Languages!B68,IF(ChoixLangue=Languages!C$1,Languages!C68,IF(ChoixLangue=Languages!D$1,Languages!D68,Languages!E68)))","v":"J1"},{"$f":"IF(ChoixLangue=Languages!B$1,Languages!B69,IF(ChoixLangue=Languages!C$1,Languages!C69,IF(ChoixLangue=Languages!D$1,Languages!D69,Languages!E69)))","v":"All categories"},"U1 RSR",{"$f":"IF(ChoixLangue=Languages!B$1,Languages!B71,IF(ChoixLangue=Languages!C$1,Languages!C71,IF(ChoixLangue=Languages!D$1,Languages!D71,Languages!E71)))","v":"U15"},{"$f":"IF(ChoixLangue=Languages!B$1,Languages!B72,IF(ChoixLangue=Languages!C$1,Languages!C72,IF(ChoixLangue=Languages!D$1,Languages!D72,Languages!E72)))","v":"U18"},{"$f":"IF(ChoixLangue=Languages!B$1,Languages!B73,IF(ChoixLangue=Languages!C$1,Languages!C73,IF(ChoixLangue=Languages!D$1,Languages!D73,Languages!E73)))","v":"Débutants"},{"$f":"IF(ChoixLangue=Languages!B$1,Languages!B74,IF(ChoixLangue=Languages!C$1,Languages!C74,IF(ChoixLangue=Languages!D$1,Languages!D74,Languages!E74)))","v":"Espoirs"},{"$f":"IF(ChoixLangue=Languages!B$1,Languages!B75,IF(ChoixLangue=Languages!C$1,Languages!C75,IF(ChoixLangue=Languages!D$1,Languages!D75,Languages!E75)))","v":"Juniors"},"U2 RSR","U3 RSR",{"$f":"IF(ChoixLangue=Languages!B$1,Languages!B78,IF(ChoixLangue=Languages!C$1,Languages!C78,IF(ChoixLangue=Languages!D$1,Languages!D78,Languages!E78)))","v":"Masters"},{"$f":"IF(ChoixLangue=Languages!B$1,Languages!B79,IF(ChoixLangue=Languages!C$1,Languages!C79,IF(ChoixLangue=Languages!D$1,Languages!D79,Languages!E79)))","v":"Groupe combiné"},{"$f":"IF(ChoixLangue=Languages!B$1,Languages!B82,IF(ChoixLangue=Languages!C$1,Languages!C82,IF(ChoixLangue=Languages!D$1,Languages!D82,Languages!E82)))","v":"Catégorie 1"},{"$f":"IF(ChoixLangue=Languages!B$1,Languages!B83,IF(ChoixLangue=Languages!C$1,Languages!C83,IF(ChoixLangue=Languages!D$1,Languages!D83,Languages!E83)))","v":"Catégorie 2"},"Rencontre Romande","Seniors","Highlight",{"$f":"IF(ChoixLangue=Languages!B$1,Languages!B80,IF(ChoixLangue=Languages!C$1,Languages!C80,IF(ChoixLangue=Languages!D$1,Languages!D80,Languages!E80)))","v":"Nbe Cat."}]
[null,{"$f":"IF(A4=\"\",\"\",'Cover Page'!B$10)","v":""},{"$f":"IF(A4=\"\",\"\",VLOOKUP(A4,Data!G$2:K$302,2,FALSE))","v":""},{"$f":"IF(A4=\"\",\"\",VLOOKUP(A4,Data!G$2:K$302,4,FALSE))","v":""},{"$f":"IF(A4=\"\",\"\",VLOOKUP(A4,Data!G$2:K$302,3,FALSE))","v":""},{"$f":"IF(AND(OR(TypeComp=\"Test\",TypeComp=\"Tests\"),A4<>\"\"),\"X\",\"\")","v":""}]
[null,{"$f":"IF(A5=\"\",\"\",'Cover Page'!B$10)","v":""},{"$f":"IF(A5=\"\",\"\",VLOOKUP(A5,Data!G$2:K$302,2,FALSE))","v":""},{"$f":"IF(A5=\"\",\"\",VLOOKUP(A5,Data!G$2:K$302,4,FALSE))","v":""},{"$f":"IF(A5=\"\",\"\",VLOOKUP(A5,Data!G$2:K$302,3,FALSE))","v":""},""]
[null,{"$f":"IF(A6=\"\",\"\",'Cover Page'!B$10)","v":""},{"$f":"IF(A6=\"\",\"\",VLOOKUP(A6,Data!G$2:K$302,2,FALSE))","v":""},{"$f":"IF(A6=\"\",\"\",VLOOKUP(A6,Data!G$2:K$302,4,FALSE))","v":""},{"$f":"IF(A6=\"\",\"\",VLOOKUP(A6,Data!G$2:K$302,3,FALSE))","v":""},""]
[null,{"$f":"IF(A7=\"\",\"\",'Cover Page'!B$10)","v":""},{"$f":"IF(A7=\"\",\"\",VLOOKUP(A7,Data!G$2:K$302,2,FALSE))","v":""},{"$f":"IF(A7=\"\",\"\",VLOOKUP(A7,Data!G$2:K$302,4,FALSE))","v":""},{"$f":"IF(A7=\"\",\"\",VLOOKUP(A7,Data!G$2:K$302,3,FALSE))","v":""},""]
[null,{"$f":"IF(A8=\"\",\"\",'Cover Page'!B$10)","v":""},{"$f":"IF(A8=\"\",\"\",VLOOKUP(A8,Data!G$2:K$302,2,FALSE))","v":""},{"$f":"IF(A8=\"\",\"\",VLOOKUP(A8,Data!G$2:K$302,4,FALSE))","v":""},{"$f":"IF(A8=\"\",\"\",VLOOKUP(A8,Data!G$2:K$302,3,FALSE))","v":""},""]
[null,{"$f":"IF(A9=\"\",\"\",'Cover Page'!B$10)","v":""},{"$f":"IF(A9=\"\",\"\",VLOOKUP(A9,Data!G$2:K$302,2,FALSE))","v":""},{"$f":"IF(A9=\"\",\"\",VLOOKUP(A9,Data!G$2:K$302,4,FALSE))","v":""},{"$f":"IF(A9=\"\",\"\",VLOOKUP(A9,Data!G$2:K$302,3,FALSE))","v":""},""]
[null,{"$f":"IF(A10=\"\",\"\",'Cover Page'!B$10)","v":""},{"$f":"IF(A10=\"\",\"\",VLOOKUP(A10,Data!G$2:K$302,2,FALSE))","v":""},{"$f":"IF(A10=\"\",\"\",VLOOKUP(A10,Data!G$2:K$302,4,FALSE))","v":""},{"$f":"IF(A10=\"\",\"\",VLOOKUP(A10,Data!G$2:K$302,3,FALSE))","v":""},""]
[null,{"$f":"IF(A11=\"\",\"\",'Cover Page'!B$10)","v":""},{"$f":"IF(A11=\"\",\"\",VLOOKUP(A11,Data!G$2:K$302,2,FALSE))","v":""},{"$f":"IF(A11=\"\",\"\",VLOOKUP(A11,Data!G$2:K$302,4,FALSE))","v":""},{"$f":"IF(A11=\"\",\"\",VLOOKUP(A11,Data!G$2:K$302,3,FALSE))","v":""},""]
[null,{"$f":"IF(A12=\"\",\"\",'Cover Page'!B$10)","v":""},{"$f":"IF(A12=\"\",\"\",VLOOKUP(A12,Data!G$2:K$302,2,FALSE))","v":""},{"$f":"IF(A12=\"\",\"\",VLOOKUP(A12,Data!G$2:K$302,4,FALSE))","v":""},{"$f":"IF(A12=\"\",\"\",VLOOKUP(A12,Data!G$2:K$302,3,FALSE))","v":""},""]
[null,{"$f":"IF(A13=\"\",\"\",'Cover Page'!B$10)","v":""},{"$f":"IF(A13=\"\",\"\",VLOOKUP(A13,Data!G$2:K$302,2,FALSE))","v":""},{"$f":"IF(A13=\"\",\"\",VLOOKUP(A13,Data!G$2:K$302,4,FALSE))","v":""},{"$f":"IF(A13=\"\",\"\",VLOOKUP(A13,Data!G$2:K$302,3,FALSE))","v":""},""]
[null,{"$f":"IF(A14=\"\",\"\",'Cover Page'!B$10)","v":""},{"$f":"IF(A14=\"\",\"\",VLOOKUP(A14,Data!G$2:K$302,2,FALSE))","v":""},{"$f":"IF(A14=\"\",\"\",VLOOKUP(A14,Data!G$2:K$302,4,FALSE))","v":""},{"$f":"IF(A14=\"\",\"\",VLOOKUP(A14,Data!G$2:K$302,3,FALSE))","v":""},""]
[null,{"$f":"IF(A15=\"\",\"\",'Cover Page'!B$10)","v":""},{"$f":"IF(A15=\"\",\"\",VLOOKUP(A15,Data!G$2:K$302,2,FALSE))","v":""},{"$f":"IF(A15=\"\",\"\",VLOOKUP(A15,Data!G$2:K$302,4,FALSE))","v":""},{"$f":"IF(A15=\"\",\"\",VLOOKUP(A15,Data!G$2:K$302,3,FALSE))","v":""},""]
[null,{"$f":"IF(A16=\"\",\"\",'Cover Page'!B$10)","v":""},{"$f":"IF(A16=\"\",\"\",VLOOKUP(A16,Data!G$2:K$302,2,FALSE))","v":""},{"$f":"IF(A16=\"\",\"\",VLOOKUP(A16,Data!G$2:K$302,4,FALSE))","v":""},{"$f":"IF(A16=\"\",\"\",VLOOKUP(A16,Data!G$2:K$302,3,FALSE))","v":""},""]
[null,{"$f":"IF(A17=\"\",\"\",'Cover Page'!B$10)","v":""},{"$f":"IF(A17=\"\",\"\",VLOOKUP(A17,Data!G$2:K$302,2,FALSE))","v":""},{"$f":"IF(A17=\"\",\"\",VLOOKUP(A17,Data!G$2:K$302,4,FALSE))","v":""},{"$f":"IF(A17=\"\",\"\",VLOOKUP(A17,Data!G$2:K$302,3,FALSE))","v":""},""]
[null,{"$f":"IF(A18=\"\",\"\",'Cover Page'!B$10)","v":""},{"$f":"IF(A18=\"\",\"\",VLOOKUP(A18,Data!G$2:K$302,2,FALSE))","v":""},{"$f":"IF(A18=\"\",\"\",VLOOKUP(A18,Data!G$2:K$302,4,FALSE))","v":""},{"$f":"IF(A18=\"\",\"\",VLOOKUP(A18,Data!G$2:K$302,3,FALSE))","v":""},""]
[null,{"$f":"IF(A19=\"\",\"\",'Cover Page'!B$10)","v":""},{"$f":"IF(A19=\"\",\"\",VLOOKUP(A19,Data!G$2:K$302,2,FALSE))","v":""},{"$f":"IF(A19=\"\",\"\",VLOOKUP(A19,Data!G$2:K$302,4,FALSE))","v":""},{"$f":"IF(A19=\"\",\"\",VLOOKUP(A19,Data!G$2:K$302,3,FALSE))","v":""},""]
[null,{"$f":"IF(A20=\"\",\"\",'Cover Page'!B$10)","v":""},{"$f":"IF(A20=\"\",\"\",VLOOKUP(A20,Data!G$2:K$302,2,FALSE))","v":""},{"$f":"IF(A20=\"\",\"\",VLOOKUP(A20,Data!G$2:K$302,4,FALSE))","v":""},{"$f":"IF(A20=\"\",\"\",VLOOKUP(A20,Data!G$2:K$302,3,FALSE))","v":""},""]
[null,{"$f":"IF(A21=\"\",\"\",'Cover Page'!B$10)","v":""},{"$f":"IF(A21=\"\",\"\",VLOOKUP(A21,Data!G$2:K$302,2,FALSE))","v":""},{"$f":"IF(A21=\"\",\"\",VLOOKUP(A21,Data!G$2:K$302,4,FALSE))","v":""},{"$f":"IF(A21=\"\",\"\",VLOOKUP(A21,Data!G$2:K$302,3,FALSE))","v":""},""]
[null,{"$f":"IF(A22=\"\",\"\",'Cover Page'!B$10)","v":""},{"$f":"IF(A22=\"\",\"\",VLOOKUP(A22,Data!G$2:K$302,2,FALSE))","v":""},{"$f":"IF(A22=\"\",\"\",VLOOKUP(A22,Data!G$2:K$302,4,FALSE))","v":""},{"$f":"IF(A22=\"\",\"\",VLOOKUP(A22,Data!G$2:K$302,3,FALSE))","v":""},""]
[null,{"$f":"IF(A23=\"\",\"\",'Cover Page'!B$10)","v":""},{"$f":"IF(A23=\"\",\"\",VLOOKUP(A23,Data!G$2:K$302,2,FALSE))","v":""},{"$f":"IF(A23=\"\",\"\",VLOOKUP(A23,Data!G$2:K$302,4,FALSE))","v":""},{"$f":"IF(A23=\"\",\"\",VLOOKUP(A23,Data!G$2:K$302,3,FALSE))","v":""},""]
[null,{"$f":"IF(A24=\"\",\"\",'Cover Page'!B$10)","v":""},{"$f":"IF(A24=\"\",\"\",VLOOKUP(A24,Data!G$2:K$302,2,FALSE))","v":""},{"$f":"IF(A24=\"\",\"\",VLOOKUP(A24,Data!G$2:K$302,4,FALSE))","v":""},{"$f":"IF(A24=\"\",\"\",VLOOKUP(A24,Data!G$2:K$302,3,FALSE))","v":""},"",null,null,null,null,null,null,null,null,null,null,null,null,null,null,null,null,null,null,null,null,null,null,{"$f":"COUNTA(G24:Z24)","v":0}]
[null,{"$f":"IF(A25=\"\",\"\",'Cover Page'!B$10)","v":""},{"$f":"IF(A25=\"\",\"\",VLOOKUP(A25,Data!G$2:K$302,2,FALSE))","v":""},{"$f":"IF(A25=\"\",\"\",VLOOKUP(A25,Data!G$2:K$302,4,FALSE))","v":""},{"$f":"IF(A25=\"\",\"\",VLOOKUP(A25,Data!G$2:K$302,3,FALSE))","v":""},"",null,null,null,null,null,null,null,null,null,null,null,null,null,null,null,null,null,null,null,null,null,null,0]
[null,{"$f":"IF(A26=\"\",\"\",'Cover Page'!B$10)","v":""},{"$f":"IF(A26=\"\",\"\",VLOOKUP(A26,Data!G$2:K$302,2,FALSE))","v":""},{"$f":"IF(A26=\"\",\"\",VLOOKUP(A26,Data!G$2:K$302,4,FALSE))","v":""},{"$f":"IF(A26=\"\",\"\",VLOOKUP(A26,Data!G$2:K$302,3,FALSE))","v":""},"",null,null,null,null,null,null,null,null,null,null,null,null,null,null,null,null,null,null,null,null,null,null,0]
[null,{"$f":"IF(A27=\"\",\"\",'Cover Page'!B$10)","v":""},{"$f":"IF(A27=\"\",\"\",VLOOKUP(A27,Data!G$2:K$302,2,FALSE))","v":""},{"$f":"IF(A27=\"\",\"\",VLOOKUP(A27,Data!G$2:K$302,4,FALSE))","v":""},{"$f":"IF(A27=\"\",\"\",VLOOKUP(A27,Data!G$2:K$302,3,FALSE))","v":""},"",null,null,null,null,null,null,null,null,null,null,null,null,null,null,null,null,null,null,null,null,null,null,0]
[null,{"$f":"IF(A28=\"\",\"\",'Cover Page'!B$10)","v":""},{"$f":"IF(A28=\"\",\"\",VLOOKUP(A28,Data!G$2:K$302,2,FALSE))","v":""},{"$f":"IF(A28=\"\",\"\",VLOOKUP(A28,Data!G$2:K$302,4,FALSE))","v":""},{"$f":"IF(A28=\"\",\"\",VLOOKUP(A28,Data!G$2:K$302,3,FALSE))","v":""},"",null,null,null,null,null,null,null,null,null,null,null,null,null,null,null,null,null,null,null,null,null,null,0]
[null,{"$f":"IF(A29=\"\",\"\",'Cover Page'!B$10)","v":""},{"$f":"IF(A29=\"\",\"\",VLOOKUP(A29,Data!G$2:K$302,2,FALSE))","v":""},{"$f":"IF(A29=\"\",\"\",VLOOKUP(A29,Data!G$2:K$302,4,FALSE))","v":""},{"$f":"IF(A29=\"\",\"\",VLOOKUP(A29,Data!G$2:K$302,3,FALSE))","v":""},"",null,null,null,null,null,null,null,null,null,null,null,null,null,null,null,null,null,null,null,null,null,null,0]
[null,{"$f":"IF(A30=\"\",\"\",'Cover Page'!B$10)","v":""},{"$f":"IF(A30=\"\",\"\",VLOOKUP(A30,Data!G$2:K$302,2,FALSE))","v":""},{"$f":"IF(A30=\"\",\"\",VLOOKUP(A30,Data!G$2:K$302,4,FALSE))","v":""},{"$f":"IF(A30=\"\",\"\",VLOOKUP(A30,Data!G$2:K$302,3,FALSE))","v":""},"",null,null,null,null,null,null,null,null,null,null,null,null,null,null,null,null,null,null,null,null,null,null,0]
[null,{"$f":"IF(A31=\"\",\"\",'Cover Page'!B$10)","v":""},{"$f":"IF(A31=\"\",\"\",VLOOKUP(A31,Data!G$2:K$302,2,FALSE))","v":""},{"$f":"IF(A31=\"\",\"\",VLOOKUP(A31,Data!G$2:K$302,4,FALSE))","v":""},{"$f":"IF(A31=\"\",\"\",VLOOKUP(A31,Data!G$2:K$302,3,FALSE))","v":""},"",null,null,null,null,null,null,null,null,null,null,null,null,null,null,null,null,null,null,null,null,null,null,0]
[null,{"$f":"IF(A32=\"\",\"\",'Cover Page'!B$10)","v":""},{"$f":"IF(A32=\"\",\"\",VLOOKUP(A32,Data!G$2:K$302,2,FALSE))","v":""},{"$f":"IF(A32=\"\",\"\",VLOOKUP(A32,Data!G$2:K$302,4,FALSE))","v":""},{"$f":"IF(A32=\"\",\"\",VLOOKUP(A32,Data!G$2:K$302,3,FALSE))","v":""},"",null,null,null,null,null,null,null,null,null,null,null,null,null,null,null,null,null,null,null,null,null,null,0]
[null,{"$f":"IF(A33=\"\",\"\",'Cover Page'!B$10)","v":""},{"$f":"IF(A33=\"\",\"\",VLOOKUP(A33,Data!G$2:K$302,2,FALSE))","v":""},{"$f":"IF(A33=\"\",\"\",VLOOKUP(A33,Data!G$2:K$302,4,FALSE))","v":""},{"$f":"IF(A33=\"\",\"\",VLOOKUP(A33,Data!G$2:K$302,3,FALSE))","v":""},"",null,null,null,null,null,null,null,null,null,null,null,null,null,null,null,null,null,null,null,null,null,null,0]
[null,{"$f":"IF(A34=\"\",\"\",'Cover Page'!B$10)","v":""},{"$f":"IF(A34=\"\",\"\",VLOOKUP(A34,Data!G$2:K$302,2,FALSE))","v":""},{"$f":"IF(A34=\"\",\"\",VLOOKUP(A34,Data!G$2:K$302,4,FALSE))","v":""},{"$f":"IF(A34=\"\",\"\",VLOOKUP(A34,Data!G$2:K$302,3,FALSE))","v":""},"",null,null,null,null,null,null,null,null,null,null,null,null,null,null,null,null,null,null,null,null,null,null,0]
[null,{"$f":"IF(A35=\"\",\"\",'Cover Page'!B$10)","v":""},{"$f":"IF(A35=\"\",\"\",VLOOKUP(A35,Data!G$2:K$302,2,FALSE))","v":""},{"$f":"IF(A35=\"\",\"\",VLOOKUP(A35,Data!G$2:K$302,4,FALSE))","v":""},{"$f":"IF(A35=\"\",\"\",VLOOKUP(A35,Data!G$2:K$302,3,FALSE))","v":""},"",null,null,null,null,null,null,null,null,null,null,null,null,null,null,null,null,null,null,null,null,null,null,0]
[null,{"$f":"IF(A36=\"\",\"\",'Cover Page'!B$10)","v":""},{"$f":"IF(A36=\"\",\"\",VLOOKUP(A36,Data!G$2:K$302,2,FALSE))","v":""},{"$f":"IF(A36=\"\",\"\",VLOOKUP(A36,Data!G$2:K$302,4,FALSE))","v":""},{"$f":"IF(A36=\"\",\"\",VLOOKUP(A36,Data!G$2:K$302,3,FALSE))","v":""},"",null,null,null,null,null,null,null,null,null,null,null,null,null,null,null,null,null,null,null,null,null,null,0]
[null,{"$f":"IF(A37=\"\",\"\",'Cover Page'!B$10)","v":""},{"$f":"IF(A37=\"\",\"\",VLOOKUP(A37,Data!G$2:K$302,2,FALSE))","v":""},{"$f":"IF(A37=\"\",\"\",VLOOKUP(A37,Data!G$2:K$302,4,FALSE))","v":""},{"$f":"IF(A37=\"\",\"\",VLOOKUP(A37,Data!G$2:K$302,3,FALSE))","v":""},"",null,null,null,null,null,null,null,null,null,null,null,null,null,null,null,null,null,null,null,null,null,null,0]
[null,{"$f":"IF(A38=\"\",\"\",'Cover Page'!B$10)","v":""},{"$f":"IF(A38=\"\",\"\",VLOOKUP(A38,Data!G$2:K$302,2,FALSE))","v":""},{"$f":"IF(A38=\"\",\"\",VLOOKUP(A38,Data!G$2:K$302,4,FALSE))","v":""},{"$f":"IF(A38=\"\",\"\",VLOOKUP(A38,Data!G$2:K$302,3,FALSE))","v":""},"",null,null,null,null,null,null,null,null,null,null,null,null,null,null,null,null,null,null,null,null,null,null,0]
[null,{"$f":"IF(A39=\"\",\"\",'Cover Page'!B$10)","v":""},{"$f":"IF(A39=\"\",\"\",VLOOKUP(A39,Data!G$2:K$302,2,FALSE))","v":""},{"$f":"IF(A39=\"\",\"\",VLOOKUP(A39,Data!G$2:K$302,4,FALSE))","v":""},{"$f":"IF(A39=\"\",\"\",VLOOKUP(A39,Data!G$2:K$302,3,FALSE))","v":""},"",null,null,null,null,null,null,null,null,null,null,null,null,null,null,null,null,null,null,null,null,null,null,0]
[null,{"$f":"IF(A40=\"\",\"\",'Cover Page'!B$10)","v":""},{"$f":"IF(A40=\"\",\"\",VLOOKUP(A40,Data!G$2:K$302,2,FALSE))","v":""},{"$f":"IF(A40=\"\",\"\",VLOOKUP(A40,Data!G$2:K$302,4,FALSE))","v":""},{"$f":"IF(A40=\"\",\"\",VLOOKUP(A40,Data!G$2:K$302,3,FALSE))","v":""},"",null,null,null,null,null,null,null,null,null,null,null,null,null,null,null,null,null,null,null,null,null,null,0]
[null,{"$f":"IF(A41=\"\",\"\",'Cover Page'!B$10)","v":""},{"$f":"IF(A41=\"\",\"\",VLOOKUP(A41,Data!G$2:K$302,2,FALSE))","v":""},{"$f":"IF(A41=\"\",\"\",VLOOKUP(A41,Data!G$2:K$302,4,FALSE))","v":""},{"$f":"IF(A41=\"\",\"\",VLOOKUP(A41,Data!G$2:K$302,3,FALSE))","v":""},"",null,null,null,null,null,null,null,null,null,null,null,null,null,null,null,null,null,null,null,null,null,null,0]
[null,{"$f":"IF(A42=\"\",\"\",'Cover Page'!B$10)","v":""},{"$f":"IF(A42=\"\",\"\",VLOOKUP(A42,Data!G$2:K$302,2,FALSE))","v":""},{"$f":"IF(A42=\"\",\"\",VLOOKUP(A42,Data!G$2:K$302,4,FALSE))","v":""},{"$f":"IF(A42=\"\",\"\",VLOOKUP(A42,Data!G$2:K$302,3,FALSE))","v":""},"",null,null,null,null,null,null,null,null,null,null,null,null,null,null,null,null,null,null,null,null,null,null,0]
[null,{"$f":"IF(A43=\"\",\"\",'Cover Page'!B$10)","v":""},{"$f":"IF(A43=\"\",\"\",VLOOKUP(A43,Data!G$2:K$302,2,FALSE))","v":""},{"$f":"IF(A43=\"\",\"\",VLOOKUP(A43,Data!G$2:K$302,4,FALSE))","v":""},{"$f":"IF(A43=\"\",\"\",VLOOKUP(A43,Data!G$2:K$302,3,FALSE))","v":""},"",null,null,null,null,null,null,null,null,null,null,null,null,null,null,null,null,null,null,null,null,null,null,0]
[null,{"$f":"IF(A44=\"\",\"\",'Cover Page'!B$10)","v":""},{"$f":"IF(A44=\"\",\"\",VLOOKUP(A44,Data!G$2:K$302,2,FALSE))","v":""},{"$f":"IF(A44=\"\",\"\",VLOOKUP(A44,Data!G$2:K$302,4,FALSE))","v":""},{"$f":"IF(A44=\"\",\"\",VLOOKUP(A44,Data!G$2:K$302,3,FALSE))","v":""},"",null,null,null,null,null,null,null,null,null,null,null,null,null,null,null,null,null,null,null,null,null,null,0]
[null,{"$f":"IF(A45=\"\",\"\",'Cover Page'!B$10)","v":""},{"$f":"IF(A45=\"\",\"\",VLOOKUP(A45,Data!G$2:K$302,2,FALSE))","v":""},{"$f":"IF(A45=\"\",\"\",VLOOKUP(A45,Data!G$2:K$302,4,FALSE))","v":""},{"$f":"IF(A45=\"\",\"\",VLOOKUP(A45,Data!G$2:K$302,3,FALSE))","v":""},"",null,null,null,null,null,null,null,null,null,null,null,null,null,null,null,null,null,null,null,null,null,null,0]
[null,{"$f":"IF(A46=\"\",\"\",'Cover Page'!B$10)","v":""},{"$f":"IF(A46=\"\",\"\",VLOOKUP(A46,Data!G$2:K$302,2,FALSE))","v":""},{"$f":"IF(A46=\"\",\"\",VLOOKUP(A46,Data!G$2:K$302,4,FALSE))","v":""},{"$f":"IF(A46=\"\",\"\",VLOOKUP(A46,Data!G$2:K$302,3,FALSE))","v":""},"",null,null,null,null,null,null,null,null,null,null,null,null,null,null,null,null,null,null,null,null,null,null,0]
[null,{"$f":"IF(A47=\"\",\"\",'Cover Page'!B$10)","v":""},{"$f":"IF(A47=\"\",\"\",VLOOKUP(A47,Data!G$2:K$302,2,FALSE))","v":""},{"$f":"IF(A47=\"\",\"\",VLOOKUP(A47,Data!G$2:K$302,4,FALSE))","v":""},{"$f":"IF(A47=\"\",\"\",VLOOKUP(A47,Data!G$2:K$302,3,FALSE))","v":""},"",null,null,null,null,null,null,null,null,null,null,null,null,null,null,null,null,null,null,null,null,null,null,0]
[null,{"$f":"IF(A48=\"\",\"\",'Cover Page'!B$10)","v":""},{"$f":"IF(A48=\"\",\"\",VLOOKUP(A48,Data!G$2:K$302,2,FALSE))","v":""},{"$f":"IF(A48=\"\",\"\",VLOOKUP(A48,Data!G$2:K$302,4,FALSE))","v":""},{"$f":"IF(A48=\"\",\"\",VLOOKUP(A48,Data!G$2:K$302,3,FALSE))","v":""},"",null,null,null,null,null,null,null,null,null,null,null,null,null,null,null,null,null,null,null,null,null,null,0]
[null,{"$f":"IF(A49=\"\",\"\",'Cover Page'!B$10)","v":""},{"$f":"IF(A49=\"\",\"\",VLOOKUP(A49,Data!G$2:K$302,2,FALSE))","v":""},{"$f":"IF(A49=\"\",\"\",VLOOKUP(A49,Data!G$2:K$302,4,FALSE))","v":""},{"$f":"IF(A49=\"\",\"\",VLOOKUP(A49,Data!G$2:K$302,3,FALSE))","v":""},"",null,null,null,null,null,null,null,null,null,null,null,null,null,null,null,null,null,null,null,null,null,null,0]
[null,{"$f":"IF(A50=\"\",\"\",'Cover Page'!B$10)","v":""},{"$f":"IF(A50=\"\",\"\",VLOOKUP(A50,Data!G$2:K$302,2,FALSE))","v":""},{"$f":"IF(A50=\"\",\"\",VLOOKUP(A50,Data!G$2:K$302,4,FALSE))","v":""},{"$f":"IF(A50=\"\",\"\",VLOOKUP(A50,Data!G$2:K$302,3,FALSE))","v":""},"",null,null,null,null,null,null,null,null,null,null,null,null,null,null,null,null,null,null,null,null,null,null,0]
[null,{"$f":"IF(A51=\"\",\"\",'Cover Page'!B$10)","v":""},{"$f":"IF(A51=\"\",\"\",VLOOKUP(A51,Data!G$2:K$302,2,FALSE))","v":""},{"$f":"IF(A51=\"\",\"\",VLOOKUP(A51,Data!G$2:K$302,4,FALSE))","v":""},{"$f":"IF(A51=\"\",\"\",VLOOKUP(A51,Data!G$2:K$302,3,FALSE))","v":""},"",null,null,null,null,null,null,null,null,null,null,null,null,null,null,null,null,null,null,null,null,null,null,0]
[null,{"$f":"IF(A52=\"\",\"\",'Cover Page'!B$10)","v":""},{"$f":"IF(A52=\"\",\"\",VLOOKUP(A52,Data!G$2:K$302,2,FALSE))","v":""},{"$f":"IF(A52=\"\",\"\",VLOOKUP(A52,Data!G$2:K$302,4,FALSE))","v":""},{"$f":"IF(A52=\"\",\"\",VLOOKUP(A52,Data!G$2:K$302,3,FALSE))","v":""},"",null,null,null,null,null,null,null,null,null,null,null,null,null,null,null,null,null,null,null,null,null,null,0]
[null,{"$f":"IF(A53=\"\",\"\",'Cover Page'!B$10)","v":""},{"$f":"IF(A53=\"\",\"\",VLOOKUP(A53,Data!G$2:K$302,2,FALSE))","v":""},{"$f":"IF(A53=\"\",\"\",VLOOKUP(A53,Data!G$2:K$302,4,FALSE))","v":""},{"$f":"IF(A53=\"\",\"\",VLOOKUP(A53,Data!G$2:K$302,3,FALSE))","v":""},"",null,null,null,null,null,null,null,null,null,null,null,null,null,null,null,null,null,null,null,null,null,null,0]
[null,{"$f":"IF(A54=\"\",\"\",'Cover Page'!B$10)","v":""},{"$f":"IF(A54=\"\",\"\",VLOOKUP(A54,Data!G$2:K$302,2,FALSE))","v":""},{"$f":"IF(A54=\"\",\"\",VLOOKUP(A54,Data!G$2:K$302,4,FALSE))","v":""},{"$f":"IF(A54=\"\",\"\",VLOOKUP(A54,Data!G$2:K$302,3,FALSE))","v":""},"",null,null,null,null,null,null,null,null,null,null,null,null,null,null,null,null,null,null,null,null,null,null,0]
[null,{"$f":"IF(A55=\"\",\"\",'Cover Page'!B$10)","v":""},{"$f":"IF(A55=\"\",\"\",VLOOKUP(A55,Data!G$2:K$302,2,FALSE))","v":""},{"$f":"IF(A55=\"\",\"\",VLOOKUP(A55,Data!G$2:K$302,4,FALSE))","v":""},{"$f":"IF(A55=\"\",\"\",VLOOKUP(A55,Data!G$2:K$302,3,FALSE))","v":""},"",null,null,null,null,null,null,null,null,null,null,null,null,null,null,null,null,null,null,null,null,null,null,0]
[null,{"$f":"IF(A56=\"\",\"\",'Cover Page'!B$10)","v":""},{"$f":"IF(A56=\"\",\"\",VLOOKUP(A56,Data!G$2:K$302,2,FALSE))","v":""},{"$f":"IF(A56=\"\",\"\",VLOOKUP(A56,Data!G$2:K$302,4,FALSE))","v":""},{"$f":"IF(A56=\"\",\"\",VLOOKUP(A56,Data!G$2:K$302,3,FALSE))","v":""},"",null,null,null,null,null,null,null,null,null,null,null,null,null,null,null,null,null,null,null,null,null,null,0]
[null,{"$f":"IF(A57=\"\",\"\",'Cover Page'!B$10)","v":""},{"$f":"IF(A57=\"\",\"\",VLOOKUP(A57,Data!G$2:K$302,2,FALSE))","v":""},{"$f":"IF(A57=\"\",\"\",VLOOKUP(A57,Data!G$2:K$302,4,FALSE))","v":""},{"$f":"IF(A57=\"\",\"\",VLOOKUP(A57,Data!G$2:K$302,3,FALSE))","v":""},"",null,null,null,null,null,null,null,null,null,null,null,null,null,null,null,null,null,null,null,null,null,null,0]
[null,{"$f":"IF(A58=\"\",\"\",'Cover Page'!B$10)","v":""},{"$f":"IF(A58=\"\",\"\",VLOOKUP(A58,Data!G$2:K$302,2,FALSE))","v":""},{"$f":"IF(A58=\"\",\"\",VLOOKUP(A58,Data!G$2:K$302,4,FALSE))","v":""},{"$f":"IF(A58=\"\",\"\",VLOOKUP(A58,Data!G$2:K$302,3,FALSE))","v":""},"",null,null,null,null,null,null,null,null,null,null,null,null,null,null,null,null,null,null,null,null,null,null,0]
[null,{"$f":"IF(A59=\"\",\"\",'Cover Page'!B$10)","v":""},{"$f":"IF(A59=\"\",\"\",VLOOKUP(A59,Data!G$2:K$302,2,FALSE))","v":""},{"$f":"IF(A59=\"\",\"\",VLOOKUP(A59,Data!G$2:K$302,4,FALSE))","v":""},{"$f":"IF(A59=\"\",\"\",VLOOKUP(A59,Data!G$2:K$302,3,FALSE))","v":""},"",null,null,null,null,null,null,null,null,null,null,null,null,null,null,null,null,null,null,null,null,null,null,0]
[null,{"$f":"IF(A60=\"\",\"\",'Cover Page'!B$10)","v":""},{"$f":"IF(A60=\"\",\"\",VLOOKUP(A60,Data!G$2:K$302,2,FALSE))","v":""},{"$f":"IF(A60=\"\",\"\",VLOOKUP(A60,Data!G$2:K$302,4,FALSE))","v":""},{"$f":"IF(A60=\"\",\"\",VLOOKUP(A60,Data!G$2:K$302,3,FALSE))","v":""},"",null,null,null,null,null,null,null,null,null,null,null,null,null,null,null,null,null,null,null,null,null,null,0]
[null,{"$f":"IF(A61=\"\",\"\",'Cover Page'!B$10)","v":""},{"$f":"IF(A61=\"\",\"\",VLOOKUP(A61,Data!G$2:K$302,2,FALSE))","v":""},{"$f":"IF(A61=\"\",\"\",VLOOKUP(A61,Data!G$2:K$302,4,FALSE))","v":""},{"$f":"IF(A61=\"\",\"\",VLOOKUP(A61,Data!G$2:K$302,3,FALSE))","v":""},"",null,null,null,null,null,null,null,null,null,null,null,null,null,null,null,null,null,null,null,null,null,null,0]
[null,{"$f":"IF(A62=\"\",\"\",'Cover Page'!B$10)","v":""},{"$f":"IF(A62=\"\",\"\",VLOOKUP(A62,Data!G$2:K$302,2,FALSE))","v":""},{"$f":"IF(A62=\"\",\"\",VLOOKUP(A62,Data!G$2:K$302,4,FALSE))","v":""},{"$f":"IF(A62=\"\",\"\",VLOOKUP(A62,Data!G$2:K$302,3,FALSE))","v":""},"",null,null,null,null,null,null,null,null,null,null,null,null,null,null,null,null,null,null,null,null,null,null,0]
[null,{"$f":"IF(A63=\"\",\"\",'Cover Page'!B$10)","v":""},{"$f":"IF(A63=\"\",\"\",VLOOKUP(A63,Data!G$2:K$302,2,FALSE))","v":""},{"$f":"IF(A63=\"\",\"\",VLOOKUP(A63,Data!G$2:K$302,4,FALSE))","v":""},{"$f":"IF(A63=\"\",\"\",VLOOKUP(A63,Data!G$2:K$302,3,FALSE))","v":""},"",null,null,null,null,null,null,null,null,null,null,null,null,null,null,null,null,null,null,null,null,null,null,0]
[null,{"$f":"IF(A64=\"\",\"\",'Cover Page'!B$10)","v":""},{"$f":"IF(A64=\"\",\"\",VLOOKUP(A64,Data!G$2:K$302,2,FALSE))","v":""},{"$f":"IF(A64=\"\",\"\",VLOOKUP(A64,Data!G$2:K$302,4,FALSE))","v":""},{"$f":"IF(A64=\"\",\"\",VLOOKUP(A64,Data!G$2:K$302,3,FALSE))","v":""},"",null,null,null,null,null,null,null,null,null,null,null,null,null,null,null,null,null,null,null,null,null,null,0]
[null,{"$f":"IF(A65=\"\",\"\",'Cover Page'!B$10)","v":""},{"$f":"IF(A65=\"\",\"\",VLOOKUP(A65,Data!G$2:K$302,2,FALSE))","v":""},{"$f":"IF(A65=\"\",\"\",VLOOKUP(A65,Data!G$2:K$302,4,FALSE))","v":""},{"$f":"IF(A65=\"\",\"\",VLOOKUP(A65,Data!G$2:K$302,3,FALSE))","v":""},"",null,null,null,null,null,null,null,null,null,null,null,null,null,null,null,null,null,null,null,null,null,null,0]
[null,{"$f":"IF(A66=\"\",\"\",'Cover Page'!B$10)","v":""},{"$f":"IF(A66=\"\",\"\",VLOOKUP(A66,Data!G$2:K$302,2,FALSE))","v":""},{"$f":"IF(A66=\"\",\"\",VLOOKUP(A66,Data!G$2:K$302,4,FALSE))","v":""},{"$f":"IF(A66=\"\",\"\",VLOOKUP(A66,Data!G$2:K$302,3,FALSE))","v":""},"",null,null,null,null,null,null,null,null,null,null,null,null,null,null,null,null,null,null,null,null,null,null,0]
[null,{"$f":"IF(A67=\"\",\"\",'Cover Page'!B$10)","v":""},{"$f":"IF(A67=\"\",\"\",VLOOKUP(A67,Data!G$2:K$302,2,FALSE))","v":""},{"$f":"IF(A67=\"\",\"\",VLOOKUP(A67,Data!G$2:K$302,4,FALSE))","v":""},{"$f":"IF(A67=\"\",\"\",VLOOKUP(A67,Data!G$2:K$302,3,FALSE))","v":""},"",null,null,null,null,null,null,null,null,null,null,null,null,null,null,null,null,null,null,null,null,null,null,0]
[null,{"$f":"IF(A68=\"\",\"\",'Cover Page'!B$10)","v":""},{"$f":"IF(A68=\"\",\"\",VLOOKUP(A68,Data!G$2:K$302,2,FALSE))","v":""},{"$f":"IF(A68=\"\",\"\",VLOOKUP(A68,Data!G$2:K$302,4,FALSE))","v":""},{"$f":"IF(A68=\"\",\"\",VLOOKUP(A68,Data!G$2:K$302,3,FALSE))","v":""},{"$f":"IF(AND(OR(TypeComp=\"Test\",TypeComp=\"Tests\"),A68<>\"\"),\"X\",\"\")","v":""},null,null,null,null,null,null,null,null,null,null,null,null,null,null,null,null,null,null,null,null,null,null,0]
[null,{"$f":"IF(A69=\"\",\"\",'Cover Page'!B$10)","v":""},{"$f":"IF(A69=\"\",\"\",VLOOKUP(A69,Data!G$2:K$302,2,FALSE))","v":""},{"$f":"IF(A69=\"\",\"\",VLOOKUP(A69,Data!G$2:K$302,4,FALSE))","v":""},{"$f":"IF(A69=\"\",\"\",VLOOKUP(A69,Data!G$2:K$302,3,FALSE))","v":""},"",null,null,null,null,null,null,null,null,null,null,null,null,null,null,null,null,null,null,null,null,null,null,{"$f":"COUNTA(G69:Z69)","v":0}]
[null,{"$f":"IF(A70=\"\",\"\",'Cover Page'!B$10)","v":""},{"$f":"IF(A70=\"\",\"\",VLOOKUP(A70,Data!G$2:K$302,2,FALSE))","v":""},{"$f":"IF(A70=\"\",\"\",VLOOKUP(A70,Data!G$2:K$302,4,FALSE))","v":""},{"$f":"IF(A70=\"\",\"\",VLOOKUP(A70,Data!G$2:K$302,3,FALSE))","v":""},"",null,null,null,null,null,null,null,null,null,null,null,null,null,null,null,null,null,null,null,null,null,null,0]
[null,{"$f":"IF(A71=\"\",\"\",'Cover Page'!B$10)","v":""},{"$f":"IF(A71=\"\",\"\",VLOOKUP(A71,Data!G$2:K$302,2,FALSE))","v":""},{"$f":"IF(A71=\"\",\"\",VLOOKUP(A71,Data!G$2:K$302,4,FALSE))","v":""},{"$f":"IF(A71=\"\",\"\",VLOOKUP(A71,Data!G$2:K$302,3,FALSE))","v":""},"",null,null,null,null,null,null,null,null,null,null,null,null,null,null,null,null,null,null,null,null,null,null,0]
[null,{"$f":"IF(A72=\"\",\"\",'Cover Page'!B$10)","v":""},{"$f":"IF(A72=\"\",\"\",VLOOKUP(A72,Data!G$2:K$302,2,FALSE))","v":""},{"$f":"IF(A72=\"\",\"\",VLOOKUP(A72,Data!G$2:K$302,4,FALSE))","v":""},{"$f":"IF(A72=\"\",\"\",VLOOKUP(A72,Data!G$2:K$302,3,FALSE))","v":""},"",null,null,null,null,null,null,null,null,null,null,null,null,null,null,null,null,null,null,null,null,null,null,0]
[null,{"$f":"IF(A73=\"\",\"\",'Cover Page'!B$10)","v":""},{"$f":"IF(A73=\"\",\"\",VLOOKUP(A73,Data!G$2:K$302,2,FALSE))","v":""},{"$f":"IF(A73=\"\",\"\",VLOOKUP(A73,Data!G$2:K$302,4,FALSE))","v":""},{"$f":"IF(A73=\"\",\"\",VLOOKUP(A73,Data!G$2:K$302,3,FALSE))","v":""},"",null,null,null,null,null,null,null,null,null,null,null,null,null,null,null,null,null,null,null,null,null,null,0]
[null,{"$f":"IF(A74=\"\",\"\",'Cover Page'!B$10)","v":""},{"$f":"IF(A74=\"\",\"\",VLOOKUP(A74,Data!G$2:K$302,2,FALSE))","v":""},{"$f":"IF(A74=\"\",\"\",VLOOKUP(A74,Data!G$2:K$302,4,FALSE))","v":""},{"$f":"IF(A74=\"\",\"\",VLOOKUP(A74,Data!G$2:K$302,3,FALSE))","v":""},"",null,null,null,null,null,null,null,null,null,null,null,null,null,null,null,null,null,null,null,null,null,null,0]
[null,{"$f":"IF(A75=\"\",\"\",'Cover Page'!B$10)","v":""},{"$f":"IF(A75=\"\",\"\",VLOOKUP(A75,Data!G$2:K$302,2,FALSE))","v":""},{"$f":"IF(A75=\"\",\"\",VLOOKUP(A75,Data!G$2:K$302,4,FALSE))","v":""},{"$f":"IF(A75=\"\",\"\",VLOOKUP(A75,Data!G$2:K$302,3,FALSE))","v":""},"",null,null,null,null,null,null,null,null,null,null,null,null,null,null,null,null,null,null,null,null,null,null,0]
[null,{"$f":"IF(A76=\"\",\"\",'Cover Page'!B$10)","v":""},{"$f":"IF(A76=\"\",\"\",VLOOKUP(A76,Data!G$2:K$302,2,FALSE))","v":""},{"$f":"IF(A76=\"\",\"\",VLOOKUP(A76,Data!G$2:K$302,4,FALSE))","v":""},{"$f":"IF(A76=\"\",\"\",VLOOKUP(A76,Data!G$2:K$302,3,FALSE))","v":""},"",null,null,null,null,null,null,null,null,null,null,null,null,null,null,null,null,null,null,null,null,null,null,0]
[null,{"$f":"IF(A77=\"\",\"\",'Cover Page'!B$10)","v":""},{"$f":"IF(A77=\"\",\"\",VLOOKUP(A77,Data!G$2:K$302,2,FALSE))","v":""},{"$f":"IF(A77=\"\",\"\",VLOOKUP(A77,Data!G$2:K$302,4,FALSE))","v":""},{"$f":"IF(A77=\"\",\"\",VLOOKUP(A77,Data!G$2:K$302,3,FALSE))","v":""},"",null,null,null,null,null,null,null,null,null,null,null,null,null,null,null,null,null,null,null,null,null,null,0]
[null,{"$f":"IF(A78=\"\",\"\",'Cover Page'!B$10)","v":""},{"$f":"IF(A78=\"\",\"\",VLOOKUP(A78,Data!G$2:K$302,2,FALSE))","v":""},{"$f":"IF(A78=\"\",\"\",VLOOKUP(A78,Data!G$2:K$302,4,FALSE))","v":""},{"$f":"IF(A78=\"\",\"\",VLOOKUP(A78,Data!G$2:K$302,3,FALSE))","v":""},"",null,null,null,null,null,null,null,null,null,null,null,null,null,null,null,null,null,null,null,null,null,null,0]
[null,{"$f":"IF(A79=\"\",\"\",'Cover Page'!B$10)","v":""},{"$f":"IF(A79=\"\",\"\",VLOOKUP(A79,Data!G$2:K$302,2,FALSE))","v":""},{"$f":"IF(A79=\"\",\"\",VLOOKUP(A79,Data!G$2:K$302,4,FALSE))","v":""},{"$f":"IF(A79=\"\",\"\",VLOOKUP(A79,Data!G$2:K$302,3,FALSE))","v":""},"",null,null,null,null,null,null,null,null,null,null,null,null,null,null,null,null,null,null,null,null,null,null,0]
[null,{"$f":"IF(A80=\"\",\"\",'Cover Page'!B$10)","v":""},{"$f":"IF(A80=\"\",\"\",VLOOKUP(A80,Data!G$2:K$302,2,FALSE))","v":""},{"$f":"IF(A80=\"\",\"\",VLOOKUP(A80,Data!G$2:K$302,4,FALSE))","v":""},{"$f":"IF(A80=\"\",\"\",VLOOKUP(A80,Data!G$2:K$302,3,FALSE))","v":""},"",null,null,null,null,null,null,null,null,null,null,null,null,null,null,null,null,null,null,null,null,null,null,0]
[null,{"$f":"IF(A81=\"\",\"\",'Cover Page'!B$10)","v":""},{"$f":"IF(A81=\"\",\"\",VLOOKUP(A81,Data!G$2:K$302,2,FALSE))","v":""},{"$f":"IF(A81=\"\",\"\",VLOOKUP(A81,Data!G$2:K$302,4,FALSE))","v":""},{"$f":"IF(A81=\"\",\"\",VLOOKUP(A81,Data!G$2:K$302,3,FALSE))","v":""},"",null,null,null,null,null,null,null,null,null,null,null,null,null,null,null,null,null,null,null,null,null,null,0]
[null,{"$f":"IF(A82=\"\",\"\",'Cover Page'!B$10)","v":""},{"$f":"IF(A82=\"\",\"\",VLOOKUP(A82,Data!G$2:K$302,2,FALSE))","v":""},{"$f":"IF(A82=\"\",\"\",VLOOKUP(A82,Data!G$2:K$302,4,FALSE))","v":""},{"$f":"IF(A82=\"\",\"\",VLOOKUP(A82,Data!G$2:K$302,3,FALSE))","v":""},"",null,null,null,null,null,null,null,null,null,null,null,null,null,null,null,null,null,null,null,null,null,null,0]
[null,{"$f":"IF(A83=\"\",\"\",'Cover Page'!B$10)","v":""},{"$f":"IF(A83=\"\",\"\",VLOOKUP(A83,Data!G$2:K$302,2,FALSE))","v":""},{"$f":"IF(A83=\"\",\"\",VLOOKUP(A83,Data!G$2:K$302,4,FALSE))","v":""},{"$f":"IF(A83=\"\",\"\",VLOOKUP(A83,Data!G$2:K$302,3,FALSE))","v":""},"",null,null,null,null,null,null,null,null,null,null,null,null,null,null,null,null,null,null,null,null,null,null,0]
[null,{"$f":"IF(A84=\"\",\"\",'Cover Page'!B$10)","v":""},{"$f":"IF(A84=\"\",\"\",VLOOKUP(A84,Data!G$2:K$302,2,FALSE))","v":""},{"$f":"IF(A84=\"\",\"\",VLOOKUP(A84,Data!G$2:K$302,4,FALSE))","v":""},{"$f":"IF(A84=\"\",\"\",VLOOKUP(A84,Data!G$2:K$302,3,FALSE))","v":""},"",null,null,null,null,null,null,null,null,null,null,null,null,null,null,null,null,null,null,null,null,null,null,0]
[null,{"$f":"IF(A85=\"\",\"\",'Cover Page'!B$10)","v":""},{"$f":"IF(A85=\"\",\"\",VLOOKUP(A85,Data!G$2:K$302,2,FALSE))","v":""},{"$f":"IF(A85=\"\",\"\",VLOOKUP(A85,Data!G$2:K$302,4,FALSE))","v":""},{"$f":"IF(A85=\"\",\"\",VLOOKUP(A85,Data!G$2:K$302,3,FALSE))","v":""},"",null,null,null,null,null,null,null,null,null,null,null,null,null,null,null,null,null,null,null,null,null,null,0]
[null,{"$f":"IF(A86=\"\",\"\",'Cover Page'!B$10)","v":""},{"$f":"IF(A86=\"\",\"\",VLOOKUP(A86,Data!G$2:K$302,2,FALSE))","v":""},{"$f":"IF(A86=\"\",\"\",VLOOKUP(A86,Data!G$2:K$302,4,FALSE))","v":""},{"$f":"IF(A86=\"\",\"\",VLOOKUP(A86,Data!G$2:K$302,3,FALSE))","v":""},"",null,null,null,null,null,null,null,null,null,null,null,null,null,null,null,null,null,null,null,null,null,null,0]
[null,{"$f":"IF(A87=\"\",\"\",'Cover Page'!B$10)","v":""},{"$f":"IF(A87=\"\",\"\",VLOOKUP(A87,Data!G$2:K$302,2,FALSE))","v":""},{"$f":"IF(A87=\"\",\"\",VLOOKUP(A87,Data!G$2:K$302,4,FALSE))","v":""},{"$f":"IF(A87=\"\",\"\",VLOOKUP(A87,Data!G$2:K$302,3,FALSE))","v":""},"",null,null,null,null,null,null,null,null,null,null,null,null,null,null,null,null,null,null,null,null,null,null,0]
[null,{"$f":"IF(A88=\"\",\"\",'Cover Page'!B$10)","v":""},{"$f":"IF(A88=\"\",\"\",VLOOKUP(A88,Data!G$2:K$302,2,FALSE))","v":""},{"$f":"IF(A88=\"\",\"\",VLOOKUP(A88,Data!G$2:K$302,4,FALSE))","v":""},{"$f":"IF(A88=\"\",\"\",VLOOKUP(A88,Data!G$2:K$302,3,FALSE))","v":""},"",null,null,null,null,null,null,null,null,null,null,null,null,null,null,null,null,null,null,null,null,null,null,0]
[null,{"$f":"IF(A89=\"\",\"\",'Cover Page'!B$10)","v":""},{"$f":"IF(A89=\"\",\"\",VLOOKUP(A89,Data!G$2:K$302,2,FALSE))","v":""},{"$f":"IF(A89=\"\",\"\",VLOOKUP(A89,Data!G$2:K$302,4,FALSE))","v":""},{"$f":"IF(A89=\"\",\"\",VLOOKUP(A89,Data!G$2:K$302,3,FALSE))","v":""},"",null,null,null,null,null,null,null,null,null,null,null,null,null,null,null,null,null,null,null,null,null,null,0]
[null,{"$f":"IF(A90=\"\",\"\",'Cover Page'!B$10)","v":""},{"$f":"IF(A90=\"\",\"\",VLOOKUP(A90,Data!G$2:K$302,2,FALSE))","v":""},{"$f":"IF(A90=\"\",\"\",VLOOKUP(A90,Data!G$2:K$302,4,FALSE))","v":""},{"$f":"IF(A90=\"\",\"\",VLOOKUP(A90,Data!G$2:K$302,3,FALSE))","v":""},"",null,null,null,null,null,null,null,null,null,null,null,null,null,null,null,null,null,null,null,null,null,null,0]
[null,{"$f":"IF(A91=\"\",\"\",'Cover Page'!B$10)","v":""},{"$f":"IF(A91=\"\",\"\",VLOOKUP(A91,Data!G$2:K$302,2,FALSE))","v":""},{"$f":"IF(A91=\"\",\"\",VLOOKUP(A91,Data!G$2:K$302,4,FALSE))","v":""},{"$f":"IF(A91=\"\",\"\",VLOOKUP(A91,Data!G$2:K$302,3,FALSE))","v":""},"",null,null,null,null,null,null,null,null,null,null,null,null,null,null,null,null,null,null,null,null,null,null,0]
[null,{"$f":"IF(A92=\"\",\"\",'Cover Page'!B$10)","v":""},{"$f":"IF(A92=\"\",\"\",VLOOKUP(A92,Data!G$2:K$302,2,FALSE))","v":""},{"$f":"IF(A92=\"\",\"\",VLOOKUP(A92,Data!G$2:K$302,4,FALSE))","v":""},{"$f":"IF(A92=\"\",\"\",VLOOKUP(A92,Data!G$2:K$302,3,FALSE))","v":""},"",null,null,null,null,null,null,null,null,null,null,null,null,null,null,null,null,null,null,null,null,null,null,0]
[null,{"$f":"IF(A93=\"\",\"\",'Cover Page'!B$10)","v":""},{"$f":"IF(A93=\"\",\"\",VLOOKUP(A93,Data!G$2:K$302,2,FALSE))","v":""},{"$f":"IF(A93=\"\",\"\",VLOOKUP(A93,Data!G$2:K$302,4,FALSE))","v":""},{"$f":"IF(A93=\"\",\"\",VLOOKUP(A93,Data!G$2:K$302,3,FALSE))","v":""},"",null,null,null,null,null,null,null,null,null,null,null,null,null,null,null,null,null,null,null,null,null,null,0]
[null,{"$f":"IF(A94=\"\",\"\",'Cover Page'!B$10)","v":""},{"$f":"IF(A94=\"\",\"\",VLOOKUP(A94,Data!G$2:K$302,2,FALSE))","v":""},{"$f":"IF(A94=\"\",\"\",VLOOKUP(A94,Data!G$2:K$302,4,FALSE))","v":""},{"$f":"IF(A94=\"\",\"\",VLOOKUP(A94,Data!G$2:K$302,3,FALSE))","v":""},"",null,null,null,null,null,null,null,null,null,null,null,null,null,null,null,null,null,null,null,null,null,null,0]
[null,{"$f":"IF(A95=\"\",\"\",'Cover Page'!B$10)","v":""},{"$f":"IF(A95=\"\",\"\",VLOOKUP(A95,Data!G$2:K$302,2,FALSE))","v":""},{"$f":"IF(A95=\"\",\"\",VLOOKUP(A95,Data!G$2:K$302,4,FALSE))","v":""},{"$f":"IF(A95=\"\",\"\",VLOOKUP(A95,Data!G$2:K$302,3,FALSE))","v":""},"",null,null,null,null,null,null,null,null,null,null,null,null,null,null,null,null,null,null,null,null,null,null,0]
[null,{"$f":"IF(A96=\"\",\"\",'Cover Page'!B$10)","v":""},{"$f":"IF(A96=\"\",\"\",VLOOKUP(A96,Data!G$2:K$302,2,FALSE))","v":""},{"$f":"IF(A96=\"\",\"\",VLOOKUP(A96,Data!G$2:K$302,4,FALSE))","v":""},{"$f":"IF(A96=\"\",\"\",VLOOKUP(A96,Data!G$2:K$302,3,FALSE))","v":""},"",null,null,null,null,null,null,null,null,null,null,null,null,null,null,null,null,null,null,null,null,null,null,0]
[null,{"$f":"IF(A97=\"\",\"\",'Cover Page'!B$10)","v":""},{"$f":"IF(A97=\"\",\"\",VLOOKUP(A97,Data!G$2:K$302,2,FALSE))","v":""},{"$f":"IF(A97=\"\",\"\",VLOOKUP(A97,Data!G$2:K$302,4,FALSE))","v":""},{"$f":"IF(A97=\"\",\"\",VLOOKUP(A97,Data!G$2:K$302,3,FALSE))","v":""},"",null,null,null,null,null,null,null,null,null,null,null,null,null,null,null,null,null,null,null,null,null,null,0]
[null,{"$f":"IF(A98=\"\",\"\",'Cover Page'!B$10)","v":""},{"$f":"IF(A98=\"\",\"\",VLOOKUP(A98,Data!G$2:K$302,2,FALSE))","v":""},{"$f":"IF(A98=\"\",\"\",VLOOKUP(A98,Data!G$2:K$302,4,FALSE))","v":""},{"$f":"IF(A98=\"\",\"\",VLOOKUP(A98,Data!G$2:K$302,3,FALSE))","v":""},"",null,null,null,null,null,null,null,null,null,null,null,null,null,null,null,null,null,null,null,null,null,null,0]
[null,{"$f":"IF(A99=\"\",\"\",'Cover Page'!B$10)","v":""},{"$f":"IF(A99=\"\",\"\",VLOOKUP(A99,Data!G$2:K$302,2,FALSE))","v":""},{"$f":"IF(A99=\"\",\"\",VLOOKUP(A99,Data!G$2:K$302,4,FALSE))","v":""},{"$f":"IF(A99=\"\",\"\",VLOOKUP(A99,Data!G$2:K$302,3,FALSE))","v":""},"",null,null,null,null,null,null,null,null,null,null,null,null,null,null,null,null,null,null,null,null,null,null,0]
[null,{"$f":"IF(A100=\"\",\"\",'Cover Page'!B$10)","v":""},{"$f":"IF(A100=\"\",\"\",VLOOKUP(A100,Data!G$2:K$302,2,FALSE))","v":""},{"$f":"IF(A100=\"\",\"\",VLOOKUP(A100,Data!G$2:K$302,4,FALSE))","v":""},{"$f":"IF(A100=\"\",\"\",VLOOKUP(A100,Data!G$2:K$302,3,FALSE))","v":""},"",null,null,null,null,null,null,null,null,null,null,null,null,null,null,null,null,null,null,null,null,null,null,0]
[null,{"$f":"IF(A101=\"\",\"\",'Cover Page'!B$10)","v":""},{"$f":"IF(A101=\"\",\"\",VLOOKUP(A101,Data!G$2:K$302,2,FALSE))","v":""},{"$f":"IF(A101=\"\",\"\",VLOOKUP(A101,Data!G$2:K$302,4,FALSE))","v":""},{"$f":"IF(A101=\"\",\"\",VLOOKUP(A101,Data!G$2:K$302,3,FALSE))","v":""},"",null,null,null,null,null,null,null,null,null,null,null,null,null,null,null,null,null,null,null,null,null,null,0]
[null,{"$f":"IF(A102=\"\",\"\",'Cover Page'!B$10)","v":""},{"$f":"IF(A102=\"\",\"\",VLOOKUP(A102,Data!G$2:K$302,2,FALSE))","v":""},{"$f":"IF(A102=\"\",\"\",VLOOKUP(A102,Data!G$2:K$302,4,FALSE))","v":""},{"$f":"IF(A102=\"\",\"\",VLOOKUP(A102,Data!G$2:K$302,3,FALSE))","v":""},"",null,null,null,null,null,null,null,null,null,null,null,null,null,null,null,null,null,null,null,null,null,null,0]
[null,{"$f":"IF(A103=\"\",\"\",'Cover Page'!B$10)","v":""},{"$f":"IF(A103=\"\",\"\",VLOOKUP(A103,Data!G$2:K$302,2,FALSE))","v":""},{"$f":"IF(A103=\"\",\"\",VLOOKUP(A103,Data!G$2:K$302,4,FALSE))","v":""},{"$f":"IF(A103=\"\",\"\",VLOOKUP(A103,Data!G$2:K$302,3,FALSE))","v":""},"",null,null,null,null,null,null,null,null,null,null,null,null,null,null,null,null,null,null,null,null,null,null,0]
[null,{"$f":"IF(A104=\"\",\"\",'Cover Page'!B$10)","v":""},{"$f":"IF(A104=\"\",\"\",VLOOKUP(A104,Data!G$2:K$302,2,FALSE))","v":""},{"$f":"IF(A104=\"\",\"\",VLOOKUP(A104,Data!G$2:K$302,4,FALSE))","v":""},{"$f":"IF(A104=\"\",\"\",VLOOKUP(A104,Data!G$2:K$302,3,FALSE))","v":""},"",null,null,null,null,null,null,null,null,null,null,null,null,null,null,null,null,null,null,null,null,null,null,0]
[null,{"$f":"IF(A105=\"\",\"\",'Cover Page'!B$10)","v":""},{"$f":"IF(A105=\"\",\"\",VLOOKUP(A105,Data!G$2:K$302,2,FALSE))","v":""},{"$f":"IF(A105=\"\",\"\",VLOOKUP(A105,Data!G$2:K$302,4,FALSE))","v":""},{"$f":"IF(A105=\"\",\"\",VLOOKUP(A105,Data!G$2:K$302,3,FALSE))","v":""},"",null,null,null,null,null,null,null,null,null,null,null,null,null,null,null,null,null,null,null,null,null,null,0]
[null,{"$f":"IF(A106=\"\",\"\",'Cover Page'!B$10)","v":""},{"$f":"IF(A106=\"\",\"\",VLOOKUP(A106,Data!G$2:K$302,2,FALSE))","v":""},{"$f":"IF(A106=\"\",\"\",VLOOKUP(A106,Data!G$2:K$302,4,FALSE))","v":""},{"$f":"IF(A106=\"\",\"\",VLOOKUP(A106,Data!G$2:K$302,3,FALSE))","v":""},"",null,null,null,null,null,null,null,null,null,null,null,null,null,null,null,null,null,null,null,null,null,null,0]
[null,{"$f":"IF(A107=\"\",\"\",'Cover Page'!B$10)","v":""},{"$f":"IF(A107=\"\",\"\",VLOOKUP(A107,Data!G$2:K$302,2,FALSE))","v":""},{"$f":"IF(A107=\"\",\"\",VLOOKUP(A107,Data!G$2:K$302,4,FALSE))","v":""},{"$f":"IF(A107=\"\",\"\",VLOOKUP(A107,Data!G$2:K$302,3,FALSE))","v":""},"",null,null,null,null,null,null,null,null,null,null,null,null,null,null,null,null,null,null,null,null,null,null,0]
[null,{"$f":"IF(A108=\"\",\"\",'Cover Page'!B$10)","v":""},{"$f":"IF(A108=\"\",\"\",VLOOKUP(A108,Data!G$2:K$302,2,FALSE))","v":""},{"$f":"IF(A108=\"\",\"\",VLOOKUP(A108,Data!G$2:K$302,4,FALSE))","v":""},{"$f":"IF(A108=\"\",\"\",VLOOKUP(A108,Data!G$2:K$302,3,FALSE))","v":""},"",null,null,null,null,null,null,null,null,null,null,null,null,null,null,null,null,null,null,null,null,null,null,0]
[null,{"$f":"IF(A109=\"\",\"\",'Cover Page'!B$10)","v":""},{"$f":"IF(A109=\"\",\"\",VLOOKUP(A109,Data!G$2:K$302,2,FALSE))","v":""},{"$f":"IF(A109=\"\",\"\",VLOOKUP(A109,Data!G$2:K$302,4,FALSE))","v":""},{"$f":"IF(A109=\"\",\"\",VLOOKUP(A109,Data!G$2:K$302,3,FALSE))","v":""},"",null,null,null,null,null,null,null,null,null,null,null,null,null,null,null,null,null,null,null,null,null,null,0]
[null,{"$f":"IF(A110=\"\",\"\",'Cover Page'!B$10)","v":""},{"$f":"IF(A110=\"\",\"\",VLOOKUP(A110,Data!G$2:K$302,2,FALSE))","v":""},{"$f":"IF(A110=\"\",\"\",VLOOKUP(A110,Data!G$2:K$302,4,FALSE))","v":""},{"$f":"IF(A110=\"\",\"\",VLOOKUP(A110,Data!G$2:K$302,3,FALSE))","v":""},"",null,null,null,null,null,null,null,null,null,null,null,null,null,null,null,null,null,null,null,null,null,null,0]
[null,{"$f":"IF(A111=\"\",\"\",'Cover Page'!B$10)","v":""},{"$f":"IF(A111=\"\",\"\",VLOOKUP(A111,Data!G$2:K$302,2,FALSE))","v":""},{"$f":"IF(A111=\"\",\"\",VLOOKUP(A111,Data!G$2:K$302,4,FALSE))","v":""},{"$f":"IF(A111=\"\",\"\",VLOOKUP(A111,Data!G$2:K$302,3,FALSE))","v":""},"",null,null,null,null,null,null,null,null,null,null,null,null,null,null,null,null,null,null,null,null,null,null,0]
[null,{"$f":"IF(A112=\"\",\"\",'Cover Page'!B$10)","v":""},{"$f":"IF(A112=\"\",\"\",VLOOKUP(A112,Data!G$2:K$302,2,FALSE))","v":""},{"$f":"IF(A112=\"\",\"\",VLOOKUP(A112,Data!G$2:K$302,4,FALSE))","v":""},{"$f":"IF(A112=\"\",\"\",VLOOKUP(A112,Data!G$2:K$302,3,FALSE))","v":""},"",null,null,null,null,null,null,null,null,null,null,null,null,null,null,null,null,null,null,null,null,null,null,0]
[null,{"$f":"IF(A113=\"\",\"\",'Cover Page'!B$10)","v":""},{"$f":"IF(A113=\"\",\"\",VLOOKUP(A113,Data!G$2:K$302,2,FALSE))","v":""},{"$f":"IF(A113=\"\",\"\",VLOOKUP(A113,Data!G$2:K$302,4,FALSE))","v":""},{"$f":"IF(A113=\"\",\"\",VLOOKUP(A113,Data!G$2:K$302,3,FALSE))","v":""},"",null,null,null,null,null,null,null,null,null,null,null,null,null,null,null,null,null,null,null,null,null,null,0]
[null,{"$f":"IF(A114=\"\",\"\",'Cover Page'!B$10)","v":""},{"$f":"IF(A114=\"\",\"\",VLOOKUP(A114,Data!G$2:K$302,2,FALSE))","v":""},{"$f":"IF(A114=\"\",\"\",VLOOKUP(A114,Data!G$2:K$302,4,FALSE))","v":""},{"$f":"IF(A114=\"\",\"\",VLOOKUP(A114,Data!G$2:K$302,3,FALSE))","v":""},"",null,null,null,null,null,null,null,null,null,null,null,null,null,null,null,null,null,null,null,null,null,null,0]
[null,{"$f":"IF(A115=\"\",\"\",'Cover Page'!B$10)","v":""},{"$f":"IF(A115=\"\",\"\",VLOOKUP(A115,Data!G$2:K$302,2,FALSE))","v":""},{"$f":"IF(A115=\"\",\"\",VLOOKUP(A115,Data!G$2:K$302,4,FALSE))","v":""},{"$f":"IF(A115=\"\",\"\",VLOOKUP(A115,Data!G$2:K$302,3,FALSE))","v":""},"",null,null,null,null,null,null,null,null,null,null,null,null,null,null,null,null,null,null,null,null,null,null,0]
[null,{"$f":"IF(A116=\"\",\"\",'Cover Page'!B$10)","v":""},{"$f":"IF(A116=\"\",\"\",VLOOKUP(A116,Data!G$2:K$302,2,FALSE))","v":""},{"$f":"IF(A116=\"\",\"\",VLOOKUP(A116,Data!G$2:K$302,4,FALSE))","v":""},{"$f":"IF(A116=\"\",\"\",VLOOKUP(A116,Data!G$2:K$302,3,FALSE))","v":""},"",null,null,null,null,null,null,null,null,null,null,null,null,null,null,null,null,null,null,null,null,null,null,0]
[null,{"$f":"IF(A117=\"\",\"\",'Cover Page'!B$10)","v":""},{"$f":"IF(A117=\"\",\"\",VLOOKUP(A117,Data!G$2:K$302,2,FALSE))","v":""},{"$f":"IF(A117=\"\",\"\",VLOOKUP(A117,Data!G$2:K$302,4,FALSE))","v":""},{"$f":"IF(A117=\"\",\"\",VLOOKUP(A117,Data!G$2:K$302,3,FALSE))","v":""},"",null,null,null,null,null,null,null,null,null,null,null,null,null,null,null,null,null,null,null,null,null,null,0]
[null,{"$f":"IF(A118=\"\",\"\",'Cover Page'!B$10)","v":""},{"$f":"IF(A118=\"\",\"\",VLOOKUP(A118,Data!G$2:K$302,2,FALSE))","v":""},{"$f":"IF(A118=\"\",\"\",VLOOKUP(A118,Data!G$2:K$302,4,FALSE))","v":""},{"$f":"IF(A118=\"\",\"\",VLOOKUP(A118,Data!G$2:K$302,3,FALSE))","v":""},"",null,null,null,null,null,null,null,null,null,null,null,null,null,null,null,null,null,null,null,null,null,null,0]
[null,{"$f":"IF(A119=\"\",\"\",'Cover Page'!B$10)","v":""},{"$f":"IF(A119=\"\",\"\",VLOOKUP(A119,Data!G$2:K$302,2,FALSE))","v":""},{"$f":"IF(A119=\"\",\"\",VLOOKUP(A119,Data!G$2:K$302,4,FALSE))","v":""},{"$f":"IF(A119=\"\",\"\",VLOOKUP(A119,Data!G$2:K$302,3,FALSE))","v":""},"",null,null,null,null,null,null,null,null,null,null,null,null,null,null,null,null,null,null,null,null,null,null,0]
[null,{"$f":"IF(A120=\"\",\"\",'Cover Page'!B$10)","v":""},{"$f":"IF(A120=\"\",\"\",VLOOKUP(A120,Data!G$2:K$302,2,FALSE))","v":""},{"$f":"IF(A120=\"\",\"\",VLOOKUP(A120,Data!G$2:K$302,4,FALSE))","v":""},{"$f":"IF(A120=\"\",\"\",VLOOKUP(A120,Data!G$2:K$302,3,FALSE))","v":""},"",null,null,null,null,null,null,null,null,null,null,null,null,null,null,null,null,null,null,null,null,null,null,0]
[null,{"$f":"IF(A121=\"\",\"\",'Cover Page'!B$10)","v":""},{"$f":"IF(A121=\"\",\"\",VLOOKUP(A121,Data!G$2:K$302,2,FALSE))","v":""},{"$f":"IF(A121=\"\",\"\",VLOOKUP(A121,Data!G$2:K$302,4,FALSE))","v":""},{"$f":"IF(A121=\"\",\"\",VLOOKUP(A121,Data!G$2:K$302,3,FALSE))","v":""},"",null,null,null,null,null,null,null,null,null,null,null,null,null,null,null,null,null,null,null,null,null,null,0]
[null,{"$f":"IF(A122=\"\",\"\",'Cover Page'!B$10)","v":""},{"$f":"IF(A122=\"\",\"\",VLOOKUP(A122,Data!G$2:K$302,2,FALSE))","v":""},{"$f":"IF(A122=\"\",\"\",VLOOKUP(A122,Data!G$2:K$302,4,FALSE))","v":""},{"$f":"IF(A122=\"\",\"\",VLOOKUP(A122,Data!G$2:K$302,3,FALSE))","v":""},"",null,null,null,null,null,null,null,null,null,null,null,null,null,null,null,null,null,null,null,null,null,null,0]
[null,{"$f":"IF(A123=\"\",\"\",'Cover Page'!B$10)","v":""},{"$f":"IF(A123=\"\",\"\",VLOOKUP(A123,Data!G$2:K$302,2,FALSE))","v":""},{"$f":"IF(A123=\"\",\"\",VLOOKUP(A123,Data!G$2:K$302,4,FALSE))","v":""},{"$f":"IF(A123=\"\",\"\",VLOOKUP(A123,Data!G$2:K$302,3,FALSE))","v":""},"",null,null,null,null,null,null,null,null,null,null,null,null,null,null,null,null,null,null,null,null,null,null,0]
[null,{"$f":"IF(A124=\"\",\"\",'Cover Page'!B$10)","v":""},{"$f":"IF(A124=\"\",\"\",VLOOKUP(A124,Data!G$2:K$302,2,FALSE))","v":""},{"$f":"IF(A124=\"\",\"\",VLOOKUP(A124,Data!G$2:K$302,4,FALSE))","v":""},{"$f":"IF(A124=\"\",\"\",VLOOKUP(A124,Data!G$2:K$302,3,FALSE))","v":""},"",null,null,null,null,null,null,null,null,null,null,null,null,null,null,null,null,null,null,null,null,null,null,0]
[null,{"$f":"IF(A125=\"\",\"\",'Cover Page'!B$10)","v":""},{"$f":"IF(A125=\"\",\"\",VLOOKUP(A125,Data!G$2:K$302,2,FALSE))","v":""},{"$f":"IF(A125=\"\",\"\",VLOOKUP(A125,Data!G$2:K$302,4,FALSE))","v":""},{"$f":"IF(A125=\"\",\"\",VLOOKUP(A125,Data!G$2:K$302,3,FALSE))","v":""},"",null,null,null,null,null,null,null,null,null,null,null,null,null,null,null,null,null,null,null,null,null,null,0]
[null,{"$f":"IF(A126=\"\",\"\",'Cover Page'!B$10)","v":""},{"$f":"IF(A126=\"\",\"\",VLOOKUP(A126,Data!G$2:K$302,2,FALSE))","v":""},{"$f":"IF(A126=\"\",\"\",VLOOKUP(A126,Data!G$2:K$302,4,FALSE))","v":""},{"$f":"IF(A126=\"\",\"\",VLOOKUP(A126,Data!G$2:K$302,3,FALSE))","v":""},"",null,null,null,null,null,null,null,null,null,null,null,null,null,null,null,null,null,null,null,null,null,null,0]
[null,{"$f":"IF(A127=\"\",\"\",'Cover Page'!B$10)","v":""},{"$f":"IF(A127=\"\",\"\",VLOOKUP(A127,Data!G$2:K$302,2,FALSE))","v":""},{"$f":"IF(A127=\"\",\"\",VLOOKUP(A127,Data!G$2:K$302,4,FALSE))","v":""},{"$f":"IF(A127=\"\",\"\",VLOOKUP(A127,Data!G$2:K$302,3,FALSE))","v":""},"",null,null,null,null,null,null,null,null,null,null,null,null,null,null,null,null,null,null,null,null,null,null,0]
[null,{"$f":"IF(A128=\"\",\"\",'Cover Page'!B$10)","v":""},{"$f":"IF(A128=\"\",\"\",VLOOKUP(A128,Data!G$2:K$302,2,FALSE))","v":""},{"$f":"IF(A128=\"\",\"\",VLOOKUP(A128,Data!G$2:K$302,4,FALSE))","v":""},{"$f":"IF(A128=\"\",\"\",VLOOKUP(A128,Data!G$2:K$302,3,FALSE))","v":""},"",null,null,null,null,null,null,null,null,null,null,null,null,null,null,null,null,null,null,null,null,null,null,0]
[null,{"$f":"IF(A129=\"\",\"\",'Cover Page'!B$10)","v":""},{"$f":"IF(A129=\"\",\"\",VLOOKUP(A129,Data!G$2:K$302,2,FALSE))","v":""},{"$f":"IF(A129=\"\",\"\",VLOOKUP(A129,Data!G$2:K$302,4,FALSE))","v":""},{"$f":"IF(A129=\"\",\"\",VLOOKUP(A129,Data!G$2:K$302,3,FALSE))","v":""},"",null,null,null,null,null,null,null,null,null,null,null,null,null,null,null,null,null,null,null,null,null,null,0]
[null,{"$f":"IF(A130=\"\",\"\",'Cover Page'!B$10)","v":""},{"$f":"IF(A130=\"\",\"\",VLOOKUP(A130,Data!G$2:K$302,2,FALSE))","v":""},{"$f":"IF(A130=\"\",\"\",VLOOKUP(A130,Data!G$2:K$302,4,FALSE))","v":""},{"$f":"IF(A130=\"\",\"\",VLOOKUP(A130,Data!G$2:K$302,3,FALSE))","v":""},"",null,null,null,null,null,null,null,null,null,null,null,null,null,null,null,null,null,null,null,null,null,null,0]
[null,{"$f":"IF(A131=\"\",\"\",'Cover Page'!B$10)","v":""},{"$f":"IF(A131=\"\",\"\",VLOOKUP(A131,Data!G$2:K$302,2,FALSE))","v":""},{"$f":"IF(A131=\"\",\"\",VLOOKUP(A131,Data!G$2:K$302,4,FALSE))","v":""},{"$f":"IF(A131=\"\",\"\",VLOOKUP(A131,Data!G$2:K$302,3,FALSE))","v":""},"",null,null,null,null,null,null,null,null,null,null,null,null,null,null,null,null,null,null,null,null,null,null,0]
[null,{"$f":"IF(A132=\"\",\"\",'Cover Page'!B$10)","v":""},{"$f":"IF(A132=\"\",\"\",VLOOKUP(A132,Data!G$2:K$302,2,FALSE))","v":""},{"$f":"IF(A132=\"\",\"\",VLOOKUP(A132,Data!G$2:K$302,4,FALSE))","v":""},{"$f":"IF(A132=\"\",\"\",VLOOKUP(A132,Data!G$2:K$302,3,FALSE))","v":""},{"$f":"IF(AND(OR(TypeComp=\"Test\",TypeComp=\"Tests\"),A132<>\"\"),\"X\",\"\")","v":""},null,null,null,null,null,null,null,null,null,null,null,null,null,null,null,null,null,null,null,null,null,null,0]
[null,{"$f":"IF(A133=\"\",\"\",'Cover Page'!B$10)","v":""},{"$f":"IF(A133=\"\",\"\",VLOOKUP(A133,Data!G$2:K$302,2,FALSE))","v":""},{"$f":"IF(A133=\"\",\"\",VLOOKUP(A133,Data!G$2:K$302,4,FALSE))","v":""},{"$f":"IF(A133=\"\",\"\",VLOOKUP(A133,Data!G$2:K$302,3,FALSE))","v":""},"",null,null,null,null,null,null,null,null,null,null,null,null,null,null,null,null,null,null,null,null,null,null,{"$f":"COUNTA(G133:Z133)","v":0}]
[null,{"$f":"IF(A134=\"\",\"\",'Cover Page'!B$10)","v":""},{"$f":"IF(A134=\"\",\"\",VLOOKUP(A134,Data!G$2:K$302,2,FALSE))","v":""},{"$f":"IF(A134=\"\",\"\",VLOOKUP(A134,Data!G$2:K$302,4,FALSE))","v":""},{"$f":"IF(A134=\"\",\"\",VLOOKUP(A134,Data!G$2:K$302,3,FALSE))","v":""},"",null,null,null,null,null,null,null,null,null,null,null,null,null,null,null,null,null,null,null,null,null,null,0]
[null,{"$f":"IF(A135=\"\",\"\",'Cover Page'!B$10)","v":""},{"$f":"IF(A135=\"\",\"\",VLOOKUP(A135,Data!G$2:K$302,2,FALSE))","v":""},{"$f":"IF(A135=\"\",\"\",VLOOKUP(A135,Data!G$2:K$302,4,FALSE))","v":""},{"$f":"IF(A135=\"\",\"\",VLOOKUP(A135,Data!G$2:K$302,3,FALSE))","v":""},"",null,null,null,null,null,null,null,null,null,null,null,null,null,null,null,null,null,null,null,null,null,null,0]
[null,{"$f":"IF(A136=\"\",\"\",'Cover Page'!B$10)","v":""},{"$f":"IF(A136=\"\",\"\",VLOOKUP(A136,Data!G$2:K$302,2,FALSE))","v":""},{"$f":"IF(A136=\"\",\"\",VLOOKUP(A136,Data!G$2:K$302,4,FALSE))","v":""},{"$f":"IF(A136=\"\",\"\",VLOOKUP(A136,Data!G$2:K$302,3,FALSE))","v":""},"",null,null,null,null,null,null,null,null,null,null,null,null,null,null,null,null,null,null,null,null,null,null,0]
[null,{"$f":"IF(A137=\"\",\"\",'Cover Page'!B$10)","v":""},{"$f":"IF(A137=\"\",\"\",VLOOKUP(A137,Data!G$2:K$302,2,FALSE))","v":""},{"$f":"IF(A137=\"\",\"\",VLOOKUP(A137,Data!G$2:K$302,4,FALSE))","v":""},{"$f":"IF(A137=\"\",\"\",VLOOKUP(A137,Data!G$2:K$302,3,FALSE))","v":""},"",null,null,null,null,null,null,null,null,null,null,null,null,null,null,null,null,null,null,null,null,null,null,0]
[null,{"$f":"IF(A138=\"\",\"\",'Cover Page'!B$10)","v":""},{"$f":"IF(A138=\"\",\"\",VLOOKUP(A138,Data!G$2:K$302,2,FALSE))","v":""},{"$f":"IF(A138=\"\",\"\",VLOOKUP(A138,Data!G$2:K$302,4,FALSE))","v":""},{"$f":"IF(A138=\"\",\"\",VLOOKUP(A138,Data!G$2:K$302,3,FALSE))","v":""},"",null,null,null,null,null,null,null,null,null,null,null,null,null,null,null,null,null,null,null,null,null,null,0]
[null,{"$f":"IF(A139=\"\",\"\",'Cover Page'!B$10)","v":""},{"$f":"IF(A139=\"\",\"\",VLOOKUP(A139,Data!G$2:K$302,2,FALSE))","v":""},{"$f":"IF(A139=\"\",\"\",VLOOKUP(A139,Data!G$2:K$302,4,FALSE))","v":""},{"$f":"IF(A139=\"\",\"\",VLOOKUP(A139,Data!G$2:K$302,3,FALSE))","v":""},"",null,null,null,null,null,null,null,null,null,null,null,null,null,null,null,null,null,null,null,null,null,null,0]
[null,{"$f":"IF(A140=\"\",\"\",'Cover Page'!B$10)","v":""},{"$f":"IF(A140=\"\",\"\",VLOOKUP(A140,Data!G$2:K$302,2,FALSE))","v":""},{"$f":"IF(A140=\"\",\"\",VLOOKUP(A140,Data!G$2:K$302,4,FALSE))","v":""},{"$f":"IF(A140=\"\",\"\",VLOOKUP(A140,Data!G$2:K$302,3,FALSE))","v":""},"",null,null,null,null,null,null,null,null,null,null,null,null,null,null,null,null,null,null,null,null,null,null,0]
[null,{"$f":"IF(A141=\"\",\"\",'Cover Page'!B$10)","v":""},{"$f":"IF(A141=\"\",\"\",VLOOKUP(A141,Data!G$2:K$302,2,FALSE))","v":""},{"$f":"IF(A141=\"\",\"\",VLOOKUP(A141,Data!G$2:K$302,4,FALSE))","v":""},{"$f":"IF(A141=\"\",\"\",VLOOKUP(A141,Data!G$2:K$302,3,FALSE))","v":""},"",null,null,null,null,null,null,null,null,null,null,null,null,null,null,null,null,null,null,null,null,null,null,0]
[null,{"$f":"IF(A142=\"\",\"\",'Cover Page'!B$10)","v":""},{"$f":"IF(A142=\"\",\"\",VLOOKUP(A142,Data!G$2:K$302,2,FALSE))","v":""},{"$f":"IF(A142=\"\",\"\",VLOOKUP(A142,Data!G$2:K$302,4,FALSE))","v":""},{"$f":"IF(A142=\"\",\"\",VLOOKUP(A142,Data!G$2:K$302,3,FALSE))","v":""},"",null,null,null,null,null,null,null,null,null,null,null,null,null,null,null,null,null,null,null,null,null,null,0]
[null,{"$f":"IF(A143=\"\",\"\",'Cover Page'!B$10)","v":""},{"$f":"IF(A143=\"\",\"\",VLOOKUP(A143,Data!G$2:K$302,2,FALSE))","v":""},{"$f":"IF(A143=\"\",\"\",VLOOKUP(A143,Data!G$2:K$302,4,FALSE))","v":""},{"$f":"IF(A143=\"\",\"\",VLOOKUP(A143,Data!G$2:K$302,3,FALSE))","v":""},"",null,null,null,null,null,null,null,null,null,null,null,null,null,null,null,null,null,null,null,null,null,null,0]
[null,{"$f":"IF(A144=\"\",\"\",'Cover Page'!B$10)","v":""},{"$f":"IF(A144=\"\",\"\",VLOOKUP(A144,Data!G$2:K$302,2,FALSE))","v":""},{"$f":"IF(A144=\"\",\"\",VLOOKUP(A144,Data!G$2:K$302,4,FALSE))","v":""},{"$f":"IF(A144=\"\",\"\",VLOOKUP(A144,Data!G$2:K$302,3,FALSE))","v":""},"",null,null,null,null,null,null,null,null,null,null,null,null,null,null,null,null,null,null,null,null,null,null,0]
[null,{"$f":"IF(A145=\"\",\"\",'Cover Page'!B$10)","v":""},{"$f":"IF(A145=\"\",\"\",VLOOKUP(A145,Data!G$2:K$302,2,FALSE))","v":""},{"$f":"IF(A145=\"\",\"\",VLOOKUP(A145,Data!G$2:K$302,4,FALSE))","v":""},{"$f":"IF(A145=\"\",\"\",VLOOKUP(A145,Data!G$2:K$302,3,FALSE))","v":""},"",null,null,null,null,null,null,null,null,null,null,null,null,null,null,null,null,null,null,null,null,null,null,0]
[null,{"$f":"IF(A146=\"\",\"\",'Cover Page'!B$10)","v":""},{"$f":"IF(A146=\"\",\"\",VLOOKUP(A146,Data!G$2:K$302,2,FALSE))","v":""},{"$f":"IF(A146=\"\",\"\",VLOOKUP(A146,Data!G$2:K$302,4,FALSE))","v":""},{"$f":"IF(A146=\"\",\"\",VLOOKUP(A146,Data!G$2:K$302,3,FALSE))","v":""},"",null,null,null,null,null,null,null,null,null,null,null,null,null,null,null,null,null,null,null,null,null,null,0]
[null,{"$f":"IF(A147=\"\",\"\",'Cover Page'!B$10)","v":""},{"$f":"IF(A147=\"\",\"\",VLOOKUP(A147,Data!G$2:K$302,2,FALSE))","v":""},{"$f":"IF(A147=\"\",\"\",VLOOKUP(A147,Data!G$2:K$302,4,FALSE))","v":""},{"$f":"IF(A147=\"\",\"\",VLOOKUP(A147,Data!G$2:K$302,3,FALSE))","v":""},"",null,null,null,null,null,null,null,null,null,null,null,null,null,null,null,null,null,null,null,null,null,null,0]
[null,{"$f":"IF(A148=\"\",\"\",'Cover Page'!B$10)","v":""},{"$f":"IF(A148=\"\",\"\",VLOOKUP(A148,Data!G$2:K$302,2,FALSE))","v":""},{"$f":"IF(A148=\"\",\"\",VLOOKUP(A148,Data!G$2:K$302,4,FALSE))","v":""},{"$f":"IF(A148=\"\",\"\",VLOOKUP(A148,Data!G$2:K$302,3,FALSE))","v":""},"",null,null,null,null,null,null,null,null,null,null,null,null,null,null,null,null,null,null,null,null,null,null,0]
[null,{"$f":"IF(A149=\"\",\"\",'Cover Page'!B$10)","v":""},{"$f":"IF(A149=\"\",\"\",VLOOKUP(A149,Data!G$2:K$302,2,FALSE))","v":""},{"$f":"IF(A149=\"\",\"\",VLOOKUP(A149,Data!G$2:K$302,4,FALSE))","v":""},{"$f":"IF(A149=\"\",\"\",VLOOKUP(A149,Data!G$2:K$302,3,FALSE))","v":""},"",null,null,null,null,null,null,null,null,null,null,null,null,null,null,null,null,null,null,null,null,null,null,0]
[null,{"$f":"IF(A150=\"\",\"\",'Cover Page'!B$10)","v":""},{"$f":"IF(A150=\"\",\"\",VLOOKUP(A150,Data!G$2:K$302,2,FALSE))","v":""},{"$f":"IF(A150=\"\",\"\",VLOOKUP(A150,Data!G$2:K$302,4,FALSE))","v":""},{"$f":"IF(A150=\"\",\"\",VLOOKUP(A150,Data!G$2:K$302,3,FALSE))","v":""},"",null,null,null,null,null,null,null,null,null,null,null,null,null,null,null,null,null,null,null,null,null,null,0]
[null,{"$f":"IF(A151=\"\",\"\",'Cover Page'!B$10)","v":""},{"$f":"IF(A151=\"\",\"\",VLOOKUP(A151,Data!G$2:K$302,2,FALSE))","v":""},{"$f":"IF(A151=\"\",\"\",VLOOKUP(A151,Data!G$2:K$302,4,FALSE))","v":""},{"$f":"IF(A151=\"\",\"\",VLOOKUP(A151,Data!G$2:K$302,3,FALSE))","v":""},"",null,null,null,null,null,null,null,null,null,null,null,null,null,null,null,null,null,null,null,null,null,null,0]
[null,{"$f":"IF(A152=\"\",\"\",'Cover Page'!B$10)","v":""},{"$f":"IF(A152=\"\",\"\",VLOOKUP(A152,Data!G$2:K$302,2,FALSE))","v":""},{"$f":"IF(A152=\"\",\"\",VLOOKUP(A152,Data!G$2:K$302,4,FALSE))","v":""},{"$f":"IF(A152=\"\",\"\",VLOOKUP(A152,Data!G$2:K$302,3,FALSE))","v":""},"",null,null,null,null,null,null,null,null,null,null,null,null,null,null,null,null,null,null,null,null,null,null,0]
[null,{"$f":"IF(A153=\"\",\"\",'Cover Page'!B$10)","v":""},{"$f":"IF(A153=\"\",\"\",VLOOKUP(A153,Data!G$2:K$302,2,FALSE))","v":""},{"$f":"IF(A153=\"\",\"\",VLOOKUP(A153,Data!G$2:K$302,4,FALSE))","v":""},{"$f":"IF(A153=\"\",\"\",VLOOKUP(A153,Data!G$2:K$302,3,FALSE))","v":""},"",null,null,null,null,null,null,null,null,null,null,null,null,null,null,null,null,null,null,null,null,null,null,0]
[null,{"$f":"IF(A154=\"\",\"\",'Cover Page'!B$10)","v":""},{"$f":"IF(A154=\"\",\"\",VLOOKUP(A154,Data!G$2:K$302,2,FALSE))","v":""},{"$f":"IF(A154=\"\",\"\",VLOOKUP(A154,Data!G$2:K$302,4,FALSE))","v":""},{"$f":"IF(A154=\"\",\"\",VLOOKUP(A154,Data!G$2:K$302,3,FALSE))","v":""},"",null,null,null,null,null,null,null,null,null,null,null,null,null,null,null,null,null,null,null,null,null,null,0]
[null,{"$f":"IF(A155=\"\",\"\",'Cover Page'!B$10)","v":""},{"$f":"IF(A155=\"\",\"\",VLOOKUP(A155,Data!G$2:K$302,2,FALSE))","v":""},{"$f":"IF(A155=\"\",\"\",VLOOKUP(A155,Data!G$2:K$302,4,FALSE))","v":""},{"$f":"IF(A155=\"\",\"\",VLOOKUP(A155,Data!G$2:K$302,3,FALSE))","v":""},"",null,null,null,null,null,null,null,null,null,null,null,null,null,null,null,null,null,null,null,null,null,null,0]
[null,{"$f":"IF(A156=\"\",\"\",'Cover Page'!B$10)","v":""},{"$f":"IF(A156=\"\",\"\",VLOOKUP(A156,Data!G$2:K$302,2,FALSE))","v":""},{"$f":"IF(A156=\"\",\"\",VLOOKUP(A156,Data!G$2:K$302,4,FALSE))","v":""},{"$f":"IF(A156=\"\",\"\",VLOOKUP(A156,Data!G$2:K$302,3,FALSE))","v":""},"",null,null,null,null,null,null,null,null,null,null,null,null,null,null,null,null,null,null,null,null,null,null,0]
[null,{"$f":"IF(A157=\"\",\"\",'Cover Page'!B$10)","v":""},{"$f":"IF(A157=\"\",\"\",VLOOKUP(A157,Data!G$2:K$302,2,FALSE))","v":""},{"$f":"IF(A157=\"\",\"\",VLOOKUP(A157,Data!G$2:K$302,4,FALSE))","v":""},{"$f":"IF(A157=\"\",\"\",VLOOKUP(A157,Data!G$2:K$302,3,FALSE))","v":""},"",null,null,null,null,null,null,null,null,null,null,null,null,null,null,null,null,null,null,null,null,null,null,0]
[null,{"$f":"IF(A158=\"\",\"\",'Cover Page'!B$10)","v":""},{"$f":"IF(A158=\"\",\"\",VLOOKUP(A158,Data!G$2:K$302,2,FALSE))","v":""},{"$f":"IF(A158=\"\",\"\",VLOOKUP(A158,Data!G$2:K$302,4,FALSE))","v":""},{"$f":"IF(A158=\"\",\"\",VLOOKUP(A158,Data!G$2:K$302,3,FALSE))","v":""},"",null,null,null,null,null,null,null,null,null,null,null,null,null,null,null,null,null,null,null,null,null,null,0]
[null,{"$f":"IF(A159=\"\",\"\",'Cover Page'!B$10)","v":""},{"$f":"IF(A159=\"\",\"\",VLOOKUP(A159,Data!G$2:K$302,2,FALSE))","v":""},{"$f":"IF(A159=\"\",\"\",VLOOKUP(A159,Data!G$2:K$302,4,FALSE))","v":""},{"$f":"IF(A159=\"\",\"\",VLOOKUP(A159,Data!G$2:K$302,3,FALSE))","v":""},"",null,null,null,null,null,null,null,null,null,null,null,null,null,null,null,null,null,null,null,null,null,null,0]
[null,{"$f":"IF(A160=\"\",\"\",'Cover Page'!B$10)","v":""},{"$f":"IF(A160=\"\",\"\",VLOOKUP(A160,Data!G$2:K$302,2,FALSE))","v":""},{"$f":"IF(A160=\"\",\"\",VLOOKUP(A160,Data!G$2:K$302,4,FALSE))","v":""},{"$f":"IF(A160=\"\",\"\",VLOOKUP(A160,Data!G$2:K$302,3,FALSE))","v":""},"",null,null,null,null,null,null,null,null,null,null,null,null,null,null,null,null,null,null,null,null,null,null,0]
[null,{"$f":"IF(A161=\"\",\"\",'Cover Page'!B$10)","v":""},{"$f":"IF(A161=\"\",\"\",VLOOKUP(A161,Data!G$2:K$302,2,FALSE))","v":""},{"$f":"IF(A161=\"\",\"\",VLOOKUP(A161,Data!G$2:K$302,4,FALSE))","v":""},{"$f":"IF(A161=\"\",\"\",VLOOKUP(A161,Data!G$2:K$302,3,FALSE))","v":""},"",null,null,null,null,null,null,null,null,null,null,null,null,null,null,null,null,null,null,null,null,null,null,0]
[null,{"$f":"IF(A162=\"\",\"\",'Cover Page'!B$10)","v":""},{"$f":"IF(A162=\"\",\"\",VLOOKUP(A162,Data!G$2:K$302,2,FALSE))","v":""},{"$f":"IF(A162=\"\",\"\",VLOOKUP(A162,Data!G$2:K$302,4,FALSE))","v":""},{"$f":"IF(A162=\"\",\"\",VLOOKUP(A162,Data!G$2:K$302,3,FALSE))","v":""},"",null,null,null,null,null,null,null,null,null,null,null,null,null,null,null,null,null,null,null,null,null,null,0]
[null,{"$f":"IF(A163=\"\",\"\",'Cover Page'!B$10)","v":""},{"$f":"IF(A163=\"\",\"\",VLOOKUP(A163,Data!G$2:K$302,2,FALSE))","v":""},{"$f":"IF(A163=\"\",\"\",VLOOKUP(A163,Data!G$2:K$302,4,FALSE))","v":""},{"$f":"IF(A163=\"\",\"\",VLOOKUP(A163,Data!G$2:K$302,3,FALSE))","v":""},"",null,null,null,null,null,null,null,null,null,null,null,null,null,null,null,null,null,null,null,null,null,null,0]
[null,{"$f":"IF(A164=\"\",\"\",'Cover Page'!B$10)","v":""},{"$f":"IF(A164=\"\",\"\",VLOOKUP(A164,Data!G$2:K$302,2,FALSE))","v":""},{"$f":"IF(A164=\"\",\"\",VLOOKUP(A164,Data!G$2:K$302,4,FALSE))","v":""},{"$f":"IF(A164=\"\",\"\",VLOOKUP(A164,Data!G$2:K$302,3,FALSE))","v":""},"",null,null,null,null,null,null,null,null,null,null,null,null,null,null,null,null,null,null,null,null,null,null,0]
[null,{"$f":"IF(A165=\"\",\"\",'Cover Page'!B$10)","v":""},{"$f":"IF(A165=\"\",\"\",VLOOKUP(A165,Data!G$2:K$302,2,FALSE))","v":""},{"$f":"IF(A165=\"\",\"\",VLOOKUP(A165,Data!G$2:K$302,4,FALSE))","v":""},{"$f":"IF(A165=\"\",\"\",VLOOKUP(A165,Data!G$2:K$302,3,FALSE))","v":""},"",null,null,null,null,null,null,null,null,null,null,null,null,null,null,null,null,null,null,null,null,null,null,0]
[null,{"$f":"IF(A166=\"\",\"\",'Cover Page'!B$10)","v":""},{"$f":"IF(A166=\"\",\"\",VLOOKUP(A166,Data!G$2:K$302,2,FALSE))","v":""},{"$f":"IF(A166=\"\",\"\",VLOOKUP(A166,Data!G$2:K$302,4,FALSE))","v":""},{"$f":"IF(A166=\"\",\"\",VLOOKUP(A166,Data!G$2:K$302,3,FALSE))","v":""},"",null,null,null,null,null,null,null,null,null,null,null,null,null,null,null,null,null,null,null,null,null,null,0]
[null,{"$f":"IF(A167=\"\",\"\",'Cover Page'!B$10)","v":""},{"$f":"IF(A167=\"\",\"\",VLOOKUP(A167,Data!G$2:K$302,2,FALSE))","v":""},{"$f":"IF(A167=\"\",\"\",VLOOKUP(A167,Data!G$2:K$302,4,FALSE))","v":""},{"$f":"IF(A167=\"\",\"\",VLOOKUP(A167,Data!G$2:K$302,3,FALSE))","v":""},"",null,null,null,null,null,null,null,null,null,null,null,null,null,null,null,null,null,null,null,null,null,null,0]
[null,{"$f":"IF(A168=\"\",\"\",'Cover Page'!B$10)","v":""},{"$f":"IF(A168=\"\",\"\",VLOOKUP(A168,Data!G$2:K$302,2,FALSE))","v":""},{"$f":"IF(A168=\"\",\"\",VLOOKUP(A168,Data!G$2:K$302,4,FALSE))","v":""},{"$f":"IF(A168=\"\",\"\",VLOOKUP(A168,Data!G$2:K$302,3,FALSE))","v":""},"",null,null,null,null,null,null,null,null,null,null,null,null,null,null,null,null,null,null,null,null,null,null,0]
[null,{"$f":"IF(A169=\"\",\"\",'Cover Page'!B$10)","v":""},{"$f":"IF(A169=\"\",\"\",VLOOKUP(A169,Data!G$2:K$302,2,FALSE))","v":""},{"$f":"IF(A169=\"\",\"\",VLOOKUP(A169,Data!G$2:K$302,4,FALSE))","v":""},{"$f":"IF(A169=\"\",\"\",VLOOKUP(A169,Data!G$2:K$302,3,FALSE))","v":""},"",null,null,null,null,null,null,null,null,null,null,null,null,null,null,null,null,null,null,null,null,null,null,0]
[null,{"$f":"IF(A170=\"\",\"\",'Cover Page'!B$10)","v":""},{"$f":"IF(A170=\"\",\"\",VLOOKUP(A170,Data!G$2:K$302,2,FALSE))","v":""},{"$f":"IF(A170=\"\",\"\",VLOOKUP(A170,Data!G$2:K$302,4,FALSE))","v":""},{"$f":"IF(A170=\"\",\"\",VLOOKUP(A170,Data!G$2:K$302,3,FALSE))","v":""},"",null,null,null,null,null,null,null,null,null,null,null,null,null,null,null,null,null,null,null,null,null,null,0]
[null,{"$f":"IF(A171=\"\",\"\",'Cover Page'!B$10)","v":""},{"$f":"IF(A171=\"\",\"\",VLOOKUP(A171,Data!G$2:K$302,2,FALSE))","v":""},{"$f":"IF(A171=\"\",\"\",VLOOKUP(A171,Data!G$2:K$302,4,FALSE))","v":""},{"$f":"IF(A171=\"\",\"\",VLOOKUP(A171,Data!G$2:K$302,3,FALSE))","v":""},"",null,null,null,null,null,null,null,null,null,null,null,null,null,null,null,null,null,null,null,null,null,null,0]
[null,{"$f":"IF(A172=\"\",\"\",'Cover Page'!B$10)","v":""},{"$f":"IF(A172=\"\",\"\",VLOOKUP(A172,Data!G$2:K$302,2,FALSE))","v":""},{"$f":"IF(A172=\"\",\"\",VLOOKUP(A172,Data!G$2:K$302,4,FALSE))","v":""},{"$f":"IF(A172=\"\",\"\",VLOOKUP(A172,Data!G$2:K$302,3,FALSE))","v":""},"",null,null,null,null,null,null,null,null,null,null,null,null,null,null,null,null,null,null,null,null,null,null,0]
[null,{"$f":"IF(A173=\"\",\"\",'Cover Page'!B$10)","v":""},{"$f":"IF(A173=\"\",\"\",VLOOKUP(A173,Data!G$2:K$302,2,FALSE))","v":""},{"$f":"IF(A173=\"\",\"\",VLOOKUP(A173,Data!G$2:K$302,4,FALSE))","v":""},{"$f":"IF(A173=\"\",\"\",VLOOKUP(A173,Data!G$2:K$302,3,FALSE))","v":""},"",null,null,null,null,null,null,null,null,null,null,null,null,null,null,null,null,null,null,null,null,null,null,0]
[null,{"$f":"IF(A174=\"\",\"\",'Cover Page'!B$10)","v":""},{"$f":"IF(A174=\"\",\"\",VLOOKUP(A174,Data!G$2:K$302,2,FALSE))","v":""},{"$f":"IF(A174=\"\",\"\",VLOOKUP(A174,Data!G$2:K$302,4,FALSE))","v":""},{"$f":"IF(A174=\"\",\"\",VLOOKUP(A174,Data!G$2:K$302,3,FALSE))","v":""},"",null,null,null,null,null,null,null,null,null,null,null,null,null,null,null,null,null,null,null,null,null,null,0]
[null,{"$f":"IF(A175=\"\",\"\",'Cover Page'!B$10)","v":""},{"$f":"IF(A175=\"\",\"\",VLOOKUP(A175,Data!G$2:K$302,2,FALSE))","v":""},{"$f":"IF(A175=\"\",\"\",VLOOKUP(A175,Data!G$2:K$302,4,FALSE))","v":""},{"$f":"IF(A175=\"\",\"\",VLOOKUP(A175,Data!G$2:K$302,3,FALSE))","v":""},"",null,null,null,null,null,null,null,null,null,null,null,null,null,null,null,null,null,null,null,null,null,null,0]
[null,{"$f":"IF(A176=\"\",\"\",'Cover Page'!B$10)","v":""},{"$f":"IF(A176=\"\",\"\",VLOOKUP(A176,Data!G$2:K$302,2,FALSE))","v":""},{"$f":"IF(A176=\"\",\"\",VLOOKUP(A176,Data!G$2:K$302,4,FALSE))","v":""},{"$f":"IF(A176=\"\",\"\",VLOOKUP(A176,Data!G$2:K$302,3,FALSE))","v":""},"",null,null,null,null,null,null,null,null,null,null,null,null,null,null,null,null,null,null,null,null,null,null,0]
[null,{"$f":"IF(A177=\"\",\"\",'Cover Page'!B$10)","v":""},{"$f":"IF(A177=\"\",\"\",VLOOKUP(A177,Data!G$2:K$302,2,FALSE))","v":""},{"$f":"IF(A177=\"\",\"\",VLOOKUP(A177,Data!G$2:K$302,4,FALSE))","v":""},{"$f":"IF(A177=\"\",\"\",VLOOKUP(A177,Data!G$2:K$302,3,FALSE))","v":""},"",null,null,null,null,null,null,null,null,null,null,null,null,null,null,null,null,null,null,null,null,null,null,0]
[null,{"$f":"IF(A178=\"\",\"\",'Cover Page'!B$10)","v":""},{"$f":"IF(A178=\"\",\"\",VLOOKUP(A178,Data!G$2:K$302,2,FALSE))","v":""},{"$f":"IF(A178=\"\",\"\",VLOOKUP(A178,Data!G$2:K$302,4,FALSE))","v":""},{"$f":"IF(A178=\"\",\"\",VLOOKUP(A178,Data!G$2:K$302,3,FALSE))","v":""},"",null,null,null,null,null,null,null,null,null,null,null,null,null,null,null,null,null,null,null,null,null,null,0]
[null,{"$f":"IF(A179=\"\",\"\",'Cover Page'!B$10)","v":""},{"$f":"IF(A179=\"\",\"\",VLOOKUP(A179,Data!G$2:K$302,2,FALSE))","v":""},{"$f":"IF(A179=\"\",\"\",VLOOKUP(A179,Data!G$2:K$302,4,FALSE))","v":""},{"$f":"IF(A179=\"\",\"\",VLOOKUP(A179,Data!G$2:K$302,3,FALSE))","v":""},"",null,null,null,null,null,null,null,null,null,null,null,null,null,null,null,null,null,null,null,null,null,null,0]
[null,{"$f":"IF(A180=\"\",\"\",'Cover Page'!B$10)","v":""},{"$f":"IF(A180=\"\",\"\",VLOOKUP(A180,Data!G$2:K$302,2,FALSE))","v":""},{"$f":"IF(A180=\"\",\"\",VLOOKUP(A180,Data!G$2:K$302,4,FALSE))","v":""},{"$f":"IF(A180=\"\",\"\",VLOOKUP(A180,Data!G$2:K$302,3,FALSE))","v":""},"",null,null,null,null,null,null,null,null,null,null,null,null,null,null,null,null,null,null,null,null,null,null,0]
[null,{"$f":"IF(A181=\"\",\"\",'Cover Page'!B$10)","v":""},{"$f":"IF(A181=\"\",\"\",VLOOKUP(A181,Data!G$2:K$302,2,FALSE))","v":""},{"$f":"IF(A181=\"\",\"\",VLOOKUP(A181,Data!G$2:K$302,4,FALSE))","v":""},{"$f":"IF(A181=\"\",\"\",VLOOKUP(A181,Data!G$2:K$302,3,FALSE))","v":""},"",null,null,null,null,null,null,null,null,null,null,null,null,null,null,null,null,null,null,null,null,null,null,0]
[null,{"$f":"IF(A182=\"\",\"\",'Cover Page'!B$10)","v":""},{"$f":"IF(A182=\"\",\"\",VLOOKUP(A182,Data!G$2:K$302,2,FALSE))","v":""},{"$f":"IF(A182=\"\",\"\",VLOOKUP(A182,Data!G$2:K$302,4,FALSE))","v":""},{"$f":"IF(A182=\"\",\"\",VLOOKUP(A182,Data!G$2:K$302,3,FALSE))","v":""},"",null,null,null,null,null,null,null,null,null,null,null,null,null,null,null,null,null,null,null,null,null,null,0]
[null,{"$f":"IF(A183=\"\",\"\",'Cover Page'!B$10)","v":""},{"$f":"IF(A183=\"\",\"\",VLOOKUP(A183,Data!G$2:K$302,2,FALSE))","v":""},{"$f":"IF(A183=\"\",\"\",VLOOKUP(A183,Data!G$2:K$302,4,FALSE))","v":""},{"$f":"IF(A183=\"\",\"\",VLOOKUP(A183,Data!G$2:K$302,3,FALSE))","v":""},"",null,null,null,null,null,null,null,null,null,null,null,null,null,null,null,null,null,null,null,null,null,null,0]
[null,{"$f":"IF(A184=\"\",\"\",'Cover Page'!B$10)","v":""},{"$f":"IF(A184=\"\",\"\",VLOOKUP(A184,Data!G$2:K$302,2,FALSE))","v":""},{"$f":"IF(A184=\"\",\"\",VLOOKUP(A184,Data!G$2:K$302,4,FALSE))","v":""},{"$f":"IF(A184=\"\",\"\",VLOOKUP(A184,Data!G$2:K$302,3,FALSE))","v":""},"",null,null,null,null,null,null,null,null,null,null,null,null,null,null,null,null,null,null,null,null,null,null,0]
[null,{"$f":"IF(A185=\"\",\"\",'Cover Page'!B$10)","v":""},{"$f":"IF(A185=\"\",\"\",VLOOKUP(A185,Data!G$2:K$302,2,FALSE))","v":""},{"$f":"IF(A185=\"\",\"\",VLOOKUP(A185,Data!G$2:K$302,4,FALSE))","v":""},{"$f":"IF(A185=\"\",\"\",VLOOKUP(A185,Data!G$2:K$302,3,FALSE))","v":""},"",null,null,null,null,null,null,null,null,null,null,null,null,null,null,null,null,null,null,null,null,null,null,0]
[null,{"$f":"IF(A186=\"\",\"\",'Cover Page'!B$10)","v":""},{"$f":"IF(A186=\"\",\"\",VLOOKUP(A186,Data!G$2:K$302,2,FALSE))","v":""},{"$f":"IF(A186=\"\",\"\",VLOOKUP(A186,Data!G$2:K$302,4,FALSE))","v":""},{"$f":"IF(A186=\"\",\"\",VLOOKUP(A186,Data!G$2:K$302,3,FALSE))","v":""},"",null,null,null,null,null,null,null,null,null,null,null,null,null,null,null,null,null,null,null,null,null,null,0]
[null,{"$f":"IF(A187=\"\",\"\",'Cover Page'!B$10)","v":""},{"$f":"IF(A187=\"\",\"\",VLOOKUP(A187,Data!G$2:K$302,2,FALSE))","v":""},{"$f":"IF(A187=\"\",\"\",VLOOKUP(A187,Data!G$2:K$302,4,FALSE))","v":""},{"$f":"IF(A187=\"\",\"\",VLOOKUP(A187,Data!G$2:K$302,3,FALSE))","v":""},"",null,null,null,null,null,null,null,null,null,null,null,null,null,null,null,null,null,null,null,null,null,null,0]
[null,{"$f":"IF(A188=\"\",\"\",'Cover Page'!B$10)","v":""},{"$f":"IF(A188=\"\",\"\",VLOOKUP(A188,Data!G$2:K$302,2,FALSE))","v":""},{"$f":"IF(A188=\"\",\"\",VLOOKUP(A188,Data!G$2:K$302,4,FALSE))","v":""},{"$f":"IF(A188=\"\",\"\",VLOOKUP(A188,Data!G$2:K$302,3,FALSE))","v":""},"",null,null,null,null,null,null,null,null,null,null,null,null,null,null,null,null,null,null,null,null,null,null,0]
[null,{"$f":"IF(A189=\"\",\"\",'Cover Page'!B$10)","v":""},{"$f":"IF(A189=\"\",\"\",VLOOKUP(A189,Data!G$2:K$302,2,FALSE))","v":""},{"$f":"IF(A189=\"\",\"\",VLOOKUP(A189,Data!G$2:K$302,4,FALSE))","v":""},{"$f":"IF(A189=\"\",\"\",VLOOKUP(A189,Data!G$2:K$302,3,FALSE))","v":""},"",null,null,null,null,null,null,null,null,null,null,null,null,null,null,null,null,null,null,null,null,null,null,0]
[null,{"$f":"IF(A190=\"\",\"\",'Cover Page'!B$10)","v":""},{"$f":"IF(A190=\"\",\"\",VLOOKUP(A190,Data!G$2:K$302,2,FALSE))","v":""},{"$f":"IF(A190=\"\",\"\",VLOOKUP(A190,Data!G$2:K$302,4,FALSE))","v":""},{"$f":"IF(A190=\"\",\"\",VLOOKUP(A190,Data!G$2:K$302,3,FALSE))","v":""},"",null,null,null,null,null,null,null,null,null,null,null,null,null,null,null,null,null,null,null,null,null,null,0]
[null,{"$f":"IF(A191=\"\",\"\",'Cover Page'!B$10)","v":""},{"$f":"IF(A191=\"\",\"\",VLOOKUP(A191,Data!G$2:K$302,2,FALSE))","v":""},{"$f":"IF(A191=\"\",\"\",VLOOKUP(A191,Data!G$2:K$302,4,FALSE))","v":""},{"$f":"IF(A191=\"\",\"\",VLOOKUP(A191,Data!G$2:K$302,3,FALSE))","v":""},"",null,null,null,null,null,null,null,null,null,null,null,null,null,null,null,null,null,null,null,null,null,null,0]
[null,{"$f":"IF(A192=\"\",\"\",'Cover Page'!B$10)","v":""},{"$f":"IF(A192=\"\",\"\",VLOOKUP(A192,Data!G$2:K$302,2,FALSE))","v":""},{"$f":"IF(A192=\"\",\"\",VLOOKUP(A192,Data!G$2:K$302,4,FALSE))","v":""},{"$f":"IF(A192=\"\",\"\",VLOOKUP(A192,Data!G$2:K$302,3,FALSE))","v":""},"",null,null,null,null,null,null,null,null,null,null,null,null,null,null,null,null,null,null,null,null,null,null,0]
[null,{"$f":"IF(A193=\"\",\"\",'Cover Page'!B$10)","v":""},{"$f":"IF(A193=\"\",\"\",VLOOKUP(A193,Data!G$2:K$302,2,FALSE))","v":""},{"$f":"IF(A193=\"\",\"\",VLOOKUP(A193,Data!G$2:K$302,4,FALSE))","v":""},{"$f":"IF(A193=\"\",\"\",VLOOKUP(A193,Data!G$2:K$302,3,FALSE))","v":""},"",null,null,null,null,null,null,null,null,null,null,null,null,null,null,null,null,null,null,null,null,null,null,0]
[null,{"$f":"IF(A194=\"\",\"\",'Cover Page'!B$10)","v":""},{"$f":"IF(A194=\"\",\"\",VLOOKUP(A194,Data!G$2:K$302,2,FALSE))","v":""},{"$f":"IF(A194=\"\",\"\",VLOOKUP(A194,Data!G$2:K$302,4,FALSE))","v":""},{"$f":"IF(A194=\"\",\"\",VLOOKUP(A194,Data!G$2:K$302,3,FALSE))","v":""},"",null,null,null,null,null,null,null,null,null,null,null,null,null,null,null,null,null,null,null,null,null,null,0]
[null,{"$f":"IF(A195=\"\",\"\",'Cover Page'!B$10)","v":""},{"$f":"IF(A195=\"\",\"\",VLOOKUP(A195,Data!G$2:K$302,2,FALSE))","v":""},{"$f":"IF(A195=\"\",\"\",VLOOKUP(A195,Data!G$2:K$302,4,FALSE))","v":""},{"$f":"IF(A195=\"\",\"\",VLOOKUP(A195,Data!G$2:K$302,3,FALSE))","v":""},"",null,null,null,null,null,null,null,null,null,null,null,null,null,null,null,null,null,null,null,null,null,null,0]
[null,{"$f":"IF(A196=\"\",\"\",'Cover Page'!B$10)","v":""},{"$f":"IF(A196=\"\",\"\",VLOOKUP(A196,Data!G$2:K$302,2,FALSE))","v":""},{"$f":"IF(A196=\"\",\"\",VLOOKUP(A196,Data!G$2:K$302,4,FALSE))","v":""},{"$f":"IF(A196=\"\",\"\",VLOOKUP(A196,Data!G$2:K$302,3,FALSE))","v":""},{"$f":"IF(AND(OR(TypeComp=\"Test\",TypeComp=\"Tests\"),A196<>\"\"),\"X\",\"\")","v":""},null,null,null,null,null,null,null,null,null,null,null,null,null,null,null,null,null,null,null,null,null,null,0]
[null,{"$f":"IF(A197=\"\",\"\",'Cover Page'!B$10)","v":""},{"$f":"IF(A197=\"\",\"\",VLOOKUP(A197,Data!G$2:K$302,2,FALSE))","v":""},{"$f":"IF(A197=\"\",\"\",VLOOKUP(A197,Data!G$2:K$302,4,FALSE))","v":""},{"$f":"IF(A197=\"\",\"\",VLOOKUP(A197,Data!G$2:K$302,3,FALSE))","v":""},"",null,null,null,null,null,null,null,null,null,null,null,null,null,null,null,null,null,null,null,null,null,null,{"$f":"COUNTA(G197:Z197)","v":0}]
[null,{"$f":"IF(A198=\"\",\"\",'Cover Page'!B$10)","v":""},{"$f":"IF(A198=\"\",\"\",VLOOKUP(A198,Data!G$2:K$302,2,FALSE))","v":""},{"$f":"IF(A198=\"\",\"\",VLOOKUP(A198,Data!G$2:K$302,4,FALSE))","v":""},{"$f":"IF(A198=\"\",\"\",VLOOKUP(A198,Data!G$2:K$302,3,FALSE))","v":""},"",null,null,null,null,null,null,null,null,null,null,null,null,null,null,null,null,null,null,null,null,null,null,0]
[null,{"$f":"IF(A199=\"\",\"\",'Cover Page'!B$10)","v":""},{"$f":"IF(A199=\"\",\"\",VLOOKUP(A199,Data!G$2:K$302,2,FALSE))","v":""},{"$f":"IF(A199=\"\",\"\",VLOOKUP(A199,Data!G$2:K$302,4,FALSE))","v":""},{"$f":"IF(A199=\"\",\"\",VLOOKUP(A199,Data!G$2:K$302,3,FALSE))","v":""},"",null,null,null,null,null,null,null,null,null,null,null,null,null,null,null,null,null,null,null,null,null,null,0]
[null,{"$f":"IF(A200=\"\",\"\",'Cover Page'!B$10)","v":""},{"$f":"IF(A200=\"\",\"\",VLOOKUP(A200,Data!G$2:K$302,2,FALSE))","v":""},{"$f":"IF(A200=\"\",\"\",VLOOKUP(A200,Data!G$2:K$302,4,FALSE))","v":""},{"$f":"IF(A200=\"\",\"\",VLOOKUP(A200,Data!G$2:K$302,3,FALSE))","v":""},"",null,null,null,null,null,null,null,null,null,null,null,null,null,null,null,null,null,null,null,null,null,null,0]
[null,{"$f":"IF(A201=\"\",\"\",'Cover Page'!B$10)","v":""},{"$f":"IF(A201=\"\",\"\",VLOOKUP(A201,Data!G$2:K$302,2,FALSE))","v":""},{"$f":"IF(A201=\"\",\"\",VLOOKUP(A201,Data!G$2:K$302,4,FALSE))","v":""},{"$f":"IF(A201=\"\",\"\",VLOOKUP(A201,Data!G$2:K$302,3,FALSE))","v":""},"",null,null,null,null,null,null,null,null,null,null,null,null,null,null,null,null,null,null,null,null,null,null,0]
[null,{"$f":"IF(A202=\"\",\"\",'Cover Page'!B$10)","v":""},{"$f":"IF(A202=\"\",\"\",VLOOKUP(A202,Data!G$2:K$302,2,FALSE))","v":""},{"$f":"IF(A202=\"\",\"\",VLOOKUP(A202,Data!G$2:K$302,4,FALSE))","v":""},{"$f":"IF(A202=\"\",\"\",VLOOKUP(A202,Data!G$2:K$302,3,FALSE))","v":""},"",null,null,null,null,null,null,null,null,null,null,null,null,null,null,null,null,null,null,null,null,null,null,0]
[null,{"$f":"IF(A203=\"\",\"\",'Cover Page'!B$10)","v":""},{"$f":"IF(A203=\"\",\"\",VLOOKUP(A203,Data!G$2:K$302,2,FALSE))","v":""},{"$f":"IF(A203=\"\",\"\",VLOOKUP(A203,Data!G$2:K$302,4,FALSE))","v":""},{"$f":"IF(A203=\"\",\"\",VLOOKUP(A203,Data!G$2:K$302,3,FALSE))","v":""},"",null,null,null,null,null,null,null,null,null,null,null,null,null,null,null,null,null,null,null,null,null,null,0]
[null,{"$f":"IF(A204=\"\",\"\",'Cover Page'!B$10)","v":""},{"$f":"IF(A204=\"\",\"\",VLOOKUP(A204,Data!G$2:K$302,2,FALSE))","v":""},{"$f":"IF(A204=\"\",\"\",VLOOKUP(A204,Data!G$2:K$302,4,FALSE))","v":""},{"$f":"IF(A204=\"\",\"\",VLOOKUP(A204,Data!G$2:K$302,3,FALSE))","v":""},"",null,null,null,null,null,null,null,null,null,null,null,null,null,null,null,null,null,null,null,null,null,null,0]
[null,{"$f":"IF(A205=\"\",\"\",'Cover Page'!B$10)","v":""},{"$f":"IF(A205=\"\",\"\",VLOOKUP(A205,Data!G$2:K$302,2,FALSE))","v":""},{"$f":"IF(A205=\"\",\"\",VLOOKUP(A205,Data!G$2:K$302,4,FALSE))","v":""},{"$f":"IF(A205=\"\",\"\",VLOOKUP(A205,Data!G$2:K$302,3,FALSE))","v":""},"",null,null,null,null,null,null,null,null,null,null,null,null,null,null,null,null,null,null,null,null,null,null,0]
[null,{"$f":"IF(A206=\"\",\"\",'Cover Page'!B$10)","v":""},{"$f":"IF(A206=\"\",\"\",VLOOKUP(A206,Data!G$2:K$302,2,FALSE))","v":""},{"$f":"IF(A206=\"\",\"\",VLOOKUP(A206,Data!G$2:K$302,4,FALSE))","v":""},{"$f":"IF(A206=\"\",\"\",VLOOKUP(A206,Data!G$2:K$302,3,FALSE))","v":""},"",null,null,null,null,null,null,null,null,null,null,null,null,null,null,null,null,null,null,null,null,null,null,0]
[null,{"$f":"IF(A207=\"\",\"\",'Cover Page'!B$10)","v":""},{"$f":"IF(A207=\"\",\"\",VLOOKUP(A207,Data!G$2:K$302,2,FALSE))","v":""},{"$f":"IF(A207=\"\",\"\",VLOOKUP(A207,Data!G$2:K$302,4,FALSE))","v":""},{"$f":"IF(A207=\"\",\"\",VLOOKUP(A207,Data!G$2:K$302,3,FALSE))","v":""},"",null,null,null,null,null,null,null,null,null,null,null,null,null,null,null,null,null,null,null,null,null,null,0]
[null,{"$f":"IF(A208=\"\",\"\",'Cover Page'!B$10)","v":""},{"$f":"IF(A208=\"\",\"\",VLOOKUP(A208,Data!G$2:K$302,2,FALSE))","v":""},{"$f":"IF(A208=\"\",\"\",VLOOKUP(A208,Data!G$2:K$302,4,FALSE))","v":""},{"$f":"IF(A208=\"\",\"\",VLOOKUP(A208,Data!G$2:K$302,3,FALSE))","v":""},"",null,null,null,null,null,null,null,null,null,null,null,null,null,null,null,null,null,null,null,null,null,null,0]
[null,{"$f":"IF(A209=\"\",\"\",'Cover Page'!B$10)","v":""},{"$f":"IF(A209=\"\",\"\",VLOOKUP(A209,Data!G$2:K$302,2,FALSE))","v":""},{"$f":"IF(A209=\"\",\"\",VLOOKUP(A209,Data!G$2:K$302,4,FALSE))","v":""},{"$f":"IF(A209=\"\",\"\",VLOOKUP(A209,Data!G$2:K$302,3,FALSE))","v":""},"",null,null,null,null,null,null,null,null,null,null,null,null,null,null,null,null,null,null,null,null,null,null,0]
[null,{"$f":"IF(A210=\"\",\"\",'Cover Page'!B$10)","v":""},{"$f":"IF(A210=\"\",\"\",VLOOKUP(A210,Data!G$2:K$302,2,FALSE))","v":""},{"$f":"IF(A210=\"\",\"\",VLOOKUP(A210,Data!G$2:K$302,4,FALSE))","v":""},{"$f":"IF(A210=\"\",\"\",VLOOKUP(A210,Data!G$2:K$302,3,FALSE))","v":""},"",null,null,null,null,null,null,null,null,null,null,null,null,null,null,null,null,null,null,null,null,null,null,0]
[null,{"$f":"IF(A211=\"\",\"\",'Cover Page'!B$10)","v":""},{"$f":"IF(A211=\"\",\"\",VLOOKUP(A211,Data!G$2:K$302,2,FALSE))","v":""},{"$f":"IF(A211=\"\",\"\",VLOOKUP(A211,Data!G$2:K$302,4,FALSE))","v":""},{"$f":"IF(A211=\"\",\"\",VLOOKUP(A211,Data!G$2:K$302,3,FALSE))","v":""},"",null,null,null,null,null,null,null,null,null,null,null,null,null,null,null,null,null,null,null,null,null,null,0]
[null,{"$f":"IF(A212=\"\",\"\",'Cover Page'!B$10)","v":""},{"$f":"IF(A212=\"\",\"\",VLOOKUP(A212,Data!G$2:K$302,2,FALSE))","v":""},{"$f":"IF(A212=\"\",\"\",VLOOKUP(A212,Data!G$2:K$302,4,FALSE))","v":""},{"$f":"IF(A212=\"\",\"\",VLOOKUP(A212,Data!G$2:K$302,3,FALSE))","v":""},"",null,null,null,null,null,null,null,null,null,null,null,null,null,null,null,null,null,null,null,null,null,null,0]
[null,{"$f":"IF(A213=\"\",\"\",'Cover Page'!B$10)","v":""},{"$f":"IF(A213=\"\",\"\",VLOOKUP(A213,Data!G$2:K$302,2,FALSE))","v":""},{"$f":"IF(A213=\"\",\"\",VLOOKUP(A213,Data!G$2:K$302,4,FALSE))","v":""},{"$f":"IF(A213=\"\",\"\",VLOOKUP(A213,Data!G$2:K$302,3,FALSE))","v":""},"",null,null,null,null,null,null,null,null,null,null,null,null,null,null,null,null,null,null,null,null,null,null,0]
[null,{"$f":"IF(A214=\"\",\"\",'Cover Page'!B$10)","v":""},{"$f":"IF(A214=\"\",\"\",VLOOKUP(A214,Data!G$2:K$302,2,FALSE))","v":""},{"$f":"IF(A214=\"\",\"\",VLOOKUP(A214,Data!G$2:K$302,4,FALSE))","v":""},{"$f":"IF(A214=\"\",\"\",VLOOKUP(A214,Data!G$2:K$302,3,FALSE))","v":""},"",null,null,null,null,null,null,null,null,null,null,null,null,null,null,null,null,null,null,null,null,null,null,0]
[null,{"$f":"IF(A215=\"\",\"\",'Cover Page'!B$10)","v":""},{"$f":"IF(A215=\"\",\"\",VLOOKUP(A215,Data!G$2:K$302,2,FALSE))","v":""},{"$f":"IF(A215=\"\",\"\",VLOOKUP(A215,Data!G$2:K$302,4,FALSE))","v":""},{"$f":"IF(A215=\"\",\"\",VLOOKUP(A215,Data!G$2:K$302,3,FALSE))","v":""},"",null,null,null,null,null,null,null,null,null,null,null,null,null,null,null,null,null,null,null,null,null,null,0]
[null,{"$f":"IF(A216=\"\",\"\",'Cover Page'!B$10)","v":""},{"$f":"IF(A216=\"\",\"\",VLOOKUP(A216,Data!G$2:K$302,2,FALSE))","v":""},{"$f":"IF(A216=\"\",\"\",VLOOKUP(A216,Data!G$2:K$302,4,FALSE))","v":""},{"$f":"IF(A216=\"\",\"\",VLOOKUP(A216,Data!G$2:K$302,3,FALSE))","v":""},"",null,null,null,null,null,null,null,null,null,null,null,null,null,null,null,null,null,null,null,null,null,null,0]
[null,{"$f":"IF(A217=\"\",\"\",'Cover Page'!B$10)","v":""},{"$f":"IF(A217=\"\",\"\",VLOOKUP(A217,Data!G$2:K$302,2,FALSE))","v":""},{"$f":"IF(A217=\"\",\"\",VLOOKUP(A217,Data!G$2:K$302,4,FALSE))","v":""},{"$f":"IF(A217=\"\",\"\",VLOOKUP(A217,Data!G$2:K$302,3,FALSE))","v":""},"",null,null,null,null,null,null,null,null,null,null,null,null,null,null,null,null,null,null,null,null,null,null,0]
[null,{"$f":"IF(A218=\"\",\"\",'Cover Page'!B$10)","v":""},{"$f":"IF(A218=\"\",\"\",VLOOKUP(A218,Data!G$2:K$302,2,FALSE))","v":""},{"$f":"IF(A218=\"\",\"\",VLOOKUP(A218,Data!G$2:K$302,4,FALSE))","v":""},{"$f":"IF(A218=\"\",\"\",VLOOKUP(A218,Data!G$2:K$302,3,FALSE))","v":""},"",null,null,null,null,null,null,null,null,null,null,null,null,null,null,null,null,null,null,null,null,null,null,0]
[null,{"$f":"IF(A219=\"\",\"\",'Cover Page'!B$10)","v":""},{"$f":"IF(A219=\"\",\"\",VLOOKUP(A219,Data!G$2:K$302,2,FALSE))","v":""},{"$f":"IF(A219=\"\",\"\",VLOOKUP(A219,Data!G$2:K$302,4,FALSE))","v":""},{"$f":"IF(A219=\"\",\"\",VLOOKUP(A219,Data!G$2:K$302,3,FALSE))","v":""},"",null,null,null,null,null,null,null,null,null,null,null,null,null,null,null,null,null,null,null,null,null,null,0]
[null,{"$f":"IF(A220=\"\",\"\",'Cover Page'!B$10)","v":""},{"$f":"IF(A220=\"\",\"\",VLOOKUP(A220,Data!G$2:K$302,2,FALSE))","v":""},{"$f":"IF(A220=\"\",\"\",VLOOKUP(A220,Data!G$2:K$302,4,FALSE))","v":""},{"$f":"IF(A220=\"\",\"\",VLOOKUP(A220,Data!G$2:K$302,3,FALSE))","v":""},"",null,null,null,null,null,null,null,null,null,null,null,null,null,null,null,null,null,null,null,null,null,null,0]
[null,{"$f":"IF(A221=\"\",\"\",'Cover Page'!B$10)","v":""},{"$f":"IF(A221=\"\",\"\",VLOOKUP(A221,Data!G$2:K$302,2,FALSE))","v":""},{"$f":"IF(A221=\"\",\"\",VLOOKUP(A221,Data!G$2:K$302,4,FALSE))","v":""},{"$f":"IF(A221=\"\",\"\",VLOOKUP(A221,Data!G$2:K$302,3,FALSE))","v":""},"",null,null,null,null,null,null,null,null,null,null,null,null,null,null,null,null,null,null,null,null,null,null,0]
[null,{"$f":"IF(A222=\"\",\"\",'Cover Page'!B$10)","v":""},{"$f":"IF(A222=\"\",\"\",VLOOKUP(A222,Data!G$2:K$302,2,FALSE))","v":""},{"$f":"IF(A222=\"\",\"\",VLOOKUP(A222,Data!G$2:K$302,4,FALSE))","v":""},{"$f":"IF(A222=\"\",\"\",VLOOKUP(A222,Data!G$2:K$302,3,FALSE))","v":""},"",null,null,null,null,null,null,null,null,null,null,null,null,null,null,null,null,null,null,null,null,null,null,0]
[null,{"$f":"IF(A223=\"\",\"\",'Cover Page'!B$10)","v":""},{"$f":"IF(A223=\"\",\"\",VLOOKUP(A223,Data!G$2:K$302,2,FALSE))","v":""},{"$f":"IF(A223=\"\",\"\",VLOOKUP(A223,Data!G$2:K$302,4,FALSE))","v":""},{"$f":"IF(A223=\"\",\"\",VLOOKUP(A223,Data!G$2:K$302,3,FALSE))","v":""},"",null,null,null,null,null,null,null,null,null,null,null,null,null,null,null,null,null,null,null,null,null,null,0]
[null,{"$f":"IF(A224=\"\",\"\",'Cover Page'!B$10)","v":""},{"$f":"IF(A224=\"\",\"\",VLOOKUP(A224,Data!G$2:K$302,2,FALSE))","v":""},{"$f":"IF(A224=\"\",\"\",VLOOKUP(A224,Data!G$2:K$302,4,FALSE))","v":""},{"$f":"IF(A224=\"\",\"\",VLOOKUP(A224,Data!G$2:K$302,3,FALSE))","v":""},"",null,null,null,null,null,null,null,null,null,null,null,null,null,null,null,null,null,null,null,null,null,null,0]
[null,{"$f":"IF(A225=\"\",\"\",'Cover Page'!B$10)","v":""},{"$f":"IF(A225=\"\",\"\",VLOOKUP(A225,Data!G$2:K$302,2,FALSE))","v":""},{"$f":"IF(A225=\"\",\"\",VLOOKUP(A225,Data!G$2:K$302,4,FALSE))","v":""},{"$f":"IF(A225=\"\",\"\",VLOOKUP(A225,Data!G$2:K$302,3,FALSE))","v":""},"",null,null,null,null,null,null,null,null,null,null,null,null,null,null,null,null,null,null,null,null,null,null,0]
[null,{"$f":"IF(A226=\"\",\"\",'Cover Page'!B$10)","v":""},{"$f":"IF(A226=\"\",\"\",VLOOKUP(A226,Data!G$2:K$302,2,FALSE))","v":""},{"$f":"IF(A226=\"\",\"\",VLOOKUP(A226,Data!G$2:K$302,4,FALSE))","v":""},{"$f":"IF(A226=\"\",\"\",VLOOKUP(A226,Data!G$2:K$302,3,FALSE))","v":""},"",null,null,null,null,null,null,null,null,null,null,null,null,null,null,null,null,null,null,null,null,null,null,0]
[null,{"$f":"IF(A227=\"\",\"\",'Cover Page'!B$10)","v":""},{"$f":"IF(A227=\"\",\"\",VLOOKUP(A227,Data!G$2:K$302,2,FALSE))","v":""},{"$f":"IF(A227=\"\",\"\",VLOOKUP(A227,Data!G$2:K$302,4,FALSE))","v":""},{"$f":"IF(A227=\"\",\"\",VLOOKUP(A227,Data!G$2:K$302,3,FALSE))","v":""},"",null,null,null,null,null,null,null,null,null,null,null,null,null,null,null,null,null,null,null,null,null,null,0]
[null,{"$f":"IF(A228=\"\",\"\",'Cover Page'!B$10)","v":""},{"$f":"IF(A228=\"\",\"\",VLOOKUP(A228,Data!G$2:K$302,2,FALSE))","v":""},{"$f":"IF(A228=\"\",\"\",VLOOKUP(A228,Data!G$2:K$302,4,FALSE))","v":""},{"$f":"IF(A228=\"\",\"\",VLOOKUP(A228,Data!G$2:K$302,3,FALSE))","v":""},"",null,null,null,null,null,null,null,null,null,null,null,null,null,null,null,null,null,null,null,null,null,null,0]
[null,{"$f":"IF(A229=\"\",\"\",'Cover Page'!B$10)","v":""},{"$f":"IF(A229=\"\",\"\",VLOOKUP(A229,Data!G$2:K$302,2,FALSE))","v":""},{"$f":"IF(A229=\"\",\"\",VLOOKUP(A229,Data!G$2:K$302,4,FALSE))","v":""},{"$f":"IF(A229=\"\",\"\",VLOOKUP(A229,Data!G$2:K$302,3,FALSE))","v":""},"",null,null,null,null,null,null,null,null,null,null,null,null,null,null,null,null,null,null,null,null,null,null,0]
[null,{"$f":"IF(A230=\"\",\"\",'Cover Page'!B$10)","v":""},{"$f":"IF(A230=\"\",\"\",VLOOKUP(A230,Data!G$2:K$302,2,FALSE))","v":""},{"$f":"IF(A230=\"\",\"\",VLOOKUP(A230,Data!G$2:K$302,4,FALSE))","v":""},{"$f":"IF(A230=\"\",\"\",VLOOKUP(A230,Data!G$2:K$302,3,FALSE))","v":""},"",null,null,null,null,null,null,null,null,null,null,null,null,null,null,null,null,null,null,null,null,null,null,0]
[null,{"$f":"IF(A231=\"\",\"\",'Cover Page'!B$10)","v":""},{"$f":"IF(A231=\"\",\"\",VLOOKUP(A231,Data!G$2:K$302,2,FALSE))","v":""},{"$f":"IF(A231=\"\",\"\",VLOOKUP(A231,Data!G$2:K$302,4,FALSE))","v":""},{"$f":"IF(A231=\"\",\"\",VLOOKUP(A231,Data!G$2:K$302,3,FALSE))","v":""},"",null,null,null,null,null,null,null,null,null,null,null,null,null,null,null,null,null,null,null,null,null,null,0]
[null,{"$f":"IF(A232=\"\",\"\",'Cover Page'!B$10)","v":""},{"$f":"IF(A232=\"\",\"\",VLOOKUP(A232,Data!G$2:K$302,2,FALSE))","v":""},{"$f":"IF(A232=\"\",\"\",VLOOKUP(A232,Data!G$2:K$302,4,FALSE))","v":""},{"$f":"IF(A232=\"\",\"\",VLOOKUP(A232,Data!G$2:K$302,3,FALSE))","v":""},"",null,null,null,null,null,null,null,null,null,null,null,null,null,null,null,null,null,null,null,null,null,null,0]
[null,{"$f":"IF(A233=\"\",\"\",'Cover Page'!B$10)","v":""},{"$f":"IF(A233=\"\",\"\",VLOOKUP(A233,Data!G$2:K$302,2,FALSE))","v":""},{"$f":"IF(A233=\"\",\"\",VLOOKUP(A233,Data!G$2:K$302,4,FALSE))","v":""},{"$f":"IF(A233=\"\",\"\",VLOOKUP(A233,Data!G$2:K$302,3,FALSE))","v":""},"",null,null,null,null,null,null,null,null,null,null,null,null,null,null,null,null,null,null,null,null,null,null,0]
[null,{"$f":"IF(A234=\"\",\"\",'Cover Page'!B$10)","v":""},{"$f":"IF(A234=\"\",\"\",VLOOKUP(A234,Data!G$2:K$302,2,FALSE))","v":""},{"$f":"IF(A234=\"\",\"\",VLOOKUP(A234,Data!G$2:K$302,4,FALSE))","v":""},{"$f":"IF(A234=\"\",\"\",VLOOKUP(A234,Data!G$2:K$302,3,FALSE))","v":""},"",null,null,null,null,null,null,null,null,null,null,null,null,null,null,null,null,null,null,null,null,null,null,0]
[null,{"$f":"IF(A235=\"\",\"\",'Cover Page'!B$10)","v":""},{"$f":"IF(A235=\"\",\"\",VLOOKUP(A235,Data!G$2:K$302,2,FALSE))","v":""},{"$f":"IF(A235=\"\",\"\",VLOOKUP(A235,Data!G$2:K$302,4,FALSE))","v":""},{"$f":"IF(A235=\"\",\"\",VLOOKUP(A235,Data!G$2:K$302,3,FALSE))","v":""},"",null,null,null,null,null,null,null,null,null,null,null,null,null,null,null,null,null,null,null,null,null,null,0]
[null,{"$f":"IF(A236=\"\",\"\",'Cover Page'!B$10)","v":""},{"$f":"IF(A236=\"\",\"\",VLOOKUP(A236,Data!G$2:K$302,2,FALSE))","v":""},{"$f":"IF(A236=\"\",\"\",VLOOKUP(A236,Data!G$2:K$302,4,FALSE))","v":""},{"$f":"IF(A236=\"\",\"\",VLOOKUP(A236,Data!G$2:K$302,3,FALSE))","v":""},"",null,null,null,null,null,null,null,null,null,null,null,null,null,null,null,null,null,null,null,null,null,null,0]
[null,{"$f":"IF(A237=\"\",\"\",'Cover Page'!B$10)","v":""},{"$f":"IF(A237=\"\",\"\",VLOOKUP(A237,Data!G$2:K$302,2,FALSE))","v":""},{"$f":"IF(A237=\"\",\"\",VLOOKUP(A237,Data!G$2:K$302,4,FALSE))","v":""},{"$f":"IF(A237=\"\",\"\",VLOOKUP(A237,Data!G$2:K$302,3,FALSE))","v":""},"",null,null,null,null,null,null,null,null,null,null,null,null,null,null,null,null,null,null,null,null,null,null,0]
[null,{"$f":"IF(A238=\"\",\"\",'Cover Page'!B$10)","v":""},{"$f":"IF(A238=\"\",\"\",VLOOKUP(A238,Data!G$2:K$302,2,FALSE))","v":""},{"$f":"IF(A238=\"\",\"\",VLOOKUP(A238,Data!G$2:K$302,4,FALSE))","v":""},{"$f":"IF(A238=\"\",\"\",VLOOKUP(A238,Data!G$2:K$302,3,FALSE))","v":""},"",null,null,null,null,null,null,null,null,null,null,null,null,null,null,null,null,null,null,null,null,null,null,0]
[null,{"$f":"IF(A239=\"\",\"\",'Cover Page'!B$10)","v":""},{"$f":"IF(A239=\"\",\"\",VLOOKUP(A239,Data!G$2:K$302,2,FALSE))","v":""},{"$f":"IF(A239=\"\",\"\",VLOOKUP(A239,Data!G$2:K$302,4,FALSE))","v":""},{"$f":"IF(A239=\"\",\"\",VLOOKUP(A239,Data!G$2:K$302,3,FALSE))","v":""},"",null,null,null,null,null,null,null,null,null,null,null,null,null,null,null,null,null,null,null,null,null,null,0]
[null,{"$f":"IF(A240=\"\",\"\",'Cover Page'!B$10)","v":""},{"$f":"IF(A240=\"\",\"\",VLOOKUP(A240,Data!G$2:K$302,2,FALSE))","v":""},{"$f":"IF(A240=\"\",\"\",VLOOKUP(A240,Data!G$2:K$302,4,FALSE))","v":""},{"$f":"IF(A240=\"\",\"\",VLOOKUP(A240,Data!G$2:K$302,3,FALSE))","v":""},"",null,null,null,null,null,null,null,null,null,null,null,null,null,null,null,null,null,null,null,null,null,null,0]
[null,{"$f":"IF(A241=\"\",\"\",'Cover Page'!B$10)","v":""},{"$f":"IF(A241=\"\",\"\",VLOOKUP(A241,Data!G$2:K$302,2,FALSE))","v":""},{"$f":"IF(A241=\"\",\"\",VLOOKUP(A241,Data!G$2:K$302,4,FALSE))","v":""},{"$f":"IF(A241=\"\",\"\",VLOOKUP(A241,Data!G$2:K$302,3,FALSE))","v":""},"",null,null,null,null,null,null,null,null,null,null,null,null,null,null,null,null,null,null,null,null,null,null,0]
[null,{"$f":"IF(A242=\"\",\"\",'Cover Page'!B$10)","v":""},{"$f":"IF(A242=\"\",\"\",VLOOKUP(A242,Data!G$2:K$302,2,FALSE))","v":""},{"$f":"IF(A242=\"\",\"\",VLOOKUP(A242,Data!G$2:K$302,4,FALSE))","v":""},{"$f":"IF(A242=\"\",\"\",VLOOKUP(A242,Data!G$2:K$302,3,FALSE))","v":""},"",null,null,null,null,null,null,null,null,null,null,null,null,null,null,null,null,null,null,null,null,null,null,0]
[null,{"$f":"IF(A243=\"\",\"\",'Cover Page'!B$10)","v":""},{"$f":"IF(A243=\"\",\"\",VLOOKUP(A243,Data!G$2:K$302,2,FALSE))","v":""},{"$f":"IF(A243=\"\",\"\",VLOOKUP(A243,Data!G$2:K$302,4,FALSE))","v":""},{"$f":"IF(A243=\"\",\"\",VLOOKUP(A243,Data!G$2:K$302,3,FALSE))","v":""},"",null,null,null,null,null,null,null,null,null,null,null,null,null,null,null,null,null,null,null,null,null,null,0]
[null,{"$f":"IF(A244=\"\",\"\",'Cover Page'!B$10)","v":""},{"$f":"IF(A244=\"\",\"\",VLOOKUP(A244,Data!G$2:K$302,2,FALSE))","v":""},{"$f":"IF(A244=\"\",\"\",VLOOKUP(A244,Data!G$2:K$302,4,FALSE))","v":""},{"$f":"IF(A244=\"\",\"\",VLOOKUP(A244,Data!G$2:K$302,3,FALSE))","v":""},"",null,null,null,null,null,null,null,null,null,null,null,null,null,null,null,null,null,null,null,null,null,null,0]
[null,{"$f":"IF(A245=\"\",\"\",'Cover Page'!B$10)","v":""},{"$f":"IF(A245=\"\",\"\",VLOOKUP(A245,Data!G$2:K$302,2,FALSE))","v":""},{"$f":"IF(A245=\"\",\"\",VLOOKUP(A245,Data!G$2:K$302,4,FALSE))","v":""},{"$f":"IF(A245=\"\",\"\",VLOOKUP(A245,Data!G$2:K$302,3,FALSE))","v":""},"",null,null,null,null,null,null,null,null,null,null,null,null,null,null,null,null,null,null,null,null,null,null,0]
[null,{"$f":"IF(A246=\"\",\"\",'Cover Page'!B$10)","v":""},{"$f":"IF(A246=\"\",\"\",VLOOKUP(A246,Data!G$2:K$302,2,FALSE))","v":""},{"$f":"IF(A246=\"\",\"\",VLOOKUP(A246,Data!G$2:K$302,4,FALSE))","v":""},{"$f":"IF(A246=\"\",\"\",VLOOKUP(A246,Data!G$2:K$302,3,FALSE))","v":""},"",null,null,null,null,null,null,null,null,null,null,null,null,null,null,null,null,null,null,null,null,null,null,0]
[null,{"$f":"IF(A247=\"\",\"\",'Cover Page'!B$10)","v":""},{"$f":"IF(A247=\"\",\"\",VLOOKUP(A247,Data!G$2:K$302,2,FALSE))","v":""},{"$f":"IF(A247=\"\",\"\",VLOOKUP(A247,Data!G$2:K$302,4,FALSE))","v":""},{"$f":"IF(A247=\"\",\"\",VLOOKUP(A247,Data!G$2:K$302,3,FALSE))","v":""},"",null,null,null,null,null,null,null,null,null,null,null,null,null,null,null,null,null,null,null,null,null,null,0]
[null,{"$f":"IF(A248=\"\",\"\",'Cover Page'!B$10)","v":""},{"$f":"IF(A248=\"\",\"\",VLOOKUP(A248,Data!G$2:K$302,2,FALSE))","v":""},{"$f":"IF(A248=\"\",\"\",VLOOKUP(A248,Data!G$2:K$302,4,FALSE))","v":""},{"$f":"IF(A248=\"\",\"\",VLOOKUP(A248,Data!G$2:K$302,3,FALSE))","v":""},"",null,null,null,null,null,null,null,null,null,null,null,null,null,null,null,null,null,null,null,null,null,null,0]
[null,{"$f":"IF(A249=\"\",\"\",'Cover Page'!B$10)","v":""},{"$f":"IF(A249=\"\",\"\",VLOOKUP(A249,Data!G$2:K$302,2,FALSE))","v":""},{"$f":"IF(A249=\"\",\"\",VLOOKUP(A249,Data!G$2:K$302,4,FALSE))","v":""},{"$f":"IF(A249=\"\",\"\",VLOOKUP(A249,Data!G$2:K$302,3,FALSE))","v":""},"",null,null,null,null,null,null,null,null,null,null,null,null,null,null,null,null,null,null,null,null,null,null,0]
[null,{"$f":"IF(A250=\"\",\"\",'Cover Page'!B$10)","v":""},{"$f":"IF(A250=\"\",\"\",VLOOKUP(A250,Data!G$2:K$302,2,FALSE))","v":""},{"$f":"IF(A250=\"\",\"\",VLOOKUP(A250,Data!G$2:K$302,4,FALSE))","v":""},{"$f":"IF(A250=\"\",\"\",VLOOKUP(A250,Data!G$2:K$302,3,FALSE))","v":""},"",null,null,null,null,null,null,null,null,null,null,null,null,null,null,null,null,null,null,null,null,null,null,0]
[null,{"$f":"IF(A251=\"\",\"\",'Cover Page'!B$10)","v":""},{"$f":"IF(A251=\"\",\"\",VLOOKUP(A251,Data!G$2:K$302,2,FALSE))","v":""},{"$f":"IF(A251=\"\",\"\",VLOOKUP(A251,Data!G$2:K$302,4,FALSE))","v":""},{"$f":"IF(A251=\"\",\"\",VLOOKUP(A251,Data!G$2:K$302,3,FALSE))","v":""},"",null,null,null,null,null,null,null,null,null,null,null,null,null,null,null,null,null,null,null,null,null,null,0]
[null,{"$f":"IF(A252=\"\",\"\",'Cover Page'!B$10)","v":""},{"$f":"IF(A252=\"\",\"\",VLOOKUP(A252,Data!G$2:K$302,2,FALSE))","v":""},{"$f":"IF(A252=\"\",\"\",VLOOKUP(A252,Data!G$2:K$302,4,FALSE))","v":""},{"$f":"IF(A252=\"\",\"\",VLOOKUP(A252,Data!G$2:K$302,3,FALSE))","v":""},"",null,null,null,null,null,null,null,null,null,null,null,null,null,null,null,null,null,null,null,null,null,null,0]
[null,{"$f":"IF(A253=\"\",\"\",'Cover Page'!B$10)","v":""},{"$f":"IF(A253=\"\",\"\",VLOOKUP(A253,Data!G$2:K$302,2,FALSE))","v":""},{"$f":"IF(A253=\"\",\"\",VLOOKUP(A253,Data!G$2:K$302,4,FALSE))","v":""},{"$f":"IF(A253=\"\",\"\",VLOOKUP(A253,Data!G$2:K$302,3,FALSE))","v":""},"",null,null,null,null,null,null,null,null,null,null,null,null,null,null,null,null,null,null,null,null,null,null,0]
[null,{"$f":"IF(A254=\"\",\"\",'Cover Page'!B$10)","v":""},{"$f":"IF(A254=\"\",\"\",VLOOKUP(A254,Data!G$2:K$302,2,FALSE))","v":""},{"$f":"IF(A254=\"\",\"\",VLOOKUP(A254,Data!G$2:K$302,4,FALSE))","v":""},{"$f":"IF(A254=\"\",\"\",VLOOKUP(A254,Data!G$2:K$302,3,FALSE))","v":""},"",null,null,null,null,null,null,null,null,null,null,null,null,null,null,null,null,null,null,null,null,null,null,0]
[null,{"$f":"IF(A255=\"\",\"\",'Cover Page'!B$10)","v":""},{"$f":"IF(A255=\"\",\"\",VLOOKUP(A255,Data!G$2:K$302,2,FALSE))","v":""},{"$f":"IF(A255=\"\",\"\",VLOOKUP(A255,Data!G$2:K$302,4,FALSE))","v":""},{"$f":"IF(A255=\"\",\"\",VLOOKUP(A255,Data!G$2:K$302,3,FALSE))","v":""},"",null,null,null,null,null,null,null,null,null,null,null,null,null,null,null,null,null,null,null,null,null,null,0]
[null,{"$f":"IF(A256=\"\",\"\",'Cover Page'!B$10)","v":""},{"$f":"IF(A256=\"\",\"\",VLOOKUP(A256,Data!G$2:K$302,2,FALSE))","v":""},{"$f":"IF(A256=\"\",\"\",VLOOKUP(A256,Data!G$2:K$302,4,FALSE))","v":""},{"$f":"IF(A256=\"\",\"\",VLOOKUP(A256,Data!G$2:K$302,3,FALSE))","v":""},"",null,null,null,null,null,null,null,null,null,null,null,null,null,null,null,null,null,null,null,null,null,null,0]
[null,{"$f":"IF(A257=\"\",\"\",'Cover Page'!B$10)","v":""},{"$f":"IF(A257=\"\",\"\",VLOOKUP(A257,Data!G$2:K$302,2,FALSE))","v":""},{"$f":"IF(A257=\"\",\"\",VLOOKUP(A257,Data!G$2:K$302,4,FALSE))","v":""},{"$f":"IF(A257=\"\",\"\",VLOOKUP(A257,Data!G$2:K$302,3,FALSE))","v":""},"",null,null,null,null,null,null,null,null,null,null,null,null,null,null,null,null,null,null,null,null,null,null,0]
[null,{"$f":"IF(A258=\"\",\"\",'Cover Page'!B$10)","v":""},{"$f":"IF(A258=\"\",\"\",VLOOKUP(A258,Data!G$2:K$302,2,FALSE))","v":""},{"$f":"IF(A258=\"\",\"\",VLOOKUP(A258,Data!G$2:K$302,4,FALSE))","v":""},{"$f":"IF(A258=\"\",\"\",VLOOKUP(A258,Data!G$2:K$302,3,FALSE))","v":""},"",null,null,null,null,null,null,null,null,null,null,null,null,null,null,null,null,null,null,null,null,null,null,0]
[null,{"$f":"IF(A259=\"\",\"\",'Cover Page'!B$10)","v":""},{"$f":"IF(A259=\"\",\"\",VLOOKUP(A259,Data!G$2:K$302,2,FALSE))","v":""},{"$f":"IF(A259=\"\",\"\",VLOOKUP(A259,Data!G$2:K$302,4,FALSE))","v":""},{"$f":"IF(A259=\"\",\"\",VLOOKUP(A259,Data!G$2:K$302,3,FALSE))","v":""},"",null,null,null,null,null,null,null,null,null,null,null,null,null,null,null,null,null,null,null,null,null,null,0]
[null,{"$f":"IF(A260=\"\",\"\",'Cover Page'!B$10)","v":""},{"$f":"IF(A260=\"\",\"\",VLOOKUP(A260,Data!G$2:K$302,2,FALSE))","v":""},{"$f":"IF(A260=\"\",\"\",VLOOKUP(A260,Data!G$2:K$302,4,FALSE))","v":""},{"$f":"IF(A260=\"\",\"\",VLOOKUP(A260,Data!G$2:K$302,3,FALSE))","v":""},{"$f":"IF(AND(OR(TypeComp=\"Test\",TypeComp=\"Tests\"),A260<>\"\"),\"X\",\"\")","v":""},null,null,null,null,null,null,null,null,null,null,null,null,null,null,null,null,null,null,null,null,null,null,0]
[null,{"$f":"IF(A261=\"\",\"\",'Cover Page'!B$10)","v":""},{"$f":"IF(A261=\"\",\"\",VLOOKUP(A261,Data!G$2:K$302,2,FALSE))","v":""},{"$f":"IF(A261=\"\",\"\",VLOOKUP(A261,Data!G$2:K$302,4,FALSE))","v":""},{"$f":"IF(A261=\"\",\"\",VLOOKUP(A261,Data!G$2:K$302,3,FALSE))","v":""},"",null,null,null,null,null,null,null,null,null,null,null,null,null,null,null,null,null,null,null,null,null,null,{"$f":"COUNTA(G261:Z261)","v":0}]
[null,{"$f":"IF(A262=\"\",\"\",'Cover Page'!B$10)","v":""},{"$f":"IF(A262=\"\",\"\",VLOOKUP(A262,Data!G$2:K$302,2,FALSE))","v":""},{"$f":"IF(A262=\"\",\"\",VLOOKUP(A262,Data!G$2:K$302,4,FALSE))","v":""},{"$f":"IF(A262=\"\",\"\",VLOOKUP(A262,Data!G$2:K$302,3,FALSE))","v":""},"",null,null,null,null,null,null,null,null,null,null,null,null,null,null,null,null,null,null,null,null,null,null,0]
[null,{"$f":"IF(A263=\"\",\"\",'Cover Page'!B$10)","v":""},{"$f":"IF(A263=\"\",\"\",VLOOKUP(A263,Data!G$2:K$302,2,FALSE))","v":""},{"$f":"IF(A263=\"\",\"\",VLOOKUP(A263,Data!G$2:K$302,4,FALSE))","v":""},{"$f":"IF(A263=\"\",\"\",VLOOKUP(A263,Data!G$2:K$302,3,FALSE))","v":""},"",null,null,null,null,null,null,null,null,null,null,null,null,null,null,null,null,null,null,null,null,null,null,0]
[null,{"$f":"IF(A264=\"\",\"\",'Cover Page'!B$10)","v":""},{"$f":"IF(A264=\"\",\"\",VLOOKUP(A264,Data!G$2:K$302,2,FALSE))","v":""},{"$f":"IF(A264=\"\",\"\",VLOOKUP(A264,Data!G$2:K$302,4,FALSE))","v":""},{"$f":"IF(A264=\"\",\"\",VLOOKUP(A264,Data!G$2:K$302,3,FALSE))","v":""},"",null,null,null,null,null,null,null,null,null,null,null,null,null,null,null,null,null,null,null,null,null,null,0]
[null,{"$f":"IF(A265=\"\",\"\",'Cover Page'!B$10)","v":""},{"$f":"IF(A265=\"\",\"\",VLOOKUP(A265,Data!G$2:K$302,2,FALSE))","v":""},{"$f":"IF(A265=\"\",\"\",VLOOKUP(A265,Data!G$2:K$302,4,FALSE))","v":""},{"$f":"IF(A265=\"\",\"\",VLOOKUP(A265,Data!G$2:K$302,3,FALSE))","v":""},"",null,null,null,null,null,null,null,null,null,null,null,null,null,null,null,null,null,null,null,null,null,null,0]
[null,{"$f":"IF(A266=\"\",\"\",'Cover Page'!B$10)","v":""},{"$f":"IF(A266=\"\",\"\",VLOOKUP(A266,Data!G$2:K$302,2,FALSE))","v":""},{"$f":"IF(A266=\"\",\"\",VLOOKUP(A266,Data!G$2:K$302,4,FALSE))","v":""},{"$f":"IF(A266=\"\",\"\",VLOOKUP(A266,Data!G$2:K$302,3,FALSE))","v":""},"",null,null,null,null,null,null,null,null,null,null,null,null,null,null,null,null,null,null,null,null,null,null,0]
[null,{"$f":"IF(A267=\"\",\"\",'Cover Page'!B$10)","v":""},{"$f":"IF(A267=\"\",\"\",VLOOKUP(A267,Data!G$2:K$302,2,FALSE))","v":""},{"$f":"IF(A267=\"\",\"\",VLOOKUP(A267,Data!G$2:K$302,4,FALSE))","v":""},{"$f":"IF(A267=\"\",\"\",VLOOKUP(A267,Data!G$2:K$302,3,FALSE))","v":""},"",null,null,null,null,null,null,null,null,null,null,null,null,null,null,null,null,null,null,null,null,null,null,0]
[null,{"$f":"IF(A268=\"\",\"\",'Cover Page'!B$10)","v":""},{"$f":"IF(A268=\"\",\"\",VLOOKUP(A268,Data!G$2:K$302,2,FALSE))","v":""},{"$f":"IF(A268=\"\",\"\",VLOOKUP(A268,Data!G$2:K$302,4,FALSE))","v":""},{"$f":"IF(A268=\"\",\"\",VLOOKUP(A268,Data!G$2:K$302,3,FALSE))","v":""},"",null,null,null,null,null,null,null,null,null,null,null,null,null,null,null,null,null,null,null,null,null,null,0]
[null,{"$f":"IF(A269=\"\",\"\",'Cover Page'!B$10)","v":""},{"$f":"IF(A269=\"\",\"\",VLOOKUP(A269,Data!G$2:K$302,2,FALSE))","v":""},{"$f":"IF(A269=\"\",\"\",VLOOKUP(A269,Data!G$2:K$302,4,FALSE))","v":""},{"$f":"IF(A269=\"\",\"\",VLOOKUP(A269,Data!G$2:K$302,3,FALSE))","v":""},"",null,null,null,null,null,null,null,null,null,null,null,null,null,null,null,null,null,null,null,null,null,null,0]
[null,{"$f":"IF(A270=\"\",\"\",'Cover Page'!B$10)","v":""},{"$f":"IF(A270=\"\",\"\",VLOOKUP(A270,Data!G$2:K$302,2,FALSE))","v":""},{"$f":"IF(A270=\"\",\"\",VLOOKUP(A270,Data!G$2:K$302,4,FALSE))","v":""},{"$f":"IF(A270=\"\",\"\",VLOOKUP(A270,Data!G$2:K$302,3,FALSE))","v":""},"",null,null,null,null,null,null,null,null,null,null,null,null,null,null,null,null,null,null,null,null,null,null,0]
[null,{"$f":"IF(A271=\"\",\"\",'Cover Page'!B$10)","v":""},{"$f":"IF(A271=\"\",\"\",VLOOKUP(A271,Data!G$2:K$302,2,FALSE))","v":""},{"$f":"IF(A271=\"\",\"\",VLOOKUP(A271,Data!G$2:K$302,4,FALSE))","v":""},{"$f":"IF(A271=\"\",\"\",VLOOKUP(A271,Data!G$2:K$302,3,FALSE))","v":""},"",null,null,null,null,null,null,null,null,null,null,null,null,null,null,null,null,null,null,null,null,null,null,0]
[null,{"$f":"IF(A272=\"\",\"\",'Cover Page'!B$10)","v":""},{"$f":"IF(A272=\"\",\"\",VLOOKUP(A272,Data!G$2:K$302,2,FALSE))","v":""},{"$f":"IF(A272=\"\",\"\",VLOOKUP(A272,Data!G$2:K$302,4,FALSE))","v":""},{"$f":"IF(A272=\"\",\"\",VLOOKUP(A272,Data!G$2:K$302,3,FALSE))","v":""},"",null,null,null,null,null,null,null,null,null,null,null,null,null,null,null,null,null,null,null,null,null,null,0]
[null,{"$f":"IF(A273=\"\",\"\",'Cover Page'!B$10)","v":""},{"$f":"IF(A273=\"\",\"\",VLOOKUP(A273,Data!G$2:K$302,2,FALSE))","v":""},{"$f":"IF(A273=\"\",\"\",VLOOKUP(A273,Data!G$2:K$302,4,FALSE))","v":""},{"$f":"IF(A273=\"\",\"\",VLOOKUP(A273,Data!G$2:K$302,3,FALSE))","v":""},"",null,null,null,null,null,null,null,null,null,null,null,null,null,null,null,null,null,null,null,null,null,null,0]
[null,{"$f":"IF(A274=\"\",\"\",'Cover Page'!B$10)","v":""},{"$f":"IF(A274=\"\",\"\",VLOOKUP(A274,Data!G$2:K$302,2,FALSE))","v":""},{"$f":"IF(A274=\"\",\"\",VLOOKUP(A274,Data!G$2:K$302,4,FALSE))","v":""},{"$f":"IF(A274=\"\",\"\",VLOOKUP(A274,Data!G$2:K$302,3,FALSE))","v":""},"",null,null,null,null,null,null,null,null,null,null,null,null,null,null,null,null,null,null,null,null,null,null,0]
[null,{"$f":"IF(A275=\"\",\"\",'Cover Page'!B$10)","v":""},{"$f":"IF(A275=\"\",\"\",VLOOKUP(A275,Data!G$2:K$302,2,FALSE))","v":""},{"$f":"IF(A275=\"\",\"\",VLOOKUP(A275,Data!G$2:K$302,4,FALSE))","v":""},{"$f":"IF(A275=\"\",\"\",VLOOKUP(A275,Data!G$2:K$302,3,FALSE))","v":""},"",null,null,null,null,null,null,null,null,null,null,null,null,null,null,null,null,null,null,null,null,null,null,0]
[null,{"$f":"IF(A276=\"\",\"\",'Cover Page'!B$10)","v":""},{"$f":"IF(A276=\"\",\"\",VLOOKUP(A276,Data!G$2:K$302,2,FALSE))","v":""},{"$f":"IF(A276=\"\",\"\",VLOOKUP(A276,Data!G$2:K$302,4,FALSE))","v":""},{"$f":"IF(A276=\"\",\"\",VLOOKUP(A276,Data!G$2:K$302,3,FALSE))","v":""},"",null,null,null,null,null,null,null,null,null,null,null,null,null,null,null,null,null,null,null,null,null,null,0]
[null,{"$f":"IF(A277=\"\",\"\",'Cover Page'!B$10)","v":""},{"$f":"IF(A277=\"\",\"\",VLOOKUP(A277,Data!G$2:K$302,2,FALSE))","v":""},{"$f":"IF(A277=\"\",\"\",VLOOKUP(A277,Data!G$2:K$302,4,FALSE))","v":""},{"$f":"IF(A277=\"\",\"\",VLOOKUP(A277,Data!G$2:K$302,3,FALSE))","v":""},"",null,null,null,null,null,null,null,null,null,null,null,null,null,null,null,null,null,null,null,null,null,null,0]
[null,{"$f":"IF(A278=\"\",\"\",'Cover Page'!B$10)","v":""},{"$f":"IF(A278=\"\",\"\",VLOOKUP(A278,Data!G$2:K$302,2,FALSE))","v":""},{"$f":"IF(A278=\"\",\"\",VLOOKUP(A278,Data!G$2:K$302,4,FALSE))","v":""},{"$f":"IF(A278=\"\",\"\",VLOOKUP(A278,Data!G$2:K$302,3,FALSE))","v":""},"",null,null,null,null,null,null,null,null,null,null,null,null,null,null,null,null,null,null,null,null,null,null,0]
[null,{"$f":"IF(A279=\"\",\"\",'Cover Page'!B$10)","v":""},{"$f":"IF(A279=\"\",\"\",VLOOKUP(A279,Data!G$2:K$302,2,FALSE))","v":""},{"$f":"IF(A279=\"\",\"\",VLOOKUP(A279,Data!G$2:K$302,4,FALSE))","v":""},{"$f":"IF(A279=\"\",\"\",VLOOKUP(A279,Data!G$2:K$302,3,FALSE))","v":""},"",null,null,null,null,null,null,null,null,null,null,null,null,null,null,null,null,null,null,null,null,null,null,0]
[null,{"$f":"IF(A280=\"\",\"\",'Cover Page'!B$10)","v":""},{"$f":"IF(A280=\"\",\"\",VLOOKUP(A280,Data!G$2:K$302,2,FALSE))","v":""},{"$f":"IF(A280=\"\",\"\",VLOOKUP(A280,Data!G$2:K$302,4,FALSE))","v":""},{"$f":"IF(A280=\"\",\"\",VLOOKUP(A280,Data!G$2:K$302,3,FALSE))","v":""},"",null,null,null,null,null,null,null,null,null,null,null,null,null,null,null,null,null,null,null,null,null,null,0]
[null,{"$f":"IF(A281=\"\",\"\",'Cover Page'!B$10)","v":""},{"$f":"IF(A281=\"\",\"\",VLOOKUP(A281,Data!G$2:K$302,2,FALSE))","v":""},{"$f":"IF(A281=\"\",\"\",VLOOKUP(A281,Data!G$2:K$302,4,FALSE))","v":""},{"$f":"IF(A281=\"\",\"\",VLOOKUP(A281,Data!G$2:K$302,3,FALSE))","v":""},"",null,null,null,null,null,null,null,null,null,null,null,null,null,null,null,null,null,null,null,null,null,null,0]
[null,{"$f":"IF(A282=\"\",\"\",'Cover Page'!B$10)","v":""},{"$f":"IF(A282=\"\",\"\",VLOOKUP(A282,Data!G$2:K$302,2,FALSE))","v":""},{"$f":"IF(A282=\"\",\"\",VLOOKUP(A282,Data!G$2:K$302,4,FALSE))","v":""},{"$f":"IF(A282=\"\",\"\",VLOOKUP(A282,Data!G$2:K$302,3,FALSE))","v":""},"",null,null,null,null,null,null,null,null,null,null,null,null,null,null,null,null,null,null,null,null,null,null,0]
[null,{"$f":"IF(A283=\"\",\"\",'Cover Page'!B$10)","v":""},{"$f":"IF(A283=\"\",\"\",VLOOKUP(A283,Data!G$2:K$302,2,FALSE))","v":""},{"$f":"IF(A283=\"\",\"\",VLOOKUP(A283,Data!G$2:K$302,4,FALSE))","v":""},{"$f":"IF(A283=\"\",\"\",VLOOKUP(A283,Data!G$2:K$302,3,FALSE))","v":""},"",null,null,null,null,null,null,null,null,null,null,null,null,null,null,null,null,null,null,null,null,null,null,0]
[null,{"$f":"IF(A284=\"\",\"\",'Cover Page'!B$10)","v":""},{"$f":"IF(A284=\"\",\"\",VLOOKUP(A284,Data!G$2:K$302,2,FALSE))","v":""},{"$f":"IF(A284=\"\",\"\",VLOOKUP(A284,Data!G$2:K$302,4,FALSE))","v":""},{"$f":"IF(A284=\"\",\"\",VLOOKUP(A284,Data!G$2:K$302,3,FALSE))","v":""},"",null,null,null,null,null,null,null,null,null,null,null,null,null,null,null,null,null,null,null,null,null,null,0]
[null,{"$f":"IF(A285=\"\",\"\",'Cover Page'!B$10)","v":""},{"$f":"IF(A285=\"\",\"\",VLOOKUP(A285,Data!G$2:K$302,2,FALSE))","v":""},{"$f":"IF(A285=\"\",\"\",VLOOKUP(A285,Data!G$2:K$302,4,FALSE))","v":""},{"$f":"IF(A285=\"\",\"\",VLOOKUP(A285,Data!G$2:K$302,3,FALSE))","v":""},"",null,null,null,null,null,null,null,null,null,null,null,null,null,null,null,null,null,null,null,null,null,null,0]
[null,{"$f":"IF(A286=\"\",\"\",'Cover Page'!B$10)","v":""},{"$f":"IF(A286=\"\",\"\",VLOOKUP(A286,Data!G$2:K$302,2,FALSE))","v":""},{"$f":"IF(A286=\"\",\"\",VLOOKUP(A286,Data!G$2:K$302,4,FALSE))","v":""},{"$f":"IF(A286=\"\",\"\",VLOOKUP(A286,Data!G$2:K$302,3,FALSE))","v":""},"",null,null,null,null,null,null,null,null,null,null,null,null,null,null,null,null,null,null,null,null,null,null,0]
[null,{"$f":"IF(A287=\"\",\"\",'Cover Page'!B$10)","v":""},{"$f":"IF(A287=\"\",\"\",VLOOKUP(A287,Data!G$2:K$302,2,FALSE))","v":""},{"$f":"IF(A287=\"\",\"\",VLOOKUP(A287,Data!G$2:K$302,4,FALSE))","v":""},{"$f":"IF(A287=\"\",\"\",VLOOKUP(A287,Data!G$2:K$302,3,FALSE))","v":""},"",null,null,null,null,null,null,null,null,null,null,null,null,null,null,null,null,null,null,null,null,null,null,0]
[null,{"$f":"IF(A288=\"\",\"\",'Cover Page'!B$10)","v":""},{"$f":"IF(A288=\"\",\"\",VLOOKUP(A288,Data!G$2:K$302,2,FALSE))","v":""},{"$f":"IF(A288=\"\",\"\",VLOOKUP(A288,Data!G$2:K$302,4,FALSE))","v":""},{"$f":"IF(A288=\"\",\"\",VLOOKUP(A288,Data!G$2:K$302,3,FALSE))","v":""},"",null,null,null,null,null,null,null,null,null,null,null,null,null,null,null,null,null,null,null,null,null,null,0]
[null,{"$f":"IF(A289=\"\",\"\",'Cover Page'!B$10)","v":""},{"$f":"IF(A289=\"\",\"\",VLOOKUP(A289,Data!G$2:K$302,2,FALSE))","v":""},{"$f":"IF(A289=\"\",\"\",VLOOKUP(A289,Data!G$2:K$302,4,FALSE))","v":""},{"$f":"IF(A289=\"\",\"\",VLOOKUP(A289,Data!G$2:K$302,3,FALSE))","v":""},"",null,null,null,null,null,null,null,null,null,null,null,null,null,null,null,null,null,null,null,null,null,null,0]
[null,{"$f":"IF(A290=\"\",\"\",'Cover Page'!B$10)","v":""},{"$f":"IF(A290=\"\",\"\",VLOOKUP(A290,Data!G$2:K$302,2,FALSE))","v":""},{"$f":"IF(A290=\"\",\"\",VLOOKUP(A290,Data!G$2:K$302,4,FALSE))","v":""},{"$f":"IF(A290=\"\",\"\",VLOOKUP(A290,Data!G$2:K$302,3,FALSE))","v":""},"",null,null,null,null,null,null,null,null,null,null,null,null,null,null,null,null,null,null,null,null,null,null,0]
[null,{"$f":"IF(A291=\"\",\"\",'Cover Page'!B$10)","v":""},{"$f":"IF(A291=\"\",\"\",VLOOKUP(A291,Data!G$2:K$302,2,FALSE))","v":""},{"$f":"IF(A291=\"\",\"\",VLOOKUP(A291,Data!G$2:K$302,4,FALSE))","v":""},{"$f":"IF(A291=\"\",\"\",VLOOKUP(A291,Data!G$2:K$302,3,FALSE))","v":""},"",null,null,null,null,null,null,null,null,null,null,null,null,null,null,null,null,null,null,null,null,null,null,0]
[null,{"$f":"IF(A292=\"\",\"\",'Cover Page'!B$10)","v":""},{"$f":"IF(A292=\"\",\"\",VLOOKUP(A292,Data!G$2:K$302,2,FALSE))","v":""},{"$f":"IF(A292=\"\",\"\",VLOOKUP(A292,Data!G$2:K$302,4,FALSE))","v":""},{"$f":"IF(A292=\"\",\"\",VLOOKUP(A292,Data!G$2:K$302,3,FALSE))","v":""},"",null,null,null,null,null,null,null,null,null,null,null,null,null,null,null,null,null,null,null,null,null,null,0]
[null,{"$f":"IF(A293=\"\",\"\",'Cover Page'!B$10)","v":""},{"$f":"IF(A293=\"\",\"\",VLOOKUP(A293,Data!G$2:K$302,2,FALSE))","v":""},{"$f":"IF(A293=\"\",\"\",VLOOKUP(A293,Data!G$2:K$302,4,FALSE))","v":""},{"$f":"IF(A293=\"\",\"\",VLOOKUP(A293,Data!G$2:K$302,3,FALSE))","v":""},"",null,null,null,null,null,null,null,null,null,null,null,null,null,null,null,null,null,null,null,null,null,null,0]
[null,{"$f":"IF(A294=\"\",\"\",'Cover Page'!B$10)","v":""},{"$f":"IF(A294=\"\",\"\",VLOOKUP(A294,Data!G$2:K$302,2,FALSE))","v":""},{"$f":"IF(A294=\"\",\"\",VLOOKUP(A294,Data!G$2:K$302,4,FALSE))","v":""},{"$f":"IF(A294=\"\",\"\",VLOOKUP(A294,Data!G$2:K$302,3,FALSE))","v":""},"",null,null,null,null,null,null,null,null,null,null,null,null,null,null,null,null,null,null,null,null,null,null,0]
[null,{"$f":"IF(A295=\"\",\"\",'Cover Page'!B$10)","v":""},{"$f":"IF(A295=\"\",\"\",VLOOKUP(A295,Data!G$2:K$302,2,FALSE))","v":""},{"$f":"IF(A295=\"\",\"\",VLOOKUP(A295,Data!G$2:K$302,4,FALSE))","v":""},{"$f":"IF(A295=\"\",\"\",VLOOKUP(A295,Data!G$2:K$302,3,FALSE))","v":""},"",null,null,null,null,null,null,null,null,null,null,null,null,null,null,null,null,null,null,null,null,null,null,0]
[null,{"$f":"IF(A296=\"\",\"\",'Cover Page'!B$10)","v":""},{"$f":"IF(A296=\"\",\"\",VLOOKUP(A296,Data!G$2:K$302,2,FALSE))","v":""},{"$f":"IF(A296=\"\",\"\",VLOOKUP(A296,Data!G$2:K$302,4,FALSE))","v":""},{"$f":"IF(A296=\"\",\"\",VLOOKUP(A296,Data!G$2:K$302,3,FALSE))","v":""},"",null,null,null,null,null,null,null,null,null,null,null,null,null,null,null,null,null,null,null,null,null,null,0]
[null,{"$f":"IF(A297=\"\",\"\",'Cover Page'!B$10)","v":""},{"$f":"IF(A297=\"\",\"\",VLOOKUP(A297,Data!G$2:K$302,2,FALSE))","v":""},{"$f":"IF(A297=\"\",\"\",VLOOKUP(A297,Data!G$2:K$302,4,FALSE))","v":""},{"$f":"IF(A297=\"\",\"\",VLOOKUP(A297,Data!G$2:K$302,3,FALSE))","v":""},"",null,null,null,null,null,null,null,null,null,null,null,null,null,null,null,null,null,null,null,null,null,null,0]
[null,{"$f":"IF(A298=\"\",\"\",'Cover Page'!B$10)","v":""},{"$f":"IF(A298=\"\",\"\",VLOOKUP(A298,Data!G$2:K$302,2,FALSE))","v":""},{"$f":"IF(A298=\"\",\"\",VLOOKUP(A298,Data!G$2:K$302,4,FALSE))","v":""},{"$f":"IF(A298=\"\",\"\",VLOOKUP(A298,Data!G$2:K$302,3,FALSE))","v":""},"",null,null,null,null,null,null,null,null,null,null,null,null,null,null,null,null,null,null,null,null,null,null,0]
[null,{"$f":"IF(A299=\"\",\"\",'Cover Page'!B$10)","v":""},{"$f":"IF(A299=\"\",\"\",VLOOKUP(A299,Data!G$2:K$302,2,FALSE))","v":""},{"$f":"IF(A299=\"\",\"\",VLOOKUP(A299,Data!G$2:K$302,4,FALSE))","v":""},{"$f":"IF(A299=\"\",\"\",VLOOKUP(A299,Data!G$2:K$302,3,FALSE))","v":""},"",null,null,null,null,null,null,null,null,null,null,null,null,null,null,null,null,null,null,null,null,null,null,0]
[null,{"$f":"IF(A300=\"\",\"\",'Cover Page'!B$10)","v":""},{"$f":"IF(A300=\"\",\"\",VLOOKUP(A300,Data!G$2:K$302,2,FALSE))","v":""},{"$f":"IF(A300=\"\",\"\",VLOOKUP(A300,Data!G$2:K$302,4,FALSE))","v":""},{"$f":"IF(A300=\"\",\"\",VLOOKUP(A300,Data!G$2:K$302,3,FALSE))","v":""},"",null,null,null,null,null,null,null,null,null,null,null,null,null,null,null,null,null,null,null,null,null,null,0]
[null,{"$f":"IF(A301=\"\",\"\",'Cover Page'!B$10)","v":""},{"$f":"IF(A301=\"\",\"\",VLOOKUP(A301,Data!G$2:K$302,2,FALSE))","v":""},{"$f":"IF(A301=\"\",\"\",VLOOKUP(A301,Data!G$2:K$302,4,FALSE))","v":""},{"$f":"IF(A301=\"\",\"\",VLOOKUP(A301,Data!G$2:K$302,3,FALSE))","v":""},"",null,null,null,null,null,null,null,null,null,null,null,null,null,null,null,null,null,null,null,null,null,null,0]
[null,{"$f":"IF(A302=\"\",\"\",'Cover Page'!B$10)","v":""},{"$f":"IF(A302=\"\",\"\",VLOOKUP(A302,Data!G$2:K$302,2,FALSE))","v":""},{"$f":"IF(A302=\"\",\"\",VLOOKUP(A302,Data!G$2:K$302,4,FALSE))","v":""},{"$f":"IF(A302=\"\",\"\",VLOOKUP(A302,Data!G$2:K$302,3,FALSE))","v":""},"",null,null,null,null,null,null,null,null,null,null,null,null,null,null,null,null,null,null,null,null,null,null,0]
[null,{"$f":"IF(A303=\"\",\"\",'Cover Page'!B$10)","v":""},{"$f":"IF(A303=\"\",\"\",VLOOKUP(A303,Data!G$2:K$302,2,FALSE))","v":""},{"$f":"IF(A303=\"\",\"\",VLOOKUP(A303,Data!G$2:K$302,4,FALSE))","v":""},{"$f":"IF(A303=\"\",\"\",VLOOKUP(A303,Data!G$2:K$302,3,FALSE))","v":""},"",null,null,null,null,null,null,null,null,null,null,null,null,null,null,null,null,null,null,null,null,null,null,0]
[{"$f":"IF(ChoixLangue=Languages!B$1,Languages!B81,IF(ChoixLangue=Languages!C$1,Languages!C81,IF(ChoixLangue=Languages!D$1,Languages!D81,Languages!E81)))","v":"Nbes de nageuses par catégorie"},null,null,null,null,{"$f":"COUNTIF(F4:F303,\"X\")","v":0},{"$f":"COUNTA(G4:G303)","v":0},0,0,0,0,0,0,0,0,0,0,0,0,0,0,0,0,0,0]
[]
[]
[]
[]
[]
[{"$f":"YEAR(TODAY())","v":2021}]
[{"$f":"IF(AND(MONTH(TODAY())>8,MONTH(TODAY())<=12),1,0)","v":0}]
[{"$f":"A310+A311","v":2021}]

{"sheet":"Tests","index":3,"n_rows":56,"n_cols":33,"rows_kept":56,"cut":false,"hidden":true,"merged":[[3,0,3,10]]}
[{"$f":"IF('Cover Page'!B5=\"\",\"\",'Cover Page'!B5)","v":""},null,null,null,null,null,null,null,null,null,null,null,null,null,null,null,null,null,null,null,null,null,null,null,null,null,null,null,null,"x",null,null,{"$f":"MID(CELL(\"filename\",A1),FIND(\"]\",CELL(\"filename\",A1),1)+1,20)","v":"Tests"}]
[{"$f":"IF('Cover Page'!B6=\"\",\"\",'Cover Page'!B6)","v":""},null,null,null,null,null,null,null,null,null,{"$f":"IF(ChoixLangue=Languages!$B$1,Languages!$B$97 & \" \" & AG1,IF(ChoixLangue=Languages!$C$1,Languages!$C$97 & \" \" & AG1,IF(ChoixLangue=Languages!$D$1,Languages!$D$97 & \" \" & AG1,Languages!$E$97 & \" \" & AG1)))","v":"Catégorie Tests"}]
[{"$f":"IF('Cover Page'!B7=\"\",\"\",'Cover Page'!B7)","v":""}]
[{"$f":"IF('Cover Page'!B10=\"\",\"\",CONCATENATE(IF(ChoixLangue=Languages!$B$1,Languages!$B98,IF(ChoixLangue=Languages!$C$1,Languages!$C98,IF(ChoixLangue=Languages!$D$1,Languages!$D98,Languages!$E98))),'Cover Page'!B10))","v":""}]
[{"$f":"A56","v":"Nbe nageuses : 0"},null,null,null,null,{"$f":"IF(COUNTA(F7:F55)=0,\"\",COUNTA(F7:F55))","v":""},{"$f":"IF(COUNTA(G7:G55)=0,\"\",COUNTA(G7:G55))","v":""},"","","",""]
[{"$f":"IF(ChoixLangue=Languages!$B$1,Languages!$B99,IF(ChoixLangue=Languages!$C$1,Languages!$C99,IF(ChoixLangue=Languages!$D$1,Languages!$D99,Languages!$E99)))","v":"NOM Prénom"},{"$f":"IF(ChoixLangue=Languages!$B$1,Languages!$B100,IF(ChoixLangue=Languages!$C$1,Languages!$C100,IF(ChoixLangue=Languages!$D$1,Languages!$D100,Languages!$E100)))","v":"Club"},{"$f":"IF(ChoixLangue=Languages!$B$1,Languages!$B101,IF(ChoixLangue=Languages!$C$1,Languages!$C101,IF(ChoixLangue=Languages!$D$1,Languages!$D101,Languages!$E101)))","v":"Licence"},{"$f":"IF(ChoixLangue=Languages!$B$1,Languages!$B102,IF(ChoixLangue=Languages!$C$1,Languages!$C102,IF(ChoixLangue=Languages!$D$1,Languages!$D102,Languages!$E102)))","v":"An. Nais."},{"$f":"IF(ChoixLangue=Languages!$B$1,Languages!$B103,IF(ChoixLangue=Languages!$C$1,Languages!$C103,IF(ChoixLangue=Languages!$D$1,Languages!$D103,Languages!$E103)))","v":"N° Test"},"Test 1","Test 2","Test 3","Test 4","Test 5","Test 6"]
[{"$f":"IF(ISNA(INDEX(Inscriptions!A$4:A$303,SUM(Tests!AG$7:'Tests'!AG7))),\"\",INDEX(Inscriptions!A$4:A$303,SUM(Tests!AG$7:'Tests'!AG7)))","v":""},{"$f":"IF(A7=\"\",\"\",VLOOKUP(A7,Data!G$2:K$302,5,FALSE))","v":""},{"$f":"IF(A7=\"\",\"\",VLOOKUP(A7,Data!G$2:K$302,2,FALSE))","v":""},{"$f":"IF(A7=\"\",\"\",VLOOKUP(A7,Data!G$2:K$302,3,FALSE))","v":""},{"$f":"IF(A7=\"\",\"\",VLOOKUP(A7,Data!G$2:K$302,4,FALSE))","v":""},null,null,null,null,null,null,null,null,null,null,null,null,null,null,null,null,null,null,null,null,null,null,null,null,null,{"$f":"IF(A7<>\"\",1,0)","v":0},null,{"$f":"MATCH(\"*\"&AD$1&\"*\",OFFSET(Inscriptions!F$4:F$303,SUM(Tests!AG$6:'Tests'!AG6),0),0)","v":{"$error":"#N/A"}}]
[{"$f":"IF(ISNA(INDEX(Inscriptions!A$4:A$303,SUM(Tests!AG$7:'Tests'!AG8))),\"\",INDEX(Inscriptions!A$4:A$303,SUM(Tests!AG$7:'Tests'!AG8)))","v":""},{"$f":"IF(A8=\"\",\"\",VLOOKUP(A8,Data!G$2:K$302,5,FALSE))","v":""},{"$f":"IF(A8=\"\",\"\",VLOOKUP(A8,Data!G$2:K$302,2,FALSE))","v":""},{"$f":"IF(A8=\"\",\"\",VLOOKUP(A8,Data!G$2:K$302,3,FALSE))","v":""},{"$f":"IF(A8=\"\",\"\",VLOOKUP(A8,Data!G$2:K$302,4,FALSE))","v":""},null,null,null,null,null,null,null,null,null,null,null,null,null,null,null,null,null,null,null,null,null,null,null,null,null,{"$f":"IF(A8<>\"\",1,0)","v":0},null,{"$f":"MATCH(\"*\"&AD$1&\"*\",OFFSET(Inscriptions!F$4:F$303,SUM(Tests!AG$6:'Tests'!AG7),0),0)","v":{"$error":"#N/A"}}]
[{"$f":"IF(ISNA(INDEX(Inscriptions!A$4:A$303,SUM(Tests!AG$7:'Tests'!AG9))),\"\",INDEX(Inscriptions!A$4:A$303,SUM(Tests!AG$7:'Tests'!AG9)))","v":""},{"$f":"IF(A9=\"\",\"\",VLOOKUP(A9,Data!G$2:K$302,5,FALSE))","v":""},{"$f":"IF(A9=\"\",\"\",VLOOKUP(A9,Data!G$2:K$302,2,FALSE))","v":""},{"$f":"IF(A9=\"\",\"\",VLOOKUP(A9,Data!G$2:K$302,3,FALSE))","v":""},{"$f":"IF(A9=\"\",\"\",VLOOKUP(A9,Data!G$2:K$302,4,FALSE))","v":""},null,null,null,null,null,null,null,null,null,null,null,null,null,null,null,null,null,null,null,null,null,null,null,null,null,{"$f":"IF(A9<>\"\",1,0)","v":0},null,{"$f":"MATCH(\"*\"&AD$1&\"*\",OFFSET(Inscriptions!F$4:F$303,SUM(Tests!AG$6:'Tests'!AG8),0),0)","v":{"$error":"#N/A"}}]
[{"$f":"IF(ISNA(INDEX(Inscriptions!A$4:A$303,SUM(Tests!AG$7:'Tests'!AG10))),\"\",INDEX(Inscriptions!A$4:A$303,SUM(Tests!AG$7:'Tests'!AG10)))","v":""},{"$f":"IF(A10=\"\",\"\",VLOOKUP(A10,Data!G$2:K$302,5,FALSE))","v":""},{"$f":"IF(A10=\"\",\"\",VLOOKUP(A10,Data!G$2:K$302,2,FALSE))","v":""},{"$f":"IF(A10=\"\",\"\",VLOOKUP(A10,Data!G$2:K$302,3,FALSE))","v":""},{"$f":"IF(A10=\"\",\"\",VLOOKUP(A10,Data!G$2:K$302,4,FALSE))","v":""},null,null,null,null,null,null,null,null,null,null,null,null,null,null,null,null,null,null,null,null,null,null,null,null,null,0,null,{"$f":"MATCH(\"*\"&AD$1&\"*\",OFFSET(Inscriptions!F$4:F$303,SUM(Tests!AG$6:'Tests'!AG9),0),0)","v":{"$error":"#N/A"}}]
[{"$f":"IF(ISNA(INDEX(Inscriptions!A$4:A$303,SUM(Tests!AG$7:'Tests'!AG11))),\"\",INDEX(Inscriptions!A$4:A$303,SUM(Tests!AG$7:'Tests'!AG11)))","v":""},{"$f":"IF(A11=\"\",\"\",VLOOKUP(A11,Data!G$2:K$302,5,FALSE))","v":""},{"$f":"IF(A11=\"\",\"\",VLOOKUP(A11,Data!G$2:K$302,2,FALSE))","v":""},{"$f":"IF(A11=\"\",\"\",VLOOKUP(A11,Data!G$2:K$302,3,FALSE))","v":""},{"$f":"IF(A11=\"\",\"\",VLOOKUP(A11,Data!G$2:K$302,4,FALSE))","v":""},null,null,null,null,null,null,null,null,null,null,null,null,null,null,null,null,null,null,null,null,null,null,null,null,null,0,null,{"$f":"MATCH(\"*\"&AD$1&\"*\",OFFSET(Inscriptions!F$4:F$303,SUM(Tests!AG$6:'Tests'!AG10),0),0)","v":{"$error":"#N/A"}}]
[{"$f":"IF(ISNA(INDEX(Inscriptions!A$4:A$303,SUM(Tests!AG$7:'Tests'!AG12))),\"\",INDEX(Inscriptions!A$4:A$303,SUM(Tests!AG$7:'Tests'!AG12)))","v":""},{"$f":"IF(A12=\"\",\"\",VLOOKUP(A12,Data!G$2:K$302,5,FALSE))","v":""},{"$f":"IF(A12=\"\",\"\",VLOOKUP(A12,Data!G$2:K$302,2,FALSE))","v":""},{"$f":"IF(A12=\"\",\"\",VLOOKUP(A12,Data!G$2:K$302,3,FALSE))","v":""},{"$f":"IF(A12=\"\",\"\",VLOOKUP(A12,Data!G$2:K$302,4,FALSE))","v":""},null,null,null,null,null,null,null,null,null,null,null,null,null,null,null,null,null,null,null,null,null,null,null,null,null,0,null,{"$f":"MATCH(\"*\"&AD$1&\"*\",OFFSET(Inscriptions!F$4:F$303,SUM(Tests!AG$6:'Tests'!AG11),0),0)","v":{"$error":"#N/A"}}]
[{"$f":"IF(ISNA(INDEX(Inscriptions!A$4:A$303,SUM(Tests!AG$7:'Tests'!AG13))),\"\",INDEX(Inscriptions!A$4:A$303,SUM(Tests!AG$7:'Tests'!AG13)))","v":""},{"$f":"IF(A13=\"\",\"\",VLOOKUP(A13,Data!G$2:K$302,5,FALSE))","v":""},{"$f":"IF(A13=\"\",\"\",VLOOKUP(A13,Data!G$2:K$302,2,FALSE))","v":""},{"$f":"IF(A13=\"\",\"\",VLOOKUP(A13,Data!G$2:K$302,3,FALSE))","v":""},{"$f":"IF(A13=\"\",\"\",VLOOKUP(A13,Data!G$2:K$302,4,FALSE))","v":""},null,null,null,null,null,null,null,null,null,null,null,null,null,null,null,null,null,null,null,null,null,null,null,null,null,0,null,{"$f":"MATCH(\"*\"&AD$1&\"*\",OFFSET(Inscriptions!F$4:F$303,SUM(Tests!AG$6:'Tests'!AG12),0),0)","v":{"$error":"#N/A"}}]
[{"$f":"IF(ISNA(INDEX(Inscriptions!A$4:A$303,SUM(Tests!AG$7:'Tests'!AG14))),\"\",INDEX(Inscriptions!A$4:A$303,SUM(Tests!AG$7:'Tests'!AG14)))","v":""},{"$f":"IF(A14=\"\",\"\",VLOOKUP(A14,Data!G$2:K$302,5,FALSE))","v":""},{"$f":"IF(A14=\"\",\"\",VLOOKUP(A14,Data!G$2:K$302,2,FALSE))","v":""},{"$f":"IF(A14=\"\",\"\",VLOOKUP(A14,Data!G$2:K$302,3,FALSE))","v":""},{"$f":"IF(A14=\"\",\"\",VLOOKUP(A14,Data!G$2:K$302,4,FALSE))","v":""},null,null,null,null,null,null,null,null,null,null,null,null,null,null,null,null,null,null,null,null,null,null,null,null,null,0,null,{"$f":"MATCH(\"*\"&AD$1&\"*\",OFFSET(Inscriptions!F$4:F$303,SUM(Tests!AG$6:'Tests'!AG13),0),0)","v":{"$error":"#N/A"}}]
[{"$f":"IF(ISNA(INDEX(Inscriptions!A$4:A$303,SUM(Tests!AG$7:'Tests'!AG15))),\"\",INDEX(Inscriptions!A$4:A$303,SUM(Tests!AG$7:'Tests'!AG15)))","v":""},{"$f":"IF(A15=\"\",\"\",VLOOKUP(A15,Data!G$2:K$302,5,FALSE))","v":""},{"$f":"IF(A15=\"\",\"\",VLOOKUP(A15,Data!G$2:K$302,2,FALSE))","v":""},{"$f":"IF(A15=\"\",\"\",VLOOKUP(A15,Data!G$2:K$302,3,FALSE))","v":""},{"$f":"IF(A15=\"\",\"\",VLOOKUP(A15,Data!G$2:K$302,4,FALSE))","v":""},null,null,null,null,null,null,null,null,null,null,null,null,null,null,null,null,null,null,null,null,null,null,null,null,null,0,null,{"$f":"MATCH(\"*\"&AD$1&\"*\",OFFSET(Inscriptions!F$4:F$303,SUM(Tests!AG$6:'Tests'!AG14),0),0)","v":{"$error":"#N/A"}}]
[{"$f":"IF(ISNA(INDEX(Inscriptions!A$4:A$303,SUM(Tests!AG$7:'Tests'!AG16))),\"\",INDEX(Inscriptions!A$4:A$303,SUM(Tests!AG$7:'Tests'!AG16)))","v":""},{"$f":"IF(A16=\"\",\"\",VLOOKUP(A16,Data!G$2:K$302,5,FALSE))","v":""},{"$f":"IF(A16=\"\",\"\",VLOOKUP(A16,Data!G$2:K$302,2,FALSE))","v":""},{"$f":"IF(A16=\"\",\"\",VLOOKUP(A16,Data!G$2:K$302,3,FALSE))","v":""},{"$f":"IF(A16=\"\",\"\",VLOOKUP(A16,Data!G$2:K$302,4,FALSE))","v":""},null,null,null,null,null,null,null,null,null,null,null,null,null,null,null,null,null,null,null,null,null,null,null,null,null,0,null,{"$f":"MATCH(\"*\"&AD$1&\"*\",OFFSET(Inscriptions!F$4:F$303,SUM(Tests!AG$6:'Tests'!AG15),0),0)","v":{"$error":"#N/A"}}]
[{"$f":"IF(ISNA(INDEX(Inscriptions!A$4:A$303,SUM(Tests!AG$7:'Tests'!AG17))),\"\",INDEX(Inscriptions!A$4:A$303,SUM(Tests!AG$7:'Tests'!AG17)))","v":""},{"$f":"IF(A17=\"\",\"\",VLOOKUP(A17,Data!G$2:K$302,5,FALSE))","v":""},{"$f":"IF(A17=\"\",\"\",VLOOKUP(A17,Data!G$2:K$302,2,FALSE))","v":""},{"$f":"IF(A17=\"\",\"\",VLOOKUP(A17,Data!G$2:K$302,3,FALSE))","v":""},{"$f":"IF(A17=\"\",\"\",VLOOKUP(A17,Data!G$2:K$302,4,FALSE))","v":""},null,null,null,null,null,null,null,null,null,null,null,null,null,null,null,null,null,null,null,null,null,null,null,null,null,0,null,{"$f":"MATCH(\"*\"&AD$1&\"*\",OFFSET(Inscriptions!F$4:F$303,SUM(Tests!AG$6:'Tests'!AG16),0),0)","v":{"$error":"#N/A"}}]
[{"$f":"IF(ISNA(INDEX(Inscriptions!A$4:A$303,SUM(Tests!AG$7:'Tests'!AG18))),\"\",INDEX(Inscriptions!A$4:A$303,SUM(Tests!AG$7:'Tests'!AG18)))","v":""},{"$f":"IF(A18=\"\",\"\",VLOOKUP(A18,Data!G$2:K$302,5,FALSE))","v":""},{"$f":"IF(A18=\"\",\"\",VLOOKUP(A18,Data!G$2:K$302,2,FALSE))","v":""},{"$f":"IF(A18=\"\",\"\",VLOOKUP(A18,Data!G$2:K$302,3,FALSE))","v":""},{"$f":"IF(A18=\"\",\"\",VLOOKUP(A18,Data!G$2:K$302,4,FALSE))","v":""},null,null,null,null,null,null,null,null,null,null,null,null,null,null,null,null,null,null,null,null,null,null,null,null,null,0,null,{"$f":"MATCH(\"*\"&AD$1&\"*\",OFFSET(Inscriptions!F$4:F$303,SUM(Tests!AG$6:'Tests'!AG17),0),0)","v":{"$error":"#N/A"}}]
[{"$f":"IF(ISNA(INDEX(Inscriptions!A$4:A$303,SUM(Tests!AG$7:'Tests'!AG19))),\"\",INDEX(Inscriptions!A$4:A$303,SUM(Tests!AG$7:'Tests'!AG19)))","v":""},{"$f":"IF(A19=\"\",\"\",VLOOKUP(A19,Data!G$2:K$302,5,FALSE))","v":""},{"$f":"IF(A19=\"\",\"\",VLOOKUP(A19,Data!G$2:K$302,2,FALSE))","v":""},{"$f":"IF(A19=\"\",\"\",VLOOKUP(A19,Data!G$2:K$302,3,FALSE))","v":""},{"$f":"IF(A19=\"\",\"\",VLOOKUP(A19,Data!G$2:K$302,4,FALSE))","v":""},null,null,null,null,null,null,null,null,null,null,null,null,null,null,null,null,null,null,null,null,null,null,null,null,null,0,null,{"$f":"MATCH(\"*\"&AD$1&\"*\",OFFSET(Inscriptions!F$4:F$303,SUM(Tests!AG$6:'Tests'!AG18),0),0)","v":{"$error":"#N/A"}}]
[{"$f":"IF(ISNA(INDEX(Inscriptions!A$4:A$303,SUM(Tests!AG$7:'Tests'!AG20))),\"\",INDEX(Inscriptions!A$4:A$303,SUM(Tests!AG$7:'Tests'!AG20)))","v":""},{"$f":"IF(A20=\"\",\"\",VLOOKUP(A20,Data!G$2:K$302,5,FALSE))","v":""},{"$f":"IF(A20=\"\",\"\",VLOOKUP(A20,Data!G$2:K$302,2,FALSE))","v":""},{"$f":"IF(A20=\"\",\"\",VLOOKUP(A20,Data!G$2:K$302,3,FALSE))","v":""},{"$f":"IF(A20=\"\",\"\",VLOOKUP(A20,Data!G$2:K$302,4,FALSE))","v":""},null,null,null,null,null,null,null,null,null,null,null,null,null,null,null,null,null,null,null,null,null,null,null,null,null,0,null,{"$f":"MATCH(\"*\"&AD$1&\"*\",OFFSET(Inscriptions!F$4:F$303,SUM(Tests!AG$6:'Tests'!AG19),0),0)","v":{"$error":"#N/A"}}]
[{"$f":"IF(ISNA(INDEX(Inscriptions!A$4:A$303,SUM(Tests!AG$7:'Tests'!AG21))),\"\",INDEX(Inscriptions!A$4:A$303,SUM(Tests!AG$7:'Tests'!AG21)))","v":""},{"$f":"IF(A21=\"\",\"\",VLOOKUP(A21,Data!G$2:K$302,5,FALSE))","v":""},{"$f":"IF(A21=\"\",\"\",VLOOKUP(A21,Data!G$2:K$302,2,FALSE))","v":""},{"$f":"IF(A21=\"\",\"\",VLOOKUP(A21,Data!G$2:K$302,3,FALSE))","v":""},{"$f":"IF(A21=\"\",\"\",VLOOKUP(A21,Data!G$2:K$302,4,FALSE))","v":""},null,null,null,null,null,null,null,null,null,null,null,null,null,null,null,null,null,null,null,null,null,null,null,null,null,0,null,{"$f":"MATCH(\"*\"&AD$1&\"*\",OFFSET(Inscriptions!F$4:F$303,SUM(Tests!AG$6:'Tests'!AG20),0),0)","v":{"$error":"#N/A"}}]
[{"$f":"IF(ISNA(INDEX(Inscriptions!A$4:A$303,SUM(Tests!AG$7:'Tests'!AG22))),\"\",INDEX(Inscriptions!A$4:A$303,SUM(Tests!AG$7:'Tests'!AG22)))","v":""},{"$f":"IF(A22=\"\",\"\",VLOOKUP(A22,Data!G$2:K$302,5,FALSE))","v":""},{"$f":"IF(A22=\"\",\"\",VLOOKUP(A22,Data!G$2:K$302,2,FALSE))","v":""},{"$f":"IF(A22=\"\",\"\",VLOOKUP(A22,Data!G$2:K$302,3,FALSE))","v":""},{"$f":"IF(A22=\"\",\"\",VLOOKUP(A22,Data!G$2:K$302,4,FALSE))","v":""},null,null,null,null,null,null,null,null,null,null,null,null,null,null,null,null,null,null,null,null,null,null,null,null,null,0,null,{"$f":"MATCH(\"*\"&AD$1&\"*\",OFFSET(Inscriptions!F$4:F$303,SUM(Tests!AG$6:'Tests'!AG21),0),0)","v":{"$error":"#N/A"}}]
[{"$f":"IF(ISNA(INDEX(Inscriptions!A$4:A$303,SUM(Tests!AG$7:'Tests'!AG23))),\"\",INDEX(Inscriptions!A$4:A$303,SUM(Tests!AG$7:'Tests'!AG23)))","v":""},{"$f":"IF(A23=\"\",\"\",VLOOKUP(A23,Data!G$2:K$302,5,FALSE))","v":""},{"$f":"IF(A23=\"\",\"\",VLOOKUP(A23,Data!G$2:K$302,2,FALSE))","v":""},{"$f":"IF(A23=\"\",\"\",VLOOKUP(A23,Data!G$2:K$302,3,FALSE))","v":""},{"$f":"IF(A23=\"\",\"\",VLOOKUP(A23,Data!G$2:K$302,4,FALSE))","v":""},null,null,null,null,null,null,null,null,null,null,null,null,null,null,null,null,null,null,null,null,null,null,null,null,null,0,null,{"$f":"MATCH(\"*\"&AD$1&\"*\",OFFSET(Inscriptions!F$4:F$303,SUM(Tests!AG$6:'Tests'!AG22),0),0)","v":{"$error":"#N/A"}}]
[{"$f":"IF(ISNA(INDEX(Inscriptions!A$4:A$303,SUM(Tests!AG$7:'Tests'!AG24))),\"\",INDEX(Inscriptions!A$4:A$303,SUM(Tests!AG$7:'Tests'!AG24)))","v":""},{"$f":"IF(A24=\"\",\"\",VLOOKUP(A24,Data!G$2:K$302,5,FALSE))","v":""},{"$f":"IF(A24=\"\",\"\",VLOOKUP(A24,Data!G$2:K$302,2,FALSE))","v":""},{"$f":"IF(A24=\"\",\"\",VLOOKUP(A24,Data!G$2:K$302,3,FALSE))","v":""},{"$f":"IF(A24=\"\",\"\",VLOOKUP(A24,Data!G$2:K$302,4,FALSE))","v":""},null,null,null,null,null,null,null,null,null,null,null,null,null,null,null,null,null,null,null,null,null,null,null,null,null,0,null,{"$f":"MATCH(\"*\"&AD$1&\"*\",OFFSET(Inscriptions!F$4:F$303,SUM(Tests!AG$6:'Tests'!AG23),0),0)","v":{"$error":"#N/A"}}]
[{"$f":"IF(ISNA(INDEX(Inscriptions!A$4:A$303,SUM(Tests!AG$7:'Tests'!AG25))),\"\",INDEX(Inscriptions!A$4:A$303,SUM(Tests!AG$7:'Tests'!AG25)))","v":""},{"$f":"IF(A25=\"\",\"\",VLOOKUP(A25,Data!G$2:K$302,5,FALSE))","v":""},{"$f":"IF(A25=\"\",\"\",VLOOKUP(A25,Data!G$2:K$302,2,FALSE))","v":""},{"$f":"IF(A25=\"\",\"\",VLOOKUP(A25,Data!G$2:K$302,3,FALSE))","v":""},{"$f":"IF(A25=\"\",\"\",VLOOKUP(A25,Data!G$2:K$302,4,FALSE))","v":""},null,null,null,null,null,null,null,null,null,null,null,null,null,null,null,null,null,null,null,null,null,null,null,null,null,0,null,{"$f":"MATCH(\"*\"&AD$1&\"*\",OFFSET(Inscriptions!F$4:F$303,SUM(Tests!AG$6:'Tests'!AG24),0),0)","v":{"$error":"#N/A"}}]
[{"$f":"IF(ISNA(INDEX(Inscriptions!A$4:A$303,SUM(Tests!AG$7:'Tests'!AG26))),\"\",INDEX(Inscriptions!A$4:A$303,SUM(Tests!AG$7:'Tests'!AG26)))","v":""},{"$f":"IF(A26=\"\",\"\",VLOOKUP(A26,Data!G$2:K$302,5,FALSE))","v":""},{"$f":"IF(A26=\"\",\"\",VLOOKUP(A26,Data!G$2:K$302,2,FALSE))","v":""},{"$f":"IF(A26=\"\",\"\",VLOOKUP(A26,Data!G$2:K$302,3,FALSE))","v":""},{"$f":"IF(A26=\"\",\"\",VLOOKUP(A26,Data!G$2:K$302,4,FALSE))","v":""},null,null,null,null,null,null,null,null,null,null,null,null,null,null,null,null,null,null,null,null,null,null,null,null,null,0,null,{"$f":"MATCH(\"*\"&AD$1&\"*\",OFFSET(Inscriptions!F$4:F$303,SUM(Tests!AG$6:'Tests'!AG25),0),0)","v":{"$error":"#N/A"}}]
[{"$f":"IF(ISNA(INDEX(Inscriptions!A$4:A$303,SUM(Tests!AG$7:'Tests'!AG27))),\"\",INDEX(Inscriptions!A$4:A$303,SUM(Tests!AG$7:'Tests'!AG27)))","v":""},{"$f":"IF(A27=\"\",\"\",VLOOKUP(A27,Data!G$2:K$302,5,FALSE))","v":""},{"$f":"IF(A27=\"\",\"\",VLOOKUP(A27,Data!G$2:K$302,2,FALSE))","v":""},{"$f":"IF(A27=\"\",\"\",VLOOKUP(A27,Data!G$2:K$302,3,FALSE))","v":""},{"$f":"IF(A27=\"\",\"\",VLOOKUP(A27,Data!G$2:K$302,4,FALSE))","v":""},null,null,null,null,null,null,null,null,null,null,null,null,null,null,null,null,null,null,null,null,null,null,null,null,null,0,null,{"$f":"MATCH(\"*\"&AD$1&\"*\",OFFSET(Inscriptions!F$4:F$303,SUM(Tests!AG$6:'Tests'!AG26),0),0)","v":{"$error":"#N/A"}}]
[{"$f":"IF(ISNA(INDEX(Inscriptions!A$4:A$303,SUM(Tests!AG$7:'Tests'!AG28))),\"\",INDEX(Inscriptions!A$4:A$303,SUM(Tests!AG$7:'Tests'!AG28)))","v":""},{"$f":"IF(A28=\"\",\"\",VLOOKUP(A28,Data!G$2:K$302,5,FALSE))","v":""},{"$f":"IF(A28=\"\",\"\",VLOOKUP(A28,Data!G$2:K$302,2,FALSE))","v":""},{"$f":"IF(A28=\"\",\"\",VLOOKUP(A28,Data!G$2:K$302,3,FALSE))","v":""},{"$f":"IF(A28=\"\",\"\",VLOOKUP(A28,Data!G$2:K$302,4,FALSE))","v":""},null,null,null,null,null,null,null,null,null,null,null,null,null,null,null,null,null,null,null,null,null,null,null,null,null,0,null,{"$f":"MATCH(\"*\"&AD$1&\"*\",OFFSET(Inscriptions!F$4:F$303,SUM(Tests!AG$6:'Tests'!AG27),0),0)","v":{"$error":"#N/A"}}]
[{"$f":"IF(ISNA(INDEX(Inscriptions!A$4:A$303,SUM(Tests!AG$7:'Tests'!AG29))),\"\",INDEX(Inscriptions!A$4:A$303,SUM(Tests!AG$7:'Tests'!AG29)))","v":""},{"$f":"IF(A29=\"\",\"\",VLOOKUP(A29,Data!G$2:K$302,5,FALSE))","v":""},{"$f":"IF(A29=\"\",\"\",VLOOKUP(A29,Data!G$2:K$302,2,FALSE))","v":""},{"$f":"IF(A29=\"\",\"\",VLOOKUP(A29,Data!G$2:K$302,3,FALSE))","v":""},{"$f":"IF(A29=\"\",\"\",VLOOKUP(A29,Data!G$2:K$302,4,FALSE))","v":""},null,null,null,null,null,null,null,null,null,null,null,null,null,null,null,null,null,null,null,null,null,null,null,null,null,0,null,{"$f":"MATCH(\"*\"&AD$1&\"*\",OFFSET(Inscriptions!F$4:F$303,SUM(Tests!AG$6:'Tests'!AG28),0),0)","v":{"$error":"#N/A"}}]
[{"$f":"IF(ISNA(INDEX(Inscriptions!A$4:A$303,SUM(Tests!AG$7:'Tests'!AG30))),\"\",INDEX(Inscriptions!A$4:A$303,SUM(Tests!AG$7:'Tests'!AG30)))","v":""},{"$f":"IF(A30=\"\",\"\",VLOOKUP(A30,Data!G$2:K$302,5,FALSE))","v":""},{"$f":"IF(A30=\"\",\"\",VLOOKUP(A30,Data!G$2:K$302,2,FALSE))","v":""},{"$f":"IF(A30=\"\",\"\",VLOOKUP(A30,Data!G$2:K$302,3,FALSE))","v":""},{"$f":"IF(A30=\"\",\"\",VLOOKUP(A30,Data!G$2:K$302,4,FALSE))","v":""},null,null,null,null,null,null,null,null,null,null,null,null,null,null,null,null,null,null,null,null,null,null,null,null,null,0,null,{"$f":"MATCH(\"*\"&AD$1&\"*\",OFFSET(Inscriptions!F$4:F$303,SUM(Tests!AG$6:'Tests'!AG29),0),0)","v":{"$error":"#N/A"}}]
[{"$f":"IF(ISNA(INDEX(Inscriptions!A$4:A$303,SUM(Tests!AG$7:'Tests'!AG31))),\"\",INDEX(Inscriptions!A$4:A$303,SUM(Tests!AG$7:'Tests'!AG31)))","v":""},{"$f":"IF(A31=\"\",\"\",VLOOKUP(A31,Data!G$2:K$302,5,FALSE))","v":""},{"$f":"IF(A31=\"\",\"\",VLOOKUP(A31,Data!G$2:K$302,2,FALSE))","v":""},{"$f":"IF(A31=\"\",\"\",VLOOKUP(A31,Data!G$2:K$302,3,FALSE))","v":""},{"$f":"IF(A31=\"\",\"\",VLOOKUP(A31,Data!G$2:K$302,4,FALSE))","v":""},null,null,null,null,null,null,null,null,null,null,null,null,null,null,null,null,null,null,null,null,null,null,null,null,null,0,null,{"$f":"MATCH(\"*\"&AD$1&\"*\",OFFSET(Inscriptions!F$4:F$303,SUM(Tests!AG$6:'Tests'!AG30),0),0)","v":{"$error":"#N/A"}}]
[{"$f":"IF(ISNA(INDEX(Inscriptions!A$4:A$303,SUM(Tests!AG$7:'Tests'!AG32))),\"\",INDEX(Inscriptions!A$4:A$303,SUM(Tests!AG$7:'Tests'!AG32)))","v":""},{"$f":"IF(A32=\"\",\"\",VLOOKUP(A32,Data!G$2:K$302,5,FALSE))","v":""},{"$f":"IF(A32=\"\",\"\",VLOOKUP(A32,Data!G$2:K$302,2,FALSE))","v":""},{"$f":"IF(A32=\"\",\"\",VLOOKUP(A32,Data!G$2:K$302,3,FALSE))","v":""},{"$f":"IF(A32=\"\",\"\",VLOOKUP(A32,Data!G$2:K$302,4,FALSE))","v":""},null,null,null,null,null,null,null,null,null,null,null,null,null,null,null,null,null,null,null,null,null,null,null,null,null,0,null,{"$f":"MATCH(\"*\"&AD$1&\"*\",OFFSET(Inscriptions!F$4:F$303,SUM(Tests!AG$6:'Tests'!AG31),0),0)","v":{"$error":"#N/A"}}]
[{"$f":"IF(ISNA(INDEX(Inscriptions!A$4:A$303,SUM(Tests!AG$7:'Tests'!AG33))),\"\",INDEX(Inscriptions!A$4:A$303,SUM(Tests!AG$7:'Tests'!AG33)))","v":""},{"$f":"IF(A33=\"\",\"\",VLOOKUP(A33,Data!G$2:K$302,5,FALSE))","v":""},{"$f":"IF(A33=\"\",\"\",VLOOKUP(A33,Data!G$2:K$302,2,FALSE))","v":""},{"$f":"IF(A33=\"\",\"\",VLOOKUP(A33,Data!G$2:K$302,3,FALSE))","v":""},{"$f":"IF(A33=\"\",\"\",VLOOKUP(A33,Data!G$2:K$302,4,FALSE))","v":""},null,null,null,null,null,null,null,null,null,null,null,null,null,null,null,null,null,null,null,null,null,null,null,null,null,0,null,{"$f":"MATCH(\"*\"&AD$1&\"*\",OFFSET(Inscriptions!F$4:F$303,SUM(Tests!AG$6:'Tests'!AG32),0),0)","v":{"$error":"#N/A"}}]
[{"$f":"IF(ISNA(INDEX(Inscriptions!A$4:A$303,SUM(Tests!AG$7:'Tests'!AG34))),\"\",INDEX(Inscriptions!A$4:A$303,SUM(Tests!AG$7:'Tests'!AG34)))","v":""},{"$f":"IF(A34=\"\",\"\",VLOOKUP(A34,Data!G$2:K$302,5,FALSE))","v":""},{"$f":"IF(A34=\"\",\"\",VLOOKUP(A34,Data!G$2:K$302,2,FALSE))","v":""},{"$f":"IF(A34=\"\",\"\",VLOOKUP(A34,Data!G$2:K$302,3,FALSE))","v":""},{"$f":"IF(A34=\"\",\"\",VLOOKUP(A34,Data!G$2:K$302,4,FALSE))","v":""},null,null,null,null,null,null,null,null,null,null,null,null,null,null,null,null,null,null,null,null,null,null,null,null,null,0,null,{"$f":"MATCH(\"*\"&AD$1&\"*\",OFFSET(Inscriptions!F$4:F$303,SUM(Tests!AG$6:'Tests'!AG33),0),0)","v":{"$error":"#N/A"}}]
[{"$f":"IF(ISNA(INDEX(Inscriptions!A$4:A$303,SUM(Tests!AG$7:'Tests'!AG35))),\"\",INDEX(Inscriptions!A$4:A$303,SUM(Tests!AG$7:'Tests'!AG35)))","v":""},{"$f":"IF(A35=\"\",\"\",VLOOKUP(A35,Data!G$2:K$302,5,FALSE))","v":""},{"$f":"IF(A35=\"\",\"\",VLOOKUP(A35,Data!G$2:K$302,2,FALSE))","v":""},{"$f":"IF(A35=\"\",\"\",VLOOKUP(A35,Data!G$2:K$302,3,FALSE))","v":""},{"$f":"IF(A35=\"\",\"\",VLOOKUP(A35,Data!G$2:K$302,4,FALSE))","v":""},null,null,null,null,null,null,null,null,null,null,null,null,null,null,null,null,null,null,null,null,null,null,null,null,null,0,null,{"$f":"MATCH(\"*\"&AD$1&\"*\",OFFSET(Inscriptions!F$4:F$303,SUM(Tests!AG$6:'Tests'!AG34),0),0)","v":{"$error":"#N/A"}}]
[{"$f":"IF(ISNA(INDEX(Inscriptions!A$4:A$303,SUM(Tests!AG$7:'Tests'!AG36))),\"\",INDEX(Inscriptions!A$4:A$303,SUM(Tests!AG$7:'Tests'!AG36)))","v":""},{"$f":"IF(A36=\"\",\"\",VLOOKUP(A36,Data!G$2:K$302,5,FALSE))","v":""},{"$f":"IF(A36=\"\",\"\",VLOOKUP(A36,Data!G$2:K$302,2,FALSE))","v":""},{"$f":"IF(A36=\"\",\"\",VLOOKUP(A36,Data!G$2:K$302,3,FALSE))","v":""},{"$f":"IF(A36=\"\",\"\",VLOOKUP(A36,Data!G$2:K$302,4,FALSE))","v":""},null,null,null,null,null,null,null,null,null,null,null,null,null,null,null,null,null,null,null,null,null,null,null,null,null,0,null,{"$f":"MATCH(\"*\"&AD$1&\"*\",OFFSET(Inscriptions!F$4:F$303,SUM(Tests!AG$6:'Tests'!AG35),0),0)","v":{"$error":"#N/A"}}]
[{"$f":"IF(ISNA(INDEX(Inscriptions!A$4:A$303,SUM(Tests!AG$7:'Tests'!AG37))),\"\",INDEX(Inscriptions!A$4:A$303,SUM(Tests!AG$7:'Tests'!AG37)))","v":""},{"$f":"IF(A37=\"\",\"\",VLOOKUP(A37,Data!G$2:K$302,5,FALSE))","v":""},{"$f":"IF(A37=\"\",\"\",VLOOKUP(A37,Data!G$2:K$302,2,FALSE))","v":""},{"$f":"IF(A37=\"\",\"\",VLOOKUP(A37,Data!G$2:K$302,3,FALSE))","v":""},{"$f":"IF(A37=\"\",\"\",VLOOKUP(A37,Data!G$2:K$302,4,FALSE))","v":""},null,null,null,null,null,null,null,null,null,null,null,null,null,null,null,null,null,null,null,null,null,null,null,null,null,0,null,{"$f":"MATCH(\"*\"&AD$1&\"*\",OFFSET(Inscriptions!F$4:F$303,SUM(Tests!AG$6:'Tests'!AG36),0),0)","v":{"$error":"#N/A"}}]
[{"$f":"IF(ISNA(INDEX(Inscriptions!A$4:A$303,SUM(Tests!AG$7:'Tests'!AG38))),\"\",INDEX(Inscriptions!A$4:A$303,SUM(Tests!AG$7:'Tests'!AG38)))","v":""},{"$f":"IF(A38=\"\",\"\",VLOOKUP(A38,Data!G$2:K$302,5,FALSE))","v":""},{"$f":"IF(A38=\"\",\"\",VLOOKUP(A38,Data!G$2:K$302,2,FALSE))","v":""},{"$f":"IF(A38=\"\",\"\",VLOOKUP(A38,Data!G$2:K$302,3,FALSE))","v":""},{"$f":"IF(A38=\"\",\"\",VLOOKUP(A38,Data!G$2:K$302,4,FALSE))","v":""},null,null,null,null,null,null,null,null,null,null,null,null,null,null,null,null,null,null,null,null,null,null,null,null,null,0,null,{"$f":"MATCH(\"*\"&AD$1&\"*\",OFFSET(Inscriptions!F$4:F$303,SUM(Tests!AG$6:'Tests'!AG37),0),0)","v":{"$error":"#N/A"}}]
[{"$f":"IF(ISNA(INDEX(Inscriptions!A$4:A$303,SUM(Tests!AG$7:'Tests'!AG39))),\"\",INDEX(Inscriptions!A$4:A$303,SUM(Tests!AG$7:'Tests'!AG39)))","v":""},{"$f":"IF(A39=\"\",\"\",VLOOKUP(A39,Data!G$2:K$302,5,FALSE))","v":""},{"$f":"IF(A39=\"\",\"\",VLOOKUP(A39,Data!G$2:K$302,2,FALSE))","v":""},{"$f":"IF(A39=\"\",\"\",VLOOKUP(A39,Data!G$2:K$302,3,FALSE))","v":""},{"$f":"IF(A39=\"\",\"\",VLOOKUP(A39,Data!G$2:K$302,4,FALSE))","v":""},null,null,null,null,null,null,null,null,null,null,null,null,null,null,null,null,null,null,null,null,null,null,null,null,null,0,null,{"$f":"MATCH(\"*\"&AD$1&\"*\",OFFSET(Inscriptions!F$4:F$303,SUM(Tests!AG$6:'Tests'!AG38),0),0)","v":{"$error":"#N/A"}}]
[{"$f":"IF(ISNA(INDEX(Inscriptions!A$4:A$303,SUM(Tests!AG$7:'Tests'!AG40))),\"\",INDEX(Inscriptions!A$4:A$303,SUM(Tests!AG$7:'Tests'!AG40)))","v":""},{"$f":"IF(A40=\"\",\"\",VLOOKUP(A40,Data!G$2:K$302,5,FALSE))","v":""},{"$f":"IF(A40=\"\",\"\",VLOOKUP(A40,Data!G$2:K$302,2,FALSE))","v":""},{"$f":"IF(A40=\"\",\"\",VLOOKUP(A40,Data!G$2:K$302,3,FALSE))","v":""},{"$f":"IF(A40=\"\",\"\",VLOOKUP(A40,Data!G$2:K$302,4,FALSE))","v":""},null,null,null,null,null,null,null,null,null,null,null,null,null,null,null,null,null,null,null,null,null,null,null,null,null,0,null,{"$f":"MATCH(\"*\"&AD$1&\"*\",OFFSET(Inscriptions!F$4:F$303,SUM(Tests!AG$6:'Tests'!AG39),0),0)","v":{"$error":"#N/A"}}]
[{"$f":"IF(ISNA(INDEX(Inscriptions!A$4:A$303,SUM(Tests!AG$7:'Tests'!AG41))),\"\",INDEX(Inscriptions!A$4:A$303,SUM(Tests!AG$7:'Tests'!AG41)))","v":""},{"$f":"IF(A41=\"\",\"\",VLOOKUP(A41,Data!G$2:K$302,5,FALSE))","v":""},{"$f":"IF(A41=\"\",\"\",VLOOKUP(A41,Data!G$2:K$302,2,FALSE))","v":""},{"$f":"IF(A41=\"\",\"\",VLOOKUP(A41,Data!G$2:K$302,3,FALSE))","v":""},{"$f":"IF(A41=\"\",\"\",VLOOKUP(A41,Data!G$2:K$302,4,FALSE))","v":""},null,null,null,null,null,null,null,null,null,null,null,null,null,null,null,null,null,null,null,null,null,null,null,null,null,0,null,{"$f":"MATCH(\"*\"&AD$1&\"*\",OFFSET(Inscriptions!F$4:F$303,SUM(Tests!AG$6:'Tests'!AG40),0),0)","v":{"$error":"#N/A"}}]
[{"$f":"IF(ISNA(INDEX(Inscriptions!A$4:A$303,SUM(Tests!AG$7:'Tests'!AG42))),\"\",INDEX(Inscriptions!A$4:A$303,SUM(Tests!AG$7:'Tests'!AG42)))","v":""},{"$f":"IF(A42=\"\",\"\",VLOOKUP(A42,Data!G$2:K$302,5,FALSE))","v":""},{"$f":"IF(A42=\"\",\"\",VLOOKUP(A42,Data!G$2:K$302,2,FALSE))","v":""},{"$f":"IF(A42=\"\",\"\",VLOOKUP(A42,Data!G$2:K$302,3,FALSE))","v":""},{"$f":"IF(A42=\"\",\"\",VLOOKUP(A42,Data!G$2:K$302,4,FALSE))","v":""},null,null,null,null,null,null,null,null,null,null,null,null,null,null,null,null,null,null,null,null,null,null,null,null,null,0,null,{"$f":"MATCH(\"*\"&AD$1&\"*\",OFFSET(Inscriptions!F$4:F$303,SUM(Tests!AG$6:'Tests'!AG41),0),0)","v":{"$error":"#N/A"}}]
[{"$f":"IF(ISNA(INDEX(Inscriptions!A$4:A$303,SUM(Tests!AG$7:'Tests'!AG43))),\"\",INDEX(Inscriptions!A$4:A$303,SUM(Tests!AG$7:'Tests'!AG43)))","v":""},{"$f":"IF(A43=\"\",\"\",VLOOKUP(A43,Data!G$2:K$302,5,FALSE))","v":""},{"$f":"IF(A43=\"\",\"\",VLOOKUP(A43,Data!G$2:K$302,2,FALSE))","v":""},{"$f":"IF(A43=\"\",\"\",VLOOKUP(A43,Data!G$2:K$302,3,FALSE))","v":""},{"$f":"IF(A43=\"\",\"\",VLOOKUP(A43,Data!G$2:K$302,4,FALSE))","v":""},null,null,null,null,null,null,null,null,null,null,null,null,null,null,null,null,null,null,null,null,null,null,null,null,null,0,null,{"$f":"MATCH(\"*\"&AD$1&\"*\",OFFSET(Inscriptions!F$4:F$303,SUM(Tests!AG$6:'Tests'!AG42),0),0)","v":{"$error":"#N/A"}}]
[{"$f":"IF(ISNA(INDEX(Inscriptions!A$4:A$303,SUM(Tests!AG$7:'Tests'!AG44))),\"\",INDEX(Inscriptions!A$4:A$303,SUM(Tests!AG$7:'Tests'!AG44)))","v":""},{"$f":"IF(A44=\"\",\"\",VLOOKUP(A44,Data!G$2:K$302,5,FALSE))","v":""},{"$f":"IF(A44=\"\",\"\",VLOOKUP(A44,Data!G$2:K$302,2,FALSE))","v":""},{"$f":"IF(A44=\"\",\"\",VLOOKUP(A44,Data!G$2:K$302,3,FALSE))","v":""},{"$f":"IF(A44=\"\",\"\",VLOOKUP(A44,Data!G$2:K$302,4,FALSE))","v":""},null,null,null,null,null,null,null,null,null,null,null,null,null,null,null,null,null,null,null,null,null,null,null,null,null,0,null,{"$f":"MATCH(\"*\"&AD$1&\"*\",OFFSET(Inscriptions!F$4:F$303,SUM(Tests!AG$6:'Tests'!AG43),0),0)","v":{"$error":"#N/A"}}]
[{"$f":"IF(ISNA(INDEX(Inscriptions!A$4:A$303,SUM(Tests!AG$7:'Tests'!AG45))),\"\",INDEX(Inscriptions!A$4:A$303,SUM(Tests!AG$7:'Tests'!AG45)))","v":""},{"$f":"IF(A45=\"\",\"\",VLOOKUP(A45,Data!G$2:K$302,5,FALSE))","v":""},{"$f":"IF(A45=\"\",\"\",VLOOKUP(A45,Data!G$2:K$302,2,FALSE))","v":""},{"$f":"IF(A45=\"\",\"\",VLOOKUP(A45,Data!G$2:K$302,3,FALSE))","v":""},{"$f":"IF(A45=\"\",\"\",VLOOKUP(A45,Data!G$2:K$302,4,FALSE))","v":""},null,null,null,null,null,null,null,null,null,null,null,null,null,null,null,null,null,null,null,null,null,null,null,null,null,0,null,{"$f":"MATCH(\"*\"&AD$1&\"*\",OFFSET(Inscriptions!F$4:F$303,SUM(Tests!AG$6:'Tests'!AG44),0),0)","v":{"$error":"#N/A"}}]
[{"$f":"IF(ISNA(INDEX(Inscriptions!A$4:A$303,SUM(Tests!AG$7:'Tests'!AG46))),\"\",INDEX(Inscriptions!A$4:A$303,SUM(Tests!AG$7:'Tests'!AG46)))","v":""},{"$f":"IF(A46=\"\",\"\",VLOOKUP(A46,Data!G$2:K$302,5,FALSE))","v":""},{"$f":"IF(A46=\"\",\"\",VLOOKUP(A46,Data!G$2:K$302,2,FALSE))","v":""},{"$f":"IF(A46=\"\",\"\",VLOOKUP(A46,Data!G$2:K$302,3,FALSE))","v":""},{"$f":"IF(A46=\"\",\"\",VLOOKUP(A46,Data!G$2:K$302,4,FALSE))","v":""},null,null,null,null,null,null,null,null,null,null,null,null,null,null,null,null,null,null,null,null,null,null,null,null,null,0,null,{"$f":"MATCH(\"*\"&AD$1&\"*\",OFFSET(Inscriptions!F$4:F$303,SUM(Tests!AG$6:'Tests'!AG45),0),0)","v":{"$error":"#N/A"}}]
[{"$f":"IF(ISNA(INDEX(Inscriptions!A$4:A$303,SUM(Tests!AG$7:'Tests'!AG47))),\"\",INDEX(Inscriptions!A$4:A$303,SUM(Tests!AG$7:'Tests'!AG47)))","v":""},{"$f":"IF(A47=\"\",\"\",VLOOKUP(A47,Data!G$2:K$302,5,FALSE))","v":""},{"$f":"IF(A47=\"\",\"\",VLOOKUP(A47,Data!G$2:K$302,2,FALSE))","v":""},{"$f":"IF(A47=\"\",\"\",VLOOKUP(A47,Data!G$2:K$302,3,FALSE))","v":""},{"$f":"IF(A47=\"\",\"\",VLOOKUP(A47,Data!G$2:K$302,4,FALSE))","v":""},null,null,null,null,null,null,null,null,null,null,null,null,null,null,null,null,null,null,null,null,null,null,null,null,null,0,null,{"$f":"MATCH(\"*\"&AD$1&\"*\",OFFSET(Inscriptions!F$4:F$303,SUM(Tests!AG$6:'Tests'!AG46),0),0)","v":{"$error":"#N/A"}}]
[{"$f":"IF(ISNA(INDEX(Inscriptions!A$4:A$303,SUM(Tests!AG$7:'Tests'!AG48))),\"\",INDEX(Inscriptions!A$4:A$303,SUM(Tests!AG$7:'Tests'!AG48)))","v":""},{"$f":"IF(A48=\"\",\"\",VLOOKUP(A48,Data!G$2:K$302,5,FALSE))","v":""},{"$f":"IF(A48=\"\",\"\",VLOOKUP(A48,Data!G$2:K$302,2,FALSE))","v":""},{"$f":"IF(A48=\"\",\"\",VLOOKUP(A48,Data!G$2:K$302,3,FALSE))","v":""},{"$f":"IF(A48=\"\",\"\",VLOOKUP(A48,Data!G$2:K$302,4,FALSE))","v":""},null,null,null,null,null,null,null,null,null,null,null,null,null,null,null,null,null,null,null,null,null,null,null,null,null,0,null,{"$f":"MATCH(\"*\"&AD$1&\"*\",OFFSET(Inscriptions!F$4:F$303,SUM(Tests!AG$6:'Tests'!AG47),0),0)","v":{"$error":"#N/A"}}]
[{"$f":"IF(ISNA(INDEX(Inscriptions!A$4:A$303,SUM(Tests!AG$7:'Tests'!AG49))),\"\",INDEX(Inscriptions!A$4:A$303,SUM(Tests!AG$7:'Tests'!AG49)))","v":""},{"$f":"IF(A49=\"\",\"\",VLOOKUP(A49,Data!G$2:K$302,5,FALSE))","v":""},{"$f":"IF(A49=\"\",\"\",VLOOKUP(A49,Data!G$2:K$302,2,FALSE))","v":""},{"$f":"IF(A49=\"\",\"\",VLOOKUP(A49,Data!G$2:K$302,3,FALSE))","v":""},{"$f":"IF(A49=\"\",\"\",VLOOKUP(A49,Data!G$2:K$302,4,FALSE))","v":""},null,null,null,null,null,null,null,null,null,null,null,null,null,null,null,null,null,null,null,null,null,null,null,null,null,0,null,{"$f":"MATCH(\"*\"&AD$1&\"*\",OFFSET(Inscriptions!F$4:F$303,SUM(Tests!AG$6:'Tests'!AG48),0),0)","v":{"$error":"#N/A"}}]
[{"$f":"IF(ISNA(INDEX(Inscriptions!A$4:A$303,SUM(Tests!AG$7:'Tests'!AG50))),\"\",INDEX(Inscriptions!A$4:A$303,SUM(Tests!AG$7:'Tests'!AG50)))","v":""},{"$f":"IF(A50=\"\",\"\",VLOOKUP(A50,Data!G$2:K$302,5,FALSE))","v":""},{"$f":"IF(A50=\"\",\"\",VLOOKUP(A50,Data!G$2:K$302,2,FALSE))","v":""},{"$f":"IF(A50=\"\",\"\",VLOOKUP(A50,Data!G$2:K$302,3,FALSE))","v":""},{"$f":"IF(A50=\"\",\"\",VLOOKUP(A50,Data!G$2:K$302,4,FALSE))","v":""},null,null,null,null,null,null,null,null,null,null,null,null,null,null,null,null,null,null,null,null,null,null,null,null,null,0,null,{"$f":"MATCH(\"*\"&AD$1&\"*\",OFFSET(Inscriptions!F$4:F$303,SUM(Tests!AG$6:'Tests'!AG49),0),0)","v":{"$error":"#N/A"}}]
[{"$f":"IF(ISNA(INDEX(Inscriptions!A$4:A$303,SUM(Tests!AG$7:'Tests'!AG51))),\"\",INDEX(Inscriptions!A$4:A$303,SUM(Tests!AG$7:'Tests'!AG51)))","v":""},{"$f":"IF(A51=\"\",\"\",VLOOKUP(A51,Data!G$2:K$302,5,FALSE))","v":""},{"$f":"IF(A51=\"\",\"\",VLOOKUP(A51,Data!G$2:K$302,2,FALSE))","v":""},{"$f":"IF(A51=\"\",\"\",VLOOKUP(A51,Data!G$2:K$302,3,FALSE))","v":""},{"$f":"IF(A51=\"\",\"\",VLOOKUP(A51,Data!G$2:K$302,4,FALSE))","v":""},null,null,null,null,null,null,null,null,null,null,null,null,null,null,null,null,null,null,null,null,null,null,null,null,null,0,null,{"$f":"MATCH(\"*\"&AD$1&\"*\",OFFSET(Inscriptions!F$4:F$303,SUM(Tests!AG$6:'Tests'!AG50),0),0)","v":{"$error":"#N/A"}}]
[{"$f":"IF(ISNA(INDEX(Inscriptions!A$4:A$303,SUM(Tests!AG$7:'Tests'!AG52))),\"\",INDEX(Inscriptions!A$4:A$303,SUM(Tests!AG$7:'Tests'!AG52)))","v":""},{"$f":"IF(A52=\"\",\"\",VLOOKUP(A52,Data!G$2:K$302,5,FALSE))","v":""},{"$f":"IF(A52=\"\",\"\",VLOOKUP(A52,Data!G$2:K$302,2,FALSE))","v":""},{"$f":"IF(A52=\"\",\"\",VLOOKUP(A52,Data!G$2:K$302,3,FALSE))","v":""},{"$f":"IF(A52=\"\",\"\",VLOOKUP(A52,Data!G$2:K$302,4,FALSE))","v":""},null,null,null,null,null,null,null,null,null,null,null,null,null,null,null,null,null,null,null,null,null,null,null,null,null,0,null,{"$f":"MATCH(\"*\"&AD$1&\"*\",OFFSET(Inscriptions!F$4:F$303,SUM(Tests!AG$6:'Tests'!AG51),0),0)","v":{"$error":"#N/A"}}]
[{"$f":"IF(ISNA(INDEX(Inscriptions!A$4:A$303,SUM(Tests!AG$7:'Tests'!AG53))),\"\",INDEX(Inscriptions!A$4:A$303,SUM(Tests!AG$7:'Tests'!AG53)))","v":""},{"$f":"IF(A53=\"\",\"\",VLOOKUP(A53,Data!G$2:K$302,5,FALSE))","v":""},{"$f":"IF(A53=\"\",\"\",VLOOKUP(A53,Data!G$2:K$302,2,FALSE))","v":""},{"$f":"IF(A53=\"\",\"\",VLOOKUP(A53,Data!G$2:K$302,3,FALSE))","v":""},{"$f":"IF(A53=\"\",\"\",VLOOKUP(A53,Data!G$2:K$302,4,FALSE))","v":""},null,null,null,null,null,null,null,null,null,null,null,null,null,null,null,null,null,null,null,null,null,null,null,null,null,0,null,{"$f":"MATCH(\"*\"&AD$1&\"*\",OFFSET(Inscriptions!F$4:F$303,SUM(Tests!AG$6:'Tests'!AG52),0),0)","v":{"$error":"#N/A"}}]
[{"$f":"IF(ISNA(INDEX(Inscriptions!A$4:A$303,SUM(Tests!AG$7:'Tests'!AG54))),\"\",INDEX(Inscriptions!A$4:A$303,SUM(Tests!AG$7:'Tests'!AG54)))","v":""},{"$f":"IF(A54=\"\",\"\",VLOOKUP(A54,Data!G$2:K$302,5,FALSE))","v":""},{"$f":"IF(A54=\"\",\"\",VLOOKUP(A54,Data!G$2:K$302,2,FALSE))","v":""},{"$f":"IF(A54=\"\",\"\",VLOOKUP(A54,Data!G$2:K$302,3,FALSE))","v":""},{"$f":"IF(A54=\"\",\"\",VLOOKUP(A54,Data!G$2:K$302,4,FALSE))","v":""},null,null,null,null,null,null,null,null,null,null,null,null,null,null,null,null,null,null,null,null,null,null,null,null,null,0,null,{"$f":"MATCH(\"*\"&AD$1&\"*\",OFFSET(Inscriptions!F$4:F$303,SUM(Tests!AG$6:'Tests'!AG53),0),0)","v":{"$error":"#N/A"}}]
[{"$f":"IF(ISNA(INDEX(Inscriptions!A$4:A$303,SUM(Tests!AG$7:'Tests'!AG55))),\"\",INDEX(Inscriptions!A$4:A$303,SUM(Tests!AG$7:'Tests'!AG55)))","v":""},{"$f":"IF(A55=\"\",\"\",VLOOKUP(A55,Data!G$2:K$302,5,FALSE))","v":""},{"$f":"IF(A55=\"\",\"\",VLOOKUP(A55,Data!G$2:K$302,2,FALSE))","v":""},{"$f":"IF(A55=\"\",\"\",VLOOKUP(A55,Data!G$2:K$302,3,FALSE))","v":""},{"$f":"IF(A55=\"\",\"\",VLOOKUP(A55,Data!G$2:K$302,4,FALSE))","v":""},null,null,null,null,null,null,null,null,null,null,null,null,null,null,null,null,null,null,null,null,null,null,null,null,null,0,null,{"$f":"MATCH(\"*\"&AD$1&\"*\",OFFSET(Inscriptions!F$4:F$303,SUM(Tests!AG$6:'Tests'!AG54),0),0)","v":{"$error":"#N/A"}}]
[{"$f":"CONCATENATE(IF(ChoixLangue=Languages!$B$1,Languages!$B105,IF(ChoixLangue=Languages!$C$1,Languages!$C105,IF(ChoixLangue=Languages!$D$1,Languages!$D105,Languages!$E105))),SUM(AE7:AE55))","v":"Nbe nageuses : 0"},"-","-","-",null,"-","-","-","-","-","-"]

{"sheet":"J4","index":4,"n_rows":56,"n_cols":33,"rows_kept":56,"cut":false,"hidden":false,"merged":[[3,0,3,9]]}
[{"$f":"IF('Cover Page'!B5=\"\",\"\",'Cover Page'!B5)","v":""},null,null,null,null,null,null,null,null,null,null,null,null,null,null,null,null,null,null,null,null,null,null,null,null,null,null,null,null,"x",null,null,{"$f":"MID(CELL(\"filename\",A1),FIND(\"]\",CELL(\"filename\",A1),1)+1,20)","v":"J4"}]
[{"$f":"IF('Cover Page'!B6=\"\",\"\",'Cover Page'!B6)","v":""},null,null,null,null,null,null,null,null,{"$f":"IF(ChoixLangue=Languages!$B$1,Languages!$B$97 & \" \" & AG1,IF(ChoixLangue=Languages!$C$1,Languages!$C$97 & \" \" & AG1,IF(ChoixLangue=Languages!$D$1,Languages!$D$97 & \" \" & AG1,Languages!$E$97 & \" \" & AG1)))","v":"Catégorie J4"}]
[{"$f":"IF('Cover Page'!B7=\"\",\"\",'Cover Page'!B7)","v":""}]
[{"$f":"IF('Cover Page'!B10=\"\",\"\",CONCATENATE(IF(ChoixLangue=Languages!$B$1,Languages!$B98,IF(ChoixLangue=Languages!$C$1,Languages!$C98,IF(ChoixLangue=Languages!$D$1,Languages!$D98,Languages!$E98))),'Cover Page'!B10))","v":""}]
[{"$f":"A56","v":"Nbe nageuses : 0"}]
[{"$f":"IF(ChoixLangue=Languages!$B$1,Languages!$B99,IF(ChoixLangue=Languages!$C$1,Languages!$C99,IF(ChoixLangue=Languages!$D$1,Languages!$D99,Languages!$E99)))","v":"NOM Prénom"},{"$f":"IF(ChoixLangue=Languages!$B$1,Languages!$B100,IF(ChoixLangue=Languages!$C$1,Languages!$C100,IF(ChoixLangue=Languages!$D$1,Languages!$D100,Languages!$E100)))","v":"Club"},{"$f":"IF(ChoixLangue=Languages!$B$1,Languages!$B101,IF(ChoixLangue=Languages!$C$1,Languages!$C101,IF(ChoixLangue=Languages!$D$1,Languages!$D101,Languages!$E101)))","v":"Licence"},{"$f":"IF(ChoixLangue=Languages!$B$1,Languages!$B102,IF(ChoixLangue=Languages!$C$1,Languages!$C102,IF(ChoixLangue=Languages!$D$1,Languages!$D102,Languages!$E102)))","v":"An. Nais."},{"$f":"IF(ChoixLangue=Languages!$B$1,Languages!$B103,IF(ChoixLangue=Languages!$C$1,Languages!$C103,IF(ChoixLangue=Languages!$D$1,Languages!$D103,Languages!$E103)))","v":"N° Test"},{"$f":"IF(ChoixLangue=Languages!$B$1,Languages!$B104,IF(ChoixLangue=Languages!$C$1,Languages!$C104,IF(ChoixLangue=Languages!$D$1,Languages!$D104,Languages!$E104)))","v":"Figures"},"Solo Free","Duo Free","Mix. Duet Free","Team Free"]
[{"$f":"IF(ISNA(INDEX(Inscriptions!A$4:A$303,SUM('J4'!AG$7:'J4'!AG7))),\"\",INDEX(Inscriptions!A$4:A$303,SUM('J4'!AG$7:'J4'!AG7)))","v":""},{"$f":"IF(A7=\"\",\"\",VLOOKUP(A7,Data!G$2:K$302,5,FALSE))","v":""},{"$f":"IF(A7=\"\",\"\",VLOOKUP(A7,Data!G$2:K$302,2,FALSE))","v":""},{"$f":"IF(A7=\"\",\"\",VLOOKUP(A7,Data!G$2:K$302,3,FALSE))","v":""},{"$f":"IF(A7=\"\",\"\",VLOOKUP(A7,Data!G$2:K$302,4,FALSE))","v":""},null,null,null,null,null,null,null,null,null,null,null,null,null,null,null,null,null,null,null,null,null,null,null,null,null,{"$f":"IF(A7<>\"\",1,0)","v":0},null,{"$f":"MATCH(\"*\"&AD$1&\"*\",OFFSET(Inscriptions!G$4:G$303,SUM('J4'!AG$6:'J4'!AG6),0),0)","v":{"$error":"#N/A"}}]
[{"$f":"IF(ISNA(INDEX(Inscriptions!A$4:A$303,SUM('J4'!AG$7:'J4'!AG8))),\"\",INDEX(Inscriptions!A$4:A$303,SUM('J4'!AG$7:'J4'!AG8)))","v":""},{"$f":"IF(A8=\"\",\"\",VLOOKUP(A8,Data!G$2:K$302,5,FALSE))","v":""},{"$f":"IF(A8=\"\",\"\",VLOOKUP(A8,Data!G$2:K$302,2,FALSE))","v":""},{"$f":"IF(A8=\"\",\"\",VLOOKUP(A8,Data!G$2:K$302,3,FALSE))","v":""},{"$f":"IF(A8=\"\",\"\",VLOOKUP(A8,Data!G$2:K$302,4,FALSE))","v":""},null,null,null,null,null,null,null,null,null,null,null,null,null,null,null,null,null,null,null,null,null,null,null,null,null,0,null,{"$f":"MATCH(\"*\"&AD$1&\"*\",OFFSET(Inscriptions!G$4:G$303,SUM('J4'!AG$6:'J4'!AG7),0),0)","v":{"$error":"#N/A"}}]
[{"$f":"IF(ISNA(INDEX(Inscriptions!A$4:A$303,SUM('J4'!AG$7:'J4'!AG9))),\"\",INDEX(Inscriptions!A$4:A$303,SUM('J4'!AG$7:'J4'!AG9)))","v":""},{"$f":"IF(A9=\"\",\"\",VLOOKUP(A9,Data!G$2:K$302,5,FALSE))","v":""},{"$f":"IF(A9=\"\",\"\",VLOOKUP(A9,Data!G$2:K$302,2,FALSE))","v":""},{"$f":"IF(A9=\"\",\"\",VLOOKUP(A9,Data!G$2:K$302,3,FALSE))","v":""},{"$f":"IF(A9=\"\",\"\",VLOOKUP(A9,Data!G$2:K$302,4,FALSE))","v":""},null,null,null,null,null,null,null,null,null,null,null,null,null,null,null,null,null,null,null,null,null,null,null,null,null,0,null,{"$f":"MATCH(\"*\"&AD$1&\"*\",OFFSET(Inscriptions!G$4:G$303,SUM('J4'!AG$6:'J4'!AG8),0),0)","v":{"$error":"#N/A"}}]
[{"$f":"IF(ISNA(INDEX(Inscriptions!A$4:A$303,SUM('J4'!AG$7:'J4'!AG10))),\"\",INDEX(Inscriptions!A$4:A$303,SUM('J4'!AG$7:'J4'!AG10)))","v":""},{"$f":"IF(A10=\"\",\"\",VLOOKUP(A10,Data!G$2:K$302,5,FALSE))","v":""},{"$f":"IF(A10=\"\",\"\",VLOOKUP(A10,Data!G$2:K$302,2,FALSE))","v":""},{"$f":"IF(A10=\"\",\"\",VLOOKUP(A10,Data!G$2:K$302,3,FALSE))","v":""},{"$f":"IF(A10=\"\",\"\",VLOOKUP(A10,Data!G$2:K$302,4,FALSE))","v":""},null,null,null,null,null,null,null,null,null,null,null,null,null,null,null,null,null,null,null,null,null,null,null,null,null,0,null,{"$f":"MATCH(\"*\"&AD$1&\"*\",OFFSET(Inscriptions!G$4:G$303,SUM('J4'!AG$6:'J4'!AG9),0),0)","v":{"$error":"#N/A"}}]
[{"$f":"IF(ISNA(INDEX(Inscriptions!A$4:A$303,SUM('J4'!AG$7:'J4'!AG11))),\"\",INDEX(Inscriptions!A$4:A$303,SUM('J4'!AG$7:'J4'!AG11)))","v":""},{"$f":"IF(A11=\"\",\"\",VLOOKUP(A11,Data!G$2:K$302,5,FALSE))","v":""},{"$f":"IF(A11=\"\",\"\",VLOOKUP(A11,Data!G$2:K$302,2,FALSE))","v":""},{"$f":"IF(A11=\"\",\"\",VLOOKUP(A11,Data!G$2:K$302,3,FALSE))","v":""},{"$f":"IF(A11=\"\",\"\",VLOOKUP(A11,Data!G$2:K$302,4,FALSE))","v":""},null,null,null,null,null,null,null,null,null,null,null,null,null,null,null,null,null,null,null,null,null,null,null,null,null,0,null,{"$f":"MATCH(\"*\"&AD$1&\"*\",OFFSET(Inscriptions!G$4:G$303,SUM('J4'!AG$6:'J4'!AG10),0),0)","v":{"$error":"#N/A"}}]
[{"$f":"IF(ISNA(INDEX(Inscriptions!A$4:A$303,SUM('J4'!AG$7:'J4'!AG12))),\"\",INDEX(Inscriptions!A$4:A$303,SUM('J4'!AG$7:'J4'!AG12)))","v":""},{"$f":"IF(A12=\"\",\"\",VLOOKUP(A12,Data!G$2:K$302,5,FALSE))","v":""},{"$f":"IF(A12=\"\",\"\",VLOOKUP(A12,Data!G$2:K$302,2,FALSE))","v":""},{"$f":"IF(A12=\"\",\"\",VLOOKUP(A12,Data!G$2:K$302,3,FALSE))","v":""},{"$f":"IF(A12=\"\",\"\",VLOOKUP(A12,Data!G$2:K$302,4,FALSE))","v":""},null,null,null,null,null,null,null,null,null,null,null,null,null,null,null,null,null,null,null,null,null,null,null,null,null,0,null,{"$f":"MATCH(\"*\"&AD$1&\"*\",OFFSET(Inscriptions!G$4:G$303,SUM('J4'!AG$6:'J4'!AG11),0),0)","v":{"$error":"#N/A"}}]
[{"$f":"IF(ISNA(INDEX(Inscriptions!A$4:A$303,SUM('J4'!AG$7:'J4'!AG13))),\"\",INDEX(Inscriptions!A$4:A$303,SUM('J4'!AG$7:'J4'!AG13)))","v":""},{"$f":"IF(A13=\"\",\"\",VLOOKUP(A13,Data!G$2:K$302,5,FALSE))","v":""},{"$f":"IF(A13=\"\",\"\",VLOOKUP(A13,Data!G$2:K$302,2,FALSE))","v":""},{"$f":"IF(A13=\"\",\"\",VLOOKUP(A13,Data!G$2:K$302,3,FALSE))","v":""},{"$f":"IF(A13=\"\",\"\",VLOOKUP(A13,Data!G$2:K$302,4,FALSE))","v":""},null,null,null,null,null,null,null,null,null,null,null,null,null,null,null,null,null,null,null,null,null,null,null,null,null,0,null,{"$f":"MATCH(\"*\"&AD$1&\"*\",OFFSET(Inscriptions!G$4:G$303,SUM('J4'!AG$6:'J4'!AG12),0),0)","v":{"$error":"#N/A"}}]
[{"$f":"IF(ISNA(INDEX(Inscriptions!A$4:A$303,SUM('J4'!AG$7:'J4'!AG14))),\"\",INDEX(Inscriptions!A$4:A$303,SUM('J4'!AG$7:'J4'!AG14)))","v":""},{"$f":"IF(A14=\"\",\"\",VLOOKUP(A14,Data!G$2:K$302,5,FALSE))","v":""},{"$f":"IF(A14=\"\",\"\",VLOOKUP(A14,Data!G$2:K$302,2,FALSE))","v":""},{"$f":"IF(A14=\"\",\"\",VLOOKUP(A14,Data!G$2:K$302,3,FALSE))","v":""},{"$f":"IF(A14=\"\",\"\",VLOOKUP(A14,Data!G$2:K$302,4,FALSE))","v":""},null,null,null,null,null,null,null,null,null,null,null,null,null,null,null,null,null,null,null,null,null,null,null,null,null,0,null,{"$f":"MATCH(\"*\"&AD$1&\"*\",OFFSET(Inscriptions!G$4:G$303,SUM('J4'!AG$6:'J4'!AG13),0),0)","v":{"$error":"#N/A"}}]
[{"$f":"IF(ISNA(INDEX(Inscriptions!A$4:A$303,SUM('J4'!AG$7:'J4'!AG15))),\"\",INDEX(Inscriptions!A$4:A$303,SUM('J4'!AG$7:'J4'!AG15)))","v":""},{"$f":"IF(A15=\"\",\"\",VLOOKUP(A15,Data!G$2:K$302,5,FALSE))","v":""},{"$f":"IF(A15=\"\",\"\",VLOOKUP(A15,Data!G$2:K$302,2,FALSE))","v":""},{"$f":"IF(A15=\"\",\"\",VLOOKUP(A15,Data!G$2:K$302,3,FALSE))","v":""},{"$f":"IF(A15=\"\",\"\",VLOOKUP(A15,Data!G$2:K$302,4,FALSE))","v":""},null,null,null,null,null,null,null,null,null,null,null,null,null,null,null,null,null,null,null,null,null,null,null,null,null,0,null,{"$f":"MATCH(\"*\"&AD$1&\"*\",OFFSET(Inscriptions!G$4:G$303,SUM('J4'!AG$6:'J4'!AG14),0),0)","v":{"$error":"#N/A"}}]
[{"$f":"IF(ISNA(INDEX(Inscriptions!A$4:A$303,SUM('J4'!AG$7:'J4'!AG16))),\"\",INDEX(Inscriptions!A$4:A$303,SUM('J4'!AG$7:'J4'!AG16)))","v":""},{"$f":"IF(A16=\"\",\"\",VLOOKUP(A16,Data!G$2:K$302,5,FALSE))","v":""},{"$f":"IF(A16=\"\",\"\",VLOOKUP(A16,Data!G$2:K$302,2,FALSE))","v":""},{"$f":"IF(A16=\"\",\"\",VLOOKUP(A16,Data!G$2:K$302,3,FALSE))","v":""},{"$f":"IF(A16=\"\",\"\",VLOOKUP(A16,Data!G$2:K$302,4,FALSE))","v":""},null,null,null,null,null,null,null,null,null,null,null,null,null,null,null,null,null,null,null,null,null,null,null,null,null,0,null,{"$f":"MATCH(\"*\"&AD$1&\"*\",OFFSET(Inscriptions!G$4:G$303,SUM('J4'!AG$6:'J4'!AG15),0),0)","v":{"$error":"#N/A"}}]
[{"$f":"IF(ISNA(INDEX(Inscriptions!A$4:A$303,SUM('J4'!AG$7:'J4'!AG17))),\"\",INDEX(Inscriptions!A$4:A$303,SUM('J4'!AG$7:'J4'!AG17)))","v":""},{"$f":"IF(A17=\"\",\"\",VLOOKUP(A17,Data!G$2:K$302,5,FALSE))","v":""},{"$f":"IF(A17=\"\",\"\",VLOOKUP(A17,Data!G$2:K$302,2,FALSE))","v":""},{"$f":"IF(A17=\"\",\"\",VLOOKUP(A17,Data!G$2:K$302,3,FALSE))","v":""},{"$f":"IF(A17=\"\",\"\",VLOOKUP(A17,Data!G$2:K$302,4,FALSE))","v":""},null,null,null,null,null,null,null,null,null,null,null,null,null,null,null,null,null,null,null,null,null,null,null,null,null,0,null,{"$f":"MATCH(\"*\"&AD$1&\"*\",OFFSET(Inscriptions!G$4:G$303,SUM('J4'!AG$6:'J4'!AG16),0),0)","v":{"$error":"#N/A"}}]
[{"$f":"IF(ISNA(INDEX(Inscriptions!A$4:A$303,SUM('J4'!AG$7:'J4'!AG18))),\"\",INDEX(Inscriptions!A$4:A$303,SUM('J4'!AG$7:'J4'!AG18)))","v":""},{"$f":"IF(A18=\"\",\"\",VLOOKUP(A18,Data!G$2:K$302,5,FALSE))","v":""},{"$f":"IF(A18=\"\",\"\",VLOOKUP(A18,Data!G$2:K$302,2,FALSE))","v":""},{"$f":"IF(A18=\"\",\"\",VLOOKUP(A18,Data!G$2:K$302,3,FALSE))","v":""},{"$f":"IF(A18=\"\",\"\",VLOOKUP(A18,Data!G$2:K$302,4,FALSE))","v":""},null,null,null,null,null,null,null,null,null,null,null,null,null,null,null,null,null,null,null,null,null,null,null,null,null,0,null,{"$f":"MATCH(\"*\"&AD$1&\"*\",OFFSET(Inscriptions!G$4:G$303,SUM('J4'!AG$6:'J4'!AG17),0),0)","v":{"$error":"#N/A"}}]
[{"$f":"IF(ISNA(INDEX(Inscriptions!A$4:A$303,SUM('J4'!AG$7:'J4'!AG19))),\"\",INDEX(Inscriptions!A$4:A$303,SUM('J4'!AG$7:'J4'!AG19)))","v":""},{"$f":"IF(A19=\"\",\"\",VLOOKUP(A19,Data!G$2:K$302,5,FALSE))","v":""},{"$f":"IF(A19=\"\",\"\",VLOOKUP(A19,Data!G$2:K$302,2,FALSE))","v":""},{"$f":"IF(A19=\"\",\"\",VLOOKUP(A19,Data!G$2:K$302,3,FALSE))","v":""},{"$f":"IF(A19=\"\",\"\",VLOOKUP(A19,Data!G$2:K$302,4,FALSE))","v":""},null,null,null,null,null,null,null,null,null,null,null,null,null,null,null,null,null,null,null,null,null,null,null,null,null,0,null,{"$f":"MATCH(\"*\"&AD$1&\"*\",OFFSET(Inscriptions!G$4:G$303,SUM('J4'!AG$6:'J4'!AG18),0),0)","v":{"$error":"#N/A"}}]
[{"$f":"IF(ISNA(INDEX(Inscriptions!A$4:A$303,SUM('J4'!AG$7:'J4'!AG20))),\"\",INDEX(Inscriptions!A$4:A$303,SUM('J4'!AG$7:'J4'!AG20)))","v":""},{"$f":"IF(A20=\"\",\"\",VLOOKUP(A20,Data!G$2:K$302,5,FALSE))","v":""},{"$f":"IF(A20=\"\",\"\",VLOOKUP(A20,Data!G$2:K$302,2,FALSE))","v":""},{"$f":"IF(A20=\"\",\"\",VLOOKUP(A20,Data!G$2:K$302,3,FALSE))","v":""},{"$f":"IF(A20=\"\",\"\",VLOOKUP(A20,Data!G$2:K$302,4,FALSE))","v":""},null,null,null,null,null,null,null,null,null,null,null,null,null,null,null,null,null,null,null,null,null,null,null,null,null,0,null,{"$f":"MATCH(\"*\"&AD$1&\"*\",OFFSET(Inscriptions!G$4:G$303,SUM('J4'!AG$6:'J4'!AG19),0),0)","v":{"$error":"#N/A"}}]
[{"$f":"IF(ISNA(INDEX(Inscriptions!A$4:A$303,SUM('J4'!AG$7:'J4'!AG21))),\"\",INDEX(Inscriptions!A$4:A$303,SUM('J4'!AG$7:'J4'!AG21)))","v":""},{"$f":"IF(A21=\"\",\"\",VLOOKUP(A21,Data!G$2:K$302,5,FALSE))","v":""},{"$f":"IF(A21=\"\",\"\",VLOOKUP(A21,Data!G$2:K$302,2,FALSE))","v":""},{"$f":"IF(A21=\"\",\"\",VLOOKUP(A21,Data!G$2:K$302,3,FALSE))","v":""},{"$f":"IF(A21=\"\",\"\",VLOOKUP(A21,Data!G$2:K$302,4,FALSE))","v":""},null,null,null,null,null,null,null,null,null,null,null,null,null,null,null,null,null,null,null,null,null,null,null,null,null,0,null,{"$f":"MATCH(\"*\"&AD$1&\"*\",OFFSET(Inscriptions!G$4:G$303,SUM('J4'!AG$6:'J4'!AG20),0),0)","v":{"$error":"#N/A"}}]
[{"$f":"IF(ISNA(INDEX(Inscriptions!A$4:A$303,SUM('J4'!AG$7:'J4'!AG22))),\"\",INDEX(Inscriptions!A$4:A$303,SUM('J4'!AG$7:'J4'!AG22)))","v":""},{"$f":"IF(A22=\"\",\"\",VLOOKUP(A22,Data!G$2:K$302,5,FALSE))","v":""},{"$f":"IF(A22=\"\",\"\",VLOOKUP(A22,Data!G$2:K$302,2,FALSE))","v":""},{"$f":"IF(A22=\"\",\"\",VLOOKUP(A22,Data!G$2:K$302,3,FALSE))","v":""},{"$f":"IF(A22=\"\",\"\",VLOOKUP(A22,Data!G$2:K$302,4,FALSE))","v":""},null,null,null,null,null,null,null,null,null,null,null,null,null,null,null,null,null,null,null,null,null,null,null,null,null,0,null,{"$f":"MATCH(\"*\"&AD$1&\"*\",OFFSET(Inscriptions!G$4:G$303,SUM('J4'!AG$6:'J4'!AG21),0),0)","v":{"$error":"#N/A"}}]
[{"$f":"IF(ISNA(INDEX(Inscriptions!A$4:A$303,SUM('J4'!AG$7:'J4'!AG23))),\"\",INDEX(Inscriptions!A$4:A$303,SUM('J4'!AG$7:'J4'!AG23)))","v":""},{"$f":"IF(A23=\"\",\"\",VLOOKUP(A23,Data!G$2:K$302,5,FALSE))","v":""},{"$f":"IF(A23=\"\",\"\",VLOOKUP(A23,Data!G$2:K$302,2,FALSE))","v":""},{"$f":"IF(A23=\"\",\"\",VLOOKUP(A23,Data!G$2:K$302,3,FALSE))","v":""},{"$f":"IF(A23=\"\",\"\",VLOOKUP(A23,Data!G$2:K$302,4,FALSE))","v":""},null,null,null,null,null,null,null,null,null,null,null,null,null,null,null,null,null,null,null,null,null,null,null,null,null,0,null,{"$f":"MATCH(\"*\"&AD$1&\"*\",OFFSET(Inscriptions!G$4:G$303,SUM('J4'!AG$6:'J4'!AG22),0),0)","v":{"$error":"#N/A"}}]
[{"$f":"IF(ISNA(INDEX(Inscriptions!A$4:A$303,SUM('J4'!AG$7:'J4'!AG24))),\"\",INDEX(Inscriptions!A$4:A$303,SUM('J4'!AG$7:'J4'!AG24)))","v":""},{"$f":"IF(A24=\"\",\"\",VLOOKUP(A24,Data!G$2:K$302,5,FALSE))","v":""},{"$f":"IF(A24=\"\",\"\",VLOOKUP(A24,Data!G$2:K$302,2,FALSE))","v":""},{"$f":"IF(A24=\"\",\"\",VLOOKUP(A24,Data!G$2:K$302,3,FALSE))","v":""},{"$f":"IF(A24=\"\",\"\",VLOOKUP(A24,Data!G$2:K$302,4,FALSE))","v":""},null,null,null,null,null,null,null,null,null,null,null,null,null,null,null,null,null,null,null,null,null,null,null,null,null,0,null,{"$f":"MATCH(\"*\"&AD$1&\"*\",OFFSET(Inscriptions!G$4:G$303,SUM('J4'!AG$6:'J4'!AG23),0),0)","v":{"$error":"#N/A"}}]
[{"$f":"IF(ISNA(INDEX(Inscriptions!A$4:A$303,SUM('J4'!AG$7:'J4'!AG25))),\"\",INDEX(Inscriptions!A$4:A$303,SUM('J4'!AG$7:'J4'!AG25)))","v":""},{"$f":"IF(A25=\"\",\"\",VLOOKUP(A25,Data!G$2:K$302,5,FALSE))","v":""},{"$f":"IF(A25=\"\",\"\",VLOOKUP(A25,Data!G$2:K$302,2,FALSE))","v":""},{"$f":"IF(A25=\"\",\"\",VLOOKUP(A25,Data!G$2:K$302,3,FALSE))","v":""},{"$f":"IF(A25=\"\",\"\",VLOOKUP(A25,Data!G$2:K$302,4,FALSE))","v":""},null,null,null,null,null,null,null,null,null,null,null,null,null,null,null,null,null,null,null,null,null,null,null,null,null,0,null,{"$f":"MATCH(\"*\"&AD$1&\"*\",OFFSET(Inscriptions!G$4:G$303,SUM('J4'!AG$6:'J4'!AG24),0),0)","v":{"$error":"#N/A"}}]
[{"$f":"IF(ISNA(INDEX(Inscriptions!A$4:A$303,SUM('J4'!AG$7:'J4'!AG26))),\"\",INDEX(Inscriptions!A$4:A$303,SUM('J4'!AG$7:'J4'!AG26)))","v":""},{"$f":"IF(A26=\"\",\"\",VLOOKUP(A26,Data!G$2:K$302,5,FALSE))","v":""},{"$f":"IF(A26=\"\",\"\",VLOOKUP(A26,Data!G$2:K$302,2,FALSE))","v":""},{"$f":"IF(A26=\"\",\"\",VLOOKUP(A26,Data!G$2:K$302,3,FALSE))","v":""},{"$f":"IF(A26=\"\",\"\",VLOOKUP(A26,Data!G$2:K$302,4,FALSE))","v":""},null,null,null,null,null,null,null,null,null,null,null,null,null,null,null,null,null,null,null,null,null,null,null,null,null,0,null,{"$f":"MATCH(\"*\"&AD$1&\"*\",OFFSET(Inscriptions!G$4:G$303,SUM('J4'!AG$6:'J4'!AG25),0),0)","v":{"$error":"#N/A"}}]
[{"$f":"IF(ISNA(INDEX(Inscriptions!A$4:A$303,SUM('J4'!AG$7:'J4'!AG27))),\"\",INDEX(Inscriptions!A$4:A$303,SUM('J4'!AG$7:'J4'!AG27)))","v":""},{"$f":"IF(A27=\"\",\"\",VLOOKUP(A27,Data!G$2:K$302,5,FALSE))","v":""},{"$f":"IF(A27=\"\",\"\",VLOOKUP(A27,Data!G$2:K$302,2,FALSE))","v":""},{"$f":"IF(A27=\"\",\"\",VLOOKUP(A27,Data!G$2:K$302,3,FALSE))","v":""},{"$f":"IF(A27=\"\",\"\",VLOOKUP(A27,Data!G$2:K$302,4,FALSE))","v":""},null,null,null,null,null,null,null,null,null,null,null,null,null,null,null,null,null,null,null,null,null,null,null,null,null,0,null,{"$f":"MATCH(\"*\"&AD$1&\"*\",OFFSET(Inscriptions!G$4:G$303,SUM('J4'!AG$6:'J4'!AG26),0),0)","v":{"$error":"#N/A"}}]
[{"$f":"IF(ISNA(INDEX(Inscriptions!A$4:A$303,SUM('J4'!AG$7:'J4'!AG28))),\"\",INDEX(Inscriptions!A$4:A$303,SUM('J4'!AG$7:'J4'!AG28)))","v":""},{"$f":"IF(A28=\"\",\"\",VLOOKUP(A28,Data!G$2:K$302,5,FALSE))","v":""},{"$f":"IF(A28=\"\",\"\",VLOOKUP(A28,Data!G$2:K$302,2,FALSE))","v":""},{"$f":"IF(A28=\"\",\"\",VLOOKUP(A28,Data!G$2:K$302,3,FALSE))","v":""},{"$f":"IF(A28=\"\",\"\",VLOOKUP(A28,Data!G$2:K$302,4,FALSE))","v":""},null,null,null,null,null,null,null,null,null,null,null,null,null,null,null,null,null,null,null,null,null,null,null,null,null,0,null,{"$f":"MATCH(\"*\"&AD$1&\"*\",OFFSET(Inscriptions!G$4:G$303,SUM('J4'!AG$6:'J4'!AG27),0),0)","v":{"$error":"#N/A"}}]
[{"$f":"IF(ISNA(INDEX(Inscriptions!A$4:A$303,SUM('J4'!AG$7:'J4'!AG29))),\"\",INDEX(Inscriptions!A$4:A$303,SUM('J4'!AG$7:'J4'!AG29)))","v":""},{"$f":"IF(A29=\"\",\"\",VLOOKUP(A29,Data!G$2:K$302,5,FALSE))","v":""},{"$f":"IF(A29=\"\",\"\",VLOOKUP(A29,Data!G$2:K$302,2,FALSE))","v":""},{"$f":"IF(A29=\"\",\"\",VLOOKUP(A29,Data!G$2:K$302,3,FALSE))","v":""},{"$f":"IF(A29=\"\",\"\",VLOOKUP(A29,Data!G$2:K$302,4,FALSE))","v":""},null,null,null,null,null,null,null,null,null,null,null,null,null,null,null,null,null,null,null,null,null,null,null,null,null,0,null,{"$f":"MATCH(\"*\"&AD$1&\"*\",OFFSET(Inscriptions!G$4:G$303,SUM('J4'!AG$6:'J4'!AG28),0),0)","v":{"$error":"#N/A"}}]
[{"$f":"IF(ISNA(INDEX(Inscriptions!A$4:A$303,SUM('J4'!AG$7:'J4'!AG30))),\"\",INDEX(Inscriptions!A$4:A$303,SUM('J4'!AG$7:'J4'!AG30)))","v":""},{"$f":"IF(A30=\"\",\"\",VLOOKUP(A30,Data!G$2:K$302,5,FALSE))","v":""},{"$f":"IF(A30=\"\",\"\",VLOOKUP(A30,Data!G$2:K$302,2,FALSE))","v":""},{"$f":"IF(A30=\"\",\"\",VLOOKUP(A30,Data!G$2:K$302,3,FALSE))","v":""},{"$f":"IF(A30=\"\",\"\",VLOOKUP(A30,Data!G$2:K$302,4,FALSE))","v":""},null,null,null,null,null,null,null,null,null,null,null,null,null,null,null,null,null,null,null,null,null,null,null,null,null,0,null,{"$f":"MATCH(\"*\"&AD$1&\"*\",OFFSET(Inscriptions!G$4:G$303,SUM('J4'!AG$6:'J4'!AG29),0),0)","v":{"$error":"#N/A"}}]
[{"$f":"IF(ISNA(INDEX(Inscriptions!A$4:A$303,SUM('J4'!AG$7:'J4'!AG31))),\"\",INDEX(Inscriptions!A$4:A$303,SUM('J4'!AG$7:'J4'!AG31)))","v":""},{"$f":"IF(A31=\"\",\"\",VLOOKUP(A31,Data!G$2:K$302,5,FALSE))","v":""},{"$f":"IF(A31=\"\",\"\",VLOOKUP(A31,Data!G$2:K$302,2,FALSE))","v":""},{"$f":"IF(A31=\"\",\"\",VLOOKUP(A31,Data!G$2:K$302,3,FALSE))","v":""},{"$f":"IF(A31=\"\",\"\",VLOOKUP(A31,Data!G$2:K$302,4,FALSE))","v":""},null,null,null,null,null,null,null,null,null,null,null,null,null,null,null,null,null,null,null,null,null,null,null,null,null,0,null,{"$f":"MATCH(\"*\"&AD$1&\"*\",OFFSET(Inscriptions!G$4:G$303,SUM('J4'!AG$6:'J4'!AG30),0),0)","v":{"$error":"#N/A"}}]
[{"$f":"IF(ISNA(INDEX(Inscriptions!A$4:A$303,SUM('J4'!AG$7:'J4'!AG32))),\"\",INDEX(Inscriptions!A$4:A$303,SUM('J4'!AG$7:'J4'!AG32)))","v":""},{"$f":"IF(A32=\"\",\"\",VLOOKUP(A32,Data!G$2:K$302,5,FALSE))","v":""},{"$f":"IF(A32=\"\",\"\",VLOOKUP(A32,Data!G$2:K$302,2,FALSE))","v":""},{"$f":"IF(A32=\"\",\"\",VLOOKUP(A32,Data!G$2:K$302,3,FALSE))","v":""},{"$f":"IF(A32=\"\",\"\",VLOOKUP(A32,Data!G$2:K$302,4,FALSE))","v":""},null,null,null,null,null,null,null,null,null,null,null,null,null,null,null,null,null,null,null,null,null,null,null,null,null,0,null,{"$f":"MATCH(\"*\"&AD$1&\"*\",OFFSET(Inscriptions!G$4:G$303,SUM('J4'!AG$6:'J4'!AG31),0),0)","v":{"$error":"#N/A"}}]
[{"$f":"IF(ISNA(INDEX(Inscriptions!A$4:A$303,SUM('J4'!AG$7:'J4'!AG33))),\"\",INDEX(Inscriptions!A$4:A$303,SUM('J4'!AG$7:'J4'!AG33)))","v":""},{"$f":"IF(A33=\"\",\"\",VLOOKUP(A33,Data!G$2:K$302,5,FALSE))","v":""},{"$f":"IF(A33=\"\",\"\",VLOOKUP(A33,Data!G$2:K$302,2,FALSE))","v":""},{"$f":"IF(A33=\"\",\"\",VLOOKUP(A33,Data!G$2:K$302,3,FALSE))","v":""},{"$f":"IF(A33=\"\",\"\",VLOOKUP(A33,Data!G$2:K$302,4,FALSE))","v":""},null,null,null,null,null,null,null,null,null,null,null,null,null,null,null,null,null,null,null,null,null,null,null,null,null,0,null,{"$f":"MATCH(\"*\"&AD$1&\"*\",OFFSET(Inscriptions!G$4:G$303,SUM('J4'!AG$6:'J4'!AG32),0),0)","v":{"$error":"#N/A"}}]
[{"$f":"IF(ISNA(INDEX(Inscriptions!A$4:A$303,SUM('J4'!AG$7:'J4'!AG34))),\"\",INDEX(Inscriptions!A$4:A$303,SUM('J4'!AG$7:'J4'!AG34)))","v":""},{"$f":"IF(A34=\"\",\"\",VLOOKUP(A34,Data!G$2:K$302,5,FALSE))","v":""},{"$f":"IF(A34=\"\",\"\",VLOOKUP(A34,Data!G$2:K$302,2,FALSE))","v":""},{"$f":"IF(A34=\"\",\"\",VLOOKUP(A34,Data!G$2:K$302,3,FALSE))","v":""},{"$f":"IF(A34=\"\",\"\",VLOOKUP(A34,Data!G$2:K$302,4,FALSE))","v":""},null,null,null,null,null,null,null,null,null,null,null,null,null,null,null,null,null,null,null,null,null,null,null,null,null,0,null,{"$f":"MATCH(\"*\"&AD$1&\"*\",OFFSET(Inscriptions!G$4:G$303,SUM('J4'!AG$6:'J4'!AG33),0),0)","v":{"$error":"#N/A"}}]
[{"$f":"IF(ISNA(INDEX(Inscriptions!A$4:A$303,SUM('J4'!AG$7:'J4'!AG35))),\"\",INDEX(Inscriptions!A$4:A$303,SUM('J4'!AG$7:'J4'!AG35)))","v":""},{"$f":"IF(A35=\"\",\"\",VLOOKUP(A35,Data!G$2:K$302,5,FALSE))","v":""},{"$f":"IF(A35=\"\",\"\",VLOOKUP(A35,Data!G$2:K$302,2,FALSE))","v":""},{"$f":"IF(A35=\"\",\"\",VLOOKUP(A35,Data!G$2:K$302,3,FALSE))","v":""},{"$f":"IF(A35=\"\",\"\",VLOOKUP(A35,Data!G$2:K$302,4,FALSE))","v":""},null,null,null,null,null,null,null,null,null,null,null,null,null,null,null,null,null,null,null,null,null,null,null,null,null,0,null,{"$f":"MATCH(\"*\"&AD$1&\"*\",OFFSET(Inscriptions!G$4:G$303,SUM('J4'!AG$6:'J4'!AG34),0),0)","v":{"$error":"#N/A"}}]
[{"$f":"IF(ISNA(INDEX(Inscriptions!A$4:A$303,SUM('J4'!AG$7:'J4'!AG36))),\"\",INDEX(Inscriptions!A$4:A$303,SUM('J4'!AG$7:'J4'!AG36)))","v":""},{"$f":"IF(A36=\"\",\"\",VLOOKUP(A36,Data!G$2:K$302,5,FALSE))","v":""},{"$f":"IF(A36=\"\",\"\",VLOOKUP(A36,Data!G$2:K$302,2,FALSE))","v":""},{"$f":"IF(A36=\"\",\"\",VLOOKUP(A36,Data!G$2:K$302,3,FALSE))","v":""},{"$f":"IF(A36=\"\",\"\",VLOOKUP(A36,Data!G$2:K$302,4,FALSE))","v":""},null,null,null,null,null,null,null,null,null,null,null,null,null,null,null,null,null,null,null,null,null,null,null,null,null,0,null,{"$f":"MATCH(\"*\"&AD$1&\"*\",OFFSET(Inscriptions!G$4:G$303,SUM('J4'!AG$6:'J4'!AG35),0),0)","v":{"$error":"#N/A"}}]
[{"$f":"IF(ISNA(INDEX(Inscriptions!A$4:A$303,SUM('J4'!AG$7:'J4'!AG37))),\"\",INDEX(Inscriptions!A$4:A$303,SUM('J4'!AG$7:'J4'!AG37)))","v":""},{"$f":"IF(A37=\"\",\"\",VLOOKUP(A37,Data!G$2:K$302,5,FALSE))","v":""},{"$f":"IF(A37=\"\",\"\",VLOOKUP(A37,Data!G$2:K$302,2,FALSE))","v":""},{"$f":"IF(A37=\"\",\"\",VLOOKUP(A37,Data!G$2:K$302,3,FALSE))","v":""},{"$f":"IF(A37=\"\",\"\",VLOOKUP(A37,Data!G$2:K$302,4,FALSE))","v":""},null,null,null,null,null,null,null,null,null,null,null,null,null,null,null,null,null,null,null,null,null,null,null,null,null,0,null,{"$f":"MATCH(\"*\"&AD$1&\"*\",OFFSET(Inscriptions!G$4:G$303,SUM('J4'!AG$6:'J4'!AG36),0),0)","v":{"$error":"#N/A"}}]
[{"$f":"IF(ISNA(INDEX(Inscriptions!A$4:A$303,SUM('J4'!AG$7:'J4'!AG38))),\"\",INDEX(Inscriptions!A$4:A$303,SUM('J4'!AG$7:'J4'!AG38)))","v":""},{"$f":"IF(A38=\"\",\"\",VLOOKUP(A38,Data!G$2:K$302,5,FALSE))","v":""},{"$f":"IF(A38=\"\",\"\",VLOOKUP(A38,Data!G$2:K$302,2,FALSE))","v":""},{"$f":"IF(A38=\"\",\"\",VLOOKUP(A38,Data!G$2:K$302,3,FALSE))","v":""},{"$f":"IF(A38=\"\",\"\",VLOOKUP(A38,Data!G$2:K$302,4,FALSE))","v":""},null,null,null,null,null,null,null,null,null,null,null,null,null,null,null,null,null,null,null,null,null,null,null,null,null,0,null,{"$f":"MATCH(\"*\"&AD$1&\"*\",OFFSET(Inscriptions!G$4:G$303,SUM('J4'!AG$6:'J4'!AG37),0),0)","v":{"$error":"#N/A"}}]
[{"$f":"IF(ISNA(INDEX(Inscriptions!A$4:A$303,SUM('J4'!AG$7:'J4'!AG39))),\"\",INDEX(Inscriptions!A$4:A$303,SUM('J4'!AG$7:'J4'!AG39)))","v":""},{"$f":"IF(A39=\"\",\"\",VLOOKUP(A39,Data!G$2:K$302,5,FALSE))","v":""},{"$f":"IF(A39=\"\",\"\",VLOOKUP(A39,Data!G$2:K$302,2,FALSE))","v":""},{"$f":"IF(A39=\"\",\"\",VLOOKUP(A39,Data!G$2:K$302,3,FALSE))","v":""},{"$f":"IF(A39=\"\",\"\",VLOOKUP(A39,Data!G$2:K$302,4,FALSE))","v":""},null,null,null,null,null,null,null,null,null,null,null,null,null,null,null,null,null,null,null,null,null,null,null,null,null,{"$f":"IF(A39<>\"\",1,0)","v":0},null,{"$f":"MATCH(\"*\"&AD$1&\"*\",OFFSET(Inscriptions!G$4:G$303,SUM('J4'!AG$6:'J4'!AG38),0),0)","v":{"$error":"#N/A"}}]
[{"$f":"IF(ISNA(INDEX(Inscriptions!A$4:A$303,SUM('J4'!AG$7:'J4'!AG40))),\"\",INDEX(Inscriptions!A$4:A$303,SUM('J4'!AG$7:'J4'!AG40)))","v":""},{"$f":"IF(A40=\"\",\"\",VLOOKUP(A40,Data!G$2:K$302,5,FALSE))","v":""},{"$f":"IF(A40=\"\",\"\",VLOOKUP(A40,Data!G$2:K$302,2,FALSE))","v":""},{"$f":"IF(A40=\"\",\"\",VLOOKUP(A40,Data!G$2:K$302,3,FALSE))","v":""},{"$f":"IF(A40=\"\",\"\",VLOOKUP(A40,Data!G$2:K$302,4,FALSE))","v":""},null,null,null,null,null,null,null,null,null,null,null,null,null,null,null,null,null,null,null,null,null,null,null,null,null,0,null,{"$f":"MATCH(\"*\"&AD$1&\"*\",OFFSET(Inscriptions!G$4:G$303,SUM('J4'!AG$6:'J4'!AG39),0),0)","v":{"$error":"#N/A"}}]
[{"$f":"IF(ISNA(INDEX(Inscriptions!A$4:A$303,SUM('J4'!AG$7:'J4'!AG41))),\"\",INDEX(Inscriptions!A$4:A$303,SUM('J4'!AG$7:'J4'!AG41)))","v":""},{"$f":"IF(A41=\"\",\"\",VLOOKUP(A41,Data!G$2:K$302,5,FALSE))","v":""},{"$f":"IF(A41=\"\",\"\",VLOOKUP(A41,Data!G$2:K$302,2,FALSE))","v":""},{"$f":"IF(A41=\"\",\"\",VLOOKUP(A41,Data!G$2:K$302,3,FALSE))","v":""},{"$f":"IF(A41=\"\",\"\",VLOOKUP(A41,Data!G$2:K$302,4,FALSE))","v":""},null,null,null,null,null,null,null,null,null,null,null,null,null,null,null,null,null,null,null,null,null,null,null,null,null,0,null,{"$f":"MATCH(\"*\"&AD$1&\"*\",OFFSET(Inscriptions!G$4:G$303,SUM('J4'!AG$6:'J4'!AG40),0),0)","v":{"$error":"#N/A"}}]
[{"$f":"IF(ISNA(INDEX(Inscriptions!A$4:A$303,SUM('J4'!AG$7:'J4'!AG42))),\"\",INDEX(Inscriptions!A$4:A$303,SUM('J4'!AG$7:'J4'!AG42)))","v":""},{"$f":"IF(A42=\"\",\"\",VLOOKUP(A42,Data!G$2:K$302,5,FALSE))","v":""},{"$f":"IF(A42=\"\",\"\",VLOOKUP(A42,Data!G$2:K$302,2,FALSE))","v":""},{"$f":"IF(A42=\"\",\"\",VLOOKUP(A42,Data!G$2:K$302,3,FALSE))","v":""},{"$f":"IF(A42=\"\",\"\",VLOOKUP(A42,Data!G$2:K$302,4,FALSE))","v":""},null,null,null,null,null,null,null,null,null,null,null,null,null,null,null,null,null,null,null,null,null,null,null,null,null,0,null,{"$f":"MATCH(\"*\"&AD$1&\"*\",OFFSET(Inscriptions!G$4:G$303,SUM('J4'!AG$6:'J4'!AG41),0),0)","v":{"$error":"#N/A"}}]
[{"$f":"IF(ISNA(INDEX(Inscriptions!A$4:A$303,SUM('J4'!AG$7:'J4'!AG43))),\"\",INDEX(Inscriptions!A$4:A$303,SUM('J4'!AG$7:'J4'!AG43)))","v":""},{"$f":"IF(A43=\"\",\"\",VLOOKUP(A43,Data!G$2:K$302,5,FALSE))","v":""},{"$f":"IF(A43=\"\",\"\",VLOOKUP(A43,Data!G$2:K$302,2,FALSE))","v":""},{"$f":"IF(A43=\"\",\"\",VLOOKUP(A43,Data!G$2:K$302,3,FALSE))","v":""},{"$f":"IF(A43=\"\",\"\",VLOOKUP(A43,Data!G$2:K$302,4,FALSE))","v":""},null,null,null,null,null,null,null,null,null,null,null,null,null,null,null,null,null,null,null,null,null,null,null,null,null,0,null,{"$f":"MATCH(\"*\"&AD$1&\"*\",OFFSET(Inscriptions!G$4:G$303,SUM('J4'!AG$6:'J4'!AG42),0),0)","v":{"$error":"#N/A"}}]
[{"$f":"IF(ISNA(INDEX(Inscriptions!A$4:A$303,SUM('J4'!AG$7:'J4'!AG44))),\"\",INDEX(Inscriptions!A$4:A$303,SUM('J4'!AG$7:'J4'!AG44)))","v":""},{"$f":"IF(A44=\"\",\"\",VLOOKUP(A44,Data!G$2:K$302,5,FALSE))","v":""},{"$f":"IF(A44=\"\",\"\",VLOOKUP(A44,Data!G$2:K$302,2,FALSE))","v":""},{"$f":"IF(A44=\"\",\"\",VLOOKUP(A44,Data!G$2:K$302,3,FALSE))","v":""},{"$f":"IF(A44=\"\",\"\",VLOOKUP(A44,Data!G$2:K$302,4,FALSE))","v":""},null,null,null,null,null,null,null,null,null,null,null,null,null,null,null,null,null,null,null,null,null,null,null,null,null,0,null,{"$f":"MATCH(\"*\"&AD$1&\"*\",OFFSET(Inscriptions!G$4:G$303,SUM('J4'!AG$6:'J4'!AG43),0),0)","v":{"$error":"#N/A"}}]
[{"$f":"IF(ISNA(INDEX(Inscriptions!A$4:A$303,SUM('J4'!AG$7:'J4'!AG45))),\"\",INDEX(Inscriptions!A$4:A$303,SUM('J4'!AG$7:'J4'!AG45)))","v":""},{"$f":"IF(A45=\"\",\"\",VLOOKUP(A45,Data!G$2:K$302,5,FALSE))","v":""},{"$f":"IF(A45=\"\",\"\",VLOOKUP(A45,Data!G$2:K$302,2,FALSE))","v":""},{"$f":"IF(A45=\"\",\"\",VLOOKUP(A45,Data!G$2:K$302,3,FALSE))","v":""},{"$f":"IF(A45=\"\",\"\",VLOOKUP(A45,Data!G$2:K$302,4,FALSE))","v":""},null,null,null,null,null,null,null,null,null,null,null,null,null,null,null,null,null,null,null,null,null,null,null,null,null,0,null,{"$f":"MATCH(\"*\"&AD$1&\"*\",OFFSET(Inscriptions!G$4:G$303,SUM('J4'!AG$6:'J4'!AG44),0),0)","v":{"$error":"#N/A"}}]
[{"$f":"IF(ISNA(INDEX(Inscriptions!A$4:A$303,SUM('J4'!AG$7:'J4'!AG46))),\"\",INDEX(Inscriptions!A$4:A$303,SUM('J4'!AG$7:'J4'!AG46)))","v":""},{"$f":"IF(A46=\"\",\"\",VLOOKUP(A46,Data!G$2:K$302,5,FALSE))","v":""},{"$f":"IF(A46=\"\",\"\",VLOOKUP(A46,Data!G$2:K$302,2,FALSE))","v":""},{"$f":"IF(A46=\"\",\"\",VLOOKUP(A46,Data!G$2:K$302,3,FALSE))","v":""},{"$f":"IF(A46=\"\",\"\",VLOOKUP(A46,Data!G$2:K$302,4,FALSE))","v":""},null,null,null,null,null,null,null,null,null,null,null,null,null,null,null,null,null,null,null,null,null,null,null,null,null,0,null,{"$f":"MATCH(\"*\"&AD$1&\"*\",OFFSET(Inscriptions!G$4:G$303,SUM('J4'!AG$6:'J4'!AG45),0),0)","v":{"$error":"#N/A"}}]
[{"$f":"IF(ISNA(INDEX(Inscriptions!A$4:A$303,SUM('J4'!AG$7:'J4'!AG47))),\"\",INDEX(Inscriptions!A$4:A$303,SUM('J4'!AG$7:'J4'!AG47)))","v":""},{"$f":"IF(A47=\"\",\"\",VLOOKUP(A47,Data!G$2:K$302,5,FALSE))","v":""},{"$f":"IF(A47=\"\",\"\",VLOOKUP(A47,Data!G$2:K$302,2,FALSE))","v":""},{"$f":"IF(A47=\"\",\"\",VLOOKUP(A47,Data!G$2:K$302,3,FALSE))","v":""},{"$f":"IF(A47=\"\",\"\",VLOOKUP(A47,Data!G$2:K$302,4,FALSE))","v":""},null,null,null,null,null,null,null,null,null,null,null,null,null,null,null,null,null,null,null,null,null,null,null,null,null,0,null,{"$f":"MATCH(\"*\"&AD$1&\"*\",OFFSET(Inscriptions!G$4:G$303,SUM('J4'!AG$6:'J4'!AG46),0),0)","v":{"$error":"#N/A"}}]
[{"$f":"IF(ISNA(INDEX(Inscriptions!A$4:A$303,SUM('J4'!AG$7:'J4'!AG48))),\"\",INDEX(Inscriptions!A$4:A$303,SUM('J4'!AG$7:'J4'!AG48)))","v":""},{"$f":"IF(A48=\"\",\"\",VLOOKUP(A48,Data!G$2:K$302,5,FALSE))","v":""},{"$f":"IF(A48=\"\",\"\",VLOOKUP(A48,Data!G$2:K$302,2,FALSE))","v":""},{"$f":"IF(A48=\"\",\"\",VLOOKUP(A48,Data!G$2:K$302,3,FALSE))","v":""},{"$f":"IF(A48=\"\",\"\",VLOOKUP(A48,Data!G$2:K$302,4,FALSE))","v":""},null,null,null,null,null,null,null,null,null,null,null,null,null,null,null,null,null,null,null,null,null,null,null,null,null,0,null,{"$f":"MATCH(\"*\"&AD$1&\"*\",OFFSET(Inscriptions!G$4:G$303,SUM('J4'!AG$6:'J4'!AG47),0),0)","v":{"$error":"#N/A"}}]
[{"$f":"IF(ISNA(INDEX(Inscriptions!A$4:A$303,SUM('J4'!AG$7:'J4'!AG49))),\"\",INDEX(Inscriptions!A$4:A$303,SUM('J4'!AG$7:'J4'!AG49)))","v":""},{"$f":"IF(A49=\"\",\"\",VLOOKUP(A49,Data!G$2:K$302,5,FALSE))","v":""},{"$f":"IF(A49=\"\",\"\",VLOOKUP(A49,Data!G$2:K$302,2,FALSE))","v":""},{"$f":"IF(A49=\"\",\"\",VLOOKUP(A49,Data!G$2:K$302,3,FALSE))","v":""},{"$f":"IF(A49=\"\",\"\",VLOOKUP(A49,Data!G$2:K$302,4,FALSE))","v":""},null,null,null,null,null,null,null,null,null,null,null,null,null,null,null,null,null,null,null,null,null,null,null,null,null,0,null,{"$f":"MATCH(\"*\"&AD$1&\"*\",OFFSET(Inscriptions!G$4:G$303,SUM('J4'!AG$6:'J4'!AG48),0),0)","v":{"$error":"#N/A"}}]
[{"$f":"IF(ISNA(INDEX(Inscriptions!A$4:A$303,SUM('J4'!AG$7:'J4'!AG50))),\"\",INDEX(Inscriptions!A$4:A$303,SUM('J4'!AG$7:'J4'!AG50)))","v":""},{"$f":"IF(A50=\"\",\"\",VLOOKUP(A50,Data!G$2:K$302,5,FALSE))","v":""},{"$f":"IF(A50=\"\",\"\",VLOOKUP(A50,Data!G$2:K$302,2,FALSE))","v":""},{"$f":"IF(A50=\"\",\"\",VLOOKUP(A50,Data!G$2:K$302,3,FALSE))","v":""},{"$f":"IF(A50=\"\",\"\",VLOOKUP(A50,Data!G$2:K$302,4,FALSE))","v":""},null,null,null,null,null,null,null,null,null,null,null,null,null,null,null,null,null,null,null,null,null,null,null,null,null,0,null,{"$f":"MATCH(\"*\"&AD$1&\"*\",OFFSET(Inscriptions!G$4:G$303,SUM('J4'!AG$6:'J4'!AG49),0),0)","v":{"$error":"#N/A"}}]
[{"$f":"IF(ISNA(INDEX(Inscriptions!A$4:A$303,SUM('J4'!AG$7:'J4'!AG51))),\"\",INDEX(Inscriptions!A$4:A$303,SUM('J4'!AG$7:'J4'!AG51)))","v":""},{"$f":"IF(A51=\"\",\"\",VLOOKUP(A51,Data!G$2:K$302,5,FALSE))","v":""},{"$f":"IF(A51=\"\",\"\",VLOOKUP(A51,Data!G$2:K$302,2,FALSE))","v":""},{"$f":"IF(A51=\"\",\"\",VLOOKUP(A51,Data!G$2:K$302,3,FALSE))","v":""},{"$f":"IF(A51=\"\",\"\",VLOOKUP(A51,Data!G$2:K$302,4,FALSE))","v":""},null,null,null,null,null,null,null,null,null,null,null,null,null,null,null,null,null,null,null,null,null,null,null,null,null,0,null,{"$f":"MATCH(\"*\"&AD$1&\"*\",OFFSET(Inscriptions!G$4:G$303,SUM('J4'!AG$6:'J4'!AG50),0),0)","v":{"$error":"#N/A"}}]
[{"$f":"IF(ISNA(INDEX(Inscriptions!A$4:A$303,SUM('J4'!AG$7:'J4'!AG52))),\"\",INDEX(Inscriptions!A$4:A$303,SUM('J4'!AG$7:'J4'!AG52)))","v":""},{"$f":"IF(A52=\"\",\"\",VLOOKUP(A52,Data!G$2:K$302,5,FALSE))","v":""},{"$f":"IF(A52=\"\",\"\",VLOOKUP(A52,Data!G$2:K$302,2,FALSE))","v":""},{"$f":"IF(A52=\"\",\"\",VLOOKUP(A52,Data!G$2:K$302,3,FALSE))","v":""},{"$f":"IF(A52=\"\",\"\",VLOOKUP(A52,Data!G$2:K$302,4,FALSE))","v":""},null,null,null,null,null,null,null,null,null,null,null,null,null,null,null,null,null,null,null,null,null,null,null,null,null,0,null,{"$f":"MATCH(\"*\"&AD$1&\"*\",OFFSET(Inscriptions!G$4:G$303,SUM('J4'!AG$6:'J4'!AG51),0),0)","v":{"$error":"#N/A"}}]
[{"$f":"IF(ISNA(INDEX(Inscriptions!A$4:A$303,SUM('J4'!AG$7:'J4'!AG53))),\"\",INDEX(Inscriptions!A$4:A$303,SUM('J4'!AG$7:'J4'!AG53)))","v":""},{"$f":"IF(A53=\"\",\"\",VLOOKUP(A53,Data!G$2:K$302,5,FALSE))","v":""},{"$f":"IF(A53=\"\",\"\",VLOOKUP(A53,Data!G$2:K$302,2,FALSE))","v":""},{"$f":"IF(A53=\"\",\"\",VLOOKUP(A53,Data!G$2:K$302,3,FALSE))","v":""},{"$f":"IF(A53=\"\",\"\",VLOOKUP(A53,Data!G$2:K$302,4,FALSE))","v":""},null,null,null,null,null,null,null,null,null,null,null,null,null,null,null,null,null,null,null,null,null,null,null,null,null,0,null,{"$f":"MATCH(\"*\"&AD$1&\"*\",OFFSET(Inscriptions!G$4:G$303,SUM('J4'!AG$6:'J4'!AG52),0),0)","v":{"$error":"#N/A"}}]
[{"$f":"IF(ISNA(INDEX(Inscriptions!A$4:A$303,SUM('J4'!AG$7:'J4'!AG54))),\"\",INDEX(Inscriptions!A$4:A$303,SUM('J4'!AG$7:'J4'!AG54)))","v":""},{"$f":"IF(A54=\"\",\"\",VLOOKUP(A54,Data!G$2:K$302,5,FALSE))","v":""},{"$f":"IF(A54=\"\",\"\",VLOOKUP(A54,Data!G$2:K$302,2,FALSE))","v":""},{"$f":"IF(A54=\"\",\"\",VLOOKUP(A54,Data!G$2:K$302,3,FALSE))","v":""},{"$f":"IF(A54=\"\",\"\",VLOOKUP(A54,Data!G$2:K$302,4,FALSE))","v":""},null,null,null,null,null,null,null,null,null,null,null,null,null,null,null,null,null,null,null,null,null,null,null,null,null,0,null,{"$f":"MATCH(\"*\"&AD$1&\"*\",OFFSET(Inscriptions!G$4:G$303,SUM('J4'!AG$6:'J4'!AG53),0),0)","v":{"$error":"#N/A"}}]
[{"$f":"IF(ISNA(INDEX(Inscriptions!A$4:A$303,SUM('J4'!AG$7:'J4'!AG55))),\"\",INDEX(Inscriptions!A$4:A$303,SUM('J4'!AG$7:'J4'!AG55)))","v":""},{"$f":"IF(A55=\"\",\"\",VLOOKUP(A55,Data!G$2:K$302,5,FALSE))","v":""},{"$f":"IF(A55=\"\",\"\",VLOOKUP(A55,Data!G$2:K$302,2,FALSE))","v":""},{"$f":"IF(A55=\"\",\"\",VLOOKUP(A55,Data!G$2:K$302,3,FALSE))","v":""},{"$f":"IF(A55=\"\",\"\",VLOOKUP(A55,Data!G$2:K$302,4,FALSE))","v":""},null,null,null,null,null,null,null,null,null,null,null,null,null,null,null,null,null,null,null,null,null,null,null,null,null,0,null,{"$f":"MATCH(\"*\"&AD$1&\"*\",OFFSET(Inscriptions!G$4:G$303,SUM('J4'!AG$6:'J4'!AG54),0),0)","v":{"$error":"#N/A"}}]
[{"$f":"CONCATENATE(IF(ChoixLangue=Languages!$B$1,Languages!$B105,IF(ChoixLangue=Languages!$C$1,Languages!$C105,IF(ChoixLangue=Languages!$D$1,Languages!$D105,Languages!$E105))),SUM(AE7:AE55))","v":"Nbe nageuses : 0"},"-","-","-",null,"-","-","-",null,"-"]

{"sheet":"U10","index":5,"n_rows":56,"n_cols":32,"rows_kept":56,"cut":false,"hidden":true,"merged":[[3,0,3,8]]}
[{"$f":"IF('Cover Page'!B5=\"\",\"\",'Cover Page'!B5)","v":""},null,null,null,null,null,null,null,null,null,null,null,null,null,null,null,null,null,null,null,null,null,null,null,null,null,null,null,"x",null,null,{"$f":"MID(CELL(\"filename\",A1),FIND(\"]\",CELL(\"filename\",A1),1)+1,20)","v":"U10"}]
[{"$f":"IF('Cover Page'!B6=\"\",\"\",'Cover Page'!B6)","v":""},null,null,null,null,null,null,null,{"$f":"IF(ChoixLangue=Languages!$B$1,Languages!$B$97 & \" \" & AF1,IF(ChoixLangue=Languages!$C$1,Languages!$C$97 & \" \" & AF1,IF(ChoixLangue=Languages!$D$1,Languages!$D$97 & \" \" & AF1,Languages!$E$97 & \" \" & AF1)))","v":"Catégorie U10"}]
[{"$f":"IF('Cover Page'!B7=\"\",\"\",'Cover Page'!B7)","v":""}]
[{"$f":"IF('Cover Page'!B10=\"\",\"\",CONCATENATE(IF(ChoixLangue=Languages!$B$1,Languages!$B98,IF(ChoixLangue=Languages!$C$1,Languages!$C98,IF(ChoixLangue=Languages!$D$1,Languages!$D98,Languages!$E98))),'Cover Page'!B10))","v":""}]
[{"$f":"A56","v":"Nbe nageuses : 0"}]
[{"$f":"IF(ChoixLangue=Languages!$B$1,Languages!$B99,IF(ChoixLangue=Languages!$C$1,Languages!$C99,IF(ChoixLangue=Languages!$D$1,Languages!$D99,Languages!$E99)))","v":"NOM Prénom"},{"$f":"IF(ChoixLangue=Languages!$B$1,Languages!$B100,IF(ChoixLangue=Languages!$C$1,Languages!$C100,IF(ChoixLangue=Languages!$D$1,Languages!$D100,Languages!$E100)))","v":"Club"},{"$f":"IF(ChoixLangue=Languages!$B$1,Languages!$B101,IF(ChoixLangue=Languages!$C$1,Languages!$C101,IF(ChoixLangue=Languages!$D$1,Languages!$D101,Languages!$E101)))","v":"Licence"},{"$f":"IF(ChoixLangue=Languages!$B$1,Languages!$B102,IF(ChoixLangue=Languages!$C$1,Languages!$C102,IF(ChoixLangue=Languages!$D$1,Languages!$D102,Languages!$E102)))","v":"An. Nais."},{"$f":"IF(ChoixLangue=Languages!$B$1,Languages!$B103,IF(ChoixLangue=Languages!$C$1,Languages!$C103,IF(ChoixLangue=Languages!$D$1,Languages!$D103,Languages!$E103)))","v":"N° Test"},{"$f":"IF(ChoixLangue=Languages!$B$1,Languages!$B104,IF(ChoixLangue=Languages!$C$1,Languages!$C104,IF(ChoixLangue=Languages!$D$1,Languages!$D104,Languages!$E104)))","v":"Figures"},"Solo Free","Duo Free","Team Free"]
[{"$f":"IF(ISNA(INDEX(Inscriptions!A$4:A$303,SUM('U10'!AF$7:'U10'!AF7))),\"\",INDEX(Inscriptions!A$4:A$303,SUM('U10'!AF$7:'U10'!AF7)))","v":""},{"$f":"IF(A7=\"\",\"\",VLOOKUP(A7,Data!G$2:K$302,5,FALSE))","v":""},{"$f":"IF(A7=\"\",\"\",VLOOKUP(A7,Data!G$2:K$302,2,FALSE))","v":""},{"$f":"IF(A7=\"\",\"\",VLOOKUP(A7,Data!G$2:K$302,3,FALSE))","v":""},{"$f":"IF(A7=\"\",\"\",VLOOKUP(A7,Data!G$2:K$302,4,FALSE))","v":""},null,null,null,null,null,null,null,null,null,null,null,null,null,null,null,null,null,null,null,null,null,null,null,null,{"$f":"IF(A7<>\"\",1,0)","v":0},null,{"$f":"MATCH(\"*\"&AC$1&\"*\",OFFSET(Inscriptions!H$4:H$303,SUM('U10'!AF$6:'U10'!AF6),0),0)","v":{"$error":"#N/A"}}]
[{"$f":"IF(ISNA(INDEX(Inscriptions!A$4:A$303,SUM('U10'!AF$7:'U10'!AF8))),\"\",INDEX(Inscriptions!A$4:A$303,SUM('U10'!AF$7:'U10'!AF8)))","v":""},{"$f":"IF(A8=\"\",\"\",VLOOKUP(A8,Data!G$2:K$302,5,FALSE))","v":""},{"$f":"IF(A8=\"\",\"\",VLOOKUP(A8,Data!G$2:K$302,2,FALSE))","v":""},{"$f":"IF(A8=\"\",\"\",VLOOKUP(A8,Data!G$2:K$302,3,FALSE))","v":""},{"$f":"IF(A8=\"\",\"\",VLOOKUP(A8,Data!G$2:K$302,4,FALSE))","v":""},null,null,null,null,null,null,null,null,null,null,null,null,null,null,null,null,null,null,null,null,null,null,null,null,{"$f":"IF(A8<>\"\",1,0)","v":0},null,{"$f":"MATCH(\"*\"&AC$1&\"*\",OFFSET(Inscriptions!H$4:H$303,SUM('U10'!AF$6:'U10'!AF7),0),0)","v":{"$error":"#N/A"}}]
[{"$f":"IF(ISNA(INDEX(Inscriptions!A$4:A$303,SUM('U10'!AF$7:'U10'!AF9))),\"\",INDEX(Inscriptions!A$4:A$303,SUM('U10'!AF$7:'U10'!AF9)))","v":""},{"$f":"IF(A9=\"\",\"\",VLOOKUP(A9,Data!G$2:K$302,5,FALSE))","v":""},{"$f":"IF(A9=\"\",\"\",VLOOKUP(A9,Data!G$2:K$302,2,FALSE))","v":""},{"$f":"IF(A9=\"\",\"\",VLOOKUP(A9,Data!G$2:K$302,3,FALSE))","v":""},{"$f":"IF(A9=\"\",\"\",VLOOKUP(A9,Data!G$2:K$302,4,FALSE))","v":""},null,null,null,null,null,null,null,null,null,null,null,null,null,null,null,null,null,null,null,null,null,null,null,null,{"$f":"IF(A9<>\"\",1,0)","v":0},null,{"$f":"MATCH(\"*\"&AC$1&\"*\",OFFSET(Inscriptions!H$4:H$303,SUM('U10'!AF$6:'U10'!AF8),0),0)","v":{"$error":"#N/A"}}]
[{"$f":"IF(ISNA(INDEX(Inscriptions!A$4:A$303,SUM('U10'!AF$7:'U10'!AF10))),\"\",INDEX(Inscriptions!A$4:A$303,SUM('U10'!AF$7:'U10'!AF10)))","v":""},{"$f":"IF(A10=\"\",\"\",VLOOKUP(A10,Data!G$2:K$302,5,FALSE))","v":""},{"$f":"IF(A10=\"\",\"\",VLOOKUP(A10,Data!G$2:K$302,2,FALSE))","v":""},{"$f":"IF(A10=\"\",\"\",VLOOKUP(A10,Data!G$2:K$302,3,FALSE))","v":""},{"$f":"IF(A10=\"\",\"\",VLOOKUP(A10,Data!G$2:K$302,4,FALSE))","v":""},null,null,null,null,null,null,null,null,null,null,null,null,null,null,null,null,null,null,null,null,null,null,null,null,0,null,{"$f":"MATCH(\"*\"&AC$1&\"*\",OFFSET(Inscriptions!H$4:H$303,SUM('U10'!AF$6:'U10'!AF9),0),0)","v":{"$error":"#N/A"}}]
[{"$f":"IF(ISNA(INDEX(Inscriptions!A$4:A$303,SUM('U10'!AF$7:'U10'!AF11))),\"\",INDEX(Inscriptions!A$4:A$303,SUM('U10'!AF$7:'U10'!AF11)))","v":""},{"$f":"IF(A11=\"\",\"\",VLOOKUP(A11,Data!G$2:K$302,5,FALSE))","v":""},{"$f":"IF(A11=\"\",\"\",VLOOKUP(A11,Data!G$2:K$302,2,FALSE))","v":""},{"$f":"IF(A11=\"\",\"\",VLOOKUP(A11,Data!G$2:K$302,3,FALSE))","v":""},{"$f":"IF(A11=\"\",\"\",VLOOKUP(A11,Data!G$2:K$302,4,FALSE))","v":""},null,null,null,null,null,null,null,null,null,null,null,null,null,null,null,null,null,null,null,null,null,null,null,null,0,null,{"$f":"MATCH(\"*\"&AC$1&\"*\",OFFSET(Inscriptions!H$4:H$303,SUM('U10'!AF$6:'U10'!AF10),0),0)","v":{"$error":"#N/A"}}]
[{"$f":"IF(ISNA(INDEX(Inscriptions!A$4:A$303,SUM('U10'!AF$7:'U10'!AF12))),\"\",INDEX(Inscriptions!A$4:A$303,SUM('U10'!AF$7:'U10'!AF12)))","v":""},{"$f":"IF(A12=\"\",\"\",VLOOKUP(A12,Data!G$2:K$302,5,FALSE))","v":""},{"$f":"IF(A12=\"\",\"\",VLOOKUP(A12,Data!G$2:K$302,2,FALSE))","v":""},{"$f":"IF(A12=\"\",\"\",VLOOKUP(A12,Data!G$2:K$302,3,FALSE))","v":""},{"$f":"IF(A12=\"\",\"\",VLOOKUP(A12,Data!G$2:K$302,4,FALSE))","v":""},null,null,null,null,null,null,null,null,null,null,null,null,null,null,null,null,null,null,null,null,null,null,null,null,0,null,{"$f":"MATCH(\"*\"&AC$1&\"*\",OFFSET(Inscriptions!H$4:H$303,SUM('U10'!AF$6:'U10'!AF11),0),0)","v":{"$error":"#N/A"}}]
[{"$f":"IF(ISNA(INDEX(Inscriptions!A$4:A$303,SUM('U10'!AF$7:'U10'!AF13))),\"\",INDEX(Inscriptions!A$4:A$303,SUM('U10'!AF$7:'U10'!AF13)))","v":""},{"$f":"IF(A13=\"\",\"\",VLOOKUP(A13,Data!G$2:K$302,5,FALSE))","v":""},{"$f":"IF(A13=\"\",\"\",VLOOKUP(A13,Data!G$2:K$302,2,FALSE))","v":""},{"$f":"IF(A13=\"\",\"\",VLOOKUP(A13,Data!G$2:K$302,3,FALSE))","v":""},{"$f":"IF(A13=\"\",\"\",VLOOKUP(A13,Data!G$2:K$302,4,FALSE))","v":""},null,null,null,null,null,null,null,null,null,null,null,null,null,null,null,null,null,null,null,null,null,null,null,null,0,null,{"$f":"MATCH(\"*\"&AC$1&\"*\",OFFSET(Inscriptions!H$4:H$303,SUM('U10'!AF$6:'U10'!AF12),0),0)","v":{"$error":"#N/A"}}]
[{"$f":"IF(ISNA(INDEX(Inscriptions!A$4:A$303,SUM('U10'!AF$7:'U10'!AF14))),\"\",INDEX(Inscriptions!A$4:A$303,SUM('U10'!AF$7:'U10'!AF14)))","v":""},{"$f":"IF(A14=\"\",\"\",VLOOKUP(A14,Data!G$2:K$302,5,FALSE))","v":""},{"$f":"IF(A14=\"\",\"\",VLOOKUP(A14,Data!G$2:K$302,2,FALSE))","v":""},{"$f":"IF(A14=\"\",\"\",VLOOKUP(A14,Data!G$2:K$302,3,FALSE))","v":""},{"$f":"IF(A14=\"\",\"\",VLOOKUP(A14,Data!G$2:K$302,4,FALSE))","v":""},null,null,null,null,null,null,null,null,null,null,null,null,null,null,null,null,null,null,null,null,null,null,null,null,0,null,{"$f":"MATCH(\"*\"&AC$1&\"*\",OFFSET(Inscriptions!H$4:H$303,SUM('U10'!AF$6:'U10'!AF13),0),0)","v":{"$error":"#N/A"}}]
[{"$f":"IF(ISNA(INDEX(Inscriptions!A$4:A$303,SUM('U10'!AF$7:'U10'!AF15))),\"\",INDEX(Inscriptions!A$4:A$303,SUM('U10'!AF$7:'U10'!AF15)))","v":""},{"$f":"IF(A15=\"\",\"\",VLOOKUP(A15,Data!G$2:K$302,5,FALSE))","v":""},{"$f":"IF(A15=\"\",\"\",VLOOKUP(A15,Data!G$2:K$302,2,FALSE))","v":""},{"$f":"IF(A15=\"\",\"\",VLOOKUP(A15,Data!G$2:K$302,3,FALSE))","v":""},{"$f":"IF(A15=\"\",\"\",VLOOKUP(A15,Data!G$2:K$302,4,FALSE))","v":""},null,null,null,null,null,null,null,null,null,null,null,null,null,null,null,null,null,null,null,null,null,null,null,null,0,null,{"$f":"MATCH(\"*\"&AC$1&\"*\",OFFSET(Inscriptions!H$4:H$303,SUM('U10'!AF$6:'U10'!AF14),0),0)","v":{"$error":"#N/A"}}]
[{"$f":"IF(ISNA(INDEX(Inscriptions!A$4:A$303,SUM('U10'!AF$7:'U10'!AF16))),\"\",INDEX(Inscriptions!A$4:A$303,SUM('U10'!AF$7:'U10'!AF16)))","v":""},{"$f":"IF(A16=\"\",\"\",VLOOKUP(A16,Data!G$2:K$302,5,FALSE))","v":""},{"$f":"IF(A16=\"\",\"\",VLOOKUP(A16,Data!G$2:K$302,2,FALSE))","v":""},{"$f":"IF(A16=\"\",\"\",VLOOKUP(A16,Data!G$2:K$302,3,FALSE))","v":""},{"$f":"IF(A16=\"\",\"\",VLOOKUP(A16,Data!G$2:K$302,4,FALSE))","v":""},null,null,null,null,null,null,null,null,null,null,null,null,null,null,null,null,null,null,null,null,null,null,null,null,0,null,{"$f":"MATCH(\"*\"&AC$1&\"*\",OFFSET(Inscriptions!H$4:H$303,SUM('U10'!AF$6:'U10'!AF15),0),0)","v":{"$error":"#N/A"}}]
[{"$f":"IF(ISNA(INDEX(Inscriptions!A$4:A$303,SUM('U10'!AF$7:'U10'!AF17))),\"\",INDEX(Inscriptions!A$4:A$303,SUM('U10'!AF$7:'U10'!AF17)))","v":""},{"$f":"IF(A17=\"\",\"\",VLOOKUP(A17,Data!G$2:K$302,5,FALSE))","v":""},{"$f":"IF(A17=\"\",\"\",VLOOKUP(A17,Data!G$2:K$302,2,FALSE))","v":""},{"$f":"IF(A17=\"\",\"\",VLOOKUP(A17,Data!G$2:K$302,3,FALSE))","v":""},{"$f":"IF(A17=\"\",\"\",VLOOKUP(A17,Data!G$2:K$302,4,FALSE))","v":""},null,null,null,null,null,null,null,null,null,null,null,null,null,null,null,null,null,null,null,null,null,null,null,null,0,null,{"$f":"MATCH(\"*\"&AC$1&\"*\",OFFSET(Inscriptions!H$4:H$303,SUM('U10'!AF$6:'U10'!AF16),0),0)","v":{"$error":"#N/A"}}]
[{"$f":"IF(ISNA(INDEX(Inscriptions!A$4:A$303,SUM('U10'!AF$7:'U10'!AF18))),\"\",INDEX(Inscriptions!A$4:A$303,SUM('U10'!AF$7:'U10'!AF18)))","v":""},{"$f":"IF(A18=\"\",\"\",VLOOKUP(A18,Data!G$2:K$302,5,FALSE))","v":""},{"$f":"IF(A18=\"\",\"\",VLOOKUP(A18,Data!G$2:K$302,2,FALSE))","v":""},{"$f":"IF(A18=\"\",\"\",VLOOKUP(A18,Data!G$2:K$302,3,FALSE))","v":""},{"$f":"IF(A18=\"\",\"\",VLOOKUP(A18,Data!G$2:K$302,4,FALSE))","v":""},null,null,null,null,null,null,null,null,null,null,null,null,null,null,null,null,null,null,null,null,null,null,null,null,0,null,{"$f":"MATCH(\"*\"&AC$1&\"*\",OFFSET(Inscriptions!H$4:H$303,SUM('U10'!AF$6:'U10'!AF17),0),0)","v":{"$error":"#N/A"}}]
[{"$f":"IF(ISNA(INDEX(Inscriptions!A$4:A$303,SUM('U10'!AF$7:'U10'!AF19))),\"\",INDEX(Inscriptions!A$4:A$303,SUM('U10'!AF$7:'U10'!AF19)))","v":""},{"$f":"IF(A19=\"\",\"\",VLOOKUP(A19,Data!G$2:K$302,5,FALSE))","v":""},{"$f":"IF(A19=\"\",\"\",VLOOKUP(A19,Data!G$2:K$302,2,FALSE))","v":""},{"$f":"IF(A19=\"\",\"\",VLOOKUP(A19,Data!G$2:K$302,3,FALSE))","v":""},{"$f":"IF(A19=\"\",\"\",VLOOKUP(A19,Data!G$2:K$302,4,FALSE))","v":""},null,null,null,null,null,null,null,null,null,null,null,null,null,null,null,null,null,null,null,null,null,null,null,null,0,null,{"$f":"MATCH(\"*\"&AC$1&\"*\",OFFSET(Inscriptions!H$4:H$303,SUM('U10'!AF$6:'U10'!AF18),0),0)","v":{"$error":"#N/A"}}]
[{"$f":"IF(ISNA(INDEX(Inscriptions!A$4:A$303,SUM('U10'!AF$7:'U10'!AF20))),\"\",INDEX(Inscriptions!A$4:A$303,SUM('U10'!AF$7:'U10'!AF20)))","v":""},{"$f":"IF(A20=\"\",\"\",VLOOKUP(A20,Data!G$2:K$302,5,FALSE))","v":""},{"$f":"IF(A20=\"\",\"\",VLOOKUP(A20,Data!G$2:K$302,2,FALSE))","v":""},{"$f":"IF(A20=\"\",\"\",VLOOKUP(A20,Data!G$2:K$302,3,FALSE))","v":""},{"$f":"IF(A20=\"\",\"\",VLOOKUP(A20,Data!G$2:K$302,4,FALSE))","v":""},null,null,null,null,null,null,null,null,null,null,null,null,null,null,null,null,null,null,null,null,null,null,null,null,0,null,{"$f":"MATCH(\"*\"&AC$1&\"*\",OFFSET(Inscriptions!H$4:H$303,SUM('U10'!AF$6:'U10'!AF19),0),0)","v":{"$error":"#N/A"}}]
[{"$f":"IF(ISNA(INDEX(Inscriptions!A$4:A$303,SUM('U10'!AF$7:'U10'!AF21))),\"\",INDEX(Inscriptions!A$4:A$303,SUM('U10'!AF$7:'U10'!AF21)))","v":""},{"$f":"IF(A21=\"\",\"\",VLOOKUP(A21,Data!G$2:K$302,5,FALSE))","v":""},{"$f":"IF(A21=\"\",\"\",VLOOKUP(A21,Data!G$2:K$302,2,FALSE))","v":""},{"$f":"IF(A21=\"\",\"\",VLOOKUP(A21,Data!G$2:K$302,3,FALSE))","v":""},{"$f":"IF(A21=\"\",\"\",VLOOKUP(A21,Data!G$2:K$302,4,FALSE))","v":""},null,null,null,null,null,null,null,null,null,null,null,null,null,null,null,null,null,null,null,null,null,null,null,null,0,null,{"$f":"MATCH(\"*\"&AC$1&\"*\",OFFSET(Inscriptions!H$4:H$303,SUM('U10'!AF$6:'U10'!AF20),0),0)","v":{"$error":"#N/A"}}]
[{"$f":"IF(ISNA(INDEX(Inscriptions!A$4:A$303,SUM('U10'!AF$7:'U10'!AF22))),\"\",INDEX(Inscriptions!A$4:A$303,SUM('U10'!AF$7:'U10'!AF22)))","v":""},{"$f":"IF(A22=\"\",\"\",VLOOKUP(A22,Data!G$2:K$302,5,FALSE))","v":""},{"$f":"IF(A22=\"\",\"\",VLOOKUP(A22,Data!G$2:K$302,2,FALSE))","v":""},{"$f":"IF(A22=\"\",\"\",VLOOKUP(A22,Data!G$2:K$302,3,FALSE))","v":""},{"$f":"IF(A22=\"\",\"\",VLOOKUP(A22,Data!G$2:K$302,4,FALSE))","v":""},null,null,null,null,null,null,null,null,null,null,null,null,null,null,null,null,null,null,null,null,null,null,null,null,0,null,{"$f":"MATCH(\"*\"&AC$1&\"*\",OFFSET(Inscriptions!H$4:H$303,SUM('U10'!AF$6:'U10'!AF21),0),0)","v":{"$error":"#N/A"}}]
[{"$f":"IF(ISNA(INDEX(Inscriptions!A$4:A$303,SUM('U10'!AF$7:'U10'!AF23))),\"\",INDEX(Inscriptions!A$4:A$303,SUM('U10'!AF$7:'U10'!AF23)))","v":""},{"$f":"IF(A23=\"\",\"\",VLOOKUP(A23,Data!G$2:K$302,5,FALSE))","v":""},{"$f":"IF(A23=\"\",\"\",VLOOKUP(A23,Data!G$2:K$302,2,FALSE))","v":""},{"$f":"IF(A23=\"\",\"\",VLOOKUP(A23,Data!G$2:K$302,3,FALSE))","v":""},{"$f":"IF(A23=\"\",\"\",VLOOKUP(A23,Data!G$2:K$302,4,FALSE))","v":""},null,null,null,null,null,null,null,null,null,null,null,null,null,null,null,null,null,null,null,null,null,null,null,null,0,null,{"$f":"MATCH(\"*\"&AC$1&\"*\",OFFSET(Inscriptions!H$4:H$303,SUM('U10'!AF$6:'U10'!AF22),0),0)","v":{"$error":"#N/A"}}]
[{"$f":"IF(ISNA(INDEX(Inscriptions!A$4:A$303,SUM('U10'!AF$7:'U10'!AF24))),\"\",INDEX(Inscriptions!A$4:A$303,SUM('U10'!AF$7:'U10'!AF24)))","v":""},{"$f":"IF(A24=\"\",\"\",VLOOKUP(A24,Data!G$2:K$302,5,FALSE))","v":""},{"$f":"IF(A24=\"\",\"\",VLOOKUP(A24,Data!G$2:K$302,2,FALSE))","v":""},{"$f":"IF(A24=\"\",\"\",VLOOKUP(A24,Data!G$2:K$302,3,FALSE))","v":""},{"$f":"IF(A24=\"\",\"\",VLOOKUP(A24,Data!G$2:K$302,4,FALSE))","v":""},null,null,null,null,null,null,null,null,null,null,null,null,null,null,null,null,null,null,null,null,null,null,null,null,0,null,{"$f":"MATCH(\"*\"&AC$1&\"*\",OFFSET(Inscriptions!H$4:H$303,SUM('U10'!AF$6:'U10'!AF23),0),0)","v":{"$error":"#N/A"}}]
[{"$f":"IF(ISNA(INDEX(Inscriptions!A$4:A$303,SUM('U10'!AF$7:'U10'!AF25))),\"\",INDEX(Inscriptions!A$4:A$303,SUM('U10'!AF$7:'U10'!AF25)))","v":""},{"$f":"IF(A25=\"\",\"\",VLOOKUP(A25,Data!G$2:K$302,5,FALSE))","v":""},{"$f":"IF(A25=\"\",\"\",VLOOKUP(A25,Data!G$2:K$302,2,FALSE))","v":""},{"$f":"IF(A25=\"\",\"\",VLOOKUP(A25,Data!G$2:K$302,3,FALSE))","v":""},{"$f":"IF(A25=\"\",\"\",VLOOKUP(A25,Data!G$2:K$302,4,FALSE))","v":""},null,null,null,null,null,null,null,null,null,null,null,null,null,null,null,null,null,null,null,null,null,null,null,null,0,null,{"$f":"MATCH(\"*\"&AC$1&\"*\",OFFSET(Inscriptions!H$4:H$303,SUM('U10'!AF$6:'U10'!AF24),0),0)","v":{"$error":"#N/A"}}]
[{"$f":"IF(ISNA(INDEX(Inscriptions!A$4:A$303,SUM('U10'!AF$7:'U10'!AF26))),\"\",INDEX(Inscriptions!A$4:A$303,SUM('U10'!AF$7:'U10'!AF26)))","v":""},{"$f":"IF(A26=\"\",\"\",VLOOKUP(A26,Data!G$2:K$302,5,FALSE))","v":""},{"$f":"IF(A26=\"\",\"\",VLOOKUP(A26,Data!G$2:K$302,2,FALSE))","v":""},{"$f":"IF(A26=\"\",\"\",VLOOKUP(A26,Data!G$2:K$302,3,FALSE))","v":""},{"$f":"IF(A26=\"\",\"\",VLOOKUP(A26,Data!G$2:K$302,4,FALSE))","v":""},null,null,null,null,null,null,null,null,null,null,null,null,null,null,null,null,null,null,null,null,null,null,null,null,0,null,{"$f":"MATCH(\"*\"&AC$1&\"*\",OFFSET(Inscriptions!H$4:H$303,SUM('U10'!AF$6:'U10'!AF25),0),0)","v":{"$error":"#N/A"}}]
[{"$f":"IF(ISNA(INDEX(Inscriptions!A$4:A$303,SUM('U10'!AF$7:'U10'!AF27))),\"\",INDEX(Inscriptions!A$4:A$303,SUM('U10'!AF$7:'U10'!AF27)))","v":""},{"$f":"IF(A27=\"\",\"\",VLOOKUP(A27,Data!G$2:K$302,5,FALSE))","v":""},{"$f":"IF(A27=\"\",\"\",VLOOKUP(A27,Data!G$2:K$302,2,FALSE))","v":""},{"$f":"IF(A27=\"\",\"\",VLOOKUP(A27,Data!G$2:K$302,3,FALSE))","v":""},{"$f":"IF(A27=\"\",\"\",VLOOKUP(A27,Data!G$2:K$302,4,FALSE))","v":""},null,null,null,null,null,null,null,null,null,null,null,null,null,null,null,null,null,null,null,null,null,null,null,null,0,null,{"$f":"MATCH(\"*\"&AC$1&\"*\",OFFSET(Inscriptions!H$4:H$303,SUM('U10'!AF$6:'U10'!AF26),0),0)","v":{"$error":"#N/A"}}]
[{"$f":"IF(ISNA(INDEX(Inscriptions!A$4:A$303,SUM('U10'!AF$7:'U10'!AF28))),\"\",INDEX(Inscriptions!A$4:A$303,SUM('U10'!AF$7:'U10'!AF28)))","v":""},{"$f":"IF(A28=\"\",\"\",VLOOKUP(A28,Data!G$2:K$302,5,FALSE))","v":""},{"$f":"IF(A28=\"\",\"\",VLOOKUP(A28,Data!G$2:K$302,2,FALSE))","v":""},{"$f":"IF(A28=\"\",\"\",VLOOKUP(A28,Data!G$2:K$302,3,FALSE))","v":""},{"$f":"IF(A28=\"\",\"\",VLOOKUP(A28,Data!G$2:K$302,4,FALSE))","v":""},null,null,null,null,null,null,null,null,null,null,null,null,null,null,null,null,null,null,null,null,null,null,null,null,0,null,{"$f":"MATCH(\"*\"&AC$1&\"*\",OFFSET(Inscriptions!H$4:H$303,SUM('U10'!AF$6:'U10'!AF27),0),0)","v":{"$error":"#N/A"}}]
[{"$f":"IF(ISNA(INDEX(Inscriptions!A$4:A$303,SUM('U10'!AF$7:'U10'!AF29))),\"\",INDEX(Inscriptions!A$4:A$303,SUM('U10'!AF$7:'U10'!AF29)))","v":""},{"$f":"IF(A29=\"\",\"\",VLOOKUP(A29,Data!G$2:K$302,5,FALSE))","v":""},{"$f":"IF(A29=\"\",\"\",VLOOKUP(A29,Data!G$2:K$302,2,FALSE))","v":""},{"$f":"IF(A29=\"\",\"\",VLOOKUP(A29,Data!G$2:K$302,3,FALSE))","v":""},{"$f":"IF(A29=\"\",\"\",VLOOKUP(A29,Data!G$2:K$302,4,FALSE))","v":""},null,null,null,null,null,null,null,null,null,null,null,null,null,null,null,null,null,null,null,null,null,null,null,null,0,null,{"$f":"MATCH(\"*\"&AC$1&\"*\",OFFSET(Inscriptions!H$4:H$303,SUM('U10'!AF$6:'U10'!AF28),0),0)","v":{"$error":"#N/A"}}]
[{"$f":"IF(ISNA(INDEX(Inscriptions!A$4:A$303,SUM('U10'!AF$7:'U10'!AF30))),\"\",INDEX(Inscriptions!A$4:A$303,SUM('U10'!AF$7:'U10'!AF30)))","v":""},{"$f":"IF(A30=\"\",\"\",VLOOKUP(A30,Data!G$2:K$302,5,FALSE))","v":""},{"$f":"IF(A30=\"\",\"\",VLOOKUP(A30,Data!G$2:K$302,2,FALSE))","v":""},{"$f":"IF(A30=\"\",\"\",VLOOKUP(A30,Data!G$2:K$302,3,FALSE))","v":""},{"$f":"IF(A30=\"\",\"\",VLOOKUP(A30,Data!G$2:K$302,4,FALSE))","v":""},null,null,null,null,null,null,null,null,null,null,null,null,null,null,null,null,null,null,null,null,null,null,null,null,0,null,{"$f":"MATCH(\"*\"&AC$1&\"*\",OFFSET(Inscriptions!H$4:H$303,SUM('U10'!AF$6:'U10'!AF29),0),0)","v":{"$error":"#N/A"}}]
[{"$f":"IF(ISNA(INDEX(Inscriptions!A$4:A$303,SUM('U10'!AF$7:'U10'!AF31))),\"\",INDEX(Inscriptions!A$4:A$303,SUM('U10'!AF$7:'U10'!AF31)))","v":""},{"$f":"IF(A31=\"\",\"\",VLOOKUP(A31,Data!G$2:K$302,5,FALSE))","v":""},{"$f":"IF(A31=\"\",\"\",VLOOKUP(A31,Data!G$2:K$302,2,FALSE))","v":""},{"$f":"IF(A31=\"\",\"\",VLOOKUP(A31,Data!G$2:K$302,3,FALSE))","v":""},{"$f":"IF(A31=\"\",\"\",VLOOKUP(A31,Data!G$2:K$302,4,FALSE))","v":""},null,null,null,null,null,null,null,null,null,null,null,null,null,null,null,null,null,null,null,null,null,null,null,null,0,null,{"$f":"MATCH(\"*\"&AC$1&\"*\",OFFSET(Inscriptions!H$4:H$303,SUM('U10'!AF$6:'U10'!AF30),0),0)","v":{"$error":"#N/A"}}]
[{"$f":"IF(ISNA(INDEX(Inscriptions!A$4:A$303,SUM('U10'!AF$7:'U10'!AF32))),\"\",INDEX(Inscriptions!A$4:A$303,SUM('U10'!AF$7:'U10'!AF32)))","v":""},{"$f":"IF(A32=\"\",\"\",VLOOKUP(A32,Data!G$2:K$302,5,FALSE))","v":""},{"$f":"IF(A32=\"\",\"\",VLOOKUP(A32,Data!G$2:K$302,2,FALSE))","v":""},{"$f":"IF(A32=\"\",\"\",VLOOKUP(A32,Data!G$2:K$302,3,FALSE))","v":""},{"$f":"IF(A32=\"\",\"\",VLOOKUP(A32,Data!G$2:K$302,4,FALSE))","v":""},null,null,null,null,null,null,null,null,null,null,null,null,null,null,null,null,null,null,null,null,null,null,null,null,0,null,{"$f":"MATCH(\"*\"&AC$1&\"*\",OFFSET(Inscriptions!H$4:H$303,SUM('U10'!AF$6:'U10'!AF31),0),0)","v":{"$error":"#N/A"}}]
[{"$f":"IF(ISNA(INDEX(Inscriptions!A$4:A$303,SUM('U10'!AF$7:'U10'!AF33))),\"\",INDEX(Inscriptions!A$4:A$303,SUM('U10'!AF$7:'U10'!AF33)))","v":""},{"$f":"IF(A33=\"\",\"\",VLOOKUP(A33,Data!G$2:K$302,5,FALSE))","v":""},{"$f":"IF(A33=\"\",\"\",VLOOKUP(A33,Data!G$2:K$302,2,FALSE))","v":""},{"$f":"IF(A33=\"\",\"\",VLOOKUP(A33,Data!G$2:K$302,3,FALSE))","v":""},{"$f":"IF(A33=\"\",\"\",VLOOKUP(A33,Data!G$2:K$302,4,FALSE))","v":""},null,null,null,null,null,null,null,null,null,null,null,null,null,null,null,null,null,null,null,null,null,null,null,null,0,null,{"$f":"MATCH(\"*\"&AC$1&\"*\",OFFSET(Inscriptions!H$4:H$303,SUM('U10'!AF$6:'U10'!AF32),0),0)","v":{"$error":"#N/A"}}]
[{"$f":"IF(ISNA(INDEX(Inscriptions!A$4:A$303,SUM('U10'!AF$7:'U10'!AF34))),\"\",INDEX(Inscriptions!A$4:A$303,SUM('U10'!AF$7:'U10'!AF34)))","v":""},{"$f":"IF(A34=\"\",\"\",VLOOKUP(A34,Data!G$2:K$302,5,FALSE))","v":""},{"$f":"IF(A34=\"\",\"\",VLOOKUP(A34,Data!G$2:K$302,2,FALSE))","v":""},{"$f":"IF(A34=\"\",\"\",VLOOKUP(A34,Data!G$2:K$302,3,FALSE))","v":""},{"$f":"IF(A34=\"\",\"\",VLOOKUP(A34,Data!G$2:K$302,4,FALSE))","v":""},null,null,null,null,null,null,null,null,null,null,null,null,null,null,null,null,null,null,null,null,null,null,null,null,0,null,{"$f":"MATCH(\"*\"&AC$1&\"*\",OFFSET(Inscriptions!H$4:H$303,SUM('U10'!AF$6:'U10'!AF33),0),0)","v":{"$error":"#N/A"}}]
[{"$f":"IF(ISNA(INDEX(Inscriptions!A$4:A$303,SUM('U10'!AF$7:'U10'!AF35))),\"\",INDEX(Inscriptions!A$4:A$303,SUM('U10'!AF$7:'U10'!AF35)))","v":""},{"$f":"IF(A35=\"\",\"\",VLOOKUP(A35,Data!G$2:K$302,5,FALSE))","v":""},{"$f":"IF(A35=\"\",\"\",VLOOKUP(A35,Data!G$2:K$302,2,FALSE))","v":""},{"$f":"IF(A35=\"\",\"\",VLOOKUP(A35,Data!G$2:K$302,3,FALSE))","v":""},{"$f":"IF(A35=\"\",\"\",VLOOKUP(A35,Data!G$2:K$302,4,FALSE))","v":""},null,null,null,null,null,null,null,null,null,null,null,null,null,null,null,null,null,null,null,null,null,null,null,null,0,null,{"$f":"MATCH(\"*\"&AC$1&\"*\",OFFSET(Inscriptions!H$4:H$303,SUM('U10'!AF$6:'U10'!AF34),0),0)","v":{"$error":"#N/A"}}]
[{"$f":"IF(ISNA(INDEX(Inscriptions!A$4:A$303,SUM('U10'!AF$7:'U10'!AF36))),\"\",INDEX(Inscriptions!A$4:A$303,SUM('U10'!AF$7:'U10'!AF36)))","v":""},{"$f":"IF(A36=\"\",\"\",VLOOKUP(A36,Data!G$2:K$302,5,FALSE))","v":""},{"$f":"IF(A36=\"\",\"\",VLOOKUP(A36,Data!G$2:K$302,2,FALSE))","v":""},{"$f":"IF(A36=\"\",\"\",VLOOKUP(A36,Data!G$2:K$302,3,FALSE))","v":""},{"$f":"IF(A36=\"\",\"\",VLOOKUP(A36,Data!G$2:K$302,4,FALSE))","v":""},null,null,null,null,null,null,null,null,null,null,null,null,null,null,null,null,null,null,null,null,null,null,null,null,0,null,{"$f":"MATCH(\"*\"&AC$1&\"*\",OFFSET(Inscriptions!H$4:H$303,SUM('U10'!AF$6:'U10'!AF35),0),0)","v":{"$error":"#N/A"}}]
[{"$f":"IF(ISNA(INDEX(Inscriptions!A$4:A$303,SUM('U10'!AF$7:'U10'!AF37))),\"\",INDEX(Inscriptions!A$4:A$303,SUM('U10'!AF$7:'U10'!AF37)))","v":""},{"$f":"IF(A37=\"\",\"\",VLOOKUP(A37,Data!G$2:K$302,5,FALSE))","v":""},{"$f":"IF(A37=\"\",\"\",VLOOKUP(A37,Data!G$2:K$302,2,FALSE))","v":""},{"$f":"IF(A37=\"\",\"\",VLOOKUP(A37,Data!G$2:K$302,3,FALSE))","v":""},{"$f":"IF(A37=\"\",\"\",VLOOKUP(A37,Data!G$2:K$302,4,FALSE))","v":""},null,null,null,null,null,null,null,null,null,null,null,null,null,null,null,null,null,null,null,null,null,null,null,null,0,null,{"$f":"MATCH(\"*\"&AC$1&\"*\",OFFSET(Inscriptions!H$4:H$303,SUM('U10'!AF$6:'U10'!AF36),0),0)","v":{"$error":"#N/A"}}]
[{"$f":"IF(ISNA(INDEX(Inscriptions!A$4:A$303,SUM('U10'!AF$7:'U10'!AF38))),\"\",INDEX(Inscriptions!A$4:A$303,SUM('U10'!AF$7:'U10'!AF38)))","v":""},{"$f":"IF(A38=\"\",\"\",VLOOKUP(A38,Data!G$2:K$302,5,FALSE))","v":""},{"$f":"IF(A38=\"\",\"\",VLOOKUP(A38,Data!G$2:K$302,2,FALSE))","v":""},{"$f":"IF(A38=\"\",\"\",VLOOKUP(A38,Data!G$2:K$302,3,FALSE))","v":""},{"$f":"IF(A38=\"\",\"\",VLOOKUP(A38,Data!G$2:K$302,4,FALSE))","v":""},null,null,null,null,null,null,null,null,null,null,null,null,null,null,null,null,null,null,null,null,null,null,null,null,0,null,{"$f":"MATCH(\"*\"&AC$1&\"*\",OFFSET(Inscriptions!H$4:H$303,SUM('U10'!AF$6:'U10'!AF37),0),0)","v":{"$error":"#N/A"}}]
[{"$f":"IF(ISNA(INDEX(Inscriptions!A$4:A$303,SUM('U10'!AF$7:'U10'!AF39))),\"\",INDEX(Inscriptions!A$4:A$303,SUM('U10'!AF$7:'U10'!AF39)))","v":""},{"$f":"IF(A39=\"\",\"\",VLOOKUP(A39,Data!G$2:K$302,5,FALSE))","v":""},{"$f":"IF(A39=\"\",\"\",VLOOKUP(A39,Data!G$2:K$302,2,FALSE))","v":""},{"$f":"IF(A39=\"\",\"\",VLOOKUP(A39,Data!G$2:K$302,3,FALSE))","v":""},{"$f":"IF(A39=\"\",\"\",VLOOKUP(A39,Data!G$2:K$302,4,FALSE))","v":""},null,null,null,null,null,null,null,null,null,null,null,null,null,null,null,null,null,null,null,null,null,null,null,null,0,null,{"$f":"MATCH(\"*\"&AC$1&\"*\",OFFSET(Inscriptions!H$4:H$303,SUM('U10'!AF$6:'U10'!AF38),0),0)","v":{"$error":"#N/A"}}]
[{"$f":"IF(ISNA(INDEX(Inscriptions!A$4:A$303,SUM('U10'!AF$7:'U10'!AF40))),\"\",INDEX(Inscriptions!A$4:A$303,SUM('U10'!AF$7:'U10'!AF40)))","v":""},{"$f":"IF(A40=\"\",\"\",VLOOKUP(A40,Data!G$2:K$302,5,FALSE))","v":""},{"$f":"IF(A40=\"\",\"\",VLOOKUP(A40,Data!G$2:K$302,2,FALSE))","v":""},{"$f":"IF(A40=\"\",\"\",VLOOKUP(A40,Data!G$2:K$302,3,FALSE))","v":""},{"$f":"IF(A40=\"\",\"\",VLOOKUP(A40,Data!G$2:K$302,4,FALSE))","v":""},null,null,null,null,null,null,null,null,null,null,null,null,null,null,null,null,null,null,null,null,null,null,null,null,0,null,{"$f":"MATCH(\"*\"&AC$1&\"*\",OFFSET(Inscriptions!H$4:H$303,SUM('U10'!AF$6:'U10'!AF39),0),0)","v":{"$error":"#N/A"}}]
[{"$f":"IF(ISNA(INDEX(Inscriptions!A$4:A$303,SUM('U10'!AF$7:'U10'!AF41))),\"\",INDEX(Inscriptions!A$4:A$303,SUM('U10'!AF$7:'U10'!AF41)))","v":""},{"$f":"IF(A41=\"\",\"\",VLOOKUP(A41,Data!G$2:K$302,5,FALSE))","v":""},{"$f":"IF(A41=\"\",\"\",VLOOKUP(A41,Data!G$2:K$302,2,FALSE))","v":""},{"$f":"IF(A41=\"\",\"\",VLOOKUP(A41,Data!G$2:K$302,3,FALSE))","v":""},{"$f":"IF(A41=\"\",\"\",VLOOKUP(A41,Data!G$2:K$302,4,FALSE))","v":""},null,null,null,null,null,null,null,null,null,null,null,null,null,null,null,null,null,null,null,null,null,null,null,null,0,null,{"$f":"MATCH(\"*\"&AC$1&\"*\",OFFSET(Inscriptions!H$4:H$303,SUM('U10'!AF$6:'U10'!AF40),0),0)","v":{"$error":"#N/A"}}]
[{"$f":"IF(ISNA(INDEX(Inscriptions!A$4:A$303,SUM('U10'!AF$7:'U10'!AF42))),\"\",INDEX(Inscriptions!A$4:A$303,SUM('U10'!AF$7:'U10'!AF42)))","v":""},{"$f":"IF(A42=\"\",\"\",VLOOKUP(A42,Data!G$2:K$302,5,FALSE))","v":""},{"$f":"IF(A42=\"\",\"\",VLOOKUP(A42,Data!G$2:K$302,2,FALSE))","v":""},{"$f":"IF(A42=\"\",\"\",VLOOKUP(A42,Data!G$2:K$302,3,FALSE))","v":""},{"$f":"IF(A42=\"\",\"\",VLOOKUP(A42,Data!G$2:K$302,4,FALSE))","v":""},null,null,null,null,null,null,null,null,null,null,null,null,null,null,null,null,null,null,null,null,null,null,null,null,0,null,{"$f":"MATCH(\"*\"&AC$1&\"*\",OFFSET(Inscriptions!H$4:H$303,SUM('U10'!AF$6:'U10'!AF41),0),0)","v":{"$error":"#N/A"}}]
[{"$f":"IF(ISNA(INDEX(Inscriptions!A$4:A$303,SUM('U10'!AF$7:'U10'!AF43))),\"\",INDEX(Inscriptions!A$4:A$303,SUM('U10'!AF$7:'U10'!AF43)))","v":""},{"$f":"IF(A43=\"\",\"\",VLOOKUP(A43,Data!G$2:K$302,5,FALSE))","v":""},{"$f":"IF(A43=\"\",\"\",VLOOKUP(A43,Data!G$2:K$302,2,FALSE))","v":""},{"$f":"IF(A43=\"\",\"\",VLOOKUP(A43,Data!G$2:K$302,3,FALSE))","v":""},{"$f":"IF(A43=\"\",\"\",VLOOKUP(A43,Data!G$2:K$302,4,FALSE))","v":""},null,null,null,null,null,null,null,null,null,null,null,null,null,null,null,null,null,null,null,null,null,null,null,null,0,null,{"$f":"MATCH(\"*\"&AC$1&\"*\",OFFSET(Inscriptions!H$4:H$303,SUM('U10'!AF$6:'U10'!AF42),0),0)","v":{"$error":"#N/A"}}]
[{"$f":"IF(ISNA(INDEX(Inscriptions!A$4:A$303,SUM('U10'!AF$7:'U10'!AF44))),\"\",INDEX(Inscriptions!A$4:A$303,SUM('U10'!AF$7:'U10'!AF44)))","v":""},{"$f":"IF(A44=\"\",\"\",VLOOKUP(A44,Data!G$2:K$302,5,FALSE))","v":""},{"$f":"IF(A44=\"\",\"\",VLOOKUP(A44,Data!G$2:K$302,2,FALSE))","v":""},{"$f":"IF(A44=\"\",\"\",VLOOKUP(A44,Data!G$2:K$302,3,FALSE))","v":""},{"$f":"IF(A44=\"\",\"\",VLOOKUP(A44,Data!G$2:K$302,4,FALSE))","v":""},null,null,null,null,null,null,null,null,null,null,null,null,null,null,null,null,null,null,null,null,null,null,null,null,0,null,{"$f":"MATCH(\"*\"&AC$1&\"*\",OFFSET(Inscriptions!H$4:H$303,SUM('U10'!AF$6:'U10'!AF43),0),0)","v":{"$error":"#N/A"}}]
[{"$f":"IF(ISNA(INDEX(Inscriptions!A$4:A$303,SUM('U10'!AF$7:'U10'!AF45))),\"\",INDEX(Inscriptions!A$4:A$303,SUM('U10'!AF$7:'U10'!AF45)))","v":""},{"$f":"IF(A45=\"\",\"\",VLOOKUP(A45,Data!G$2:K$302,5,FALSE))","v":""},{"$f":"IF(A45=\"\",\"\",VLOOKUP(A45,Data!G$2:K$302,2,FALSE))","v":""},{"$f":"IF(A45=\"\",\"\",VLOOKUP(A45,Data!G$2:K$302,3,FALSE))","v":""},{"$f":"IF(A45=\"\",\"\",VLOOKUP(A45,Data!G$2:K$302,4,FALSE))","v":""},null,null,null,null,null,null,null,null,null,null,null,null,null,null,null,null,null,null,null,null,null,null,null,null,0,null,{"$f":"MATCH(\"*\"&AC$1&\"*\",OFFSET(Inscriptions!H$4:H$303,SUM('U10'!AF$6:'U10'!AF44),0),0)","v":{"$error":"#N/A"}}]
[{"$f":"IF(ISNA(INDEX(Inscriptions!A$4:A$303,SUM('U10'!AF$7:'U10'!AF46))),\"\",INDEX(Inscriptions!A$4:A$303,SUM('U10'!AF$7:'U10'!AF46)))","v":""},{"$f":"IF(A46=\"\",\"\",VLOOKUP(A46,Data!G$2:K$302,5,FALSE))","v":""},{"$f":"IF(A46=\"\",\"\",VLOOKUP(A46,Data!G$2:K$302,2,FALSE))","v":""},{"$f":"IF(A46=\"\",\"\",VLOOKUP(A46,Data!G$2:K$302,3,FALSE))","v":""},{"$f":"IF(A46=\"\",\"\",VLOOKUP(A46,Data!G$2:K$302,4,FALSE))","v":""},null,null,null,null,null,null,null,null,null,null,null,null,null,null,null,null,null,null,null,null,null,null,null,null,0,null,{"$f":"MATCH(\"*\"&AC$1&\"*\",OFFSET(Inscriptions!H$4:H$303,SUM('U10'!AF$6:'U10'!AF45),0),0)","v":{"$error":"#N/A"}}]
[{"$f":"IF(ISNA(INDEX(Inscriptions!A$4:A$303,SUM('U10'!AF$7:'U10'!AF47))),\"\",INDEX(Inscriptions!A$4:A$303,SUM('U10'!AF$7:'U10'!AF47)))","v":""},{"$f":"IF(A47=\"\",\"\",VLOOKUP(A47,Data!G$2:K$302,5,FALSE))","v":""},{"$f":"IF(A47=\"\",\"\",VLOOKUP(A47,Data!G$2:K$302,2,FALSE))","v":""},{"$f":"IF(A47=\"\",\"\",VLOOKUP(A47,Data!G$2:K$302,3,FALSE))","v":""},{"$f":"IF(A47=\"\",\"\",VLOOKUP(A47,Data!G$2:K$302,4,FALSE))","v":""},null,null,null,null,null,null,null,null,null,null,null,null,null,null,null,null,null,null,null,null,null,null,null,null,0,null,{"$f":"MATCH(\"*\"&AC$1&\"*\",OFFSET(Inscriptions!H$4:H$303,SUM('U10'!AF$6:'U10'!AF46),0),0)","v":{"$error":"#N/A"}}]
[{"$f":"IF(ISNA(INDEX(Inscriptions!A$4:A$303,SUM('U10'!AF$7:'U10'!AF48))),\"\",INDEX(Inscriptions!A$4:A$303,SUM('U10'!AF$7:'U10'!AF48)))","v":""},{"$f":"IF(A48=\"\",\"\",VLOOKUP(A48,Data!G$2:K$302,5,FALSE))","v":""},{"$f":"IF(A48=\"\",\"\",VLOOKUP(A48,Data!G$2:K$302,2,FALSE))","v":""},{"$f":"IF(A48=\"\",\"\",VLOOKUP(A48,Data!G$2:K$302,3,FALSE))","v":""},{"$f":"IF(A48=\"\",\"\",VLOOKUP(A48,Data!G$2:K$302,4,FALSE))","v":""},null,null,null,null,null,null,null,null,null,null,null,null,null,null,null,null,null,null,null,null,null,null,null,null,0,null,{"$f":"MATCH(\"*\"&AC$1&\"*\",OFFSET(Inscriptions!H$4:H$303,SUM('U10'!AF$6:'U10'!AF47),0),0)","v":{"$error":"#N/A"}}]
[{"$f":"IF(ISNA(INDEX(Inscriptions!A$4:A$303,SUM('U10'!AF$7:'U10'!AF49))),\"\",INDEX(Inscriptions!A$4:A$303,SUM('U10'!AF$7:'U10'!AF49)))","v":""},{"$f":"IF(A49=\"\",\"\",VLOOKUP(A49,Data!G$2:K$302,5,FALSE))","v":""},{"$f":"IF(A49=\"\",\"\",VLOOKUP(A49,Data!G$2:K$302,2,FALSE))","v":""},{"$f":"IF(A49=\"\",\"\",VLOOKUP(A49,Data!G$2:K$302,3,FALSE))","v":""},{"$f":"IF(A49=\"\",\"\",VLOOKUP(A49,Data!G$2:K$302,4,FALSE))","v":""},null,null,null,null,null,null,null,null,null,null,null,null,null,null,null,null,null,null,null,null,null,null,null,null,0,null,{"$f":"MATCH(\"*\"&AC$1&\"*\",OFFSET(Inscriptions!H$4:H$303,SUM('U10'!AF$6:'U10'!AF48),0),0)","v":{"$error":"#N/A"}}]
[{"$f":"IF(ISNA(INDEX(Inscriptions!A$4:A$303,SUM('U10'!AF$7:'U10'!AF50))),\"\",INDEX(Inscriptions!A$4:A$303,SUM('U10'!AF$7:'U10'!AF50)))","v":""},{"$f":"IF(A50=\"\",\"\",VLOOKUP(A50,Data!G$2:K$302,5,FALSE))","v":""},{"$f":"IF(A50=\"\",\"\",VLOOKUP(A50,Data!G$2:K$302,2,FALSE))","v":""},{"$f":"IF(A50=\"\",\"\",VLOOKUP(A50,Data!G$2:K$302,3,FALSE))","v":""},{"$f":"IF(A50=\"\",\"\",VLOOKUP(A50,Data!G$2:K$302,4,FALSE))","v":""},null,null,null,null,null,null,null,null,null,null,null,null,null,null,null,null,null,null,null,null,null,null,null,null,0,null,{"$f":"MATCH(\"*\"&AC$1&\"*\",OFFSET(Inscriptions!H$4:H$303,SUM('U10'!AF$6:'U10'!AF49),0),0)","v":{"$error":"#N/A"}}]
[{"$f":"IF(ISNA(INDEX(Inscriptions!A$4:A$303,SUM('U10'!AF$7:'U10'!AF51))),\"\",INDEX(Inscriptions!A$4:A$303,SUM('U10'!AF$7:'U10'!AF51)))","v":""},{"$f":"IF(A51=\"\",\"\",VLOOKUP(A51,Data!G$2:K$302,5,FALSE))","v":""},{"$f":"IF(A51=\"\",\"\",VLOOKUP(A51,Data!G$2:K$302,2,FALSE))","v":""},{"$f":"IF(A51=\"\",\"\",VLOOKUP(A51,Data!G$2:K$302,3,FALSE))","v":""},{"$f":"IF(A51=\"\",\"\",VLOOKUP(A51,Data!G$2:K$302,4,FALSE))","v":""},null,null,null,null,null,null,null,null,null,null,null,null,null,null,null,null,null,null,null,null,null,null,null,null,0,null,{"$f":"MATCH(\"*\"&AC$1&\"*\",OFFSET(Inscriptions!H$4:H$303,SUM('U10'!AF$6:'U10'!AF50),0),0)","v":{"$error":"#N/A"}}]
[{"$f":"IF(ISNA(INDEX(Inscriptions!A$4:A$303,SUM('U10'!AF$7:'U10'!AF52))),\"\",INDEX(Inscriptions!A$4:A$303,SUM('U10'!AF$7:'U10'!AF52)))","v":""},{"$f":"IF(A52=\"\",\"\",VLOOKUP(A52,Data!G$2:K$302,5,FALSE))","v":""},{"$f":"IF(A52=\"\",\"\",VLOOKUP(A52,Data!G$2:K$302,2,FALSE))","v":""},{"$f":"IF(A52=\"\",\"\",VLOOKUP(A52,Data!G$2:K$302,3,FALSE))","v":""},{"$f":"IF(A52=\"\",\"\",VLOOKUP(A52,Data!G$2:K$302,4,FALSE))","v":""},null,null,null,null,null,null,null,null,null,null,null,null,null,null,null,null,null,null,null,null,null,null,null,null,0,null,{"$f":"MATCH(\"*\"&AC$1&\"*\",OFFSET(Inscriptions!H$4:H$303,SUM('U10'!AF$6:'U10'!AF51),0),0)","v":{"$error":"#N/A"}}]
[{"$f":"IF(ISNA(INDEX(Inscriptions!A$4:A$303,SUM('U10'!AF$7:'U10'!AF53))),\"\",INDEX(Inscriptions!A$4:A$303,SUM('U10'!AF$7:'U10'!AF53)))","v":""},{"$f":"IF(A53=\"\",\"\",VLOOKUP(A53,Data!G$2:K$302,5,FALSE))","v":""},{"$f":"IF(A53=\"\",\"\",VLOOKUP(A53,Data!G$2:K$302,2,FALSE))","v":""},{"$f":"IF(A53=\"\",\"\",VLOOKUP(A53,Data!G$2:K$302,3,FALSE))","v":""},{"$f":"IF(A53=\"\",\"\",VLOOKUP(A53,Data!G$2:K$302,4,FALSE))","v":""},null,null,null,null,null,null,null,null,null,null,null,null,null,null,null,null,null,null,null,null,null,null,null,null,0,null,{"$f":"MATCH(\"*\"&AC$1&\"*\",OFFSET(Inscriptions!H$4:H$303,SUM('U10'!AF$6:'U10'!AF52),0),0)","v":{"$error":"#N/A"}}]
[{"$f":"IF(ISNA(INDEX(Inscriptions!A$4:A$303,SUM('U10'!AF$7:'U10'!AF54))),\"\",INDEX(Inscriptions!A$4:A$303,SUM('U10'!AF$7:'U10'!AF54)))","v":""},{"$f":"IF(A54=\"\",\"\",VLOOKUP(A54,Data!G$2:K$302,5,FALSE))","v":""},{"$f":"IF(A54=\"\",\"\",VLOOKUP(A54,Data!G$2:K$302,2,FALSE))","v":""},{"$f":"IF(A54=\"\",\"\",VLOOKUP(A54,Data!G$2:K$302,3,FALSE))","v":""},{"$f":"IF(A54=\"\",\"\",VLOOKUP(A54,Data!G$2:K$302,4,FALSE))","v":""},null,null,null,null,null,null,null,null,null,null,null,null,null,null,null,null,null,null,null,null,null,null,null,null,0,null,{"$f":"MATCH(\"*\"&AC$1&\"*\",OFFSET(Inscriptions!H$4:H$303,SUM('U10'!AF$6:'U10'!AF53),0),0)","v":{"$error":"#N/A"}}]
[{"$f":"IF(ISNA(INDEX(Inscriptions!A$4:A$303,SUM('U10'!AF$7:'U10'!AF55))),\"\",INDEX(Inscriptions!A$4:A$303,SUM('U10'!AF$7:'U10'!AF55)))","v":""},{"$f":"IF(A55=\"\",\"\",VLOOKUP(A55,Data!G$2:K$302,5,FALSE))","v":""},{"$f":"IF(A55=\"\",\"\",VLOOKUP(A55,Data!G$2:K$302,2,FALSE))","v":""},{"$f":"IF(A55=\"\",\"\",VLOOKUP(A55,Data!G$2:K$302,3,FALSE))","v":""},{"$f":"IF(A55=\"\",\"\",VLOOKUP(A55,Data!G$2:K$302,4,FALSE))","v":""},null,null,null,null,null,null,null,null,null,null,null,null,null,null,null,null,null,null,null,null,null,null,null,null,0,null,{"$f":"MATCH(\"*\"&AC$1&\"*\",OFFSET(Inscriptions!H$4:H$303,SUM('U10'!AF$6:'U10'!AF54),0),0)","v":{"$error":"#N/A"}}]
[{"$f":"CONCATENATE(IF(ChoixLangue=Languages!$B$1,Languages!$B105,IF(ChoixLangue=Languages!$C$1,Languages!$C105,IF(ChoixLangue=Languages!$D$1,Languages!$D105,Languages!$E105))),SUM(AD7:AD55))","v":"Nbe nageuses : 0"},"-","-","-",null,"-","-","-","-"]

{"sheet":"U13","index":6,"n_rows":56,"n_cols":32,"rows_kept":56,"cut":false,"hidden":true,"merged":[[3,0,3,8]]}
[{"$f":"IF('Cover Page'!B5=\"\",\"\",'Cover Page'!B5)","v":""},null,null,null,null,null,null,null,null,null,null,null,null,null,null,null,null,null,null,null,null,null,null,null,null,null,null,null,"x",null,null,{"$f":"MID(CELL(\"filename\",A1),FIND(\"]\",CELL(\"filename\",A1),1)+1,20)","v":"U13"}]
[{"$f":"IF('Cover Page'!B6=\"\",\"\",'Cover Page'!B6)","v":""},null,null,null,null,null,null,null,{"$f":"IF(ChoixLangue=Languages!$B$1,Languages!$B$97 & \" \" & AF1,IF(ChoixLangue=Languages!$C$1,Languages!$C$97 & \" \" & AF1,IF(ChoixLangue=Languages!$D$1,Languages!$D$97 & \" \" & AF1,Languages!$E$97 & \" \" & AF1)))","v":"Catégorie U13"}]
[{"$f":"IF('Cover Page'!B7=\"\",\"\",'Cover Page'!B7)","v":""}]
[{"$f":"IF('Cover Page'!B10=\"\",\"\",CONCATENATE(IF(ChoixLangue=Languages!$B$1,Languages!$B98,IF(ChoixLangue=Languages!$C$1,Languages!$C98,IF(ChoixLangue=Languages!$D$1,Languages!$D98,Languages!$E98))),'Cover Page'!B10))","v":""}]
[{"$f":"A56","v":"Nbe nageuses : 0"}]
[{"$f":"IF(ChoixLangue=Languages!$B$1,Languages!$B99,IF(ChoixLangue=Languages!$C$1,Languages!$C99,IF(ChoixLangue=Languages!$D$1,Languages!$D99,Languages!$E99)))","v":"NOM Prénom"},{"$f":"IF(ChoixLangue=Languages!$B$1,Languages!$B100,IF(ChoixLangue=Languages!$C$1,Languages!$C100,IF(ChoixLangue=Languages!$D$1,Languages!$D100,Languages!$E100)))","v":"Club"},{"$f":"IF(ChoixLangue=Languages!$B$1,Languages!$B101,IF(ChoixLangue=Languages!$C$1,Languages!$C101,IF(ChoixLangue=Languages!$D$1,Languages!$D101,Languages!$E101)))","v":"Licence"},{"$f":"IF(ChoixLangue=Languages!$B$1,Languages!$B102,IF(ChoixLangue=Languages!$C$1,Languages!$C102,IF(ChoixLangue=Languages!$D$1,Languages!$D102,Languages!$E102)))","v":"An. Nais."},{"$f":"IF(ChoixLangue=Languages!$B$1,Languages!$B103,IF(ChoixLangue=Languages!$C$1,Languages!$C103,IF(ChoixLangue=Languages!$D$1,Languages!$D103,Languages!$E103)))","v":"N° Test"},{"$f":"IF(ChoixLangue=Languages!$B$1,Languages!$B104,IF(ChoixLangue=Languages!$C$1,Languages!$C104,IF(ChoixLangue=Languages!$D$1,Languages!$D104,Languages!$E104)))","v":"Figures"},"Solo Free","Duo Free","Team Free"]
[{"$f":"IF(ISNA(INDEX(Inscriptions!A$4:A$303,SUM('U13'!AF$7:'U13'!AF7))),\"\",INDEX(Inscriptions!A$4:A$303,SUM('U13'!AF$7:'U13'!AF7)))","v":""},{"$f":"IF(A7=\"\",\"\",VLOOKUP(A7,Data!G$2:K$302,5,FALSE))","v":""},{"$f":"IF(A7=\"\",\"\",VLOOKUP(A7,Data!G$2:K$302,2,FALSE))","v":""},{"$f":"IF(A7=\"\",\"\",VLOOKUP(A7,Data!G$2:K$302,3,FALSE))","v":""},{"$f":"IF(A7=\"\",\"\",VLOOKUP(A7,Data!G$2:K$302,4,FALSE))","v":""},null,null,null,null,null,null,null,null,null,null,null,null,null,null,null,null,null,null,null,null,null,null,null,null,{"$f":"IF(A7<>\"\",1,0)","v":0},null,{"$f":"MATCH(\"*\"&AC$1&\"*\",OFFSET(Inscriptions!I$4:I$303,SUM('U13'!AF$6:'U13'!AF6),0),0)","v":{"$error":"#N/A"}}]
[{"$f":"IF(ISNA(INDEX(Inscriptions!A$4:A$303,SUM('U13'!AF$7:'U13'!AF8))),\"\",INDEX(Inscriptions!A$4:A$303,SUM('U13'!AF$7:'U13'!AF8)))","v":""},{"$f":"IF(A8=\"\",\"\",VLOOKUP(A8,Data!G$2:K$302,5,FALSE))","v":""},{"$f":"IF(A8=\"\",\"\",VLOOKUP(A8,Data!G$2:K$302,2,FALSE))","v":""},{"$f":"IF(A8=\"\",\"\",VLOOKUP(A8,Data!G$2:K$302,3,FALSE))","v":""},{"$f":"IF(A8=\"\",\"\",VLOOKUP(A8,Data!G$2:K$302,4,FALSE))","v":""},null,null,null,null,null,null,null,null,null,null,null,null,null,null,null,null,null,null,null,null,null,null,null,null,{"$f":"IF(A8<>\"\",1,0)","v":0},null,{"$f":"MATCH(\"*\"&AC$1&\"*\",OFFSET(Inscriptions!I$4:I$303,SUM('U13'!AF$6:'U13'!AF7),0),0)","v":{"$error":"#N/A"}}]
[{"$f":"IF(ISNA(INDEX(Inscriptions!A$4:A$303,SUM('U13'!AF$7:'U13'!AF9))),\"\",INDEX(Inscriptions!A$4:A$303,SUM('U13'!AF$7:'U13'!AF9)))","v":""},{"$f":"IF(A9=\"\",\"\",VLOOKUP(A9,Data!G$2:K$302,5,FALSE))","v":""},{"$f":"IF(A9=\"\",\"\",VLOOKUP(A9,Data!G$2:K$302,2,FALSE))","v":""},{"$f":"IF(A9=\"\",\"\",VLOOKUP(A9,Data!G$2:K$302,3,FALSE))","v":""},{"$f":"IF(A9=\"\",\"\",VLOOKUP(A9,Data!G$2:K$302,4,FALSE))","v":""},null,null,null,null,null,null,null,null,null,null,null,null,null,null,null,null,null,null,null,null,null,null,null,null,{"$f":"IF(A9<>\"\",1,0)","v":0},null,{"$f":"MATCH(\"*\"&AC$1&\"*\",OFFSET(Inscriptions!I$4:I$303,SUM('U13'!AF$6:'U13'!AF8),0),0)","v":{"$error":"#N/A"}}]
[{"$f":"IF(ISNA(INDEX(Inscriptions!A$4:A$303,SUM('U13'!AF$7:'U13'!AF10))),\"\",INDEX(Inscriptions!A$4:A$303,SUM('U13'!AF$7:'U13'!AF10)))","v":""},{"$f":"IF(A10=\"\",\"\",VLOOKUP(A10,Data!G$2:K$302,5,FALSE))","v":""},{"$f":"IF(A10=\"\",\"\",VLOOKUP(A10,Data!G$2:K$302,2,FALSE))","v":""},{"$f":"IF(A10=\"\",\"\",VLOOKUP(A10,Data!G$2:K$302,3,FALSE))","v":""},{"$f":"IF(A10=\"\",\"\",VLOOKUP(A10,Data!G$2:K$302,4,FALSE))","v":""},null,null,null,null,null,null,null,null,null,null,null,null,null,null,null,null,null,null,null,null,null,null,null,null,0,null,{"$f":"MATCH(\"*\"&AC$1&\"*\",OFFSET(Inscriptions!I$4:I$303,SUM('U13'!AF$6:'U13'!AF9),0),0)","v":{"$error":"#N/A"}}]
[{"$f":"IF(ISNA(INDEX(Inscriptions!A$4:A$303,SUM('U13'!AF$7:'U13'!AF11))),\"\",INDEX(Inscriptions!A$4:A$303,SUM('U13'!AF$7:'U13'!AF11)))","v":""},{"$f":"IF(A11=\"\",\"\",VLOOKUP(A11,Data!G$2:K$302,5,FALSE))","v":""},{"$f":"IF(A11=\"\",\"\",VLOOKUP(A11,Data!G$2:K$302,2,FALSE))","v":""},{"$f":"IF(A11=\"\",\"\",VLOOKUP(A11,Data!G$2:K$302,3,FALSE))","v":""},{"$f":"IF(A11=\"\",\"\",VLOOKUP(A11,Data!G$2:K$302,4,FALSE))","v":""},null,null,null,null,null,null,null,null,null,null,null,null,null,null,null,null,null,null,null,null,null,null,null,null,0,null,{"$f":"MATCH(\"*\"&AC$1&\"*\",OFFSET(Inscriptions!I$4:I$303,SUM('U13'!AF$6:'U13'!AF10),0),0)","v":{"$error":"#N/A"}}]
[{"$f":"IF(ISNA(INDEX(Inscriptions!A$4:A$303,SUM('U13'!AF$7:'U13'!AF12))),\"\",INDEX(Inscriptions!A$4:A$303,SUM('U13'!AF$7:'U13'!AF12)))","v":""},{"$f":"IF(A12=\"\",\"\",VLOOKUP(A12,Data!G$2:K$302,5,FALSE))","v":""},{"$f":"IF(A12=\"\",\"\",VLOOKUP(A12,Data!G$2:K$302,2,FALSE))","v":""},{"$f":"IF(A12=\"\",\"\",VLOOKUP(A12,Data!G$2:K$302,3,FALSE))","v":""},{"$f":"IF(A12=\"\",\"\",VLOOKUP(A12,Data!G$2:K$302,4,FALSE))","v":""},null,null,null,null,null,null,null,null,null,null,null,null,null,null,null,null,null,null,null,null,null,null,null,null,0,null,{"$f":"MATCH(\"*\"&AC$1&\"*\",OFFSET(Inscriptions!I$4:I$303,SUM('U13'!AF$6:'U13'!AF11),0),0)","v":{"$error":"#N/A"}}]
[{"$f":"IF(ISNA(INDEX(Inscriptions!A$4:A$303,SUM('U13'!AF$7:'U13'!AF13))),\"\",INDEX(Inscriptions!A$4:A$303,SUM('U13'!AF$7:'U13'!AF13)))","v":""},{"$f":"IF(A13=\"\",\"\",VLOOKUP(A13,Data!G$2:K$302,5,FALSE))","v":""},{"$f":"IF(A13=\"\",\"\",VLOOKUP(A13,Data!G$2:K$302,2,FALSE))","v":""},{"$f":"IF(A13=\"\",\"\",VLOOKUP(A13,Data!G$2:K$302,3,FALSE))","v":""},{"$f":"IF(A13=\"\",\"\",VLOOKUP(A13,Data!G$2:K$302,4,FALSE))","v":""},null,null,null,null,null,null,null,null,null,null,null,null,null,null,null,null,null,null,null,null,null,null,null,null,0,null,{"$f":"MATCH(\"*\"&AC$1&\"*\",OFFSET(Inscriptions!I$4:I$303,SUM('U13'!AF$6:'U13'!AF12),0),0)","v":{"$error":"#N/A"}}]
[{"$f":"IF(ISNA(INDEX(Inscriptions!A$4:A$303,SUM('U13'!AF$7:'U13'!AF14))),\"\",INDEX(Inscriptions!A$4:A$303,SUM('U13'!AF$7:'U13'!AF14)))","v":""},{"$f":"IF(A14=\"\",\"\",VLOOKUP(A14,Data!G$2:K$302,5,FALSE))","v":""},{"$f":"IF(A14=\"\",\"\",VLOOKUP(A14,Data!G$2:K$302,2,FALSE))","v":""},{"$f":"IF(A14=\"\",\"\",VLOOKUP(A14,Data!G$2:K$302,3,FALSE))","v":""},{"$f":"IF(A14=\"\",\"\",VLOOKUP(A14,Data!G$2:K$302,4,FALSE))","v":""},null,null,null,null,null,null,null,null,null,null,null,null,null,null,null,null,null,null,null,null,null,null,null,null,0,null,{"$f":"MATCH(\"*\"&AC$1&\"*\",OFFSET(Inscriptions!I$4:I$303,SUM('U13'!AF$6:'U13'!AF13),0),0)","v":{"$error":"#N/A"}}]
[{"$f":"IF(ISNA(INDEX(Inscriptions!A$4:A$303,SUM('U13'!AF$7:'U13'!AF15))),\"\",INDEX(Inscriptions!A$4:A$303,SUM('U13'!AF$7:'U13'!AF15)))","v":""},{"$f":"IF(A15=\"\",\"\",VLOOKUP(A15,Data!G$2:K$302,5,FALSE))","v":""},{"$f":"IF(A15=\"\",\"\",VLOOKUP(A15,Data!G$2:K$302,2,FALSE))","v":""},{"$f":"IF(A15=\"\",\"\",VLOOKUP(A15,Data!G$2:K$302,3,FALSE))","v":""},{"$f":"IF(A15=\"\",\"\",VLOOKUP(A15,Data!G$2:K$302,4,FALSE))","v":""},null,null,null,null,null,null,null,null,null,null,null,null,null,null,null,null,null,null,null,null,null,null,null,null,0,null,{"$f":"MATCH(\"*\"&AC$1&\"*\",OFFSET(Inscriptions!I$4:I$303,SUM('U13'!AF$6:'U13'!AF14),0),0)","v":{"$error":"#N/A"}}]
[{"$f":"IF(ISNA(INDEX(Inscriptions!A$4:A$303,SUM('U13'!AF$7:'U13'!AF16))),\"\",INDEX(Inscriptions!A$4:A$303,SUM('U13'!AF$7:'U13'!AF16)))","v":""},{"$f":"IF(A16=\"\",\"\",VLOOKUP(A16,Data!G$2:K$302,5,FALSE))","v":""},{"$f":"IF(A16=\"\",\"\",VLOOKUP(A16,Data!G$2:K$302,2,FALSE))","v":""},{"$f":"IF(A16=\"\",\"\",VLOOKUP(A16,Data!G$2:K$302,3,FALSE))","v":""},{"$f":"IF(A16=\"\",\"\",VLOOKUP(A16,Data!G$2:K$302,4,FALSE))","v":""},null,null,null,null,null,null,null,null,null,null,null,null,null,null,null,null,null,null,null,null,null,null,null,null,0,null,{"$f":"MATCH(\"*\"&AC$1&\"*\",OFFSET(Inscriptions!I$4:I$303,SUM('U13'!AF$6:'U13'!AF15),0),0)","v":{"$error":"#N/A"}}]
[{"$f":"IF(ISNA(INDEX(Inscriptions!A$4:A$303,SUM('U13'!AF$7:'U13'!AF17))),\"\",INDEX(Inscriptions!A$4:A$303,SUM('U13'!AF$7:'U13'!AF17)))","v":""},{"$f":"IF(A17=\"\",\"\",VLOOKUP(A17,Data!G$2:K$302,5,FALSE))","v":""},{"$f":"IF(A17=\"\",\"\",VLOOKUP(A17,Data!G$2:K$302,2,FALSE))","v":""},{"$f":"IF(A17=\"\",\"\",VLOOKUP(A17,Data!G$2:K$302,3,FALSE))","v":""},{"$f":"IF(A17=\"\",\"\",VLOOKUP(A17,Data!G$2:K$302,4,FALSE))","v":""},null,null,null,null,null,null,null,null,null,null,null,null,null,null,null,null,null,null,null,null,null,null,null,null,0,null,{"$f":"MATCH(\"*\"&AC$1&\"*\",OFFSET(Inscriptions!I$4:I$303,SUM('U13'!AF$6:'U13'!AF16),0),0)","v":{"$error":"#N/A"}}]
[{"$f":"IF(ISNA(INDEX(Inscriptions!A$4:A$303,SUM('U13'!AF$7:'U13'!AF18))),\"\",INDEX(Inscriptions!A$4:A$303,SUM('U13'!AF$7:'U13'!AF18)))","v":""},{"$f":"IF(A18=\"\",\"\",VLOOKUP(A18,Data!G$2:K$302,5,FALSE))","v":""},{"$f":"IF(A18=\"\",\"\",VLOOKUP(A18,Data!G$2:K$302,2,FALSE))","v":""},{"$f":"IF(A18=\"\",\"\",VLOOKUP(A18,Data!G$2:K$302,3,FALSE))","v":""},{"$f":"IF(A18=\"\",\"\",VLOOKUP(A18,Data!G$2:K$302,4,FALSE))","v":""},null,null,null,null,null,null,null,null,null,null,null,null,null,null,null,null,null,null,null,null,null,null,null,null,0,null,{"$f":"MATCH(\"*\"&AC$1&\"*\",OFFSET(Inscriptions!I$4:I$303,SUM('U13'!AF$6:'U13'!AF17),0),0)","v":{"$error":"#N/A"}}]
[{"$f":"IF(ISNA(INDEX(Inscriptions!A$4:A$303,SUM('U13'!AF$7:'U13'!AF19))),\"\",INDEX(Inscriptions!A$4:A$303,SUM('U13'!AF$7:'U13'!AF19)))","v":""},{"$f":"IF(A19=\"\",\"\",VLOOKUP(A19,Data!G$2:K$302,5,FALSE))","v":""},{"$f":"IF(A19=\"\",\"\",VLOOKUP(A19,Data!G$2:K$302,2,FALSE))","v":""},{"$f":"IF(A19=\"\",\"\",VLOOKUP(A19,Data!G$2:K$302,3,FALSE))","v":""},{"$f":"IF(A19=\"\",\"\",VLOOKUP(A19,Data!G$2:K$302,4,FALSE))","v":""},null,null,null,null,null,null,null,null,null,null,null,null,null,null,null,null,null,null,null,null,null,null,null,null,0,null,{"$f":"MATCH(\"*\"&AC$1&\"*\",OFFSET(Inscriptions!I$4:I$303,SUM('U13'!AF$6:'U13'!AF18),0),0)","v":{"$error":"#N/A"}}]
[{"$f":"IF(ISNA(INDEX(Inscriptions!A$4:A$303,SUM('U13'!AF$7:'U13'!AF20))),\"\",INDEX(Inscriptions!A$4:A$303,SUM('U13'!AF$7:'U13'!AF20)))","v":""},{"$f":"IF(A20=\"\",\"\",VLOOKUP(A20,Data!G$2:K$302,5,FALSE))","v":""},{"$f":"IF(A20=\"\",\"\",VLOOKUP(A20,Data!G$2:K$302,2,FALSE))","v":""},{"$f":"IF(A20=\"\",\"\",VLOOKUP(A20,Data!G$2:K$302,3,FALSE))","v":""},{"$f":"IF(A20=\"\",\"\",VLOOKUP(A20,Data!G$2:K$302,4,FALSE))","v":""},null,null,null,null,null,null,null,null,null,null,null,null,null,null,null,null,null,null,null,null,null,null,null,null,0,null,{"$f":"MATCH(\"*\"&AC$1&\"*\",OFFSET(Inscriptions!I$4:I$303,SUM('U13'!AF$6:'U13'!AF19),0),0)","v":{"$error":"#N/A"}}]
[{"$f":"IF(ISNA(INDEX(Inscriptions!A$4:A$303,SUM('U13'!AF$7:'U13'!AF21))),\"\",INDEX(Inscriptions!A$4:A$303,SUM('U13'!AF$7:'U13'!AF21)))","v":""},{"$f":"IF(A21=\"\",\"\",VLOOKUP(A21,Data!G$2:K$302,5,FALSE))","v":""},{"$f":"IF(A21=\"\",\"\",VLOOKUP(A21,Data!G$2:K$302,2,FALSE))","v":""},{"$f":"IF(A21=\"\",\"\",VLOOKUP(A21,Data!G$2:K$302,3,FALSE))","v":""},{"$f":"IF(A21=\"\",\"\",VLOOKUP(A21,Data!G$2:K$302,4,FALSE))","v":""},null,null,null,null,null,null,null,null,null,null,null,null,null,null,null,null,null,null,null,null,null,null,null,null,0,null,{"$f":"MATCH(\"*\"&AC$1&\"*\",OFFSET(Inscriptions!I$4:I$303,SUM('U13'!AF$6:'U13'!AF20),0),0)","v":{"$error":"#N/A"}}]
[{"$f":"IF(ISNA(INDEX(Inscriptions!A$4:A$303,SUM('U13'!AF$7:'U13'!AF22))),\"\",INDEX(Inscriptions!A$4:A$303,SUM('U13'!AF$7:'U13'!AF22)))","v":""},{"$f":"IF(A22=\"\",\"\",VLOOKUP(A22,Data!G$2:K$302,5,FALSE))","v":""},{"$f":"IF(A22=\"\",\"\",VLOOKUP(A22,Data!G$2:K$302,2,FALSE))","v":""},{"$f":"IF(A22=\"\",\"\",VLOOKUP(A22,Data!G$2:K$302,3,FALSE))","v":""},{"$f":"IF(A22=\"\",\"\",VLOOKUP(A22,Data!G$2:K$302,4,FALSE))","v":""},null,null,null,null,null,null,null,null,null,null,null,null,null,null,null,null,null,null,null,null,null,null,null,null,0,null,{"$f":"MATCH(\"*\"&AC$1&\"*\",OFFSET(Inscriptions!I$4:I$303,SUM('U13'!AF$6:'U13'!AF21),0),0)","v":{"$error":"#N/A"}}]
[{"$f":"IF(ISNA(INDEX(Inscriptions!A$4:A$303,SUM('U13'!AF$7:'U13'!AF23))),\"\",INDEX(Inscriptions!A$4:A$303,SUM('U13'!AF$7:'U13'!AF23)))","v":""},{"$f":"IF(A23=\"\",\"\",VLOOKUP(A23,Data!G$2:K$302,5,FALSE))","v":""},{"$f":"IF(A23=\"\",\"\",VLOOKUP(A23,Data!G$2:K$302,2,FALSE))","v":""},{"$f":"IF(A23=\"\",\"\",VLOOKUP(A23,Data!G$2:K$302,3,FALSE))","v":""},{"$f":"IF(A23=\"\",\"\",VLOOKUP(A23,Data!G$2:K$302,4,FALSE))","v":""},null,null,null,null,null,null,null,null,null,null,null,null,null,null,null,null,null,null,null,null,null,null,null,null,0,null,{"$f":"MATCH(\"*\"&AC$1&\"*\",OFFSET(Inscriptions!I$4:I$303,SUM('U13'!AF$6:'U13'!AF22),0),0)","v":{"$error":"#N/A"}}]
[{"$f":"IF(ISNA(INDEX(Inscriptions!A$4:A$303,SUM('U13'!AF$7:'U13'!AF24))),\"\",INDEX(Inscriptions!A$4:A$303,SUM('U13'!AF$7:'U13'!AF24)))","v":""},{"$f":"IF(A24=\"\",\"\",VLOOKUP(A24,Data!G$2:K$302,5,FALSE))","v":""},{"$f":"IF(A24=\"\",\"\",VLOOKUP(A24,Data!G$2:K$302,2,FALSE))","v":""},{"$f":"IF(A24=\"\",\"\",VLOOKUP(A24,Data!G$2:K$302,3,FALSE))","v":""},{"$f":"IF(A24=\"\",\"\",VLOOKUP(A24,Data!G$2:K$302,4,FALSE))","v":""},null,null,null,null,null,null,null,null,null,null,null,null,null,null,null,null,null,null,null,null,null,null,null,null,0,null,{"$f":"MATCH(\"*\"&AC$1&\"*\",OFFSET(Inscriptions!I$4:I$303,SUM('U13'!AF$6:'U13'!AF23),0),0)","v":{"$error":"#N/A"}}]
[{"$f":"IF(ISNA(INDEX(Inscriptions!A$4:A$303,SUM('U13'!AF$7:'U13'!AF25))),\"\",INDEX(Inscriptions!A$4:A$303,SUM('U13'!AF$7:'U13'!AF25)))","v":""},{"$f":"IF(A25=\"\",\"\",VLOOKUP(A25,Data!G$2:K$302,5,FALSE))","v":""},{"$f":"IF(A25=\"\",\"\",VLOOKUP(A25,Data!G$2:K$302,2,FALSE))","v":""},{"$f":"IF(A25=\"\",\"\",VLOOKUP(A25,Data!G$2:K$302,3,FALSE))","v":""},{"$f":"IF(A25=\"\",\"\",VLOOKUP(A25,Data!G$2:K$302,4,FALSE))","v":""},null,null,null,null,null,null,null,null,null,null,null,null,null,null,null,null,null,null,null,null,null,null,null,null,0,null,{"$f":"MATCH(\"*\"&AC$1&\"*\",OFFSET(Inscriptions!I$4:I$303,SUM('U13'!AF$6:'U13'!AF24),0),0)","v":{"$error":"#N/A"}}]
[{"$f":"IF(ISNA(INDEX(Inscriptions!A$4:A$303,SUM('U13'!AF$7:'U13'!AF26))),\"\",INDEX(Inscriptions!A$4:A$303,SUM('U13'!AF$7:'U13'!AF26)))","v":""},{"$f":"IF(A26=\"\",\"\",VLOOKUP(A26,Data!G$2:K$302,5,FALSE))","v":""},{"$f":"IF(A26=\"\",\"\",VLOOKUP(A26,Data!G$2:K$302,2,FALSE))","v":""},{"$f":"IF(A26=\"\",\"\",VLOOKUP(A26,Data!G$2:K$302,3,FALSE))","v":""},{"$f":"IF(A26=\"\",\"\",VLOOKUP(A26,Data!G$2:K$302,4,FALSE))","v":""},null,null,null,null,null,null,null,null,null,null,null,null,null,null,null,null,null,null,null,null,null,null,null,null,0,null,{"$f":"MATCH(\"*\"&AC$1&\"*\",OFFSET(Inscriptions!I$4:I$303,SUM('U13'!AF$6:'U13'!AF25),0),0)","v":{"$error":"#N/A"}}]
[{"$f":"IF(ISNA(INDEX(Inscriptions!A$4:A$303,SUM('U13'!AF$7:'U13'!AF27))),\"\",INDEX(Inscriptions!A$4:A$303,SUM('U13'!AF$7:'U13'!AF27)))","v":""},{"$f":"IF(A27=\"\",\"\",VLOOKUP(A27,Data!G$2:K$302,5,FALSE))","v":""},{"$f":"IF(A27=\"\",\"\",VLOOKUP(A27,Data!G$2:K$302,2,FALSE))","v":""},{"$f":"IF(A27=\"\",\"\",VLOOKUP(A27,Data!G$2:K$302,3,FALSE))","v":""},{"$f":"IF(A27=\"\",\"\",VLOOKUP(A27,Data!G$2:K$302,4,FALSE))","v":""},null,null,null,null,null,null,null,null,null,null,null,null,null,null,null,null,null,null,null,null,null,null,null,null,0,null,{"$f":"MATCH(\"*\"&AC$1&\"*\",OFFSET(Inscriptions!I$4:I$303,SUM('U13'!AF$6:'U13'!AF26),0),0)","v":{"$error":"#N/A"}}]
[{"$f":"IF(ISNA(INDEX(Inscriptions!A$4:A$303,SUM('U13'!AF$7:'U13'!AF28))),\"\",INDEX(Inscriptions!A$4:A$303,SUM('U13'!AF$7:'U13'!AF28)))","v":""},{"$f":"IF(A28=\"\",\"\",VLOOKUP(A28,Data!G$2:K$302,5,FALSE))","v":""},{"$f":"IF(A28=\"\",\"\",VLOOKUP(A28,Data!G$2:K$302,2,FALSE))","v":""},{"$f":"IF(A28=\"\",\"\",VLOOKUP(A28,Data!G$2:K$302,3,FALSE))","v":""},{"$f":"IF(A28=\"\",\"\",VLOOKUP(A28,Data!G$2:K$302,4,FALSE))","v":""},null,null,null,null,null,null,null,null,null,null,null,null,null,null,null,null,null,null,null,null,null,null,null,null,0,null,{"$f":"MATCH(\"*\"&AC$1&\"*\",OFFSET(Inscriptions!I$4:I$303,SUM('U13'!AF$6:'U13'!AF27),0),0)","v":{"$error":"#N/A"}}]
[{"$f":"IF(ISNA(INDEX(Inscriptions!A$4:A$303,SUM('U13'!AF$7:'U13'!AF29))),\"\",INDEX(Inscriptions!A$4:A$303,SUM('U13'!AF$7:'U13'!AF29)))","v":""},{"$f":"IF(A29=\"\",\"\",VLOOKUP(A29,Data!G$2:K$302,5,FALSE))","v":""},{"$f":"IF(A29=\"\",\"\",VLOOKUP(A29,Data!G$2:K$302,2,FALSE))","v":""},{"$f":"IF(A29=\"\",\"\",VLOOKUP(A29,Data!G$2:K$302,3,FALSE))","v":""},{"$f":"IF(A29=\"\",\"\",VLOOKUP(A29,Data!G$2:K$302,4,FALSE))","v":""},null,null,null,null,null,null,null,null,null,null,null,null,null,null,null,null,null,null,null,null,null,null,null,null,0,null,{"$f":"MATCH(\"*\"&AC$1&\"*\",OFFSET(Inscriptions!I$4:I$303,SUM('U13'!AF$6:'U13'!AF28),0),0)","v":{"$error":"#N/A"}}]
[{"$f":"IF(ISNA(INDEX(Inscriptions!A$4:A$303,SUM('U13'!AF$7:'U13'!AF30))),\"\",INDEX(Inscriptions!A$4:A$303,SUM('U13'!AF$7:'U13'!AF30)))","v":""},{"$f":"IF(A30=\"\",\"\",VLOOKUP(A30,Data!G$2:K$302,5,FALSE))","v":""},{"$f":"IF(A30=\"\",\"\",VLOOKUP(A30,Data!G$2:K$302,2,FALSE))","v":""},{"$f":"IF(A30=\"\",\"\",VLOOKUP(A30,Data!G$2:K$302,3,FALSE))","v":""},{"$f":"IF(A30=\"\",\"\",VLOOKUP(A30,Data!G$2:K$302,4,FALSE))","v":""},null,null,null,null,null,null,null,null,null,null,null,null,null,null,null,null,null,null,null,null,null,null,null,null,0,null,{"$f":"MATCH(\"*\"&AC$1&\"*\",OFFSET(Inscriptions!I$4:I$303,SUM('U13'!AF$6:'U13'!AF29),0),0)","v":{"$error":"#N/A"}}]
[{"$f":"IF(ISNA(INDEX(Inscriptions!A$4:A$303,SUM('U13'!AF$7:'U13'!AF31))),\"\",INDEX(Inscriptions!A$4:A$303,SUM('U13'!AF$7:'U13'!AF31)))","v":""},{"$f":"IF(A31=\"\",\"\",VLOOKUP(A31,Data!G$2:K$302,5,FALSE))","v":""},{"$f":"IF(A31=\"\",\"\",VLOOKUP(A31,Data!G$2:K$302,2,FALSE))","v":""},{"$f":"IF(A31=\"\",\"\",VLOOKUP(A31,Data!G$2:K$302,3,FALSE))","v":""},{"$f":"IF(A31=\"\",\"\",VLOOKUP(A31,Data!G$2:K$302,4,FALSE))","v":""},null,null,null,null,null,null,null,null,null,null,null,null,null,null,null,null,null,null,null,null,null,null,null,null,0,null,{"$f":"MATCH(\"*\"&AC$1&\"*\",OFFSET(Inscriptions!I$4:I$303,SUM('U13'!AF$6:'U13'!AF30),0),0)","v":{"$error":"#N/A"}}]
[{"$f":"IF(ISNA(INDEX(Inscriptions!A$4:A$303,SUM('U13'!AF$7:'U13'!AF32))),\"\",INDEX(Inscriptions!A$4:A$303,SUM('U13'!AF$7:'U13'!AF32)))","v":""},{"$f":"IF(A32=\"\",\"\",VLOOKUP(A32,Data!G$2:K$302,5,FALSE))","v":""},{"$f":"IF(A32=\"\",\"\",VLOOKUP(A32,Data!G$2:K$302,2,FALSE))","v":""},{"$f":"IF(A32=\"\",\"\",VLOOKUP(A32,Data!G$2:K$302,3,FALSE))","v":""},{"$f":"IF(A32=\"\",\"\",VLOOKUP(A32,Data!G$2:K$302,4,FALSE))","v":""},null,null,null,null,null,null,null,null,null,null,null,null,null,null,null,null,null,null,null,null,null,null,null,null,0,null,{"$f":"MATCH(\"*\"&AC$1&\"*\",OFFSET(Inscriptions!I$4:I$303,SUM('U13'!AF$6:'U13'!AF31),0),0)","v":{"$error":"#N/A"}}]
[{"$f":"IF(ISNA(INDEX(Inscriptions!A$4:A$303,SUM('U13'!AF$7:'U13'!AF33))),\"\",INDEX(Inscriptions!A$4:A$303,SUM('U13'!AF$7:'U13'!AF33)))","v":""},{"$f":"IF(A33=\"\",\"\",VLOOKUP(A33,Data!G$2:K$302,5,FALSE))","v":""},{"$f":"IF(A33=\"\",\"\",VLOOKUP(A33,Data!G$2:K$302,2,FALSE))","v":""},{"$f":"IF(A33=\"\",\"\",VLOOKUP(A33,Data!G$2:K$302,3,FALSE))","v":""},{"$f":"IF(A33=\"\",\"\",VLOOKUP(A33,Data!G$2:K$302,4,FALSE))","v":""},null,null,null,null,null,null,null,null,null,null,null,null,null,null,null,null,null,null,null,null,null,null,null,null,0,null,{"$f":"MATCH(\"*\"&AC$1&\"*\",OFFSET(Inscriptions!I$4:I$303,SUM('U13'!AF$6:'U13'!AF32),0),0)","v":{"$error":"#N/A"}}]
[{"$f":"IF(ISNA(INDEX(Inscriptions!A$4:A$303,SUM('U13'!AF$7:'U13'!AF34))),\"\",INDEX(Inscriptions!A$4:A$303,SUM('U13'!AF$7:'U13'!AF34)))","v":""},{"$f":"IF(A34=\"\",\"\",VLOOKUP(A34,Data!G$2:K$302,5,FALSE))","v":""},{"$f":"IF(A34=\"\",\"\",VLOOKUP(A34,Data!G$2:K$302,2,FALSE))","v":""},{"$f":"IF(A34=\"\",\"\",VLOOKUP(A34,Data!G$2:K$302,3,FALSE))","v":""},{"$f":"IF(A34=\"\",\"\",VLOOKUP(A34,Data!G$2:K$302,4,FALSE))","v":""},null,null,null,null,null,null,null,null,null,null,null,null,null,null,null,null,null,null,null,null,null,null,null,null,0,null,{"$f":"MATCH(\"*\"&AC$1&\"*\",OFFSET(Inscriptions!I$4:I$303,SUM('U13'!AF$6:'U13'!AF33),0),0)","v":{"$error":"#N/A"}}]
[{"$f":"IF(ISNA(INDEX(Inscriptions!A$4:A$303,SUM('U13'!AF$7:'U13'!AF35))),\"\",INDEX(Inscriptions!A$4:A$303,SUM('U13'!AF$7:'U13'!AF35)))","v":""},{"$f":"IF(A35=\"\",\"\",VLOOKUP(A35,Data!G$2:K$302,5,FALSE))","v":""},{"$f":"IF(A35=\"\",\"\",VLOOKUP(A35,Data!G$2:K$302,2,FALSE))","v":""},{"$f":"IF(A35=\"\",\"\",VLOOKUP(A35,Data!G$2:K$302,3,FALSE))","v":""},{"$f":"IF(A35=\"\",\"\",VLOOKUP(A35,Data!G$2:K$302,4,FALSE))","v":""},null,null,null,null,null,null,null,null,null,null,null,null,null,null,null,null,null,null,null,null,null,null,null,null,0,null,{"$f":"MATCH(\"*\"&AC$1&\"*\",OFFSET(Inscriptions!I$4:I$303,SUM('U13'!AF$6:'U13'!AF34),0),0)","v":{"$error":"#N/A"}}]
[{"$f":"IF(ISNA(INDEX(Inscriptions!A$4:A$303,SUM('U13'!AF$7:'U13'!AF36))),\"\",INDEX(Inscriptions!A$4:A$303,SUM('U13'!AF$7:'U13'!AF36)))","v":""},{"$f":"IF(A36=\"\",\"\",VLOOKUP(A36,Data!G$2:K$302,5,FALSE))","v":""},{"$f":"IF(A36=\"\",\"\",VLOOKUP(A36,Data!G$2:K$302,2,FALSE))","v":""},{"$f":"IF(A36=\"\",\"\",VLOOKUP(A36,Data!G$2:K$302,3,FALSE))","v":""},{"$f":"IF(A36=\"\",\"\",VLOOKUP(A36,Data!G$2:K$302,4,FALSE))","v":""},null,null,null,null,null,null,null,null,null,null,null,null,null,null,null,null,null,null,null,null,null,null,null,null,0,null,{"$f":"MATCH(\"*\"&AC$1&\"*\",OFFSET(Inscriptions!I$4:I$303,SUM('U13'!AF$6:'U13'!AF35),0),0)","v":{"$error":"#N/A"}}]
[{"$f":"IF(ISNA(INDEX(Inscriptions!A$4:A$303,SUM('U13'!AF$7:'U13'!AF37))),\"\",INDEX(Inscriptions!A$4:A$303,SUM('U13'!AF$7:'U13'!AF37)))","v":""},{"$f":"IF(A37=\"\",\"\",VLOOKUP(A37,Data!G$2:K$302,5,FALSE))","v":""},{"$f":"IF(A37=\"\",\"\",VLOOKUP(A37,Data!G$2:K$302,2,FALSE))","v":""},{"$f":"IF(A37=\"\",\"\",VLOOKUP(A37,Data!G$2:K$302,3,FALSE))","v":""},{"$f":"IF(A37=\"\",\"\",VLOOKUP(A37,Data!G$2:K$302,4,FALSE))","v":""},null,null,null,null,null,null,null,null,null,null,null,null,null,null,null,null,null,null,null,null,null,null,null,null,0,null,{"$f":"MATCH(\"*\"&AC$1&\"*\",OFFSET(Inscriptions!I$4:I$303,SUM('U13'!AF$6:'U13'!AF36),0),0)","v":{"$error":"#N/A"}}]
[{"$f":"IF(ISNA(INDEX(Inscriptions!A$4:A$303,SUM('U13'!AF$7:'U13'!AF38))),\"\",INDEX(Inscriptions!A$4:A$303,SUM('U13'!AF$7:'U13'!AF38)))","v":""},{"$f":"IF(A38=\"\",\"\",VLOOKUP(A38,Data!G$2:K$302,5,FALSE))","v":""},{"$f":"IF(A38=\"\",\"\",VLOOKUP(A38,Data!G$2:K$302,2,FALSE))","v":""},{"$f":"IF(A38=\"\",\"\",VLOOKUP(A38,Data!G$2:K$302,3,FALSE))","v":""},{"$f":"IF(A38=\"\",\"\",VLOOKUP(A38,Data!G$2:K$302,4,FALSE))","v":""},null,null,null,null,null,null,null,null,null,null,null,null,null,null,null,null,null,null,null,null,null,null,null,null,0,null,{"$f":"MATCH(\"*\"&AC$1&\"*\",OFFSET(Inscriptions!I$4:I$303,SUM('U13'!AF$6:'U13'!AF37),0),0)","v":{"$error":"#N/A"}}]
[{"$f":"IF(ISNA(INDEX(Inscriptions!A$4:A$303,SUM('U13'!AF$7:'U13'!AF39))),\"\",INDEX(Inscriptions!A$4:A$303,SUM('U13'!AF$7:'U13'!AF39)))","v":""},{"$f":"IF(A39=\"\",\"\",VLOOKUP(A39,Data!G$2:K$302,5,FALSE))","v":""},{"$f":"IF(A39=\"\",\"\",VLOOKUP(A39,Data!G$2:K$302,2,FALSE))","v":""},{"$f":"IF(A39=\"\",\"\",VLOOKUP(A39,Data!G$2:K$302,3,FALSE))","v":""},{"$f":"IF(A39=\"\",\"\",VLOOKUP(A39,Data!G$2:K$302,4,FALSE))","v":""},null,null,null,null,null,null,null,null,null,null,null,null,null,null,null,null,null,null,null,null,null,null,null,null,0,null,{"$f":"MATCH(\"*\"&AC$1&\"*\",OFFSET(Inscriptions!I$4:I$303,SUM('U13'!AF$6:'U13'!AF38),0),0)","v":{"$error":"#N/A"}}]
[{"$f":"IF(ISNA(INDEX(Inscriptions!A$4:A$303,SUM('U13'!AF$7:'U13'!AF40))),\"\",INDEX(Inscriptions!A$4:A$303,SUM('U13'!AF$7:'U13'!AF40)))","v":""},{"$f":"IF(A40=\"\",\"\",VLOOKUP(A40,Data!G$2:K$302,5,FALSE))","v":""},{"$f":"IF(A40=\"\",\"\",VLOOKUP(A40,Data!G$2:K$302,2,FALSE))","v":""},{"$f":"IF(A40=\"\",\"\",VLOOKUP(A40,Data!G$2:K$302,3,FALSE))","v":""},{"$f":"IF(A40=\"\",\"\",VLOOKUP(A40,Data!G$2:K$302,4,FALSE))","v":""},null,null,null,null,null,null,null,null,null,null,null,null,null,null,null,null,null,null,null,null,null,null,null,null,0,null,{"$f":"MATCH(\"*\"&AC$1&\"*\",OFFSET(Inscriptions!I$4:I$303,SUM('U13'!AF$6:'U13'!AF39),0),0)","v":{"$error":"#N/A"}}]
[{"$f":"IF(ISNA(INDEX(Inscriptions!A$4:A$303,SUM('U13'!AF$7:'U13'!AF41))),\"\",INDEX(Inscriptions!A$4:A$303,SUM('U13'!AF$7:'U13'!AF41)))","v":""},{"$f":"IF(A41=\"\",\"\",VLOOKUP(A41,Data!G$2:K$302,5,FALSE))","v":""},{"$f":"IF(A41=\"\",\"\",VLOOKUP(A41,Data!G$2:K$302,2,FALSE))","v":""},{"$f":"IF(A41=\"\",\"\",VLOOKUP(A41,Data!G$2:K$302,3,FALSE))","v":""},{"$f":"IF(A41=\"\",\"\",VLOOKUP(A41,Data!G$2:K$302,4,FALSE))","v":""},null,null,null,null,null,null,null,null,null,null,null,null,null,null,null,null,null,null,null,null,null,null,null,null,0,null,{"$f":"MATCH(\"*\"&AC$1&\"*\",OFFSET(Inscriptions!I$4:I$303,SUM('U13'!AF$6:'U13'!AF40),0),0)","v":{"$error":"#N/A"}}]
[{"$f":"IF(ISNA(INDEX(Inscriptions!A$4:A$303,SUM('U13'!AF$7:'U13'!AF42))),\"\",INDEX(Inscriptions!A$4:A$303,SUM('U13'!AF$7:'U13'!AF42)))","v":""},{"$f":"IF(A42=\"\",\"\",VLOOKUP(A42,Data!G$2:K$302,5,FALSE))","v":""},{"$f":"IF(A42=\"\",\"\",VLOOKUP(A42,Data!G$2:K$302,2,FALSE))","v":""},{"$f":"IF(A42=\"\",\"\",VLOOKUP(A42,Data!G$2:K$302,3,FALSE))","v":""},{"$f":"IF(A42=\"\",\"\",VLOOKUP(A42,Data!G$2:K$302,4,FALSE))","v":""},null,null,null,null,null,null,null,null,null,null,null,null,null,null,null,null,null,null,null,null,null,null,null,null,0,null,{"$f":"MATCH(\"*\"&AC$1&\"*\",OFFSET(Inscriptions!I$4:I$303,SUM('U13'!AF$6:'U13'!AF41),0),0)","v":{"$error":"#N/A"}}]
[{"$f":"IF(ISNA(INDEX(Inscriptions!A$4:A$303,SUM('U13'!AF$7:'U13'!AF43))),\"\",INDEX(Inscriptions!A$4:A$303,SUM('U13'!AF$7:'U13'!AF43)))","v":""},{"$f":"IF(A43=\"\",\"\",VLOOKUP(A43,Data!G$2:K$302,5,FALSE))","v":""},{"$f":"IF(A43=\"\",\"\",VLOOKUP(A43,Data!G$2:K$302,2,FALSE))","v":""},{"$f":"IF(A43=\"\",\"\",VLOOKUP(A43,Data!G$2:K$302,3,FALSE))","v":""},{"$f":"IF(A43=\"\",\"\",VLOOKUP(A43,Data!G$2:K$302,4,FALSE))","v":""},null,null,null,null,null,null,null,null,null,null,null,null,null,null,null,null,null,null,null,null,null,null,null,null,0,null,{"$f":"MATCH(\"*\"&AC$1&\"*\",OFFSET(Inscriptions!I$4:I$303,SUM('U13'!AF$6:'U13'!AF42),0),0)","v":{"$error":"#N/A"}}]
[{"$f":"IF(ISNA(INDEX(Inscriptions!A$4:A$303,SUM('U13'!AF$7:'U13'!AF44))),\"\",INDEX(Inscriptions!A$4:A$303,SUM('U13'!AF$7:'U13'!AF44)))","v":""},{"$f":"IF(A44=\"\",\"\",VLOOKUP(A44,Data!G$2:K$302,5,FALSE))","v":""},{"$f":"IF(A44=\"\",\"\",VLOOKUP(A44,Data!G$2:K$302,2,FALSE))","v":""},{"$f":"IF(A44=\"\",\"\",VLOOKUP(A44,Data!G$2:K$302,3,FALSE))","v":""},{"$f":"IF(A44=\"\",\"\",VLOOKUP(A44,Data!G$2:K$302,4,FALSE))","v":""},null,null,null,null,null,null,null,null,null,null,null,null,null,null,null,null,null,null,null,null,null,null,null,null,0,null,{"$f":"MATCH(\"*\"&AC$1&\"*\",OFFSET(Inscriptions!I$4:I$303,SUM('U13'!AF$6:'U13'!AF43),0),0)","v":{"$error":"#N/A"}}]
[{"$f":"IF(ISNA(INDEX(Inscriptions!A$4:A$303,SUM('U13'!AF$7:'U13'!AF45))),\"\",INDEX(Inscriptions!A$4:A$303,SUM('U13'!AF$7:'U13'!AF45)))","v":""},{"$f":"IF(A45=\"\",\"\",VLOOKUP(A45,Data!G$2:K$302,5,FALSE))","v":""},{"$f":"IF(A45=\"\",\"\",VLOOKUP(A45,Data!G$2:K$302,2,FALSE))","v":""},{"$f":"IF(A45=\"\",\"\",VLOOKUP(A45,Data!G$2:K$302,3,FALSE))","v":""},{"$f":"IF(A45=\"\",\"\",VLOOKUP(A45,Data!G$2:K$302,4,FALSE))","v":""},null,null,null,null,null,null,null,null,null,null,null,null,null,null,null,null,null,null,null,null,null,null,null,null,0,null,{"$f":"MATCH(\"*\"&AC$1&\"*\",OFFSET(Inscriptions!I$4:I$303,SUM('U13'!AF$6:'U13'!AF44),0),0)","v":{"$error":"#N/A"}}]
[{"$f":"IF(ISNA(INDEX(Inscriptions!A$4:A$303,SUM('U13'!AF$7:'U13'!AF46))),\"\",INDEX(Inscriptions!A$4:A$303,SUM('U13'!AF$7:'U13'!AF46)))","v":""},{"$f":"IF(A46=\"\",\"\",VLOOKUP(A46,Data!G$2:K$302,5,FALSE))","v":""},{"$f":"IF(A46=\"\",\"\",VLOOKUP(A46,Data!G$2:K$302,2,FALSE))","v":""},{"$f":"IF(A46=\"\",\"\",VLOOKUP(A46,Data!G$2:K$302,3,FALSE))","v":""},{"$f":"IF(A46=\"\",\"\",VLOOKUP(A46,Data!G$2:K$302,4,FALSE))","v":""},null,null,null,null,null,null,null,null,null,null,null,null,null,null,null,null,null,null,null,null,null,null,null,null,0,null,{"$f":"MATCH(\"*\"&AC$1&\"*\",OFFSET(Inscriptions!I$4:I$303,SUM('U13'!AF$6:'U13'!AF45),0),0)","v":{"$error":"#N/A"}}]
[{"$f":"IF(ISNA(INDEX(Inscriptions!A$4:A$303,SUM('U13'!AF$7:'U13'!AF47))),\"\",INDEX(Inscriptions!A$4:A$303,SUM('U13'!AF$7:'U13'!AF47)))","v":""},{"$f":"IF(A47=\"\",\"\",VLOOKUP(A47,Data!G$2:K$302,5,FALSE))","v":""},{"$f":"IF(A47=\"\",\"\",VLOOKUP(A47,Data!G$2:K$302,2,FALSE))","v":""},{"$f":"IF(A47=\"\",\"\",VLOOKUP(A47,Data!G$2:K$302,3,FALSE))","v":""},{"$f":"IF(A47=\"\",\"\",VLOOKUP(A47,Data!G$2:K$302,4,FALSE))","v":""},null,null,null,null,null,null,null,null,null,null,null,null,null,null,null,null,null,null,null,null,null,null,null,null,0,null,{"$f":"MATCH(\"*\"&AC$1&\"*\",OFFSET(Inscriptions!I$4:I$303,SUM('U13'!AF$6:'U13'!AF46),0),0)","v":{"$error":"#N/A"}}]
[{"$f":"IF(ISNA(INDEX(Inscriptions!A$4:A$303,SUM('U13'!AF$7:'U13'!AF48))),\"\",INDEX(Inscriptions!A$4:A$303,SUM('U13'!AF$7:'U13'!AF48)))","v":""},{"$f":"IF(A48=\"\",\"\",VLOOKUP(A48,Data!G$2:K$302,5,FALSE))","v":""},{"$f":"IF(A48=\"\",\"\",VLOOKUP(A48,Data!G$2:K$302,2,FALSE))","v":""},{"$f":"IF(A48=\"\",\"\",VLOOKUP(A48,Data!G$2:K$302,3,FALSE))","v":""},{"$f":"IF(A48=\"\",\"\",VLOOKUP(A48,Data!G$2:K$302,4,FALSE))","v":""},null,null,null,null,null,null,null,null,null,null,null,null,null,null,null,null,null,null,null,null,null,null,null,null,0,null,{"$f":"MATCH(\"*\"&AC$1&\"*\",OFFSET(Inscriptions!I$4:I$303,SUM('U13'!AF$6:'U13'!AF47),0),0)","v":{"$error":"#N/A"}}]
[{"$f":"IF(ISNA(INDEX(Inscriptions!A$4:A$303,SUM('U13'!AF$7:'U13'!AF49))),\"\",INDEX(Inscriptions!A$4:A$303,SUM('U13'!AF$7:'U13'!AF49)))","v":""},{"$f":"IF(A49=\"\",\"\",VLOOKUP(A49,Data!G$2:K$302,5,FALSE))","v":""},{"$f":"IF(A49=\"\",\"\",VLOOKUP(A49,Data!G$2:K$302,2,FALSE))","v":""},{"$f":"IF(A49=\"\",\"\",VLOOKUP(A49,Data!G$2:K$302,3,FALSE))","v":""},{"$f":"IF(A49=\"\",\"\",VLOOKUP(A49,Data!G$2:K$302,4,FALSE))","v":""},null,null,null,null,null,null,null,null,null,null,null,null,null,null,null,null,null,null,null,null,null,null,null,null,0,null,{"$f":"MATCH(\"*\"&AC$1&\"*\",OFFSET(Inscriptions!I$4:I$303,SUM('U13'!AF$6:'U13'!AF48),0),0)","v":{"$error":"#N/A"}}]
[{"$f":"IF(ISNA(INDEX(Inscriptions!A$4:A$303,SUM('U13'!AF$7:'U13'!AF50))),\"\",INDEX(Inscriptions!A$4:A$303,SUM('U13'!AF$7:'U13'!AF50)))","v":""},{"$f":"IF(A50=\"\",\"\",VLOOKUP(A50,Data!G$2:K$302,5,FALSE))","v":""},{"$f":"IF(A50=\"\",\"\",VLOOKUP(A50,Data!G$2:K$302,2,FALSE))","v":""},{"$f":"IF(A50=\"\",\"\",VLOOKUP(A50,Data!G$2:K$302,3,FALSE))","v":""},{"$f":"IF(A50=\"\",\"\",VLOOKUP(A50,Data!G$2:K$302,4,FALSE))","v":""},null,null,null,null,null,null,null,null,null,null,null,null,null,null,null,null,null,null,null,null,null,null,null,null,0,null,{"$f":"MATCH(\"*\"&AC$1&\"*\",OFFSET(Inscriptions!I$4:I$303,SUM('U13'!AF$6:'U13'!AF49),0),0)","v":{"$error":"#N/A"}}]
[{"$f":"IF(ISNA(INDEX(Inscriptions!A$4:A$303,SUM('U13'!AF$7:'U13'!AF51))),\"\",INDEX(Inscriptions!A$4:A$303,SUM('U13'!AF$7:'U13'!AF51)))","v":""},{"$f":"IF(A51=\"\",\"\",VLOOKUP(A51,Data!G$2:K$302,5,FALSE))","v":""},{"$f":"IF(A51=\"\",\"\",VLOOKUP(A51,Data!G$2:K$302,2,FALSE))","v":""},{"$f":"IF(A51=\"\",\"\",VLOOKUP(A51,Data!G$2:K$302,3,FALSE))","v":""},{"$f":"IF(A51=\"\",\"\",VLOOKUP(A51,Data!G$2:K$302,4,FALSE))","v":""},null,null,null,null,null,null,null,null,null,null,null,null,null,null,null,null,null,null,null,null,null,null,null,null,0,null,{"$f":"MATCH(\"*\"&AC$1&\"*\",OFFSET(Inscriptions!I$4:I$303,SUM('U13'!AF$6:'U13'!AF50),0),0)","v":{"$error":"#N/A"}}]
[{"$f":"IF(ISNA(INDEX(Inscriptions!A$4:A$303,SUM('U13'!AF$7:'U13'!AF52))),\"\",INDEX(Inscriptions!A$4:A$303,SUM('U13'!AF$7:'U13'!AF52)))","v":""},{"$f":"IF(A52=\"\",\"\",VLOOKUP(A52,Data!G$2:K$302,5,FALSE))","v":""},{"$f":"IF(A52=\"\",\"\",VLOOKUP(A52,Data!G$2:K$302,2,FALSE))","v":""},{"$f":"IF(A52=\"\",\"\",VLOOKUP(A52,Data!G$2:K$302,3,FALSE))","v":""},{"$f":"IF(A52=\"\",\"\",VLOOKUP(A52,Data!G$2:K$302,4,FALSE))","v":""},null,null,null,null,null,null,null,null,null,null,null,null,null,null,null,null,null,null,null,null,null,null,null,null,0,null,{"$f":"MATCH(\"*\"&AC$1&\"*\",OFFSET(Inscriptions!I$4:I$303,SUM('U13'!AF$6:'U13'!AF51),0),0)","v":{"$error":"#N/A"}}]
[{"$f":"IF(ISNA(INDEX(Inscriptions!A$4:A$303,SUM('U13'!AF$7:'U13'!AF53))),\"\",INDEX(Inscriptions!A$4:A$303,SUM('U13'!AF$7:'U13'!AF53)))","v":""},{"$f":"IF(A53=\"\",\"\",VLOOKUP(A53,Data!G$2:K$302,5,FALSE))","v":""},{"$f":"IF(A53=\"\",\"\",VLOOKUP(A53,Data!G$2:K$302,2,FALSE))","v":""},{"$f":"IF(A53=\"\",\"\",VLOOKUP(A53,Data!G$2:K$302,3,FALSE))","v":""},{"$f":"IF(A53=\"\",\"\",VLOOKUP(A53,Data!G$2:K$302,4,FALSE))","v":""},null,null,null,null,null,null,null,null,null,null,null,null,null,null,null,null,null,null,null,null,null,null,null,null,0,null,{"$f":"MATCH(\"*\"&AC$1&\"*\",OFFSET(Inscriptions!I$4:I$303,SUM('U13'!AF$6:'U13'!AF52),0),0)","v":{"$error":"#N/A"}}]
[{"$f":"IF(ISNA(INDEX(Inscriptions!A$4:A$303,SUM('U13'!AF$7:'U13'!AF54))),\"\",INDEX(Inscriptions!A$4:A$303,SUM('U13'!AF$7:'U13'!AF54)))","v":""},{"$f":"IF(A54=\"\",\"\",VLOOKUP(A54,Data!G$2:K$302,5,FALSE))","v":""},{"$f":"IF(A54=\"\",\"\",VLOOKUP(A54,Data!G$2:K$302,2,FALSE))","v":""},{"$f":"IF(A54=\"\",\"\",VLOOKUP(A54,Data!G$2:K$302,3,FALSE))","v":""},{"$f":"IF(A54=\"\",\"\",VLOOKUP(A54,Data!G$2:K$302,4,FALSE))","v":""},null,null,null,null,null,null,null,null,null,null,null,null,null,null,null,null,null,null,null,null,null,null,null,null,0,null,{"$f":"MATCH(\"*\"&AC$1&\"*\",OFFSET(Inscriptions!I$4:I$303,SUM('U13'!AF$6:'U13'!AF53),0),0)","v":{"$error":"#N/A"}}]
[{"$f":"IF(ISNA(INDEX(Inscriptions!A$4:A$303,SUM('U13'!AF$7:'U13'!AF55))),\"\",INDEX(Inscriptions!A$4:A$303,SUM('U13'!AF$7:'U13'!AF55)))","v":""},{"$f":"IF(A55=\"\",\"\",VLOOKUP(A55,Data!G$2:K$302,5,FALSE))","v":""},{"$f":"IF(A55=\"\",\"\",VLOOKUP(A55,Data!G$2:K$302,2,FALSE))","v":""},{"$f":"IF(A55=\"\",\"\",VLOOKUP(A55,Data!G$2:K$302,3,FALSE))","v":""},{"$f":"IF(A55=\"\",\"\",VLOOKUP(A55,Data!G$2:K$302,4,FALSE))","v":""},null,null,null,null,null,null,null,null,null,null,null,null,null,null,null,null,null,null,null,null,null,null,null,null,0,null,{"$f":"MATCH(\"*\"&AC$1&\"*\",OFFSET(Inscriptions!I$4:I$303,SUM('U13'!AF$6:'U13'!AF54),0),0)","v":{"$error":"#N/A"}}]
[{"$f":"CONCATENATE(IF(ChoixLangue=Languages!$B$1,Languages!$B105,IF(ChoixLangue=Languages!$C$1,Languages!$C105,IF(ChoixLangue=Languages!$D$1,Languages!$D105,Languages!$E105))),SUM(AD7:AD55))","v":"Nbe nageuses : 0"},"-","-","-",null,"-","-","-","-"]

{"sheet":"J3","index":7,"n_rows":56,"n_cols":33,"rows_kept":56,"cut":false,"hidden":false,"merged":[[3,0,3,9]]}
[{"$f":"IF('Cover Page'!B5=\"\",\"\",'Cover Page'!B5)","v":""},null,null,null,null,null,null,null,null,null,null,null,null,null,null,null,null,null,null,null,null,null,null,null,null,null,null,null,null,"x",null,null,{"$f":"MID(CELL(\"filename\",A1),FIND(\"]\",CELL(\"filename\",A1),1)+1,20)","v":"J3"}]
[{"$f":"IF('Cover Page'!B6=\"\",\"\",'Cover Page'!B6)","v":""},null,null,null,null,null,null,null,null,{"$f":"IF(ChoixLangue=Languages!$B$1,Languages!$B$97 & \" \" & AG1,IF(ChoixLangue=Languages!$C$1,Languages!$C$97 & \" \" & AG1,IF(ChoixLangue=Languages!$D$1,Languages!$D$97 & \" \" & AG1,Languages!$E$97 & \" \" & AG1)))","v":"Catégorie J3"}]
[{"$f":"IF('Cover Page'!B7=\"\",\"\",'Cover Page'!B7)","v":""}]
[{"$f":"IF('Cover Page'!B10=\"\",\"\",CONCATENATE(IF(ChoixLangue=Languages!$B$1,Languages!$B98,IF(ChoixLangue=Languages!$C$1,Languages!$C98,IF(ChoixLangue=Languages!$D$1,Languages!$D98,Languages!$E98))),'Cover Page'!B10))","v":""}]
[{"$f":"A56","v":"Nbe nageuses : 0"}]
[{"$f":"IF(ChoixLangue=Languages!$B$1,Languages!$B99,IF(ChoixLangue=Languages!$C$1,Languages!$C99,IF(ChoixLangue=Languages!$D$1,Languages!$D99,Languages!$E99)))","v":"NOM Prénom"},{"$f":"IF(ChoixLangue=Languages!$B$1,Languages!$B100,IF(ChoixLangue=Languages!$C$1,Languages!$C100,IF(ChoixLangue=Languages!$D$1,Languages!$D100,Languages!$E100)))","v":"Club"},{"$f":"IF(ChoixLangue=Languages!$B$1,Languages!$B101,IF(ChoixLangue=Languages!$C$1,Languages!$C101,IF(ChoixLangue=Languages!$D$1,Languages!$D101,Languages!$E101)))","v":"Licence"},{"$f":"IF(ChoixLangue=Languages!$B$1,Languages!$B102,IF(ChoixLangue=Languages!$C$1,Languages!$C102,IF(ChoixLangue=Languages!$D$1,Languages!$D102,Languages!$E102)))","v":"An. Nais."},{"$f":"IF(ChoixLangue=Languages!$B$1,Languages!$B103,IF(ChoixLangue=Languages!$C$1,Languages!$C103,IF(ChoixLangue=Languages!$D$1,Languages!$D103,Languages!$E103)))","v":"N° Test"},{"$f":"IF(ChoixLangue=Languages!$B$1,Languages!$B104,IF(ChoixLangue=Languages!$C$1,Languages!$C104,IF(ChoixLangue=Languages!$D$1,Languages!$D104,Languages!$E104)))","v":"Figures"},"Solo Free","Duo Free","Mix. Duet Free","Team Free"]
[{"$f":"IF(ISNA(INDEX(Inscriptions!A$4:A$303,SUM('J3'!AG$7:'J3'!AG7))),\"\",INDEX(Inscriptions!A$4:A$303,SUM('J3'!AG$7:'J3'!AG7)))","v":""},{"$f":"IF(A7=\"\",\"\",VLOOKUP(A7,Data!G$2:K$302,5,FALSE))","v":""},{"$f":"IF(A7=\"\",\"\",VLOOKUP(A7,Data!G$2:K$302,2,FALSE))","v":""},{"$f":"IF(A7=\"\",\"\",VLOOKUP(A7,Data!G$2:K$302,3,FALSE))","v":""},{"$f":"IF(A7=\"\",\"\",VLOOKUP(A7,Data!G$2:K$302,4,FALSE))","v":""},null,null,null,null,null,null,null,null,null,null,null,null,null,null,null,null,null,null,null,null,null,null,null,null,null,{"$f":"IF(A7<>\"\",1,0)","v":0},null,{"$f":"MATCH(\"*\"&AD$1&\"*\",OFFSET(Inscriptions!J$4:J$303,SUM('J3'!AG$6:'J3'!AG6),0),0)","v":{"$error":"#N/A"}}]
[{"$f":"IF(ISNA(INDEX(Inscriptions!A$4:A$303,SUM('J3'!AG$7:'J3'!AG8))),\"\",INDEX(Inscriptions!A$4:A$303,SUM('J3'!AG$7:'J3'!AG8)))","v":""},{"$f":"IF(A8=\"\",\"\",VLOOKUP(A8,Data!G$2:K$302,5,FALSE))","v":""},{"$f":"IF(A8=\"\",\"\",VLOOKUP(A8,Data!G$2:K$302,2,FALSE))","v":""},{"$f":"IF(A8=\"\",\"\",VLOOKUP(A8,Data!G$2:K$302,3,FALSE))","v":""},{"$f":"IF(A8=\"\",\"\",VLOOKUP(A8,Data!G$2:K$302,4,FALSE))","v":""},null,null,null,null,null,null,null,null,null,null,null,null,null,null,null,null,null,null,null,null,null,null,null,null,null,{"$f":"IF(A8<>\"\",1,0)","v":0},null,{"$f":"MATCH(\"*\"&AD$1&\"*\",OFFSET(Inscriptions!J$4:J$303,SUM('J3'!AG$6:'J3'!AG7),0),0)","v":{"$error":"#N/A"}}]
[{"$f":"IF(ISNA(INDEX(Inscriptions!A$4:A$303,SUM('J3'!AG$7:'J3'!AG9))),\"\",INDEX(Inscriptions!A$4:A$303,SUM('J3'!AG$7:'J3'!AG9)))","v":""},{"$f":"IF(A9=\"\",\"\",VLOOKUP(A9,Data!G$2:K$302,5,FALSE))","v":""},{"$f":"IF(A9=\"\",\"\",VLOOKUP(A9,Data!G$2:K$302,2,FALSE))","v":""},{"$f":"IF(A9=\"\",\"\",VLOOKUP(A9,Data!G$2:K$302,3,FALSE))","v":""},{"$f":"IF(A9=\"\",\"\",VLOOKUP(A9,Data!G$2:K$302,4,FALSE))","v":""},null,null,null,null,null,null,null,null,null,null,null,null,null,null,null,null,null,null,null,null,null,null,null,null,null,{"$f":"IF(A9<>\"\",1,0)","v":0},null,{"$f":"MATCH(\"*\"&AD$1&\"*\",OFFSET(Inscriptions!J$4:J$303,SUM('J3'!AG$6:'J3'!AG8),0),0)","v":{"$error":"#N/A"}}]
[{"$f":"IF(ISNA(INDEX(Inscriptions!A$4:A$303,SUM('J3'!AG$7:'J3'!AG10))),\"\",INDEX(Inscriptions!A$4:A$303,SUM('J3'!AG$7:'J3'!AG10)))","v":""},{"$f":"IF(A10=\"\",\"\",VLOOKUP(A10,Data!G$2:K$302,5,FALSE))","v":""},{"$f":"IF(A10=\"\",\"\",VLOOKUP(A10,Data!G$2:K$302,2,FALSE))","v":""},{"$f":"IF(A10=\"\",\"\",VLOOKUP(A10,Data!G$2:K$302,3,FALSE))","v":""},{"$f":"IF(A10=\"\",\"\",VLOOKUP(A10,Data!G$2:K$302,4,FALSE))","v":""},null,null,null,null,null,null,null,null,null,null,null,null,null,null,null,null,null,null,null,null,null,null,null,null,null,0,null,{"$f":"MATCH(\"*\"&AD$1&\"*\",OFFSET(Inscriptions!J$4:J$303,SUM('J3'!AG$6:'J3'!AG9),0),0)","v":{"$error":"#N/A"}}]
[{"$f":"IF(ISNA(INDEX(Inscriptions!A$4:A$303,SUM('J3'!AG$7:'J3'!AG11))),\"\",INDEX(Inscriptions!A$4:A$303,SUM('J3'!AG$7:'J3'!AG11)))","v":""},{"$f":"IF(A11=\"\",\"\",VLOOKUP(A11,Data!G$2:K$302,5,FALSE))","v":""},{"$f":"IF(A11=\"\",\"\",VLOOKUP(A11,Data!G$2:K$302,2,FALSE))","v":""},{"$f":"IF(A11=\"\",\"\",VLOOKUP(A11,Data!G$2:K$302,3,FALSE))","v":""},{"$f":"IF(A11=\"\",\"\",VLOOKUP(A11,Data!G$2:K$302,4,FALSE))","v":""},null,null,null,null,null,null,null,null,null,null,null,null,null,null,null,null,null,null,null,null,null,null,null,null,null,0,null,{"$f":"MATCH(\"*\"&AD$1&\"*\",OFFSET(Inscriptions!J$4:J$303,SUM('J3'!AG$6:'J3'!AG10),0),0)","v":{"$error":"#N/A"}}]
[{"$f":"IF(ISNA(INDEX(Inscriptions!A$4:A$303,SUM('J3'!AG$7:'J3'!AG12))),\"\",INDEX(Inscriptions!A$4:A$303,SUM('J3'!AG$7:'J3'!AG12)))","v":""},{"$f":"IF(A12=\"\",\"\",VLOOKUP(A12,Data!G$2:K$302,5,FALSE))","v":""},{"$f":"IF(A12=\"\",\"\",VLOOKUP(A12,Data!G$2:K$302,2,FALSE))","v":""},{"$f":"IF(A12=\"\",\"\",VLOOKUP(A12,Data!G$2:K$302,3,FALSE))","v":""},{"$f":"IF(A12=\"\",\"\",VLOOKUP(A12,Data!G$2:K$302,4,FALSE))","v":""},null,null,null,null,null,null,null,null,null,null,null,null,null,null,null,null,null,null,null,null,null,null,null,null,null,0,null,{"$f":"MATCH(\"*\"&AD$1&\"*\",OFFSET(Inscriptions!J$4:J$303,SUM('J3'!AG$6:'J3'!AG11),0),0)","v":{"$error":"#N/A"}}]
[{"$f":"IF(ISNA(INDEX(Inscriptions!A$4:A$303,SUM('J3'!AG$7:'J3'!AG13))),\"\",INDEX(Inscriptions!A$4:A$303,SUM('J3'!AG$7:'J3'!AG13)))","v":""},{"$f":"IF(A13=\"\",\"\",VLOOKUP(A13,Data!G$2:K$302,5,FALSE))","v":""},{"$f":"IF(A13=\"\",\"\",VLOOKUP(A13,Data!G$2:K$302,2,FALSE))","v":""},{"$f":"IF(A13=\"\",\"\",VLOOKUP(A13,Data!G$2:K$302,3,FALSE))","v":""},{"$f":"IF(A13=\"\",\"\",VLOOKUP(A13,Data!G$2:K$302,4,FALSE))","v":""},null,null,null,null,null,null,null,null,null,null,null,null,null,null,null,null,null,null,null,null,null,null,null,null,null,0,null,{"$f":"MATCH(\"*\"&AD$1&\"*\",OFFSET(Inscriptions!J$4:J$303,SUM('J3'!AG$6:'J3'!AG12),0),0)","v":{"$error":"#N/A"}}]
[{"$f":"IF(ISNA(INDEX(Inscriptions!A$4:A$303,SUM('J3'!AG$7:'J3'!AG14))),\"\",INDEX(Inscriptions!A$4:A$303,SUM('J3'!AG$7:'J3'!AG14)))","v":""},{"$f":"IF(A14=\"\",\"\",VLOOKUP(A14,Data!G$2:K$302,5,FALSE))","v":""},{"$f":"IF(A14=\"\",\"\",VLOOKUP(A14,Data!G$2:K$302,2,FALSE))","v":""},{"$f":"IF(A14=\"\",\"\",VLOOKUP(A14,Data!G$2:K$302,3,FALSE))","v":""},{"$f":"IF(A14=\"\",\"\",VLOOKUP(A14,Data!G$2:K$302,4,FALSE))","v":""},null,null,null,null,null,null,null,null,null,null,null,null,null,null,null,null,null,null,null,null,null,null,null,null,null,0,null,{"$f":"MATCH(\"*\"&AD$1&\"*\",OFFSET(Inscriptions!J$4:J$303,SUM('J3'!AG$6:'J3'!AG13),0),0)","v":{"$error":"#N/A"}}]
[{"$f":"IF(ISNA(INDEX(Inscriptions!A$4:A$303,SUM('J3'!AG$7:'J3'!AG15))),\"\",INDEX(Inscriptions!A$4:A$303,SUM('J3'!AG$7:'J3'!AG15)))","v":""},{"$f":"IF(A15=\"\",\"\",VLOOKUP(A15,Data!G$2:K$302,5,FALSE))","v":""},{"$f":"IF(A15=\"\",\"\",VLOOKUP(A15,Data!G$2:K$302,2,FALSE))","v":""},{"$f":"IF(A15=\"\",\"\",VLOOKUP(A15,Data!G$2:K$302,3,FALSE))","v":""},{"$f":"IF(A15=\"\",\"\",VLOOKUP(A15,Data!G$2:K$302,4,FALSE))","v":""},null,null,null,null,null,null,null,null,null,null,null,null,null,null,null,null,null,null,null,null,null,null,null,null,null,0,null,{"$f":"MATCH(\"*\"&AD$1&\"*\",OFFSET(Inscriptions!J$4:J$303,SUM('J3'!AG$6:'J3'!AG14),0),0)","v":{"$error":"#N/A"}}]
[{"$f":"IF(ISNA(INDEX(Inscriptions!A$4:A$303,SUM('J3'!AG$7:'J3'!AG16))),\"\",INDEX(Inscriptions!A$4:A$303,SUM('J3'!AG$7:'J3'!AG16)))","v":""},{"$f":"IF(A16=\"\",\"\",VLOOKUP(A16,Data!G$2:K$302,5,FALSE))","v":""},{"$f":"IF(A16=\"\",\"\",VLOOKUP(A16,Data!G$2:K$302,2,FALSE))","v":""},{"$f":"IF(A16=\"\",\"\",VLOOKUP(A16,Data!G$2:K$302,3,FALSE))","v":""},{"$f":"IF(A16=\"\",\"\",VLOOKUP(A16,Data!G$2:K$302,4,FALSE))","v":""},null,null,null,null,null,null,null,null,null,null,null,null,null,null,null,null,null,null,null,null,null,null,null,null,null,0,null,{"$f":"MATCH(\"*\"&AD$1&\"*\",OFFSET(Inscriptions!J$4:J$303,SUM('J3'!AG$6:'J3'!AG15),0),0)","v":{"$error":"#N/A"}}]
[{"$f":"IF(ISNA(INDEX(Inscriptions!A$4:A$303,SUM('J3'!AG$7:'J3'!AG17))),\"\",INDEX(Inscriptions!A$4:A$303,SUM('J3'!AG$7:'J3'!AG17)))","v":""},{"$f":"IF(A17=\"\",\"\",VLOOKUP(A17,Data!G$2:K$302,5,FALSE))","v":""},{"$f":"IF(A17=\"\",\"\",VLOOKUP(A17,Data!G$2:K$302,2,FALSE))","v":""},{"$f":"IF(A17=\"\",\"\",VLOOKUP(A17,Data!G$2:K$302,3,FALSE))","v":""},{"$f":"IF(A17=\"\",\"\",VLOOKUP(A17,Data!G$2:K$302,4,FALSE))","v":""},null,null,null,null,null,null,null,null,null,null,null,null,null,null,null,null,null,null,null,null,null,null,null,null,null,0,null,{"$f":"MATCH(\"*\"&AD$1&\"*\",OFFSET(Inscriptions!J$4:J$303,SUM('J3'!AG$6:'J3'!AG16),0),0)","v":{"$error":"#N/A"}}]
[{"$f":"IF(ISNA(INDEX(Inscriptions!A$4:A$303,SUM('J3'!AG$7:'J3'!AG18))),\"\",INDEX(Inscriptions!A$4:A$303,SUM('J3'!AG$7:'J3'!AG18)))","v":""},{"$f":"IF(A18=\"\",\"\",VLOOKUP(A18,Data!G$2:K$302,5,FALSE))","v":""},{"$f":"IF(A18=\"\",\"\",VLOOKUP(A18,Data!G$2:K$302,2,FALSE))","v":""},{"$f":"IF(A18=\"\",\"\",VLOOKUP(A18,Data!G$2:K$302,3,FALSE))","v":""},{"$f":"IF(A18=\"\",\"\",VLOOKUP(A18,Data!G$2:K$302,4,FALSE))","v":""},null,null,null,null,null,null,null,null,null,null,null,null,null,null,null,null,null,null,null,null,null,null,null,null,null,0,null,{"$f":"MATCH(\"*\"&AD$1&\"*\",OFFSET(Inscriptions!J$4:J$303,SUM('J3'!AG$6:'J3'!AG17),0),0)","v":{"$error":"#N/A"}}]
[{"$f":"IF(ISNA(INDEX(Inscriptions!A$4:A$303,SUM('J3'!AG$7:'J3'!AG19))),\"\",INDEX(Inscriptions!A$4:A$303,SUM('J3'!AG$7:'J3'!AG19)))","v":""},{"$f":"IF(A19=\"\",\"\",VLOOKUP(A19,Data!G$2:K$302,5,FALSE))","v":""},{"$f":"IF(A19=\"\",\"\",VLOOKUP(A19,Data!G$2:K$302,2,FALSE))","v":""},{"$f":"IF(A19=\"\",\"\",VLOOKUP(A19,Data!G$2:K$302,3,FALSE))","v":""},{"$f":"IF(A19=\"\",\"\",VLOOKUP(A19,Data!G$2:K$302,4,FALSE))","v":""},null,null,null,null,null,null,null,null,null,null,null,null,null,null,null,null,null,null,null,null,null,null,null,null,null,0,null,{"$f":"MATCH(\"*\"&AD$1&\"*\",OFFSET(Inscriptions!J$4:J$303,SUM('J3'!AG$6:'J3'!AG18),0),0)","v":{"$error":"#N/A"}}]
[{"$f":"IF(ISNA(INDEX(Inscriptions!A$4:A$303,SUM('J3'!AG$7:'J3'!AG20))),\"\",INDEX(Inscriptions!A$4:A$303,SUM('J3'!AG$7:'J3'!AG20)))","v":""},{"$f":"IF(A20=\"\",\"\",VLOOKUP(A20,Data!G$2:K$302,5,FALSE))","v":""},{"$f":"IF(A20=\"\",\"\",VLOOKUP(A20,Data!G$2:K$302,2,FALSE))","v":""},{"$f":"IF(A20=\"\",\"\",VLOOKUP(A20,Data!G$2:K$302,3,FALSE))","v":""},{"$f":"IF(A20=\"\",\"\",VLOOKUP(A20,Data!G$2:K$302,4,FALSE))","v":""},null,null,null,null,null,null,null,null,null,null,null,null,null,null,null,null,null,null,null,null,null,null,null,null,null,0,null,{"$f":"MATCH(\"*\"&AD$1&\"*\",OFFSET(Inscriptions!J$4:J$303,SUM('J3'!AG$6:'J3'!AG19),0),0)","v":{"$error":"#N/A"}}]
[{"$f":"IF(ISNA(INDEX(Inscriptions!A$4:A$303,SUM('J3'!AG$7:'J3'!AG21))),\"\",INDEX(Inscriptions!A$4:A$303,SUM('J3'!AG$7:'J3'!AG21)))","v":""},{"$f":"IF(A21=\"\",\"\",VLOOKUP(A21,Data!G$2:K$302,5,FALSE))","v":""},{"$f":"IF(A21=\"\",\"\",VLOOKUP(A21,Data!G$2:K$302,2,FALSE))","v":""},{"$f":"IF(A21=\"\",\"\",VLOOKUP(A21,Data!G$2:K$302,3,FALSE))","v":""},{"$f":"IF(A21=\"\",\"\",VLOOKUP(A21,Data!G$2:K$302,4,FALSE))","v":""},null,null,null,null,null,null,null,null,null,null,null,null,null,null,null,null,null,null,null,null,null,null,null,null,null,0,null,{"$f":"MATCH(\"*\"&AD$1&\"*\",OFFSET(Inscriptions!J$4:J$303,SUM('J3'!AG$6:'J3'!AG20),0),0)","v":{"$error":"#N/A"}}]
[{"$f":"IF(ISNA(INDEX(Inscriptions!A$4:A$303,SUM('J3'!AG$7:'J3'!AG22))),\"\",INDEX(Inscriptions!A$4:A$303,SUM('J3'!AG$7:'J3'!AG22)))","v":""},{"$f":"IF(A22=\"\",\"\",VLOOKUP(A22,Data!G$2:K$302,5,FALSE))","v":""},{"$f":"IF(A22=\"\",\"\",VLOOKUP(A22,Data!G$2:K$302,2,FALSE))","v":""},{"$f":"IF(A22=\"\",\"\",VLOOKUP(A22,Data!G$2:K$302,3,FALSE))","v":""},{"$f":"IF(A22=\"\",\"\",VLOOKUP(A22,Data!G$2:K$302,4,FALSE))","v":""},null,null,null,null,null,null,null,null,null,null,null,null,null,null,null,null,null,null,null,null,null,null,null,null,null,0,null,{"$f":"MATCH(\"*\"&AD$1&\"*\",OFFSET(Inscriptions!J$4:J$303,SUM('J3'!AG$6:'J3'!AG21),0),0)","v":{"$error":"#N/A"}}]
[{"$f":"IF(ISNA(INDEX(Inscriptions!A$4:A$303,SUM('J3'!AG$7:'J3'!AG23))),\"\",INDEX(Inscriptions!A$4:A$303,SUM('J3'!AG$7:'J3'!AG23)))","v":""},{"$f":"IF(A23=\"\",\"\",VLOOKUP(A23,Data!G$2:K$302,5,FALSE))","v":""},{"$f":"IF(A23=\"\",\"\",VLOOKUP(A23,Data!G$2:K$302,2,FALSE))","v":""},{"$f":"IF(A23=\"\",\"\",VLOOKUP(A23,Data!G$2:K$302,3,FALSE))","v":""},{"$f":"IF(A23=\"\",\"\",VLOOKUP(A23,Data!G$2:K$302,4,FALSE))","v":""},null,null,null,null,null,null,null,null,null,null,null,null,null,null,null,null,null,null,null,null,null,null,null,null,null,0,null,{"$f":"MATCH(\"*\"&AD$1&\"*\",OFFSET(Inscriptions!J$4:J$303,SUM('J3'!AG$6:'J3'!AG22),0),0)","v":{"$error":"#N/A"}}]
[{"$f":"IF(ISNA(INDEX(Inscriptions!A$4:A$303,SUM('J3'!AG$7:'J3'!AG24))),\"\",INDEX(Inscriptions!A$4:A$303,SUM('J3'!AG$7:'J3'!AG24)))","v":""},{"$f":"IF(A24=\"\",\"\",VLOOKUP(A24,Data!G$2:K$302,5,FALSE))","v":""},{"$f":"IF(A24=\"\",\"\",VLOOKUP(A24,Data!G$2:K$302,2,FALSE))","v":""},{"$f":"IF(A24=\"\",\"\",VLOOKUP(A24,Data!G$2:K$302,3,FALSE))","v":""},{"$f":"IF(A24=\"\",\"\",VLOOKUP(A24,Data!G$2:K$302,4,FALSE))","v":""},null,null,null,null,null,null,null,null,null,null,null,null,null,null,null,null,null,null,null,null,null,null,null,null,null,0,null,{"$f":"MATCH(\"*\"&AD$1&\"*\",OFFSET(Inscriptions!J$4:J$303,SUM('J3'!AG$6:'J3'!AG23),0),0)","v":{"$error":"#N/A"}}]
[{"$f":"IF(ISNA(INDEX(Inscriptions!A$4:A$303,SUM('J3'!AG$7:'J3'!AG25))),\"\",INDEX(Inscriptions!A$4:A$303,SUM('J3'!AG$7:'J3'!AG25)))","v":""},{"$f":"IF(A25=\"\",\"\",VLOOKUP(A25,Data!G$2:K$302,5,FALSE))","v":""},{"$f":"IF(A25=\"\",\"\",VLOOKUP(A25,Data!G$2:K$302,2,FALSE))","v":""},{"$f":"IF(A25=\"\",\"\",VLOOKUP(A25,Data!G$2:K$302,3,FALSE))","v":""},{"$f":"IF(A25=\"\",\"\",VLOOKUP(A25,Data!G$2:K$302,4,FALSE))","v":""},null,null,null,null,null,null,null,null,null,null,null,null,null,null,null,null,null,null,null,null,null,null,null,null,null,0,null,{"$f":"MATCH(\"*\"&AD$1&\"*\",OFFSET(Inscriptions!J$4:J$303,SUM('J3'!AG$6:'J3'!AG24),0),0)","v":{"$error":"#N/A"}}]
[{"$f":"IF(ISNA(INDEX(Inscriptions!A$4:A$303,SUM('J3'!AG$7:'J3'!AG26))),\"\",INDEX(Inscriptions!A$4:A$303,SUM('J3'!AG$7:'J3'!AG26)))","v":""},{"$f":"IF(A26=\"\",\"\",VLOOKUP(A26,Data!G$2:K$302,5,FALSE))","v":""},{"$f":"IF(A26=\"\",\"\",VLOOKUP(A26,Data!G$2:K$302,2,FALSE))","v":""},{"$f":"IF(A26=\"\",\"\",VLOOKUP(A26,Data!G$2:K$302,3,FALSE))","v":""},{"$f":"IF(A26=\"\",\"\",VLOOKUP(A26,Data!G$2:K$302,4,FALSE))","v":""},null,null,null,null,null,null,null,null,null,null,null,null,null,null,null,null,null,null,null,null,null,null,null,null,null,0,null,{"$f":"MATCH(\"*\"&AD$1&\"*\",OFFSET(Inscriptions!J$4:J$303,SUM('J3'!AG$6:'J3'!AG25),0),0)","v":{"$error":"#N/A"}}]
[{"$f":"IF(ISNA(INDEX(Inscriptions!A$4:A$303,SUM('J3'!AG$7:'J3'!AG27))),\"\",INDEX(Inscriptions!A$4:A$303,SUM('J3'!AG$7:'J3'!AG27)))","v":""},{"$f":"IF(A27=\"\",\"\",VLOOKUP(A27,Data!G$2:K$302,5,FALSE))","v":""},{"$f":"IF(A27=\"\",\"\",VLOOKUP(A27,Data!G$2:K$302,2,FALSE))","v":""},{"$f":"IF(A27=\"\",\"\",VLOOKUP(A27,Data!G$2:K$302,3,FALSE))","v":""},{"$f":"IF(A27=\"\",\"\",VLOOKUP(A27,Data!G$2:K$302,4,FALSE))","v":""},null,null,null,null,null,null,null,null,null,null,null,null,null,null,null,null,null,null,null,null,null,null,null,null,null,0,null,{"$f":"MATCH(\"*\"&AD$1&\"*\",OFFSET(Inscriptions!J$4:J$303,SUM('J3'!AG$6:'J3'!AG26),0),0)","v":{"$error":"#N/A"}}]
[{"$f":"IF(ISNA(INDEX(Inscriptions!A$4:A$303,SUM('J3'!AG$7:'J3'!AG28))),\"\",INDEX(Inscriptions!A$4:A$303,SUM('J3'!AG$7:'J3'!AG28)))","v":""},{"$f":"IF(A28=\"\",\"\",VLOOKUP(A28,Data!G$2:K$302,5,FALSE))","v":""},{"$f":"IF(A28=\"\",\"\",VLOOKUP(A28,Data!G$2:K$302,2,FALSE))","v":""},{"$f":"IF(A28=\"\",\"\",VLOOKUP(A28,Data!G$2:K$302,3,FALSE))","v":""},{"$f":"IF(A28=\"\",\"\",VLOOKUP(A28,Data!G$2:K$302,4,FALSE))","v":""},null,null,null,null,null,null,null,null,null,null,null,null,null,null,null,null,null,null,null,null,null,null,null,null,null,0,null,{"$f":"MATCH(\"*\"&AD$1&\"*\",OFFSET(Inscriptions!J$4:J$303,SUM('J3'!AG$6:'J3'!AG27),0),0)","v":{"$error":"#N/A"}}]
[{"$f":"IF(ISNA(INDEX(Inscriptions!A$4:A$303,SUM('J3'!AG$7:'J3'!AG29))),\"\",INDEX(Inscriptions!A$4:A$303,SUM('J3'!AG$7:'J3'!AG29)))","v":""},{"$f":"IF(A29=\"\",\"\",VLOOKUP(A29,Data!G$2:K$302,5,FALSE))","v":""},{"$f":"IF(A29=\"\",\"\",VLOOKUP(A29,Data!G$2:K$302,2,FALSE))","v":""},{"$f":"IF(A29=\"\",\"\",VLOOKUP(A29,Data!G$2:K$302,3,FALSE))","v":""},{"$f":"IF(A29=\"\",\"\",VLOOKUP(A29,Data!G$2:K$302,4,FALSE))","v":""},null,null,null,null,null,null,null,null,null,null,null,null,null,null,null,null,null,null,null,null,null,null,null,null,null,0,null,{"$f":"MATCH(\"*\"&AD$1&\"*\",OFFSET(Inscriptions!J$4:J$303,SUM('J3'!AG$6:'J3'!AG28),0),0)","v":{"$error":"#N/A"}}]
[{"$f":"IF(ISNA(INDEX(Inscriptions!A$4:A$303,SUM('J3'!AG$7:'J3'!AG30))),\"\",INDEX(Inscriptions!A$4:A$303,SUM('J3'!AG$7:'J3'!AG30)))","v":""},{"$f":"IF(A30=\"\",\"\",VLOOKUP(A30,Data!G$2:K$302,5,FALSE))","v":""},{"$f":"IF(A30=\"\",\"\",VLOOKUP(A30,Data!G$2:K$302,2,FALSE))","v":""},{"$f":"IF(A30=\"\",\"\",VLOOKUP(A30,Data!G$2:K$302,3,FALSE))","v":""},{"$f":"IF(A30=\"\",\"\",VLOOKUP(A30,Data!G$2:K$302,4,FALSE))","v":""},null,null,null,null,null,null,null,null,null,null,null,null,null,null,null,null,null,null,null,null,null,null,null,null,null,0,null,{"$f":"MATCH(\"*\"&AD$1&\"*\",OFFSET(Inscriptions!J$4:J$303,SUM('J3'!AG$6:'J3'!AG29),0),0)","v":{"$error":"#N/A"}}]
[{"$f":"IF(ISNA(INDEX(Inscriptions!A$4:A$303,SUM('J3'!AG$7:'J3'!AG31))),\"\",INDEX(Inscriptions!A$4:A$303,SUM('J3'!AG$7:'J3'!AG31)))","v":""},{"$f":"IF(A31=\"\",\"\",VLOOKUP(A31,Data!G$2:K$302,5,FALSE))","v":""},{"$f":"IF(A31=\"\",\"\",VLOOKUP(A31,Data!G$2:K$302,2,FALSE))","v":""},{"$f":"IF(A31=\"\",\"\",VLOOKUP(A31,Data!G$2:K$302,3,FALSE))","v":""},{"$f":"IF(A31=\"\",\"\",VLOOKUP(A31,Data!G$2:K$302,4,FALSE))","v":""},null,null,null,null,null,null,null,null,null,null,null,null,null,null,null,null,null,null,null,null,null,null,null,null,null,0,null,{"$f":"MATCH(\"*\"&AD$1&\"*\",OFFSET(Inscriptions!J$4:J$303,SUM('J3'!AG$6:'J3'!AG30),0),0)","v":{"$error":"#N/A"}}]
[{"$f":"IF(ISNA(INDEX(Inscriptions!A$4:A$303,SUM('J3'!AG$7:'J3'!AG32))),\"\",INDEX(Inscriptions!A$4:A$303,SUM('J3'!AG$7:'J3'!AG32)))","v":""},{"$f":"IF(A32=\"\",\"\",VLOOKUP(A32,Data!G$2:K$302,5,FALSE))","v":""},{"$f":"IF(A32=\"\",\"\",VLOOKUP(A32,Data!G$2:K$302,2,FALSE))","v":""},{"$f":"IF(A32=\"\",\"\",VLOOKUP(A32,Data!G$2:K$302,3,FALSE))","v":""},{"$f":"IF(A32=\"\",\"\",VLOOKUP(A32,Data!G$2:K$302,4,FALSE))","v":""},null,null,null,null,null,null,null,null,null,null,null,null,null,null,null,null,null,null,null,null,null,null,null,null,null,0,null,{"$f":"MATCH(\"*\"&AD$1&\"*\",OFFSET(Inscriptions!J$4:J$303,SUM('J3'!AG$6:'J3'!AG31),0),0)","v":{"$error":"#N/A"}}]
[{"$f":"IF(ISNA(INDEX(Inscriptions!A$4:A$303,SUM('J3'!AG$7:'J3'!AG33))),\"\",INDEX(Inscriptions!A$4:A$303,SUM('J3'!AG$7:'J3'!AG33)))","v":""},{"$f":"IF(A33=\"\",\"\",VLOOKUP(A33,Data!G$2:K$302,5,FALSE))","v":""},{"$f":"IF(A33=\"\",\"\",VLOOKUP(A33,Data!G$2:K$302,2,FALSE))","v":""},{"$f":"IF(A33=\"\",\"\",VLOOKUP(A33,Data!G$2:K$302,3,FALSE))","v":""},{"$f":"IF(A33=\"\",\"\",VLOOKUP(A33,Data!G$2:K$302,4,FALSE))","v":""},null,null,null,null,null,null,null,null,null,null,null,null,null,null,null,null,null,null,null,null,null,null,null,null,null,0,null,{"$f":"MATCH(\"*\"&AD$1&\"*\",OFFSET(Inscriptions!J$4:J$303,SUM('J3'!AG$6:'J3'!AG32),0),0)","v":{"$error":"#N/A"}}]
[{"$f":"IF(ISNA(INDEX(Inscriptions!A$4:A$303,SUM('J3'!AG$7:'J3'!AG34))),\"\",INDEX(Inscriptions!A$4:A$303,SUM('J3'!AG$7:'J3'!AG34)))","v":""},{"$f":"IF(A34=\"\",\"\",VLOOKUP(A34,Data!G$2:K$302,5,FALSE))","v":""},{"$f":"IF(A34=\"\",\"\",VLOOKUP(A34,Data!G$2:K$302,2,FALSE))","v":""},{"$f":"IF(A34=\"\",\"\",VLOOKUP(A34,Data!G$2:K$302,3,FALSE))","v":""},{"$f":"IF(A34=\"\",\"\",VLOOKUP(A34,Data!G$2:K$302,4,FALSE))","v":""},null,null,null,null,null,null,null,null,null,null,null,null,null,null,null,null,null,null,null,null,null,null,null,null,null,0,null,{"$f":"MATCH(\"*\"&AD$1&\"*\",OFFSET(Inscriptions!J$4:J$303,SUM('J3'!AG$6:'J3'!AG33),0),0)","v":{"$error":"#N/A"}}]
[{"$f":"IF(ISNA(INDEX(Inscriptions!A$4:A$303,SUM('J3'!AG$7:'J3'!AG35))),\"\",INDEX(Inscriptions!A$4:A$303,SUM('J3'!AG$7:'J3'!AG35)))","v":""},{"$f":"IF(A35=\"\",\"\",VLOOKUP(A35,Data!G$2:K$302,5,FALSE))","v":""},{"$f":"IF(A35=\"\",\"\",VLOOKUP(A35,Data!G$2:K$302,2,FALSE))","v":""},{"$f":"IF(A35=\"\",\"\",VLOOKUP(A35,Data!G$2:K$302,3,FALSE))","v":""},{"$f":"IF(A35=\"\",\"\",VLOOKUP(A35,Data!G$2:K$302,4,FALSE))","v":""},null,null,null,null,null,null,null,null,null,null,null,null,null,null,null,null,null,null,null,null,null,null,null,null,null,0,null,{"$f":"MATCH(\"*\"&AD$1&\"*\",OFFSET(Inscriptions!J$4:J$303,SUM('J3'!AG$6:'J3'!AG34),0),0)","v":{"$error":"#N/A"}}]
[{"$f":"IF(ISNA(INDEX(Inscriptions!A$4:A$303,SUM('J3'!AG$7:'J3'!AG36))),\"\",INDEX(Inscriptions!A$4:A$303,SUM('J3'!AG$7:'J3'!AG36)))","v":""},{"$f":"IF(A36=\"\",\"\",VLOOKUP(A36,Data!G$2:K$302,5,FALSE))","v":""},{"$f":"IF(A36=\"\",\"\",VLOOKUP(A36,Data!G$2:K$302,2,FALSE))","v":""},{"$f":"IF(A36=\"\",\"\",VLOOKUP(A36,Data!G$2:K$302,3,FALSE))","v":""},{"$f":"IF(A36=\"\",\"\",VLOOKUP(A36,Data!G$2:K$302,4,FALSE))","v":""},null,null,null,null,null,null,null,null,null,null,null,null,null,null,null,null,null,null,null,null,null,null,null,null,null,0,null,{"$f":"MATCH(\"*\"&AD$1&\"*\",OFFSET(Inscriptions!J$4:J$303,SUM('J3'!AG$6:'J3'!AG35),0),0)","v":{"$error":"#N/A"}}]
[{"$f":"IF(ISNA(INDEX(Inscriptions!A$4:A$303,SUM('J3'!AG$7:'J3'!AG37))),\"\",INDEX(Inscriptions!A$4:A$303,SUM('J3'!AG$7:'J3'!AG37)))","v":""},{"$f":"IF(A37=\"\",\"\",VLOOKUP(A37,Data!G$2:K$302,5,FALSE))","v":""},{"$f":"IF(A37=\"\",\"\",VLOOKUP(A37,Data!G$2:K$302,2,FALSE))","v":""},{"$f":"IF(A37=\"\",\"\",VLOOKUP(A37,Data!G$2:K$302,3,FALSE))","v":""},{"$f":"IF(A37=\"\",\"\",VLOOKUP(A37,Data!G$2:K$302,4,FALSE))","v":""},null,null,null,null,null,null,null,null,null,null,null,null,null,null,null,null,null,null,null,null,null,null,null,null,null,0,null,{"$f":"MATCH(\"*\"&AD$1&\"*\",OFFSET(Inscriptions!J$4:J$303,SUM('J3'!AG$6:'J3'!AG36),0),0)","v":{"$error":"#N/A"}}]
[{"$f":"IF(ISNA(INDEX(Inscriptions!A$4:A$303,SUM('J3'!AG$7:'J3'!AG38))),\"\",INDEX(Inscriptions!A$4:A$303,SUM('J3'!AG$7:'J3'!AG38)))","v":""},{"$f":"IF(A38=\"\",\"\",VLOOKUP(A38,Data!G$2:K$302,5,FALSE))","v":""},{"$f":"IF(A38=\"\",\"\",VLOOKUP(A38,Data!G$2:K$302,2,FALSE))","v":""},{"$f":"IF(A38=\"\",\"\",VLOOKUP(A38,Data!G$2:K$302,3,FALSE))","v":""},{"$f":"IF(A38=\"\",\"\",VLOOKUP(A38,Data!G$2:K$302,4,FALSE))","v":""},null,null,null,null,null,null,null,null,null,null,null,null,null,null,null,null,null,null,null,null,null,null,null,null,null,0,null,{"$f":"MATCH(\"*\"&AD$1&\"*\",OFFSET(Inscriptions!J$4:J$303,SUM('J3'!AG$6:'J3'!AG37),0),0)","v":{"$error":"#N/A"}}]
[{"$f":"IF(ISNA(INDEX(Inscriptions!A$4:A$303,SUM('J3'!AG$7:'J3'!AG39))),\"\",INDEX(Inscriptions!A$4:A$303,SUM('J3'!AG$7:'J3'!AG39)))","v":""},{"$f":"IF(A39=\"\",\"\",VLOOKUP(A39,Data!G$2:K$302,5,FALSE))","v":""},{"$f":"IF(A39=\"\",\"\",VLOOKUP(A39,Data!G$2:K$302,2,FALSE))","v":""},{"$f":"IF(A39=\"\",\"\",VLOOKUP(A39,Data!G$2:K$302,3,FALSE))","v":""},{"$f":"IF(A39=\"\",\"\",VLOOKUP(A39,Data!G$2:K$302,4,FALSE))","v":""},null,null,null,null,null,null,null,null,null,null,null,null,null,null,null,null,null,null,null,null,null,null,null,null,null,0,null,{"$f":"MATCH(\"*\"&AD$1&\"*\",OFFSET(Inscriptions!J$4:J$303,SUM('J3'!AG$6:'J3'!AG38),0),0)","v":{"$error":"#N/A"}}]
[{"$f":"IF(ISNA(INDEX(Inscriptions!A$4:A$303,SUM('J3'!AG$7:'J3'!AG40))),\"\",INDEX(Inscriptions!A$4:A$303,SUM('J3'!AG$7:'J3'!AG40)))","v":""},{"$f":"IF(A40=\"\",\"\",VLOOKUP(A40,Data!G$2:K$302,5,FALSE))","v":""},{"$f":"IF(A40=\"\",\"\",VLOOKUP(A40,Data!G$2:K$302,2,FALSE))","v":""},{"$f":"IF(A40=\"\",\"\",VLOOKUP(A40,Data!G$2:K$302,3,FALSE))","v":""},{"$f":"IF(A40=\"\",\"\",VLOOKUP(A40,Data!G$2:K$302,4,FALSE))","v":""},null,null,null,null,null,null,null,null,null,null,null,null,null,null,null,null,null,null,null,null,null,null,null,null,null,0,null,{"$f":"MATCH(\"*\"&AD$1&\"*\",OFFSET(Inscriptions!J$4:J$303,SUM('J3'!AG$6:'J3'!AG39),0),0)","v":{"$error":"#N/A"}}]
[{"$f":"IF(ISNA(INDEX(Inscriptions!A$4:A$303,SUM('J3'!AG$7:'J3'!AG41))),\"\",INDEX(Inscriptions!A$4:A$303,SUM('J3'!AG$7:'J3'!AG41)))","v":""},{"$f":"IF(A41=\"\",\"\",VLOOKUP(A41,Data!G$2:K$302,5,FALSE))","v":""},{"$f":"IF(A41=\"\",\"\",VLOOKUP(A41,Data!G$2:K$302,2,FALSE))","v":""},{"$f":"IF(A41=\"\",\"\",VLOOKUP(A41,Data!G$2:K$302,3,FALSE))","v":""},{"$f":"IF(A41=\"\",\"\",VLOOKUP(A41,Data!G$2:K$302,4,FALSE))","v":""},null,null,null,null,null,null,null,null,null,null,null,null,null,null,null,null,null,null,null,null,null,null,null,null,null,0,null,{"$f":"MATCH(\"*\"&AD$1&\"*\",OFFSET(Inscriptions!J$4:J$303,SUM('J3'!AG$6:'J3'!AG40),0),0)","v":{"$error":"#N/A"}}]
[{"$f":"IF(ISNA(INDEX(Inscriptions!A$4:A$303,SUM('J3'!AG$7:'J3'!AG42))),\"\",INDEX(Inscriptions!A$4:A$303,SUM('J3'!AG$7:'J3'!AG42)))","v":""},{"$f":"IF(A42=\"\",\"\",VLOOKUP(A42,Data!G$2:K$302,5,FALSE))","v":""},{"$f":"IF(A42=\"\",\"\",VLOOKUP(A42,Data!G$2:K$302,2,FALSE))","v":""},{"$f":"IF(A42=\"\",\"\",VLOOKUP(A42,Data!G$2:K$302,3,FALSE))","v":""},{"$f":"IF(A42=\"\",\"\",VLOOKUP(A42,Data!G$2:K$302,4,FALSE))","v":""},null,null,null,null,null,null,null,null,null,null,null,null,null,null,null,null,null,null,null,null,null,null,null,null,null,0,null,{"$f":"MATCH(\"*\"&AD$1&\"*\",OFFSET(Inscriptions!J$4:J$303,SUM('J3'!AG$6:'J3'!AG41),0),0)","v":{"$error":"#N/A"}}]
[{"$f":"IF(ISNA(INDEX(Inscriptions!A$4:A$303,SUM('J3'!AG$7:'J3'!AG43))),\"\",INDEX(Inscriptions!A$4:A$303,SUM('J3'!AG$7:'J3'!AG43)))","v":""},{"$f":"IF(A43=\"\",\"\",VLOOKUP(A43,Data!G$2:K$302,5,FALSE))","v":""},{"$f":"IF(A43=\"\",\"\",VLOOKUP(A43,Data!G$2:K$302,2,FALSE))","v":""},{"$f":"IF(A43=\"\",\"\",VLOOKUP(A43,Data!G$2:K$302,3,FALSE))","v":""},{"$f":"IF(A43=\"\",\"\",VLOOKUP(A43,Data!G$2:K$302,4,FALSE))","v":""},null,null,null,null,null,null,null,null,null,null,null,null,null,null,null,null,null,null,null,null,null,null,null,null,null,0,null,{"$f":"MATCH(\"*\"&AD$1&\"*\",OFFSET(Inscriptions!J$4:J$303,SUM('J3'!AG$6:'J3'!AG42),0),0)","v":{"$error":"#N/A"}}]
[{"$f":"IF(ISNA(INDEX(Inscriptions!A$4:A$303,SUM('J3'!AG$7:'J3'!AG44))),\"\",INDEX(Inscriptions!A$4:A$303,SUM('J3'!AG$7:'J3'!AG44)))","v":""},{"$f":"IF(A44=\"\",\"\",VLOOKUP(A44,Data!G$2:K$302,5,FALSE))","v":""},{"$f":"IF(A44=\"\",\"\",VLOOKUP(A44,Data!G$2:K$302,2,FALSE))","v":""},{"$f":"IF(A44=\"\",\"\",VLOOKUP(A44,Data!G$2:K$302,3,FALSE))","v":""},{"$f":"IF(A44=\"\",\"\",VLOOKUP(A44,Data!G$2:K$302,4,FALSE))","v":""},null,null,null,null,null,null,null,null,null,null,null,null,null,null,null,null,null,null,null,null,null,null,null,null,null,0,null,{"$f":"MATCH(\"*\"&AD$1&\"*\",OFFSET(Inscriptions!J$4:J$303,SUM('J3'!AG$6:'J3'!AG43),0),0)","v":{"$error":"#N/A"}}]
[{"$f":"IF(ISNA(INDEX(Inscriptions!A$4:A$303,SUM('J3'!AG$7:'J3'!AG45))),\"\",INDEX(Inscriptions!A$4:A$303,SUM('J3'!AG$7:'J3'!AG45)))","v":""},{"$f":"IF(A45=\"\",\"\",VLOOKUP(A45,Data!G$2:K$302,5,FALSE))","v":""},{"$f":"IF(A45=\"\",\"\",VLOOKUP(A45,Data!G$2:K$302,2,FALSE))","v":""},{"$f":"IF(A45=\"\",\"\",VLOOKUP(A45,Data!G$2:K$302,3,FALSE))","v":""},{"$f":"IF(A45=\"\",\"\",VLOOKUP(A45,Data!G$2:K$302,4,FALSE))","v":""},null,null,null,null,null,null,null,null,null,null,null,null,null,null,null,null,null,null,null,null,null,null,null,null,null,0,null,{"$f":"MATCH(\"*\"&AD$1&\"*\",OFFSET(Inscriptions!J$4:J$303,SUM('J3'!AG$6:'J3'!AG44),0),0)","v":{"$error":"#N/A"}}]
[{"$f":"IF(ISNA(INDEX(Inscriptions!A$4:A$303,SUM('J3'!AG$7:'J3'!AG46))),\"\",INDEX(Inscriptions!A$4:A$303,SUM('J3'!AG$7:'J3'!AG46)))","v":""},{"$f":"IF(A46=\"\",\"\",VLOOKUP(A46,Data!G$2:K$302,5,FALSE))","v":""},{"$f":"IF(A46=\"\",\"\",VLOOKUP(A46,Data!G$2:K$302,2,FALSE))","v":""},{"$f":"IF(A46=\"\",\"\",VLOOKUP(A46,Data!G$2:K$302,3,FALSE))","v":""},{"$f":"IF(A46=\"\",\"\",VLOOKUP(A46,Data!G$2:K$302,4,FALSE))","v":""},null,null,null,null,null,null,null,null,null,null,null,null,null,null,null,null,null,null,null,null,null,null,null,null,null,0,null,{"$f":"MATCH(\"*\"&AD$1&\"*\",OFFSET(Inscriptions!J$4:J$303,SUM('J3'!AG$6:'J3'!AG45),0),0)","v":{"$error":"#N/A"}}]
[{"$f":"IF(ISNA(INDEX(Inscriptions!A$4:A$303,SUM('J3'!AG$7:'J3'!AG47))),\"\",INDEX(Inscriptions!A$4:A$303,SUM('J3'!AG$7:'J3'!AG47)))","v":""},{"$f":"IF(A47=\"\",\"\",VLOOKUP(A47,Data!G$2:K$302,5,FALSE))","v":""},{"$f":"IF(A47=\"\",\"\",VLOOKUP(A47,Data!G$2:K$302,2,FALSE))","v":""},{"$f":"IF(A47=\"\",\"\",VLOOKUP(A47,Data!G$2:K$302,3,FALSE))","v":""},{"$f":"IF(A47=\"\",\"\",VLOOKUP(A47,Data!G$2:K$302,4,FALSE))","v":""},null,null,null,null,null,null,null,null,null,null,null,null,null,null,null,null,null,null,null,null,null,null,null,null,null,0,null,{"$f":"MATCH(\"*\"&AD$1&\"*\",OFFSET(Inscriptions!J$4:J$303,SUM('J3'!AG$6:'J3'!AG46),0),0)","v":{"$error":"#N/A"}}]
[{"$f":"IF(ISNA(INDEX(Inscriptions!A$4:A$303,SUM('J3'!AG$7:'J3'!AG48))),\"\",INDEX(Inscriptions!A$4:A$303,SUM('J3'!AG$7:'J3'!AG48)))","v":""},{"$f":"IF(A48=\"\",\"\",VLOOKUP(A48,Data!G$2:K$302,5,FALSE))","v":""},{"$f":"IF(A48=\"\",\"\",VLOOKUP(A48,Data!G$2:K$302,2,FALSE))","v":""},{"$f":"IF(A48=\"\",\"\",VLOOKUP(A48,Data!G$2:K$302,3,FALSE))","v":""},{"$f":"IF(A48=\"\",\"\",VLOOKUP(A48,Data!G$2:K$302,4,FALSE))","v":""},null,null,null,null,null,null,null,null,null,null,null,null,null,null,null,null,null,null,null,null,null,null,null,null,null,0,null,{"$f":"MATCH(\"*\"&AD$1&\"*\",OFFSET(Inscriptions!J$4:J$303,SUM('J3'!AG$6:'J3'!AG47),0),0)","v":{"$error":"#N/A"}}]
[{"$f":"IF(ISNA(INDEX(Inscriptions!A$4:A$303,SUM('J3'!AG$7:'J3'!AG49))),\"\",INDEX(Inscriptions!A$4:A$303,SUM('J3'!AG$7:'J3'!AG49)))","v":""},{"$f":"IF(A49=\"\",\"\",VLOOKUP(A49,Data!G$2:K$302,5,FALSE))","v":""},{"$f":"IF(A49=\"\",\"\",VLOOKUP(A49,Data!G$2:K$302,2,FALSE))","v":""},{"$f":"IF(A49=\"\",\"\",VLOOKUP(A49,Data!G$2:K$302,3,FALSE))","v":""},{"$f":"IF(A49=\"\",\"\",VLOOKUP(A49,Data!G$2:K$302,4,FALSE))","v":""},null,null,null,null,null,null,null,null,null,null,null,null,null,null,null,null,null,null,null,null,null,null,null,null,null,0,null,{"$f":"MATCH(\"*\"&AD$1&\"*\",OFFSET(Inscriptions!J$4:J$303,SUM('J3'!AG$6:'J3'!AG48),0),0)","v":{"$error":"#N/A"}}]
[{"$f":"IF(ISNA(INDEX(Inscriptions!A$4:A$303,SUM('J3'!AG$7:'J3'!AG50))),\"\",INDEX(Inscriptions!A$4:A$303,SUM('J3'!AG$7:'J3'!AG50)))","v":""},{"$f":"IF(A50=\"\",\"\",VLOOKUP(A50,Data!G$2:K$302,5,FALSE))","v":""},{"$f":"IF(A50=\"\",\"\",VLOOKUP(A50,Data!G$2:K$302,2,FALSE))","v":""},{"$f":"IF(A50=\"\",\"\",VLOOKUP(A50,Data!G$2:K$302,3,FALSE))","v":""},{"$f":"IF(A50=\"\",\"\",VLOOKUP(A50,Data!G$2:K$302,4,FALSE))","v":""},null,null,null,null,null,null,null,null,null,null,null,null,null,null,null,null,null,null,null,null,null,null,null,null,null,0,null,{"$f":"MATCH(\"*\"&AD$1&\"*\",OFFSET(Inscriptions!J$4:J$303,SUM('J3'!AG$6:'J3'!AG49),0),0)","v":{"$error":"#N/A"}}]
[{"$f":"IF(ISNA(INDEX(Inscriptions!A$4:A$303,SUM('J3'!AG$7:'J3'!AG51))),\"\",INDEX(Inscriptions!A$4:A$303,SUM('J3'!AG$7:'J3'!AG51)))","v":""},{"$f":"IF(A51=\"\",\"\",VLOOKUP(A51,Data!G$2:K$302,5,FALSE))","v":""},{"$f":"IF(A51=\"\",\"\",VLOOKUP(A51,Data!G$2:K$302,2,FALSE))","v":""},{"$f":"IF(A51=\"\",\"\",VLOOKUP(A51,Data!G$2:K$302,3,FALSE))","v":""},{"$f":"IF(A51=\"\",\"\",VLOOKUP(A51,Data!G$2:K$302,4,FALSE))","v":""},null,null,null,null,null,null,null,null,null,null,null,null,null,null,null,null,null,null,null,null,null,null,null,null,null,0,null,{"$f":"MATCH(\"*\"&AD$1&\"*\",OFFSET(Inscriptions!J$4:J$303,SUM('J3'!AG$6:'J3'!AG50),0),0)","v":{"$error":"#N/A"}}]
[{"$f":"IF(ISNA(INDEX(Inscriptions!A$4:A$303,SUM('J3'!AG$7:'J3'!AG52))),\"\",INDEX(Inscriptions!A$4:A$303,SUM('J3'!AG$7:'J3'!AG52)))","v":""},{"$f":"IF(A52=\"\",\"\",VLOOKUP(A52,Data!G$2:K$302,5,FALSE))","v":""},{"$f":"IF(A52=\"\",\"\",VLOOKUP(A52,Data!G$2:K$302,2,FALSE))","v":""},{"$f":"IF(A52=\"\",\"\",VLOOKUP(A52,Data!G$2:K$302,3,FALSE))","v":""},{"$f":"IF(A52=\"\",\"\",VLOOKUP(A52,Data!G$2:K$302,4,FALSE))","v":""},null,null,null,null,null,null,null,null,null,null,null,null,null,null,null,null,null,null,null,null,null,null,null,null,null,0,null,{"$f":"MATCH(\"*\"&AD$1&\"*\",OFFSET(Inscriptions!J$4:J$303,SUM('J3'!AG$6:'J3'!AG51),0),0)","v":{"$error":"#N/A"}}]
[{"$f":"IF(ISNA(INDEX(Inscriptions!A$4:A$303,SUM('J3'!AG$7:'J3'!AG53))),\"\",INDEX(Inscriptions!A$4:A$303,SUM('J3'!AG$7:'J3'!AG53)))","v":""},{"$f":"IF(A53=\"\",\"\",VLOOKUP(A53,Data!G$2:K$302,5,FALSE))","v":""},{"$f":"IF(A53=\"\",\"\",VLOOKUP(A53,Data!G$2:K$302,2,FALSE))","v":""},{"$f":"IF(A53=\"\",\"\",VLOOKUP(A53,Data!G$2:K$302,3,FALSE))","v":""},{"$f":"IF(A53=\"\",\"\",VLOOKUP(A53,Data!G$2:K$302,4,FALSE))","v":""},null,null,null,null,null,null,null,null,null,null,null,null,null,null,null,null,null,null,null,null,null,null,null,null,null,0,null,{"$f":"MATCH(\"*\"&AD$1&\"*\",OFFSET(Inscriptions!J$4:J$303,SUM('J3'!AG$6:'J3'!AG52),0),0)","v":{"$error":"#N/A"}}]
[{"$f":"IF(ISNA(INDEX(Inscriptions!A$4:A$303,SUM('J3'!AG$7:'J3'!AG54))),\"\",INDEX(Inscriptions!A$4:A$303,SUM('J3'!AG$7:'J3'!AG54)))","v":""},{"$f":"IF(A54=\"\",\"\",VLOOKUP(A54,Data!G$2:K$302,5,FALSE))","v":""},{"$f":"IF(A54=\"\",\"\",VLOOKUP(A54,Data!G$2:K$302,2,FALSE))","v":""},{"$f":"IF(A54=\"\",\"\",VLOOKUP(A54,Data!G$2:K$302,3,FALSE))","v":""},{"$f":"IF(A54=\"\",\"\",VLOOKUP(A54,Data!G$2:K$302,4,FALSE))","v":""},null,null,null,null,null,null,null,null,null,null,null,null,null,null,null,null,null,null,null,null,null,null,null,null,null,0,null,{"$f":"MATCH(\"*\"&AD$1&\"*\",OFFSET(Inscriptions!J$4:J$303,SUM('J3'!AG$6:'J3'!AG53),0),0)","v":{"$error":"#N/A"}}]
[{"$f":"IF(ISNA(INDEX(Inscriptions!A$4:A$303,SUM('J3'!AG$7:'J3'!AG55))),\"\",INDEX(Inscriptions!A$4:A$303,SUM('J3'!AG$7:'J3'!AG55)))","v":""},{"$f":"IF(A55=\"\",\"\",VLOOKUP(A55,Data!G$2:K$302,5,FALSE))","v":""},{"$f":"IF(A55=\"\",\"\",VLOOKUP(A55,Data!G$2:K$302,2,FALSE))","v":""},{"$f":"IF(A55=\"\",\"\",VLOOKUP(A55,Data!G$2:K$302,3,FALSE))","v":""},{"$f":"IF(A55=\"\",\"\",VLOOKUP(A55,Data!G$2:K$302,4,FALSE))","v":""},null,null,null,null,null,null,null,null,null,null,null,null,null,null,null,null,null,null,null,null,null,null,null,null,null,0,null,{"$f":"MATCH(\"*\"&AD$1&\"*\",OFFSET(Inscriptions!J$4:J$303,SUM('J3'!AG$6:'J3'!AG54),0),0)","v":{"$error":"#N/A"}}]
[{"$f":"CONCATENATE(IF(ChoixLangue=Languages!$B$1,Languages!$B105,IF(ChoixLangue=Languages!$C$1,Languages!$C105,IF(ChoixLangue=Languages!$D$1,Languages!$D105,Languages!$E105))),SUM(AE7:AE55))","v":"Nbe nageuses : 0"},"-","-","-",null,"-","-","-",null,"-"]

{"sheet":"J2","index":8,"n_rows":56,"n_cols":33,"rows_kept":56,"cut":false,"hidden":false,"merged":[[3,0,3,9]]}
[{"$f":"IF('Cover Page'!B5=\"\",\"\",'Cover Page'!B5)","v":""},null,null,null,null,null,null,null,null,null,null,null,null,null,null,null,null,null,null,null,null,null,null,null,null,null,null,null,null,"x",null,null,{"$f":"MID(CELL(\"filename\",A1),FIND(\"]\",CELL(\"filename\",A1),1)+1,20)","v":"J2"}]
[{"$f":"IF('Cover Page'!B6=\"\",\"\",'Cover Page'!B6)","v":""},null,null,null,null,null,null,null,null,{"$f":"IF(ChoixLangue=Languages!$B$1,Languages!$B$97 & \" \" & AG1,IF(ChoixLangue=Languages!$C$1,Languages!$C$97 & \" \" & AG1,IF(ChoixLangue=Languages!$D$1,Languages!$D$97 & \" \" & AG1,Languages!$E$97 & \" \" & AG1)))","v":"Catégorie J2"}]
[{"$f":"IF('Cover Page'!B7=\"\",\"\",'Cover Page'!B7)","v":""}]
[{"$f":"IF('Cover Page'!B10=\"\",\"\",CONCATENATE(IF(ChoixLangue=Languages!$B$1,Languages!$B98,IF(ChoixLangue=Languages!$C$1,Languages!$C98,IF(ChoixLangue=Languages!$D$1,Languages!$D98,Languages!$E98))),'Cover Page'!B10))","v":""}]
[{"$f":"A56","v":"Nbe nageuses : 0"}]
[{"$f":"IF(ChoixLangue=Languages!$B$1,Languages!$B99,IF(ChoixLangue=Languages!$C$1,Languages!$C99,IF(ChoixLangue=Languages!$D$1,Languages!$D99,Languages!$E99)))","v":"NOM Prénom"},{"$f":"IF(ChoixLangue=Languages!$B$1,Languages!$B100,IF(ChoixLangue=Languages!$C$1,Languages!$C100,IF(ChoixLangue=Languages!$D$1,Languages!$D100,Languages!$E100)))","v":"Club"},{"$f":"IF(ChoixLangue=Languages!$B$1,Languages!$B101,IF(ChoixLangue=Languages!$C$1,Languages!$C101,IF(ChoixLangue=Languages!$D$1,Languages!$D101,Languages!$E101)))","v":"Licence"},{"$f":"IF(ChoixLangue=Languages!$B$1,Languages!$B102,IF(ChoixLangue=Languages!$C$1,Languages!$C102,IF(ChoixLangue=Languages!$D$1,Languages!$D102,Languages!$E102)))","v":"An. Nais."},{"$f":"IF(ChoixLangue=Languages!$B$1,Languages!$B103,IF(ChoixLangue=Languages!$C$1,Languages!$C103,IF(ChoixLangue=Languages!$D$1,Languages!$D103,Languages!$E103)))","v":"N° Test"},{"$f":"IF(ChoixLangue=Languages!$B$1,Languages!$B104,IF(ChoixLangue=Languages!$C$1,Languages!$C104,IF(ChoixLangue=Languages!$D$1,Languages!$D104,Languages!$E104)))","v":"Figures"},"Solo Free","Duo Free","Mix. Duet Free","Team Free"]
[{"$f":"IF(ISNA(INDEX(Inscriptions!A$4:A$303,SUM('J2'!AG$7:'J2'!AG7))),\"\",INDEX(Inscriptions!A$4:A$303,SUM('J2'!AG$7:'J2'!AG7)))","v":""},{"$f":"IF(A7=\"\",\"\",VLOOKUP(A7,Data!G$2:K$302,5,FALSE))","v":""},{"$f":"IF(A7=\"\",\"\",VLOOKUP(A7,Data!G$2:K$302,2,FALSE))","v":""},{"$f":"IF(A7=\"\",\"\",VLOOKUP(A7,Data!G$2:K$302,3,FALSE))","v":""},{"$f":"IF(A7=\"\",\"\",VLOOKUP(A7,Data!G$2:K$302,4,FALSE))","v":""},null,null,null,null,null,null,null,null,null,null,null,null,null,null,null,null,null,null,null,null,null,null,null,null,null,{"$f":"IF(A7<>\"\",1,0)","v":0},null,{"$f":"MATCH(\"*\"&AD$1&\"*\",OFFSET(Inscriptions!K$4:K$303,SUM('J2'!AG$6:'J2'!AG6),0),0)","v":{"$error":"#N/A"}}]
[{"$f":"IF(ISNA(INDEX(Inscriptions!A$4:A$303,SUM('J2'!AG$7:'J2'!AG8))),\"\",INDEX(Inscriptions!A$4:A$303,SUM('J2'!AG$7:'J2'!AG8)))","v":""},{"$f":"IF(A8=\"\",\"\",VLOOKUP(A8,Data!G$2:K$302,5,FALSE))","v":""},{"$f":"IF(A8=\"\",\"\",VLOOKUP(A8,Data!G$2:K$302,2,FALSE))","v":""},{"$f":"IF(A8=\"\",\"\",VLOOKUP(A8,Data!G$2:K$302,3,FALSE))","v":""},{"$f":"IF(A8=\"\",\"\",VLOOKUP(A8,Data!G$2:K$302,4,FALSE))","v":""},null,null,null,null,null,null,null,null,null,null,null,null,null,null,null,null,null,null,null,null,null,null,null,null,null,{"$f":"IF(A8<>\"\",1,0)","v":0},null,{"$f":"MATCH(\"*\"&AD$1&\"*\",OFFSET(Inscriptions!K$4:K$303,SUM('J2'!AG$6:'J2'!AG7),0),0)","v":{"$error":"#N/A"}}]
[{"$f":"IF(ISNA(INDEX(Inscriptions!A$4:A$303,SUM('J2'!AG$7:'J2'!AG9))),\"\",INDEX(Inscriptions!A$4:A$303,SUM('J2'!AG$7:'J2'!AG9)))","v":""},{"$f":"IF(A9=\"\",\"\",VLOOKUP(A9,Data!G$2:K$302,5,FALSE))","v":""},{"$f":"IF(A9=\"\",\"\",VLOOKUP(A9,Data!G$2:K$302,2,FALSE))","v":""},{"$f":"IF(A9=\"\",\"\",VLOOKUP(A9,Data!G$2:K$302,3,FALSE))","v":""},{"$f":"IF(A9=\"\",\"\",VLOOKUP(A9,Data!G$2:K$302,4,FALSE))","v":""},null,null,null,null,null,null,null,null,null,null,null,null,null,null,null,null,null,null,null,null,null,null,null,null,null,{"$f":"IF(A9<>\"\",1,0)","v":0},null,{"$f":"MATCH(\"*\"&AD$1&\"*\",OFFSET(Inscriptions!K$4:K$303,SUM('J2'!AG$6:'J2'!AG8),0),0)","v":{"$error":"#N/A"}}]
[{"$f":"IF(ISNA(INDEX(Inscriptions!A$4:A$303,SUM('J2'!AG$7:'J2'!AG10))),\"\",INDEX(Inscriptions!A$4:A$303,SUM('J2'!AG$7:'J2'!AG10)))","v":""},{"$f":"IF(A10=\"\",\"\",VLOOKUP(A10,Data!G$2:K$302,5,FALSE))","v":""},{"$f":"IF(A10=\"\",\"\",VLOOKUP(A10,Data!G$2:K$302,2,FALSE))","v":""},{"$f":"IF(A10=\"\",\"\",VLOOKUP(A10,Data!G$2:K$302,3,FALSE))","v":""},{"$f":"IF(A10=\"\",\"\",VLOOKUP(A10,Data!G$2:K$302,4,FALSE))","v":""},null,null,null,null,null,null,null,null,null,null,null,null,null,null,null,null,null,null,null,null,null,null,null,null,null,0,null,{"$f":"MATCH(\"*\"&AD$1&\"*\",OFFSET(Inscriptions!K$4:K$303,SUM('J2'!AG$6:'J2'!AG9),0),0)","v":{"$error":"#N/A"}}]
[{"$f":"IF(ISNA(INDEX(Inscriptions!A$4:A$303,SUM('J2'!AG$7:'J2'!AG11))),\"\",INDEX(Inscriptions!A$4:A$303,SUM('J2'!AG$7:'J2'!AG11)))","v":""},{"$f":"IF(A11=\"\",\"\",VLOOKUP(A11,Data!G$2:K$302,5,FALSE))","v":""},{"$f":"IF(A11=\"\",\"\",VLOOKUP(A11,Data!G$2:K$302,2,FALSE))","v":""},{"$f":"IF(A11=\"\",\"\",VLOOKUP(A11,Data!G$2:K$302,3,FALSE))","v":""},{"$f":"IF(A11=\"\",\"\",VLOOKUP(A11,Data!G$2:K$302,4,FALSE))","v":""},null,null,null,null,null,null,null,null,null,null,null,null,null,null,null,null,null,null,null,null,null,null,null,null,null,0,null,{"$f":"MATCH(\"*\"&AD$1&\"*\",OFFSET(Inscriptions!K$4:K$303,SUM('J2'!AG$6:'J2'!AG10),0),0)","v":{"$error":"#N/A"}}]
[{"$f":"IF(ISNA(INDEX(Inscriptions!A$4:A$303,SUM('J2'!AG$7:'J2'!AG12))),\"\",INDEX(Inscriptions!A$4:A$303,SUM('J2'!AG$7:'J2'!AG12)))","v":""},{"$f":"IF(A12=\"\",\"\",VLOOKUP(A12,Data!G$2:K$302,5,FALSE))","v":""},{"$f":"IF(A12=\"\",\"\",VLOOKUP(A12,Data!G$2:K$302,2,FALSE))","v":""},{"$f":"IF(A12=\"\",\"\",VLOOKUP(A12,Data!G$2:K$302,3,FALSE))","v":""},{"$f":"IF(A12=\"\",\"\",VLOOKUP(A12,Data!G$2:K$302,4,FALSE))","v":""},null,null,null,null,null,null,null,null,null,null,null,null,null,null,null,null,null,null,null,null,null,null,null,null,null,0,null,{"$f":"MATCH(\"*\"&AD$1&\"*\",OFFSET(Inscriptions!K$4:K$303,SUM('J2'!AG$6:'J2'!AG11),0),0)","v":{"$error":"#N/A"}}]
[{"$f":"IF(ISNA(INDEX(Inscriptions!A$4:A$303,SUM('J2'!AG$7:'J2'!AG13))),\"\",INDEX(Inscriptions!A$4:A$303,SUM('J2'!AG$7:'J2'!AG13)))","v":""},{"$f":"IF(A13=\"\",\"\",VLOOKUP(A13,Data!G$2:K$302,5,FALSE))","v":""},{"$f":"IF(A13=\"\",\"\",VLOOKUP(A13,Data!G$2:K$302,2,FALSE))","v":""},{"$f":"IF(A13=\"\",\"\",VLOOKUP(A13,Data!G$2:K$302,3,FALSE))","v":""},{"$f":"IF(A13=\"\",\"\",VLOOKUP(A13,Data!G$2:K$302,4,FALSE))","v":""},null,null,null,null,null,null,null,null,null,null,null,null,null,null,null,null,null,null,null,null,null,null,null,null,null,0,null,{"$f":"MATCH(\"*\"&AD$1&\"*\",OFFSET(Inscriptions!K$4:K$303,SUM('J2'!AG$6:'J2'!AG12),0),0)","v":{"$error":"#N/A"}}]
[{"$f":"IF(ISNA(INDEX(Inscriptions!A$4:A$303,SUM('J2'!AG$7:'J2'!AG14))),\"\",INDEX(Inscriptions!A$4:A$303,SUM('J2'!AG$7:'J2'!AG14)))","v":""},{"$f":"IF(A14=\"\",\"\",VLOOKUP(A14,Data!G$2:K$302,5,FALSE))","v":""},{"$f":"IF(A14=\"\",\"\",VLOOKUP(A14,Data!G$2:K$302,2,FALSE))","v":""},{"$f":"IF(A14=\"\",\"\",VLOOKUP(A14,Data!G$2:K$302,3,FALSE))","v":""},{"$f":"IF(A14=\"\",\"\",VLOOKUP(A14,Data!G$2:K$302,4,FALSE))","v":""},null,null,null,null,null,null,null,null,null,null,null,null,null,null,null,null,null,null,null,null,null,null,null,null,null,0,null,{"$f":"MATCH(\"*\"&AD$1&\"*\",OFFSET(Inscriptions!K$4:K$303,SUM('J2'!AG$6:'J2'!AG13),0),0)","v":{"$error":"#N/A"}}]
[{"$f":"IF(ISNA(INDEX(Inscriptions!A$4:A$303,SUM('J2'!AG$7:'J2'!AG15))),\"\",INDEX(Inscriptions!A$4:A$303,SUM('J2'!AG$7:'J2'!AG15)))","v":""},{"$f":"IF(A15=\"\",\"\",VLOOKUP(A15,Data!G$2:K$302,5,FALSE))","v":""},{"$f":"IF(A15=\"\",\"\",VLOOKUP(A15,Data!G$2:K$302,2,FALSE))","v":""},{"$f":"IF(A15=\"\",\"\",VLOOKUP(A15,Data!G$2:K$302,3,FALSE))","v":""},{"$f":"IF(A15=\"\",\"\",VLOOKUP(A15,Data!G$2:K$302,4,FALSE))","v":""},null,null,null,null,null,null,null,null,null,null,null,null,null,null,null,null,null,null,null,null,null,null,null,null,null,0,null,{"$f":"MATCH(\"*\"&AD$1&\"*\",OFFSET(Inscriptions!K$4:K$303,SUM('J2'!AG$6:'J2'!AG14),0),0)","v":{"$error":"#N/A"}}]
[{"$f":"IF(ISNA(INDEX(Inscriptions!A$4:A$303,SUM('J2'!AG$7:'J2'!AG16))),\"\",INDEX(Inscriptions!A$4:A$303,SUM('J2'!AG$7:'J2'!AG16)))","v":""},{"$f":"IF(A16=\"\",\"\",VLOOKUP(A16,Data!G$2:K$302,5,FALSE))","v":""},{"$f":"IF(A16=\"\",\"\",VLOOKUP(A16,Data!G$2:K$302,2,FALSE))","v":""},{"$f":"IF(A16=\"\",\"\",VLOOKUP(A16,Data!G$2:K$302,3,FALSE))","v":""},{"$f":"IF(A16=\"\",\"\",VLOOKUP(A16,Data!G$2:K$302,4,FALSE))","v":""},null,null,null,null,null,null,null,null,null,null,null,null,null,null,null,null,null,null,null,null,null,null,null,null,null,0,null,{"$f":"MATCH(\"*\"&AD$1&\"*\",OFFSET(Inscriptions!K$4:K$303,SUM('J2'!AG$6:'J2'!AG15),0),0)","v":{"$error":"#N/A"}}]
[{"$f":"IF(ISNA(INDEX(Inscriptions!A$4:A$303,SUM('J2'!AG$7:'J2'!AG17))),\"\",INDEX(Inscriptions!A$4:A$303,SUM('J2'!AG$7:'J2'!AG17)))","v":""},{"$f":"IF(A17=\"\",\"\",VLOOKUP(A17,Data!G$2:K$302,5,FALSE))","v":""},{"$f":"IF(A17=\"\",\"\",VLOOKUP(A17,Data!G$2:K$302,2,FALSE))","v":""},{"$f":"IF(A17=\"\",\"\",VLOOKUP(A17,Data!G$2:K$302,3,FALSE))","v":""},{"$f":"IF(A17=\"\",\"\",VLOOKUP(A17,Data!G$2:K$302,4,FALSE))","v":""},null,null,null,null,null,null,null,null,null,null,null,null,null,null,null,null,null,null,null,null,null,null,null,null,null,0,null,{"$f":"MATCH(\"*\"&AD$1&\"*\",OFFSET(Inscriptions!K$4:K$303,SUM('J2'!AG$6:'J2'!AG16),0),0)","v":{"$error":"#N/A"}}]
[{"$f":"IF(ISNA(INDEX(Inscriptions!A$4:A$303,SUM('J2'!AG$7:'J2'!AG18))),\"\",INDEX(Inscriptions!A$4:A$303,SUM('J2'!AG$7:'J2'!AG18)))","v":""},{"$f":"IF(A18=\"\",\"\",VLOOKUP(A18,Data!G$2:K$302,5,FALSE))","v":""},{"$f":"IF(A18=\"\",\"\",VLOOKUP(A18,Data!G$2:K$302,2,FALSE))","v":""},{"$f":"IF(A18=\"\",\"\",VLOOKUP(A18,Data!G$2:K$302,3,FALSE))","v":""},{"$f":"IF(A18=\"\",\"\",VLOOKUP(A18,Data!G$2:K$302,4,FALSE))","v":""},null,null,null,null,null,null,null,null,null,null,null,null,null,null,null,null,null,null,null,null,null,null,null,null,null,0,null,{"$f":"MATCH(\"*\"&AD$1&\"*\",OFFSET(Inscriptions!K$4:K$303,SUM('J2'!AG$6:'J2'!AG17),0),0)","v":{"$error":"#N/A"}}]
[{"$f":"IF(ISNA(INDEX(Inscriptions!A$4:A$303,SUM('J2'!AG$7:'J2'!AG19))),\"\",INDEX(Inscriptions!A$4:A$303,SUM('J2'!AG$7:'J2'!AG19)))","v":""},{"$f":"IF(A19=\"\",\"\",VLOOKUP(A19,Data!G$2:K$302,5,FALSE))","v":""},{"$f":"IF(A19=\"\",\"\",VLOOKUP(A19,Data!G$2:K$302,2,FALSE))","v":""},{"$f":"IF(A19=\"\",\"\",VLOOKUP(A19,Data!G$2:K$302,3,FALSE))","v":""},{"$f":"IF(A19=\"\",\"\",VLOOKUP(A19,Data!G$2:K$302,4,FALSE))","v":""},null,null,null,null,null,null,null,null,null,null,null,null,null,null,null,null,null,null,null,null,null,null,null,null,null,0,null,{"$f":"MATCH(\"*\"&AD$1&\"*\",OFFSET(Inscriptions!K$4:K$303,SUM('J2'!AG$6:'J2'!AG18),0),0)","v":{"$error":"#N/A"}}]
[{"$f":"IF(ISNA(INDEX(Inscriptions!A$4:A$303,SUM('J2'!AG$7:'J2'!AG20))),\"\",INDEX(Inscriptions!A$4:A$303,SUM('J2'!AG$7:'J2'!AG20)))","v":""},{"$f":"IF(A20=\"\",\"\",VLOOKUP(A20,Data!G$2:K$302,5,FALSE))","v":""},{"$f":"IF(A20=\"\",\"\",VLOOKUP(A20,Data!G$2:K$302,2,FALSE))","v":""},{"$f":"IF(A20=\"\",\"\",VLOOKUP(A20,Data!G$2:K$302,3,FALSE))","v":""},{"$f":"IF(A20=\"\",\"\",VLOOKUP(A20,Data!G$2:K$302,4,FALSE))","v":""},null,null,null,null,null,null,null,null,null,null,null,null,null,null,null,null,null,null,null,null,null,null,null,null,null,0,null,{"$f":"MATCH(\"*\"&AD$1&\"*\",OFFSET(Inscriptions!K$4:K$303,SUM('J2'!AG$6:'J2'!AG19),0),0)","v":{"$error":"#N/A"}}]
[{"$f":"IF(ISNA(INDEX(Inscriptions!A$4:A$303,SUM('J2'!AG$7:'J2'!AG21))),\"\",INDEX(Inscriptions!A$4:A$303,SUM('J2'!AG$7:'J2'!AG21)))","v":""},{"$f":"IF(A21=\"\",\"\",VLOOKUP(A21,Data!G$2:K$302,5,FALSE))","v":""},{"$f":"IF(A21=\"\",\"\",VLOOKUP(A21,Data!G$2:K$302,2,FALSE))","v":""},{"$f":"IF(A21=\"\",\"\",VLOOKUP(A21,Data!G$2:K$302,3,FALSE))","v":""},{"$f":"IF(A21=\"\",\"\",VLOOKUP(A21,Data!G$2:K$302,4,FALSE))","v":""},null,null,null,null,null,null,null,null,null,null,null,null,null,null,null,null,null,null,null,null,null,null,null,null,null,0,null,{"$f":"MATCH(\"*\"&AD$1&\"*\",OFFSET(Inscriptions!K$4:K$303,SUM('J2'!AG$6:'J2'!AG20),0),0)","v":{"$error":"#N/A"}}]
[{"$f":"IF(ISNA(INDEX(Inscriptions!A$4:A$303,SUM('J2'!AG$7:'J2'!AG22))),\"\",INDEX(Inscriptions!A$4:A$303,SUM('J2'!AG$7:'J2'!AG22)))","v":""},{"$f":"IF(A22=\"\",\"\",VLOOKUP(A22,Data!G$2:K$302,5,FALSE))","v":""},{"$f":"IF(A22=\"\",\"\",VLOOKUP(A22,Data!G$2:K$302,2,FALSE))","v":""},{"$f":"IF(A22=\"\",\"\",VLOOKUP(A22,Data!G$2:K$302,3,FALSE))","v":""},{"$f":"IF(A22=\"\",\"\",VLOOKUP(A22,Data!G$2:K$302,4,FALSE))","v":""},null,null,null,null,null,null,null,null,null,null,null,null,null,null,null,null,null,null,null,null,null,null,null,null,null,0,null,{"$f":"MATCH(\"*\"&AD$1&\"*\",OFFSET(Inscriptions!K$4:K$303,SUM('J2'!AG$6:'J2'!AG21),0),0)","v":{"$error":"#N/A"}}]
[{"$f":"IF(ISNA(INDEX(Inscriptions!A$4:A$303,SUM('J2'!AG$7:'J2'!AG23))),\"\",INDEX(Inscriptions!A$4:A$303,SUM('J2'!AG$7:'J2'!AG23)))","v":""},{"$f":"IF(A23=\"\",\"\",VLOOKUP(A23,Data!G$2:K$302,5,FALSE))","v":""},{"$f":"IF(A23=\"\",\"\",VLOOKUP(A23,Data!G$2:K$302,2,FALSE))","v":""},{"$f":"IF(A23=\"\",\"\",VLOOKUP(A23,Data!G$2:K$302,3,FALSE))","v":""},{"$f":"IF(A23=\"\",\"\",VLOOKUP(A23,Data!G$2:K$302,4,FALSE))","v":""},null,null,null,null,null,null,null,null,null,null,null,null,null,null,null,null,null,null,null,null,null,null,null,null,null,0,null,{"$f":"MATCH(\"*\"&AD$1&\"*\",OFFSET(Inscriptions!K$4:K$303,SUM('J2'!AG$6:'J2'!AG22),0),0)","v":{"$error":"#N/A"}}]
[{"$f":"IF(ISNA(INDEX(Inscriptions!A$4:A$303,SUM('J2'!AG$7:'J2'!AG24))),\"\",INDEX(Inscriptions!A$4:A$303,SUM('J2'!AG$7:'J2'!AG24)))","v":""},{"$f":"IF(A24=\"\",\"\",VLOOKUP(A24,Data!G$2:K$302,5,FALSE))","v":""},{"$f":"IF(A24=\"\",\"\",VLOOKUP(A24,Data!G$2:K$302,2,FALSE))","v":""},{"$f":"IF(A24=\"\",\"\",VLOOKUP(A24,Data!G$2:K$302,3,FALSE))","v":""},{"$f":"IF(A24=\"\",\"\",VLOOKUP(A24,Data!G$2:K$302,4,FALSE))","v":""},null,null,null,null,null,null,null,null,null,null,null,null,null,null,null,null,null,null,null,null,null,null,null,null,null,0,null,{"$f":"MATCH(\"*\"&AD$1&\"*\",OFFSET(Inscriptions!K$4:K$303,SUM('J2'!AG$6:'J2'!AG23),0),0)","v":{"$error":"#N/A"}}]
[{"$f":"IF(ISNA(INDEX(Inscriptions!A$4:A$303,SUM('J2'!AG$7:'J2'!AG25))),\"\",INDEX(Inscriptions!A$4:A$303,SUM('J2'!AG$7:'J2'!AG25)))","v":""},{"$f":"IF(A25=\"\",\"\",VLOOKUP(A25,Data!G$2:K$302,5,FALSE))","v":""},{"$f":"IF(A25=\"\",\"\",VLOOKUP(A25,Data!G$2:K$302,2,FALSE))","v":""},{"$f":"IF(A25=\"\",\"\",VLOOKUP(A25,Data!G$2:K$302,3,FALSE))","v":""},{"$f":"IF(A25=\"\",\"\",VLOOKUP(A25,Data!G$2:K$302,4,FALSE))","v":""},null,null,null,null,null,null,null,null,null,null,null,null,null,null,null,null,null,null,null,null,null,null,null,null,null,0,null,{"$f":"MATCH(\"*\"&AD$1&\"*\",OFFSET(Inscriptions!K$4:K$303,SUM('J2'!AG$6:'J2'!AG24),0),0)","v":{"$error":"#N/A"}}]
[{"$f":"IF(ISNA(INDEX(Inscriptions!A$4:A$303,SUM('J2'!AG$7:'J2'!AG26))),\"\",INDEX(Inscriptions!A$4:A$303,SUM('J2'!AG$7:'J2'!AG26)))","v":""},{"$f":"IF(A26=\"\",\"\",VLOOKUP(A26,Data!G$2:K$302,5,FALSE))","v":""},{"$f":"IF(A26=\"\",\"\",VLOOKUP(A26,Data!G$2:K$302,2,FALSE))","v":""},{"$f":"IF(A26=\"\",\"\",VLOOKUP(A26,Data!G$2:K$302,3,FALSE))","v":""},{"$f":"IF(A26=\"\",\"\",VLOOKUP(A26,Data!G$2:K$302,4,FALSE))","v":""},null,null,null,null,null,null,null,null,null,null,null,null,null,null,null,null,null,null,null,null,null,null,null,null,null,0,null,{"$f":"MATCH(\"*\"&AD$1&\"*\",OFFSET(Inscriptions!K$4:K$303,SUM('J2'!AG$6:'J2'!AG25),0),0)","v":{"$error":"#N/A"}}]
[{"$f":"IF(ISNA(INDEX(Inscriptions!A$4:A$303,SUM('J2'!AG$7:'J2'!AG27))),\"\",INDEX(Inscriptions!A$4:A$303,SUM('J2'!AG$7:'J2'!AG27)))","v":""},{"$f":"IF(A27=\"\",\"\",VLOOKUP(A27,Data!G$2:K$302,5,FALSE))","v":""},{"$f":"IF(A27=\"\",\"\",VLOOKUP(A27,Data!G$2:K$302,2,FALSE))","v":""},{"$f":"IF(A27=\"\",\"\",VLOOKUP(A27,Data!G$2:K$302,3,FALSE))","v":""},{"$f":"IF(A27=\"\",\"\",VLOOKUP(A27,Data!G$2:K$302,4,FALSE))","v":""},null,null,null,null,null,null,null,null,null,null,null,null,null,null,null,null,null,null,null,null,null,null,null,null,null,0,null,{"$f":"MATCH(\"*\"&AD$1&\"*\",OFFSET(Inscriptions!K$4:K$303,SUM('J2'!AG$6:'J2'!AG26),0),0)","v":{"$error":"#N/A"}}]
[{"$f":"IF(ISNA(INDEX(Inscriptions!A$4:A$303,SUM('J2'!AG$7:'J2'!AG28))),\"\",INDEX(Inscriptions!A$4:A$303,SUM('J2'!AG$7:'J2'!AG28)))","v":""},{"$f":"IF(A28=\"\",\"\",VLOOKUP(A28,Data!G$2:K$302,5,FALSE))","v":""},{"$f":"IF(A28=\"\",\"\",VLOOKUP(A28,Data!G$2:K$302,2,FALSE))","v":""},{"$f":"IF(A28=\"\",\"\",VLOOKUP(A28,Data!G$2:K$302,3,FALSE))","v":""},{"$f":"IF(A28=\"\",\"\",VLOOKUP(A28,Data!G$2:K$302,4,FALSE))","v":""},null,null,null,null,null,null,null,null,null,null,null,null,null,null,null,null,null,null,null,null,null,null,null,null,null,0,null,{"$f":"MATCH(\"*\"&AD$1&\"*\",OFFSET(Inscriptions!K$4:K$303,SUM('J2'!AG$6:'J2'!AG27),0),0)","v":{"$error":"#N/A"}}]
[{"$f":"IF(ISNA(INDEX(Inscriptions!A$4:A$303,SUM('J2'!AG$7:'J2'!AG29))),\"\",INDEX(Inscriptions!A$4:A$303,SUM('J2'!AG$7:'J2'!AG29)))","v":""},{"$f":"IF(A29=\"\",\"\",VLOOKUP(A29,Data!G$2:K$302,5,FALSE))","v":""},{"$f":"IF(A29=\"\",\"\",VLOOKUP(A29,Data!G$2:K$302,2,FALSE))","v":""},{"$f":"IF(A29=\"\",\"\",VLOOKUP(A29,Data!G$2:K$302,3,FALSE))","v":""},{"$f":"IF(A29=\"\",\"\",VLOOKUP(A29,Data!G$2:K$302,4,FALSE))","v":""},null,null,null,null,null,null,null,null,null,null,null,null,null,null,null,null,null,null,null,null,null,null,null,null,null,0,null,{"$f":"MATCH(\"*\"&AD$1&\"*\",OFFSET(Inscriptions!K$4:K$303,SUM('J2'!AG$6:'J2'!AG28),0),0)","v":{"$error":"#N/A"}}]
[{"$f":"IF(ISNA(INDEX(Inscriptions!A$4:A$303,SUM('J2'!AG$7:'J2'!AG30))),\"\",INDEX(Inscriptions!A$4:A$303,SUM('J2'!AG$7:'J2'!AG30)))","v":""},{"$f":"IF(A30=\"\",\"\",VLOOKUP(A30,Data!G$2:K$302,5,FALSE))","v":""},{"$f":"IF(A30=\"\",\"\",VLOOKUP(A30,Data!G$2:K$302,2,FALSE))","v":""},{"$f":"IF(A30=\"\",\"\",VLOOKUP(A30,Data!G$2:K$302,3,FALSE))","v":""},{"$f":"IF(A30=\"\",\"\",VLOOKUP(A30,Data!G$2:K$302,4,FALSE))","v":""},null,null,null,null,null,null,null,null,null,null,null,null,null,null,null,null,null,null,null,null,null,null,null,null,null,0,null,{"$f":"MATCH(\"*\"&AD$1&\"*\",OFFSET(Inscriptions!K$4:K$303,SUM('J2'!AG$6:'J2'!AG29),0),0)","v":{"$error":"#N/A"}}]
[{"$f":"IF(ISNA(INDEX(Inscriptions!A$4:A$303,SUM('J2'!AG$7:'J2'!AG31))),\"\",INDEX(Inscriptions!A$4:A$303,SUM('J2'!AG$7:'J2'!AG31)))","v":""},{"$f":"IF(A31=\"\",\"\",VLOOKUP(A31,Data!G$2:K$302,5,FALSE))","v":""},{"$f":"IF(A31=\"\",\"\",VLOOKUP(A31,Data!G$2:K$302,2,FALSE))","v":""},{"$f":"IF(A31=\"\",\"\",VLOOKUP(A31,Data!G$2:K$302,3,FALSE))","v":""},{"$f":"IF(A31=\"\",\"\",VLOOKUP(A31,Data!G$2:K$302,4,FALSE))","v":""},null,null,null,null,null,null,null,null,null,null,null,null,null,null,null,null,null,null,null,null,null,null,null,null,null,0,null,{"$f":"MATCH(\"*\"&AD$1&\"*\",OFFSET(Inscriptions!K$4:K$303,SUM('J2'!AG$6:'J2'!AG30),0),0)","v":{"$error":"#N/A"}}]
[{"$f":"IF(ISNA(INDEX(Inscriptions!A$4:A$303,SUM('J2'!AG$7:'J2'!AG32))),\"\",INDEX(Inscriptions!A$4:A$303,SUM('J2'!AG$7:'J2'!AG32)))","v":""},{"$f":"IF(A32=\"\",\"\",VLOOKUP(A32,Data!G$2:K$302,5,FALSE))","v":""},{"$f":"IF(A32=\"\",\"\",VLOOKUP(A32,Data!G$2:K$302,2,FALSE))","v":""},{"$f":"IF(A32=\"\",\"\",VLOOKUP(A32,Data!G$2:K$302,3,FALSE))","v":""},{"$f":"IF(A32=\"\",\"\",VLOOKUP(A32,Data!G$2:K$302,4,FALSE))","v":""},null,null,null,null,null,null,null,null,null,null,null,null,null,null,null,null,null,null,null,null,null,null,null,null,null,0,null,{"$f":"MATCH(\"*\"&AD$1&\"*\",OFFSET(Inscriptions!K$4:K$303,SUM('J2'!AG$6:'J2'!AG31),0),0)","v":{"$error":"#N/A"}}]
[{"$f":"IF(ISNA(INDEX(Inscriptions!A$4:A$303,SUM('J2'!AG$7:'J2'!AG33))),\"\",INDEX(Inscriptions!A$4:A$303,SUM('J2'!AG$7:'J2'!AG33)))","v":""},{"$f":"IF(A33=\"\",\"\",VLOOKUP(A33,Data!G$2:K$302,5,FALSE))","v":""},{"$f":"IF(A33=\"\",\"\",VLOOKUP(A33,Data!G$2:K$302,2,FALSE))","v":""},{"$f":"IF(A33=\"\",\"\",VLOOKUP(A33,Data!G$2:K$302,3,FALSE))","v":""},{"$f":"IF(A33=\"\",\"\",VLOOKUP(A33,Data!G$2:K$302,4,FALSE))","v":""},null,null,null,null,null,null,null,null,null,null,null,null,null,null,null,null,null,null,null,null,null,null,null,null,null,0,null,{"$f":"MATCH(\"*\"&AD$1&\"*\",OFFSET(Inscriptions!K$4:K$303,SUM('J2'!AG$6:'J2'!AG32),0),0)","v":{"$error":"#N/A"}}]
[{"$f":"IF(ISNA(INDEX(Inscriptions!A$4:A$303,SUM('J2'!AG$7:'J2'!AG34))),\"\",INDEX(Inscriptions!A$4:A$303,SUM('J2'!AG$7:'J2'!AG34)))","v":""},{"$f":"IF(A34=\"\",\"\",VLOOKUP(A34,Data!G$2:K$302,5,FALSE))","v":""},{"$f":"IF(A34=\"\",\"\",VLOOKUP(A34,Data!G$2:K$302,2,FALSE))","v":""},{"$f":"IF(A34=\"\",\"\",VLOOKUP(A34,Data!G$2:K$302,3,FALSE))","v":""},{"$f":"IF(A34=\"\",\"\",VLOOKUP(A34,Data!G$2:K$302,4,FALSE))","v":""},null,null,null,null,null,null,null,null,null,null,null,null,null,null,null,null,null,null,null,null,null,null,null,null,null,0,null,{"$f":"MATCH(\"*\"&AD$1&\"*\",OFFSET(Inscriptions!K$4:K$303,SUM('J2'!AG$6:'J2'!AG33),0),0)","v":{"$error":"#N/A"}}]
[{"$f":"IF(ISNA(INDEX(Inscriptions!A$4:A$303,SUM('J2'!AG$7:'J2'!AG35))),\"\",INDEX(Inscriptions!A$4:A$303,SUM('J2'!AG$7:'J2'!AG35)))","v":""},{"$f":"IF(A35=\"\",\"\",VLOOKUP(A35,Data!G$2:K$302,5,FALSE))","v":""},{"$f":"IF(A35=\"\",\"\",VLOOKUP(A35,Data!G$2:K$302,2,FALSE))","v":""},{"$f":"IF(A35=\"\",\"\",VLOOKUP(A35,Data!G$2:K$302,3,FALSE))","v":""},{"$f":"IF(A35=\"\",\"\",VLOOKUP(A35,Data!G$2:K$302,4,FALSE))","v":""},null,null,null,null,null,null,null,null,null,null,null,null,null,null,null,null,null,null,null,null,null,null,null,null,null,0,null,{"$f":"MATCH(\"*\"&AD$1&\"*\",OFFSET(Inscriptions!K$4:K$303,SUM('J2'!AG$6:'J2'!AG34),0),0)","v":{"$error":"#N/A"}}]
[{"$f":"IF(ISNA(INDEX(Inscriptions!A$4:A$303,SUM('J2'!AG$7:'J2'!AG36))),\"\",INDEX(Inscriptions!A$4:A$303,SUM('J2'!AG$7:'J2'!AG36)))","v":""},{"$f":"IF(A36=\"\",\"\",VLOOKUP(A36,Data!G$2:K$302,5,FALSE))","v":""},{"$f":"IF(A36=\"\",\"\",VLOOKUP(A36,Data!G$2:K$302,2,FALSE))","v":""},{"$f":"IF(A36=\"\",\"\",VLOOKUP(A36,Data!G$2:K$302,3,FALSE))","v":""},{"$f":"IF(A36=\"\",\"\",VLOOKUP(A36,Data!G$2:K$302,4,FALSE))","v":""},null,null,null,null,null,null,null,null,null,null,null,null,null,null,null,null,null,null,null,null,null,null,null,null,null,0,null,{"$f":"MATCH(\"*\"&AD$1&\"*\",OFFSET(Inscriptions!K$4:K$303,SUM('J2'!AG$6:'J2'!AG35),0),0)","v":{"$error":"#N/A"}}]
[{"$f":"IF(ISNA(INDEX(Inscriptions!A$4:A$303,SUM('J2'!AG$7:'J2'!AG37))),\"\",INDEX(Inscriptions!A$4:A$303,SUM('J2'!AG$7:'J2'!AG37)))","v":""},{"$f":"IF(A37=\"\",\"\",VLOOKUP(A37,Data!G$2:K$302,5,FALSE))","v":""},{"$f":"IF(A37=\"\",\"\",VLOOKUP(A37,Data!G$2:K$302,2,FALSE))","v":""},{"$f":"IF(A37=\"\",\"\",VLOOKUP(A37,Data!G$2:K$302,3,FALSE))","v":""},{"$f":"IF(A37=\"\",\"\",VLOOKUP(A37,Data!G$2:K$302,4,FALSE))","v":""},null,null,null,null,null,null,null,null,null,null,null,null,null,null,null,null,null,null,null,null,null,null,null,null,null,0,null,{"$f":"MATCH(\"*\"&AD$1&\"*\",OFFSET(Inscriptions!K$4:K$303,SUM('J2'!AG$6:'J2'!AG36),0),0)","v":{"$error":"#N/A"}}]
[{"$f":"IF(ISNA(INDEX(Inscriptions!A$4:A$303,SUM('J2'!AG$7:'J2'!AG38))),\"\",INDEX(Inscriptions!A$4:A$303,SUM('J2'!AG$7:'J2'!AG38)))","v":""},{"$f":"IF(A38=\"\",\"\",VLOOKUP(A38,Data!G$2:K$302,5,FALSE))","v":""},{"$f":"IF(A38=\"\",\"\",VLOOKUP(A38,Data!G$2:K$302,2,FALSE))","v":""},{"$f":"IF(A38=\"\",\"\",VLOOKUP(A38,Data!G$2:K$302,3,FALSE))","v":""},{"$f":"IF(A38=\"\",\"\",VLOOKUP(A38,Data!G$2:K$302,4,FALSE))","v":""},null,null,null,null,null,null,null,null,null,null,null,null,null,null,null,null,null,null,null,null,null,null,null,null,null,0,null,{"$f":"MATCH(\"*\"&AD$1&\"*\",OFFSET(Inscriptions!K$4:K$303,SUM('J2'!AG$6:'J2'!AG37),0),0)","v":{"$error":"#N/A"}}]
[{"$f":"IF(ISNA(INDEX(Inscriptions!A$4:A$303,SUM('J2'!AG$7:'J2'!AG39))),\"\",INDEX(Inscriptions!A$4:A$303,SUM('J2'!AG$7:'J2'!AG39)))","v":""},{"$f":"IF(A39=\"\",\"\",VLOOKUP(A39,Data!G$2:K$302,5,FALSE))","v":""},{"$f":"IF(A39=\"\",\"\",VLOOKUP(A39,Data!G$2:K$302,2,FALSE))","v":""},{"$f":"IF(A39=\"\",\"\",VLOOKUP(A39,Data!G$2:K$302,3,FALSE))","v":""},{"$f":"IF(A39=\"\",\"\",VLOOKUP(A39,Data!G$2:K$302,4,FALSE))","v":""},null,null,null,null,null,null,null,null,null,null,null,null,null,null,null,null,null,null,null,null,null,null,null,null,null,0,null,{"$f":"MATCH(\"*\"&AD$1&\"*\",OFFSET(Inscriptions!K$4:K$303,SUM('J2'!AG$6:'J2'!AG38),0),0)","v":{"$error":"#N/A"}}]
[{"$f":"IF(ISNA(INDEX(Inscriptions!A$4:A$303,SUM('J2'!AG$7:'J2'!AG40))),\"\",INDEX(Inscriptions!A$4:A$303,SUM('J2'!AG$7:'J2'!AG40)))","v":""},{"$f":"IF(A40=\"\",\"\",VLOOKUP(A40,Data!G$2:K$302,5,FALSE))","v":""},{"$f":"IF(A40=\"\",\"\",VLOOKUP(A40,Data!G$2:K$302,2,FALSE))","v":""},{"$f":"IF(A40=\"\",\"\",VLOOKUP(A40,Data!G$2:K$302,3,FALSE))","v":""},{"$f":"IF(A40=\"\",\"\",VLOOKUP(A40,Data!G$2:K$302,4,FALSE))","v":""},null,null,null,null,null,null,null,null,null,null,null,null,null,null,null,null,null,null,null,null,null,null,null,null,null,0,null,{"$f":"MATCH(\"*\"&AD$1&\"*\",OFFSET(Inscriptions!K$4:K$303,SUM('J2'!AG$6:'J2'!AG39),0),0)","v":{"$error":"#N/A"}}]
[{"$f":"IF(ISNA(INDEX(Inscriptions!A$4:A$303,SUM('J2'!AG$7:'J2'!AG41))),\"\",INDEX(Inscriptions!A$4:A$303,SUM('J2'!AG$7:'J2'!AG41)))","v":""},{"$f":"IF(A41=\"\",\"\",VLOOKUP(A41,Data!G$2:K$302,5,FALSE))","v":""},{"$f":"IF(A41=\"\",\"\",VLOOKUP(A41,Data!G$2:K$302,2,FALSE))","v":""},{"$f":"IF(A41=\"\",\"\",VLOOKUP(A41,Data!G$2:K$302,3,FALSE))","v":""},{"$f":"IF(A41=\"\",\"\",VLOOKUP(A41,Data!G$2:K$302,4,FALSE))","v":""},null,null,null,null,null,null,null,null,null,null,null,null,null,null,null,null,null,null,null,null,null,null,null,null,null,0,null,{"$f":"MATCH(\"*\"&AD$1&\"*\",OFFSET(Inscriptions!K$4:K$303,SUM('J2'!AG$6:'J2'!AG40),0),0)","v":{"$error":"#N/A"}}]
[{"$f":"IF(ISNA(INDEX(Inscriptions!A$4:A$303,SUM('J2'!AG$7:'J2'!AG42))),\"\",INDEX(Inscriptions!A$4:A$303,SUM('J2'!AG$7:'J2'!AG42)))","v":""},{"$f":"IF(A42=\"\",\"\",VLOOKUP(A42,Data!G$2:K$302,5,FALSE))","v":""},{"$f":"IF(A42=\"\",\"\",VLOOKUP(A42,Data!G$2:K$302,2,FALSE))","v":""},{"$f":"IF(A42=\"\",\"\",VLOOKUP(A42,Data!G$2:K$302,3,FALSE))","v":""},{"$f":"IF(A42=\"\",\"\",VLOOKUP(A42,Data!G$2:K$302,4,FALSE))","v":""},null,null,null,null,null,null,null,null,null,null,null,null,null,null,null,null,null,null,null,null,null,null,null,null,null,0,null,{"$f":"MATCH(\"*\"&AD$1&\"*\",OFFSET(Inscriptions!K$4:K$303,SUM('J2'!AG$6:'J2'!AG41),0),0)","v":{"$error":"#N/A"}}]
[{"$f":"IF(ISNA(INDEX(Inscriptions!A$4:A$303,SUM('J2'!AG$7:'J2'!AG43))),\"\",INDEX(Inscriptions!A$4:A$303,SUM('J2'!AG$7:'J2'!AG43)))","v":""},{"$f":"IF(A43=\"\",\"\",VLOOKUP(A43,Data!G$2:K$302,5,FALSE))","v":""},{"$f":"IF(A43=\"\",\"\",VLOOKUP(A43,Data!G$2:K$302,2,FALSE))","v":""},{"$f":"IF(A43=\"\",\"\",VLOOKUP(A43,Data!G$2:K$302,3,FALSE))","v":""},{"$f":"IF(A43=\"\",\"\",VLOOKUP(A43,Data!G$2:K$302,4,FALSE))","v":""},null,null,null,null,null,null,null,null,null,null,null,null,null,null,null,null,null,null,null,null,null,null,null,null,null,0,null,{"$f":"MATCH(\"*\"&AD$1&\"*\",OFFSET(Inscriptions!K$4:K$303,SUM('J2'!AG$6:'J2'!AG42),0),0)","v":{"$error":"#N/A"}}]
[{"$f":"IF(ISNA(INDEX(Inscriptions!A$4:A$303,SUM('J2'!AG$7:'J2'!AG44))),\"\",INDEX(Inscriptions!A$4:A$303,SUM('J2'!AG$7:'J2'!AG44)))","v":""},{"$f":"IF(A44=\"\",\"\",VLOOKUP(A44,Data!G$2:K$302,5,FALSE))","v":""},{"$f":"IF(A44=\"\",\"\",VLOOKUP(A44,Data!G$2:K$302,2,FALSE))","v":""},{"$f":"IF(A44=\"\",\"\",VLOOKUP(A44,Data!G$2:K$302,3,FALSE))","v":""},{"$f":"IF(A44=\"\",\"\",VLOOKUP(A44,Data!G$2:K$302,4,FALSE))","v":""},null,null,null,null,null,null,null,null,null,null,null,null,null,null,null,null,null,null,null,null,null,null,null,null,null,0,null,{"$f":"MATCH(\"*\"&AD$1&\"*\",OFFSET(Inscriptions!K$4:K$303,SUM('J2'!AG$6:'J2'!AG43),0),0)","v":{"$error":"#N/A"}}]
[{"$f":"IF(ISNA(INDEX(Inscriptions!A$4:A$303,SUM('J2'!AG$7:'J2'!AG45))),\"\",INDEX(Inscriptions!A$4:A$303,SUM('J2'!AG$7:'J2'!AG45)))","v":""},{"$f":"IF(A45=\"\",\"\",VLOOKUP(A45,Data!G$2:K$302,5,FALSE))","v":""},{"$f":"IF(A45=\"\",\"\",VLOOKUP(A45,Data!G$2:K$302,2,FALSE))","v":""},{"$f":"IF(A45=\"\",\"\",VLOOKUP(A45,Data!G$2:K$302,3,FALSE))","v":""},{"$f":"IF(A45=\"\",\"\",VLOOKUP(A45,Data!G$2:K$302,4,FALSE))","v":""},null,null,null,null,null,null,null,null,null,null,null,null,null,null,null,null,null,null,null,null,null,null,null,null,null,0,null,{"$f":"MATCH(\"*\"&AD$1&\"*\",OFFSET(Inscriptions!K$4:K$303,SUM('J2'!AG$6:'J2'!AG44),0),0)","v":{"$error":"#N/A"}}]
[{"$f":"IF(ISNA(INDEX(Inscriptions!A$4:A$303,SUM('J2'!AG$7:'J2'!AG46))),\"\",INDEX(Inscriptions!A$4:A$303,SUM('J2'!AG$7:'J2'!AG46)))","v":""},{"$f":"IF(A46=\"\",\"\",VLOOKUP(A46,Data!G$2:K$302,5,FALSE))","v":""},{"$f":"IF(A46=\"\",\"\",VLOOKUP(A46,Data!G$2:K$302,2,FALSE))","v":""},{"$f":"IF(A46=\"\",\"\",VLOOKUP(A46,Data!G$2:K$302,3,FALSE))","v":""},{"$f":"IF(A46=\"\",\"\",VLOOKUP(A46,Data!G$2:K$302,4,FALSE))","v":""},null,null,null,null,null,null,null,null,null,null,null,null,null,null,null,null,null,null,null,null,null,null,null,null,null,0,null,{"$f":"MATCH(\"*\"&AD$1&\"*\",OFFSET(Inscriptions!K$4:K$303,SUM('J2'!AG$6:'J2'!AG45),0),0)","v":{"$error":"#N/A"}}]
[{"$f":"IF(ISNA(INDEX(Inscriptions!A$4:A$303,SUM('J2'!AG$7:'J2'!AG47))),\"\",INDEX(Inscriptions!A$4:A$303,SUM('J2'!AG$7:'J2'!AG47)))","v":""},{"$f":"IF(A47=\"\",\"\",VLOOKUP(A47,Data!G$2:K$302,5,FALSE))","v":""},{"$f":"IF(A47=\"\",\"\",VLOOKUP(A47,Data!G$2:K$302,2,FALSE))","v":""},{"$f":"IF(A47=\"\",\"\",VLOOKUP(A47,Data!G$2:K$302,3,FALSE))","v":""},{"$f":"IF(A47=\"\",\"\",VLOOKUP(A47,Data!G$2:K$302,4,FALSE))","v":""},null,null,null,null,null,null,null,null,null,null,null,null,null,null,null,null,null,null,null,null,null,null,null,null,null,0,null,{"$f":"MATCH(\"*\"&AD$1&\"*\",OFFSET(Inscriptions!K$4:K$303,SUM('J2'!AG$6:'J2'!AG46),0),0)","v":{"$error":"#N/A"}}]
[{"$f":"IF(ISNA(INDEX(Inscriptions!A$4:A$303,SUM('J2'!AG$7:'J2'!AG48))),\"\",INDEX(Inscriptions!A$4:A$303,SUM('J2'!AG$7:'J2'!AG48)))","v":""},{"$f":"IF(A48=\"\",\"\",VLOOKUP(A48,Data!G$2:K$302,5,FALSE))","v":""},{"$f":"IF(A48=\"\",\"\",VLOOKUP(A48,Data!G$2:K$302,2,FALSE))","v":""},{"$f":"IF(A48=\"\",\"\",VLOOKUP(A48,Data!G$2:K$302,3,FALSE))","v":""},{"$f":"IF(A48=\"\",\"\",VLOOKUP(A48,Data!G$2:K$302,4,FALSE))","v":""},null,null,null,null,null,null,null,null,null,null,null,null,null,null,null,null,null,null,null,null,null,null,null,null,null,0,null,{"$f":"MATCH(\"*\"&AD$1&\"*\",OFFSET(Inscriptions!K$4:K$303,SUM('J2'!AG$6:'J2'!AG47),0),0)","v":{"$error":"#N/A"}}]
[{"$f":"IF(ISNA(INDEX(Inscriptions!A$4:A$303,SUM('J2'!AG$7:'J2'!AG49))),\"\",INDEX(Inscriptions!A$4:A$303,SUM('J2'!AG$7:'J2'!AG49)))","v":""},{"$f":"IF(A49=\"\",\"\",VLOOKUP(A49,Data!G$2:K$302,5,FALSE))","v":""},{"$f":"IF(A49=\"\",\"\",VLOOKUP(A49,Data!G$2:K$302,2,FALSE))","v":""},{"$f":"IF(A49=\"\",\"\",VLOOKUP(A49,Data!G$2:K$302,3,FALSE))","v":""},{"$f":"IF(A49=\"\",\"\",VLOOKUP(A49,Data!G$2:K$302,4,FALSE))","v":""},null,null,null,null,null,null,null,null,null,null,null,null,null,null,null,null,null,null,null,null,null,null,null,null,null,0,null,{"$f":"MATCH(\"*\"&AD$1&\"*\",OFFSET(Inscriptions!K$4:K$303,SUM('J2'!AG$6:'J2'!AG48),0),0)","v":{"$error":"#N/A"}}]
[{"$f":"IF(ISNA(INDEX(Inscriptions!A$4:A$303,SUM('J2'!AG$7:'J2'!AG50))),\"\",INDEX(Inscriptions!A$4:A$303,SUM('J2'!AG$7:'J2'!AG50)))","v":""},{"$f":"IF(A50=\"\",\"\",VLOOKUP(A50,Data!G$2:K$302,5,FALSE))","v":""},{"$f":"IF(A50=\"\",\"\",VLOOKUP(A50,Data!G$2:K$302,2,FALSE))","v":""},{"$f":"IF(A50=\"\",\"\",VLOOKUP(A50,Data!G$2:K$302,3,FALSE))","v":""},{"$f":"IF(A50=\"\",\"\",VLOOKUP(A50,Data!G$2:K$302,4,FALSE))","v":""},null,null,null,null,null,null,null,null,null,null,null,null,null,null,null,null,null,null,null,null,null,null,null,null,null,0,null,{"$f":"MATCH(\"*\"&AD$1&\"*\",OFFSET(Inscriptions!K$4:K$303,SUM('J2'!AG$6:'J2'!AG49),0),0)","v":{"$error":"#N/A"}}]
[{"$f":"IF(ISNA(INDEX(Inscriptions!A$4:A$303,SUM('J2'!AG$7:'J2'!AG51))),\"\",INDEX(Inscriptions!A$4:A$303,SUM('J2'!AG$7:'J2'!AG51)))","v":""},{"$f":"IF(A51=\"\",\"\",VLOOKUP(A51,Data!G$2:K$302,5,FALSE))","v":""},{"$f":"IF(A51=\"\",\"\",VLOOKUP(A51,Data!G$2:K$302,2,FALSE))","v":""},{"$f":"IF(A51=\"\",\"\",VLOOKUP(A51,Data!G$2:K$302,3,FALSE))","v":""},{"$f":"IF(A51=\"\",\"\",VLOOKUP(A51,Data!G$2:K$302,4,FALSE))","v":""},null,null,null,null,null,null,null,null,null,null,null,null,null,null,null,null,null,null,null,null,null,null,null,null,null,0,null,{"$f":"MATCH(\"*\"&AD$1&\"*\",OFFSET(Inscriptions!K$4:K$303,SUM('J2'!AG$6:'J2'!AG50),0),0)","v":{"$error":"#N/A"}}]
[{"$f":"IF(ISNA(INDEX(Inscriptions!A$4:A$303,SUM('J2'!AG$7:'J2'!AG52))),\"\",INDEX(Inscriptions!A$4:A$303,SUM('J2'!AG$7:'J2'!AG52)))","v":""},{"$f":"IF(A52=\"\",\"\",VLOOKUP(A52,Data!G$2:K$302,5,FALSE))","v":""},{"$f":"IF(A52=\"\",\"\",VLOOKUP(A52,Data!G$2:K$302,2,FALSE))","v":""},{"$f":"IF(A52=\"\",\"\",VLOOKUP(A52,Data!G$2:K$302,3,FALSE))","v":""},{"$f":"IF(A52=\"\",\"\",VLOOKUP(A52,Data!G$2:K$302,4,FALSE))","v":""},null,null,null,null,null,null,null,null,null,null,null,null,null,null,null,null,null,null,null,null,null,null,null,null,null,0,null,{"$f":"MATCH(\"*\"&AD$1&\"*\",OFFSET(Inscriptions!K$4:K$303,SUM('J2'!AG$6:'J2'!AG51),0),0)","v":{"$error":"#N/A"}}]
[{"$f":"IF(ISNA(INDEX(Inscriptions!A$4:A$303,SUM('J2'!AG$7:'J2'!AG53))),\"\",INDEX(Inscriptions!A$4:A$303,SUM('J2'!AG$7:'J2'!AG53)))","v":""},{"$f":"IF(A53=\"\",\"\",VLOOKUP(A53,Data!G$2:K$302,5,FALSE))","v":""},{"$f":"IF(A53=\"\",\"\",VLOOKUP(A53,Data!G$2:K$302,2,FALSE))","v":""},{"$f":"IF(A53=\"\",\"\",VLOOKUP(A53,Data!G$2:K$302,3,FALSE))","v":""},{"$f":"IF(A53=\"\",\"\",VLOOKUP(A53,Data!G$2:K$302,4,FALSE))","v":""},null,null,null,null,null,null,null,null,null,null,null,null,null,null,null,null,null,null,null,null,null,null,null,null,null,0,null,{"$f":"MATCH(\"*\"&AD$1&\"*\",OFFSET(Inscriptions!K$4:K$303,SUM('J2'!AG$6:'J2'!AG52),0),0)","v":{"$error":"#N/A"}}]
[{"$f":"IF(ISNA(INDEX(Inscriptions!A$4:A$303,SUM('J2'!AG$7:'J2'!AG54))),\"\",INDEX(Inscriptions!A$4:A$303,SUM('J2'!AG$7:'J2'!AG54)))","v":""},{"$f":"IF(A54=\"\",\"\",VLOOKUP(A54,Data!G$2:K$302,5,FALSE))","v":""},{"$f":"IF(A54=\"\",\"\",VLOOKUP(A54,Data!G$2:K$302,2,FALSE))","v":""},{"$f":"IF(A54=\"\",\"\",VLOOKUP(A54,Data!G$2:K$302,3,FALSE))","v":""},{"$f":"IF(A54=\"\",\"\",VLOOKUP(A54,Data!G$2:K$302,4,FALSE))","v":""},null,null,null,null,null,null,null,null,null,null,null,null,null,null,null,null,null,null,null,null,null,null,null,null,null,0,null,{"$f":"MATCH(\"*\"&AD$1&\"*\",OFFSET(Inscriptions!K$4:K$303,SUM('J2'!AG$6:'J2'!AG53),0),0)","v":{"$error":"#N/A"}}]
[{"$f":"IF(ISNA(INDEX(Inscriptions!A$4:A$303,SUM('J2'!AG$7:'J2'!AG55))),\"\",INDEX(Inscriptions!A$4:A$303,SUM('J2'!AG$7:'J2'!AG55)))","v":""},{"$f":"IF(A55=\"\",\"\",VLOOKUP(A55,Data!G$2:K$302,5,FALSE))","v":""},{"$f":"IF(A55=\"\",\"\",VLOOKUP(A55,Data!G$2:K$302,2,FALSE))","v":""},{"$f":"IF(A55=\"\",\"\",VLOOKUP(A55,Data!G$2:K$302,3,FALSE))","v":""},{"$f":"IF(A55=\"\",\"\",VLOOKUP(A55,Data!G$2:K$302,4,FALSE))","v":""},null,null,null,null,null,null,null,null,null,null,null,null,null,null,null,null,null,null,null,null,null,null,null,null,null,0,null,{"$f":"MATCH(\"*\"&AD$1&\"*\",OFFSET(Inscriptions!K$4:K$303,SUM('J2'!AG$6:'J2'!AG54),0),0)","v":{"$error":"#N/A"}}]
[{"$f":"CONCATENATE(IF(ChoixLangue=Languages!$B$1,Languages!$B105,IF(ChoixLangue=Languages!$C$1,Languages!$C105,IF(ChoixLangue=Languages!$D$1,Languages!$D105,Languages!$E105))),SUM(AE7:AE55))","v":"Nbe nageuses : 0"},"-","-","-",null,"-","-","-",null,"-"]

{"sheet":"J1","index":9,"n_rows":56,"n_cols":37,"rows_kept":56,"cut":false,"hidden":false,"merged":[[3,0,3,13]]}
[{"$f":"IF('Cover Page'!B5=\"\",\"\",'Cover Page'!B5)","v":""},null,null,null,null,null,null,null,null,null,null,null,null,null,null,null,null,null,null,null,null,null,null,null,null,null,null,null,null,null,null,null,null,"x",null,null,{"$f":"MID(CELL(\"filename\",A1),FIND(\"]\",CELL(\"filename\",A1),1)+1,20)","v":"J1"}]
[{"$f":"IF('Cover Page'!B6=\"\",\"\",'Cover Page'!B6)","v":""},null,null,null,null,null,null,null,null,null,null,null,null,{"$f":"IF(ChoixLangue=Languages!$B$1,Languages!$B$97 & \" \" & AK1,IF(ChoixLangue=Languages!$C$1,Languages!$C$97 & \" \" & AK1,IF(ChoixLangue=Languages!$D$1,Languages!$D$97 & \" \" & AK1,Languages!$E$97 & \" \" & AK1)))","v":"Catégorie J1"}]
[{"$f":"IF('Cover Page'!B7=\"\",\"\",'Cover Page'!B7)","v":""}]
[{"$f":"IF('Cover Page'!B10=\"\",\"\",CONCATENATE(IF(ChoixLangue=Languages!$B$1,Languages!$B98,IF(ChoixLangue=Languages!$C$1,Languages!$C98,IF(ChoixLangue=Languages!$D$1,Languages!$D98,Languages!$E98))),'Cover Page'!B10))","v":""}]
[{"$f":"A56","v":"Nbe nageuses : 0"}]
[{"$f":"IF(ChoixLangue=Languages!$B$1,Languages!$B99,IF(ChoixLangue=Languages!$C$1,Languages!$C99,IF(ChoixLangue=Languages!$D$1,Languages!$D99,Languages!$E99)))","v":"NOM Prénom"},{"$f":"IF(ChoixLangue=Languages!$B$1,Languages!$B100,IF(ChoixLangue=Languages!$C$1,Languages!$C100,IF(ChoixLangue=Languages!$D$1,Languages!$D100,Languages!$E100)))","v":"Club"},{"$f":"IF(ChoixLangue=Languages!$B$1,Languages!$B101,IF(ChoixLangue=Languages!$C$1,Languages!$C101,IF(ChoixLangue=Languages!$D$1,Languages!$D101,Languages!$E101)))","v":"Licence"},{"$f":"IF(ChoixLangue=Languages!$B$1,Languages!$B102,IF(ChoixLangue=Languages!$C$1,Languages!$C102,IF(ChoixLangue=Languages!$D$1,Languages!$D102,Languages!$E102)))","v":"An. Nais."},{"$f":"IF(ChoixLangue=Languages!$B$1,Languages!$B103,IF(ChoixLangue=Languages!$C$1,Languages!$C103,IF(ChoixLangue=Languages!$D$1,Languages!$D103,Languages!$E103)))","v":"N° Test"},{"$f":"IF(ChoixLangue=Languages!$B$1,Languages!$B104,IF(ChoixLangue=Languages!$C$1,Languages!$C104,IF(ChoixLangue=Languages!$D$1,Languages!$D104,Languages!$E104)))","v":"Figures"},"Solo Tech","Solo Free","Duo Tech","Duo Free","Mix. Duet Tech","Mix. Duet Free","Team Tech","Team Free"]
[{"$f":"IF(ISNA(INDEX(Inscriptions!A$4:A$303,SUM('J1'!AK$7:'J1'!AK7))),\"\",INDEX(Inscriptions!A$4:A$303,SUM('J1'!AK$7:'J1'!AK7)))","v":""},{"$f":"IF(A7=\"\",\"\",VLOOKUP(A7,Data!G$2:K$302,5,FALSE))","v":""},{"$f":"IF(A7=\"\",\"\",VLOOKUP(A7,Data!G$2:K$302,2,FALSE))","v":""},{"$f":"IF(A7=\"\",\"\",VLOOKUP(A7,Data!G$2:K$302,3,FALSE))","v":""},{"$f":"IF(A7=\"\",\"\",VLOOKUP(A7,Data!G$2:K$302,4,FALSE))","v":""},null,null,null,null,null,null,null,null,null,null,null,null,null,null,null,null,null,null,null,null,null,null,null,null,null,null,null,null,null,{"$f":"IF(A7<>\"\",1,0)","v":0},null,{"$f":"MATCH(\"*\"&AH$1&\"*\",OFFSET(Inscriptions!L$4:L$303,SUM('J1'!AK$6:'J1'!AK6),0),0)","v":{"$error":"#N/A"}}]
[{"$f":"IF(ISNA(INDEX(Inscriptions!A$4:A$303,SUM('J1'!AK$7:'J1'!AK8))),\"\",INDEX(Inscriptions!A$4:A$303,SUM('J1'!AK$7:'J1'!AK8)))","v":""},{"$f":"IF(A8=\"\",\"\",VLOOKUP(A8,Data!G$2:K$302,5,FALSE))","v":""},{"$f":"IF(A8=\"\",\"\",VLOOKUP(A8,Data!G$2:K$302,2,FALSE))","v":""},{"$f":"IF(A8=\"\",\"\",VLOOKUP(A8,Data!G$2:K$302,3,FALSE))","v":""},{"$f":"IF(A8=\"\",\"\",VLOOKUP(A8,Data!G$2:K$302,4,FALSE))","v":""},null,null,null,null,null,null,null,null,null,null,null,null,null,null,null,null,null,null,null,null,null,null,null,null,null,null,null,null,null,{"$f":"IF(A8<>\"\",1,0)","v":0},null,{"$f":"MATCH(\"*\"&AH$1&\"*\",OFFSET(Inscriptions!L$4:L$303,SUM('J1'!AK$6:'J1'!AK7),0),0)","v":{"$error":"#N/A"}}]
[{"$f":"IF(ISNA(INDEX(Inscriptions!A$4:A$303,SUM('J1'!AK$7:'J1'!AK9))),\"\",INDEX(Inscriptions!A$4:A$303,SUM('J1'!AK$7:'J1'!AK9)))","v":""},{"$f":"IF(A9=\"\",\"\",VLOOKUP(A9,Data!G$2:K$302,5,FALSE))","v":""},{"$f":"IF(A9=\"\",\"\",VLOOKUP(A9,Data!G$2:K$302,2,FALSE))","v":""},{"$f":"IF(A9=\"\",\"\",VLOOKUP(A9,Data!G$2:K$302,3,FALSE))","v":""},{"$f":"IF(A9=\"\",\"\",VLOOKUP(A9,Data!G$2:K$302,4,FALSE))","v":""},null,null,null,null,null,null,null,null,null,null,null,null,null,null,null,null,null,null,null,null,null,null,null,null,null,null,null,null,null,{"$f":"IF(A9<>\"\",1,0)","v":0},null,{"$f":"MATCH(\"*\"&AH$1&\"*\",OFFSET(Inscriptions!L$4:L$303,SUM('J1'!AK$6:'J1'!AK8),0),0)","v":{"$error":"#N/A"}}]
[{"$f":"IF(ISNA(INDEX(Inscriptions!A$4:A$303,SUM('J1'!AK$7:'J1'!AK10))),\"\",INDEX(Inscriptions!A$4:A$303,SUM('J1'!AK$7:'J1'!AK10)))","v":""},{"$f":"IF(A10=\"\",\"\",VLOOKUP(A10,Data!G$2:K$302,5,FALSE))","v":""},{"$f":"IF(A10=\"\",\"\",VLOOKUP(A10,Data!G$2:K$302,2,FALSE))","v":""},{"$f":"IF(A10=\"\",\"\",VLOOKUP(A10,Data!G$2:K$302,3,FALSE))","v":""},{"$f":"IF(A10=\"\",\"\",VLOOKUP(A10,Data!G$2:K$302,4,FALSE))","v":""},null,null,null,null,null,null,null,null,null,null,null,null,null,null,null,null,null,null,null,null,null,null,null,null,null,null,null,null,null,0,null,{"$f":"MATCH(\"*\"&AH$1&\"*\",OFFSET(Inscriptions!L$4:L$303,SUM('J1'!AK$6:'J1'!AK9),0),0)","v":{"$error":"#N/A"}}]
[{"$f":"IF(ISNA(INDEX(Inscriptions!A$4:A$303,SUM('J1'!AK$7:'J1'!AK11))),\"\",INDEX(Inscriptions!A$4:A$303,SUM('J1'!AK$7:'J1'!AK11)))","v":""},{"$f":"IF(A11=\"\",\"\",VLOOKUP(A11,Data!G$2:K$302,5,FALSE))","v":""},{"$f":"IF(A11=\"\",\"\",VLOOKUP(A11,Data!G$2:K$302,2,FALSE))","v":""},{"$f":"IF(A11=\"\",\"\",VLOOKUP(A11,Data!G$2:K$302,3,FALSE))","v":""},{"$f":"IF(A11=\"\",\"\",VLOOKUP(A11,Data!G$2:K$302,4,FALSE))","v":""},null,null,null,null,null,null,null,null,null,null,null,null,null,null,null,null,null,null,null,null,null,null,null,null,null,null,null,null,null,0,null,{"$f":"MATCH(\"*\"&AH$1&\"*\",OFFSET(Inscriptions!L$4:L$303,SUM('J1'!AK$6:'J1'!AK10),0),0)","v":{"$error":"#N/A"}}]
[{"$f":"IF(ISNA(INDEX(Inscriptions!A$4:A$303,SUM('J1'!AK$7:'J1'!AK12))),\"\",INDEX(Inscriptions!A$4:A$303,SUM('J1'!AK$7:'J1'!AK12)))","v":""},{"$f":"IF(A12=\"\",\"\",VLOOKUP(A12,Data!G$2:K$302,5,FALSE))","v":""},{"$f":"IF(A12=\"\",\"\",VLOOKUP(A12,Data!G$2:K$302,2,FALSE))","v":""},{"$f":"IF(A12=\"\",\"\",VLOOKUP(A12,Data!G$2:K$302,3,FALSE))","v":""},{"$f":"IF(A12=\"\",\"\",VLOOKUP(A12,Data!G$2:K$302,4,FALSE))","v":""},null,null,null,null,null,null,null,null,null,null,null,null,null,null,null,null,null,null,null,null,null,null,null,null,null,null,null,null,null,0,null,{"$f":"MATCH(\"*\"&AH$1&\"*\",OFFSET(Inscriptions!L$4:L$303,SUM('J1'!AK$6:'J1'!AK11),0),0)","v":{"$error":"#N/A"}}]
[{"$f":"IF(ISNA(INDEX(Inscriptions!A$4:A$303,SUM('J1'!AK$7:'J1'!AK13))),\"\",INDEX(Inscriptions!A$4:A$303,SUM('J1'!AK$7:'J1'!AK13)))","v":""},{"$f":"IF(A13=\"\",\"\",VLOOKUP(A13,Data!G$2:K$302,5,FALSE))","v":""},{"$f":"IF(A13=\"\",\"\",VLOOKUP(A13,Data!G$2:K$302,2,FALSE))","v":""},{"$f":"IF(A13=\"\",\"\",VLOOKUP(A13,Data!G$2:K$302,3,FALSE))","v":""},{"$f":"IF(A13=\"\",\"\",VLOOKUP(A13,Data!G$2:K$302,4,FALSE))","v":""},null,null,null,null,null,null,null,null,null,null,null,null,null,null,null,null,null,null,null,null,null,null,null,null,null,null,null,null,null,0,null,{"$f":"MATCH(\"*\"&AH$1&\"*\",OFFSET(Inscriptions!L$4:L$303,SUM('J1'!AK$6:'J1'!AK12),0),0)","v":{"$error":"#N/A"}}]
[{"$f":"IF(ISNA(INDEX(Inscriptions!A$4:A$303,SUM('J1'!AK$7:'J1'!AK14))),\"\",INDEX(Inscriptions!A$4:A$303,SUM('J1'!AK$7:'J1'!AK14)))","v":""},{"$f":"IF(A14=\"\",\"\",VLOOKUP(A14,Data!G$2:K$302,5,FALSE))","v":""},{"$f":"IF(A14=\"\",\"\",VLOOKUP(A14,Data!G$2:K$302,2,FALSE))","v":""},{"$f":"IF(A14=\"\",\"\",VLOOKUP(A14,Data!G$2:K$302,3,FALSE))","v":""},{"$f":"IF(A14=\"\",\"\",VLOOKUP(A14,Data!G$2:K$302,4,FALSE))","v":""},null,null,null,null,null,null,null,null,null,null,null,null,null,null,null,null,null,null,null,null,null,null,null,null,null,null,null,null,null,0,null,{"$f":"MATCH(\"*\"&AH$1&\"*\",OFFSET(Inscriptions!L$4:L$303,SUM('J1'!AK$6:'J1'!AK13),0),0)","v":{"$error":"#N/A"}}]
[{"$f":"IF(ISNA(INDEX(Inscriptions!A$4:A$303,SUM('J1'!AK$7:'J1'!AK15))),\"\",INDEX(Inscriptions!A$4:A$303,SUM('J1'!AK$7:'J1'!AK15)))","v":""},{"$f":"IF(A15=\"\",\"\",VLOOKUP(A15,Data!G$2:K$302,5,FALSE))","v":""},{"$f":"IF(A15=\"\",\"\",VLOOKUP(A15,Data!G$2:K$302,2,FALSE))","v":""},{"$f":"IF(A15=\"\",\"\",VLOOKUP(A15,Data!G$2:K$302,3,FALSE))","v":""},{"$f":"IF(A15=\"\",\"\",VLOOKUP(A15,Data!G$2:K$302,4,FALSE))","v":""},null,null,null,null,null,null,null,null,null,null,null,null,null,null,null,null,null,null,null,null,null,null,null,null,null,null,null,null,null,0,null,{"$f":"MATCH(\"*\"&AH$1&\"*\",OFFSET(Inscriptions!L$4:L$303,SUM('J1'!AK$6:'J1'!AK14),0),0)","v":{"$error":"#N/A"}}]
[{"$f":"IF(ISNA(INDEX(Inscriptions!A$4:A$303,SUM('J1'!AK$7:'J1'!AK16))),\"\",INDEX(Inscriptions!A$4:A$303,SUM('J1'!AK$7:'J1'!AK16)))","v":""},{"$f":"IF(A16=\"\",\"\",VLOOKUP(A16,Data!G$2:K$302,5,FALSE))","v":""},{"$f":"IF(A16=\"\",\"\",VLOOKUP(A16,Data!G$2:K$302,2,FALSE))","v":""},{"$f":"IF(A16=\"\",\"\",VLOOKUP(A16,Data!G$2:K$302,3,FALSE))","v":""},{"$f":"IF(A16=\"\",\"\",VLOOKUP(A16,Data!G$2:K$302,4,FALSE))","v":""},null,null,null,null,null,null,null,null,null,null,null,null,null,null,null,null,null,null,null,null,null,null,null,null,null,null,null,null,null,0,null,{"$f":"MATCH(\"*\"&AH$1&\"*\",OFFSET(Inscriptions!L$4:L$303,SUM('J1'!AK$6:'J1'!AK15),0),0)","v":{"$error":"#N/A"}}]
[{"$f":"IF(ISNA(INDEX(Inscriptions!A$4:A$303,SUM('J1'!AK$7:'J1'!AK17))),\"\",INDEX(Inscriptions!A$4:A$303,SUM('J1'!AK$7:'J1'!AK17)))","v":""},{"$f":"IF(A17=\"\",\"\",VLOOKUP(A17,Data!G$2:K$302,5,FALSE))","v":""},{"$f":"IF(A17=\"\",\"\",VLOOKUP(A17,Data!G$2:K$302,2,FALSE))","v":""},{"$f":"IF(A17=\"\",\"\",VLOOKUP(A17,Data!G$2:K$302,3,FALSE))","v":""},{"$f":"IF(A17=\"\",\"\",VLOOKUP(A17,Data!G$2:K$302,4,FALSE))","v":""},null,null,null,null,null,null,null,null,null,null,null,null,null,null,null,null,null,null,null,null,null,null,null,null,null,null,null,null,null,0,null,{"$f":"MATCH(\"*\"&AH$1&\"*\",OFFSET(Inscriptions!L$4:L$303,SUM('J1'!AK$6:'J1'!AK16),0),0)","v":{"$error":"#N/A"}}]
[{"$f":"IF(ISNA(INDEX(Inscriptions!A$4:A$303,SUM('J1'!AK$7:'J1'!AK18))),\"\",INDEX(Inscriptions!A$4:A$303,SUM('J1'!AK$7:'J1'!AK18)))","v":""},{"$f":"IF(A18=\"\",\"\",VLOOKUP(A18,Data!G$2:K$302,5,FALSE))","v":""},{"$f":"IF(A18=\"\",\"\",VLOOKUP(A18,Data!G$2:K$302,2,FALSE))","v":""},{"$f":"IF(A18=\"\",\"\",VLOOKUP(A18,Data!G$2:K$302,3,FALSE))","v":""},{"$f":"IF(A18=\"\",\"\",VLOOKUP(A18,Data!G$2:K$302,4,FALSE))","v":""},null,null,null,null,null,null,null,null,null,null,null,null,null,null,null,null,null,null,null,null,null,null,null,null,null,null,null,null,null,0,null,{"$f":"MATCH(\"*\"&AH$1&\"*\",OFFSET(Inscriptions!L$4:L$303,SUM('J1'!AK$6:'J1'!AK17),0),0)","v":{"$error":"#N/A"}}]
[{"$f":"IF(ISNA(INDEX(Inscriptions!A$4:A$303,SUM('J1'!AK$7:'J1'!AK19))),\"\",INDEX(Inscriptions!A$4:A$303,SUM('J1'!AK$7:'J1'!AK19)))","v":""},{"$f":"IF(A19=\"\",\"\",VLOOKUP(A19,Data!G$2:K$302,5,FALSE))","v":""},{"$f":"IF(A19=\"\",\"\",VLOOKUP(A19,Data!G$2:K$302,2,FALSE))","v":""},{"$f":"IF(A19=\"\",\"\",VLOOKUP(A19,Data!G$2:K$302,3,FALSE))","v":""},{"$f":"IF(A19=\"\",\"\",VLOOKUP(A19,Data!G$2:K$302,4,FALSE))","v":""},null,null,null,null,null,null,null,null,null,null,null,null,null,null,null,null,null,null,null,null,null,null,null,null,null,null,null,null,null,0,null,{"$f":"MATCH(\"*\"&AH$1&\"*\",OFFSET(Inscriptions!L$4:L$303,SUM('J1'!AK$6:'J1'!AK18),0),0)","v":{"$error":"#N/A"}}]
[{"$f":"IF(ISNA(INDEX(Inscriptions!A$4:A$303,SUM('J1'!AK$7:'J1'!AK20))),\"\",INDEX(Inscriptions!A$4:A$303,SUM('J1'!AK$7:'J1'!AK20)))","v":""},{"$f":"IF(A20=\"\",\"\",VLOOKUP(A20,Data!G$2:K$302,5,FALSE))","v":""},{"$f":"IF(A20=\"\",\"\",VLOOKUP(A20,Data!G$2:K$302,2,FALSE))","v":""},{"$f":"IF(A20=\"\",\"\",VLOOKUP(A20,Data!G$2:K$302,3,FALSE))","v":""},{"$f":"IF(A20=\"\",\"\",VLOOKUP(A20,Data!G$2:K$302,4,FALSE))","v":""},null,null,null,null,null,null,null,null,null,null,null,null,null,null,null,null,null,null,null,null,null,null,null,null,null,null,null,null,null,0,null,{"$f":"MATCH(\"*\"&AH$1&\"*\",OFFSET(Inscriptions!L$4:L$303,SUM('J1'!AK$6:'J1'!AK19),0),0)","v":{"$error":"#N/A"}}]
[{"$f":"IF(ISNA(INDEX(Inscriptions!A$4:A$303,SUM('J1'!AK$7:'J1'!AK21))),\"\",INDEX(Inscriptions!A$4:A$303,SUM('J1'!AK$7:'J1'!AK21)))","v":""},{"$f":"IF(A21=\"\",\"\",VLOOKUP(A21,Data!G$2:K$302,5,FALSE))","v":""},{"$f":"IF(A21=\"\",\"\",VLOOKUP(A21,Data!G$2:K$302,2,FALSE))","v":""},{"$f":"IF(A21=\"\",\"\",VLOOKUP(A21,Data!G$2:K$302,3,FALSE))","v":""},{"$f":"IF(A21=\"\",\"\",VLOOKUP(A21,Data!G$2:K$302,4,FALSE))","v":""},null,null,null,null,null,null,null,null,null,null,null,null,null,null,null,null,null,null,null,null,null,null,null,null,null,null,null,null,null,0,null,{"$f":"MATCH(\"*\"&AH$1&\"*\",OFFSET(Inscriptions!L$4:L$303,SUM('J1'!AK$6:'J1'!AK20),0),0)","v":{"$error":"#N/A"}}]
[{"$f":"IF(ISNA(INDEX(Inscriptions!A$4:A$303,SUM('J1'!AK$7:'J1'!AK22))),\"\",INDEX(Inscriptions!A$4:A$303,SUM('J1'!AK$7:'J1'!AK22)))","v":""},{"$f":"IF(A22=\"\",\"\",VLOOKUP(A22,Data!G$2:K$302,5,FALSE))","v":""},{"$f":"IF(A22=\"\",\"\",VLOOKUP(A22,Data!G$2:K$302,2,FALSE))","v":""},{"$f":"IF(A22=\"\",\"\",VLOOKUP(A22,Data!G$2:K$302,3,FALSE))","v":""},{"$f":"IF(A22=\"\",\"\",VLOOKUP(A22,Data!G$2:K$302,4,FALSE))","v":""},null,null,null,null,null,null,null,null,null,null,null,null,null,null,null,null,null,null,null,null,null,null,null,null,null,null,null,null,null,0,null,{"$f":"MATCH(\"*\"&AH$1&\"*\",OFFSET(Inscriptions!L$4:L$303,SUM('J1'!AK$6:'J1'!AK21),0),0)","v":{"$error":"#N/A"}}]
[{"$f":"IF(ISNA(INDEX(Inscriptions!A$4:A$303,SUM('J1'!AK$7:'J1'!AK23))),\"\",INDEX(Inscriptions!A$4:A$303,SUM('J1'!AK$7:'J1'!AK23)))","v":""},{"$f":"IF(A23=\"\",\"\",VLOOKUP(A23,Data!G$2:K$302,5,FALSE))","v":""},{"$f":"IF(A23=\"\",\"\",VLOOKUP(A23,Data!G$2:K$302,2,FALSE))","v":""},{"$f":"IF(A23=\"\",\"\",VLOOKUP(A23,Data!G$2:K$302,3,FALSE))","v":""},{"$f":"IF(A23=\"\",\"\",VLOOKUP(A23,Data!G$2:K$302,4,FALSE))","v":""},null,null,null,null,null,null,null,null,null,null,null,null,null,null,null,null,null,null,null,null,null,null,null,null,null,null,null,null,null,0,null,{"$f":"MATCH(\"*\"&AH$1&\"*\",OFFSET(Inscriptions!L$4:L$303,SUM('J1'!AK$6:'J1'!AK22),0),0)","v":{"$error":"#N/A"}}]
[{"$f":"IF(ISNA(INDEX(Inscriptions!A$4:A$303,SUM('J1'!AK$7:'J1'!AK24))),\"\",INDEX(Inscriptions!A$4:A$303,SUM('J1'!AK$7:'J1'!AK24)))","v":""},{"$f":"IF(A24=\"\",\"\",VLOOKUP(A24,Data!G$2:K$302,5,FALSE))","v":""},{"$f":"IF(A24=\"\",\"\",VLOOKUP(A24,Data!G$2:K$302,2,FALSE))","v":""},{"$f":"IF(A24=\"\",\"\",VLOOKUP(A24,Data!G$2:K$302,3,FALSE))","v":""},{"$f":"IF(A24=\"\",\"\",VLOOKUP(A24,Data!G$2:K$302,4,FALSE))","v":""},null,null,null,null,null,null,null,null,null,null,null,null,null,null,null,null,null,null,null,null,null,null,null,null,null,null,null,null,null,0,null,{"$f":"MATCH(\"*\"&AH$1&\"*\",OFFSET(Inscriptions!L$4:L$303,SUM('J1'!AK$6:'J1'!AK23),0),0)","v":{"$error":"#N/A"}}]
[{"$f":"IF(ISNA(INDEX(Inscriptions!A$4:A$303,SUM('J1'!AK$7:'J1'!AK25))),\"\",INDEX(Inscriptions!A$4:A$303,SUM('J1'!AK$7:'J1'!AK25)))","v":""},{"$f":"IF(A25=\"\",\"\",VLOOKUP(A25,Data!G$2:K$302,5,FALSE))","v":""},{"$f":"IF(A25=\"\",\"\",VLOOKUP(A25,Data!G$2:K$302,2,FALSE))","v":""},{"$f":"IF(A25=\"\",\"\",VLOOKUP(A25,Data!G$2:K$302,3,FALSE))","v":""},{"$f":"IF(A25=\"\",\"\",VLOOKUP(A25,Data!G$2:K$302,4,FALSE))","v":""},null,null,null,null,null,null,null,null,null,null,null,null,null,null,null,null,null,null,null,null,null,null,null,null,null,null,null,null,null,0,null,{"$f":"MATCH(\"*\"&AH$1&\"*\",OFFSET(Inscriptions!L$4:L$303,SUM('J1'!AK$6:'J1'!AK24),0),0)","v":{"$error":"#N/A"}}]
[{"$f":"IF(ISNA(INDEX(Inscriptions!A$4:A$303,SUM('J1'!AK$7:'J1'!AK26))),\"\",INDEX(Inscriptions!A$4:A$303,SUM('J1'!AK$7:'J1'!AK26)))","v":""},{"$f":"IF(A26=\"\",\"\",VLOOKUP(A26,Data!G$2:K$302,5,FALSE))","v":""},{"$f":"IF(A26=\"\",\"\",VLOOKUP(A26,Data!G$2:K$302,2,FALSE))","v":""},{"$f":"IF(A26=\"\",\"\",VLOOKUP(A26,Data!G$2:K$302,3,FALSE))","v":""},{"$f":"IF(A26=\"\",\"\",VLOOKUP(A26,Data!G$2:K$302,4,FALSE))","v":""},null,null,null,null,null,null,null,null,null,null,null,null,null,null,null,null,null,null,null,null,null,null,null,null,null,null,null,null,null,0,null,{"$f":"MATCH(\"*\"&AH$1&\"*\",OFFSET(Inscriptions!L$4:L$303,SUM('J1'!AK$6:'J1'!AK25),0),0)","v":{"$error":"#N/A"}}]
[{"$f":"IF(ISNA(INDEX(Inscriptions!A$4:A$303,SUM('J1'!AK$7:'J1'!AK27))),\"\",INDEX(Inscriptions!A$4:A$303,SUM('J1'!AK$7:'J1'!AK27)))","v":""},{"$f":"IF(A27=\"\",\"\",VLOOKUP(A27,Data!G$2:K$302,5,FALSE))","v":""},{"$f":"IF(A27=\"\",\"\",VLOOKUP(A27,Data!G$2:K$302,2,FALSE))","v":""},{"$f":"IF(A27=\"\",\"\",VLOOKUP(A27,Data!G$2:K$302,3,FALSE))","v":""},{"$f":"IF(A27=\"\",\"\",VLOOKUP(A27,Data!G$2:K$302,4,FALSE))","v":""},null,null,null,null,null,null,null,null,null,null,null,null,null,null,null,null,null,null,null,null,null,null,null,null,null,null,null,null,null,0,null,{"$f":"MATCH(\"*\"&AH$1&\"*\",OFFSET(Inscriptions!L$4:L$303,SUM('J1'!AK$6:'J1'!AK26),0),0)","v":{"$error":"#N/A"}}]
[{"$f":"IF(ISNA(INDEX(Inscriptions!A$4:A$303,SUM('J1'!AK$7:'J1'!AK28))),\"\",INDEX(Inscriptions!A$4:A$303,SUM('J1'!AK$7:'J1'!AK28)))","v":""},{"$f":"IF(A28=\"\",\"\",VLOOKUP(A28,Data!G$2:K$302,5,FALSE))","v":""},{"$f":"IF(A28=\"\",\"\",VLOOKUP(A28,Data!G$2:K$302,2,FALSE))","v":""},{"$f":"IF(A28=\"\",\"\",VLOOKUP(A28,Data!G$2:K$302,3,FALSE))","v":""},{"$f":"IF(A28=\"\",\"\",VLOOKUP(A28,Data!G$2:K$302,4,FALSE))","v":""},null,null,null,null,null,null,null,null,null,null,null,null,null,null,null,null,null,null,null,null,null,null,null,null,null,null,null,null,null,0,null,{"$f":"MATCH(\"*\"&AH$1&\"*\",OFFSET(Inscriptions!L$4:L$303,SUM('J1'!AK$6:'J1'!AK27),0),0)","v":{"$error":"#N/A"}}]
[{"$f":"IF(ISNA(INDEX(Inscriptions!A$4:A$303,SUM('J1'!AK$7:'J1'!AK29))),\"\",INDEX(Inscriptions!A$4:A$303,SUM('J1'!AK$7:'J1'!AK29)))","v":""},{"$f":"IF(A29=\"\",\"\",VLOOKUP(A29,Data!G$2:K$302,5,FALSE))","v":""},{"$f":"IF(A29=\"\",\"\",VLOOKUP(A29,Data!G$2:K$302,2,FALSE))","v":""},{"$f":"IF(A29=\"\",\"\",VLOOKUP(A29,Data!G$2:K$302,3,FALSE))","v":""},{"$f":"IF(A29=\"\",\"\",VLOOKUP(A29,Data!G$2:K$302,4,FALSE))","v":""},null,null,null,null,null,null,null,null,null,null,null,null,null,null,null,null,null,null,null,null,null,null,null,null,null,null,null,null,null,0,null,{"$f":"MATCH(\"*\"&AH$1&\"*\",OFFSET(Inscriptions!L$4:L$303,SUM('J1'!AK$6:'J1'!AK28),0),0)","v":{"$error":"#N/A"}}]
[{"$f":"IF(ISNA(INDEX(Inscriptions!A$4:A$303,SUM('J1'!AK$7:'J1'!AK30))),\"\",INDEX(Inscriptions!A$4:A$303,SUM('J1'!AK$7:'J1'!AK30)))","v":""},{"$f":"IF(A30=\"\",\"\",VLOOKUP(A30,Data!G$2:K$302,5,FALSE))","v":""},{"$f":"IF(A30=\"\",\"\",VLOOKUP(A30,Data!G$2:K$302,2,FALSE))","v":""},{"$f":"IF(A30=\"\",\"\",VLOOKUP(A30,Data!G$2:K$302,3,FALSE))","v":""},{"$f":"IF(A30=\"\",\"\",VLOOKUP(A30,Data!G$2:K$302,4,FALSE))","v":""},null,null,null,null,null,null,null,null,null,null,null,null,null,null,null,null,null,null,null,null,null,null,null,null,null,null,null,null,null,0,null,{"$f":"MATCH(\"*\"&AH$1&\"*\",OFFSET(Inscriptions!L$4:L$303,SUM('J1'!AK$6:'J1'!AK29),0),0)","v":{"$error":"#N/A"}}]
[{"$f":"IF(ISNA(INDEX(Inscriptions!A$4:A$303,SUM('J1'!AK$7:'J1'!AK31))),\"\",INDEX(Inscriptions!A$4:A$303,SUM('J1'!AK$7:'J1'!AK31)))","v":""},{"$f":"IF(A31=\"\",\"\",VLOOKUP(A31,Data!G$2:K$302,5,FALSE))","v":""},{"$f":"IF(A31=\"\",\"\",VLOOKUP(A31,Data!G$2:K$302,2,FALSE))","v":""},{"$f":"IF(A31=\"\",\"\",VLOOKUP(A31,Data!G$2:K$302,3,FALSE))","v":""},{"$f":"IF(A31=\"\",\"\",VLOOKUP(A31,Data!G$2:K$302,4,FALSE))","v":""},null,null,null,null,null,null,null,null,null,null,null,null,null,null,null,null,null,null,null,null,null,null,null,null,null,null,null,null,null,0,null,{"$f":"MATCH(\"*\"&AH$1&\"*\",OFFSET(Inscriptions!L$4:L$303,SUM('J1'!AK$6:'J1'!AK30),0),0)","v":{"$error":"#N/A"}}]
[{"$f":"IF(ISNA(INDEX(Inscriptions!A$4:A$303,SUM('J1'!AK$7:'J1'!AK32))),\"\",INDEX(Inscriptions!A$4:A$303,SUM('J1'!AK$7:'J1'!AK32)))","v":""},{"$f":"IF(A32=\"\",\"\",VLOOKUP(A32,Data!G$2:K$302,5,FALSE))","v":""},{"$f":"IF(A32=\"\",\"\",VLOOKUP(A32,Data!G$2:K$302,2,FALSE))","v":""},{"$f":"IF(A32=\"\",\"\",VLOOKUP(A32,Data!G$2:K$302,3,FALSE))","v":""},{"$f":"IF(A32=\"\",\"\",VLOOKUP(A32,Data!G$2:K$302,4,FALSE))","v":""},null,null,null,null,null,null,null,null,null,null,null,null,null,null,null,null,null,null,null,null,null,null,null,null,null,null,null,null,null,0,null,{"$f":"MATCH(\"*\"&AH$1&\"*\",OFFSET(Inscriptions!L$4:L$303,SUM('J1'!AK$6:'J1'!AK31),0),0)","v":{"$error":"#N/A"}}]
[{"$f":"IF(ISNA(INDEX(Inscriptions!A$4:A$303,SUM('J1'!AK$7:'J1'!AK33))),\"\",INDEX(Inscriptions!A$4:A$303,SUM('J1'!AK$7:'J1'!AK33)))","v":""},{"$f":"IF(A33=\"\",\"\",VLOOKUP(A33,Data!G$2:K$302,5,FALSE))","v":""},{"$f":"IF(A33=\"\",\"\",VLOOKUP(A33,Data!G$2:K$302,2,FALSE))","v":""},{"$f":"IF(A33=\"\",\"\",VLOOKUP(A33,Data!G$2:K$302,3,FALSE))","v":""},{"$f":"IF(A33=\"\",\"\",VLOOKUP(A33,Data!G$2:K$302,4,FALSE))","v":""},null,null,null,null,null,null,null,null,null,null,null,null,null,null,null,null,null,null,null,null,null,null,null,null,null,null,null,null,null,0,null,{"$f":"MATCH(\"*\"&AH$1&\"*\",OFFSET(Inscriptions!L$4:L$303,SUM('J1'!AK$6:'J1'!AK32),0),0)","v":{"$error":"#N/A"}}]
[{"$f":"IF(ISNA(INDEX(Inscriptions!A$4:A$303,SUM('J1'!AK$7:'J1'!AK34))),\"\",INDEX(Inscriptions!A$4:A$303,SUM('J1'!AK$7:'J1'!AK34)))","v":""},{"$f":"IF(A34=\"\",\"\",VLOOKUP(A34,Data!G$2:K$302,5,FALSE))","v":""},{"$f":"IF(A34=\"\",\"\",VLOOKUP(A34,Data!G$2:K$302,2,FALSE))","v":""},{"$f":"IF(A34=\"\",\"\",VLOOKUP(A34,Data!G$2:K$302,3,FALSE))","v":""},{"$f":"IF(A34=\"\",\"\",VLOOKUP(A34,Data!G$2:K$302,4,FALSE))","v":""},null,null,null,null,null,null,null,null,null,null,null,null,null,null,null,null,null,null,null,null,null,null,null,null,null,null,null,null,null,0,null,{"$f":"MATCH(\"*\"&AH$1&\"*\",OFFSET(Inscriptions!L$4:L$303,SUM('J1'!AK$6:'J1'!AK33),0),0)","v":{"$error":"#N/A"}}]
[{"$f":"IF(ISNA(INDEX(Inscriptions!A$4:A$303,SUM('J1'!AK$7:'J1'!AK35))),\"\",INDEX(Inscriptions!A$4:A$303,SUM('J1'!AK$7:'J1'!AK35)))","v":""},{"$f":"IF(A35=\"\",\"\",VLOOKUP(A35,Data!G$2:K$302,5,FALSE))","v":""},{"$f":"IF(A35=\"\",\"\",VLOOKUP(A35,Data!G$2:K$302,2,FALSE))","v":""},{"$f":"IF(A35=\"\",\"\",VLOOKUP(A35,Data!G$2:K$302,3,FALSE))","v":""},{"$f":"IF(A35=\"\",\"\",VLOOKUP(A35,Data!G$2:K$302,4,FALSE))","v":""},null,null,null,null,null,null,null,null,null,null,null,null,null,null,null,null,null,null,null,null,null,null,null,null,null,null,null,null,null,0,null,{"$f":"MATCH(\"*\"&AH$1&\"*\",OFFSET(Inscriptions!L$4:L$303,SUM('J1'!AK$6:'J1'!AK34),0),0)","v":{"$error":"#N/A"}}]
[{"$f":"IF(ISNA(INDEX(Inscriptions!A$4:A$303,SUM('J1'!AK$7:'J1'!AK36))),\"\",INDEX(Inscriptions!A$4:A$303,SUM('J1'!AK$7:'J1'!AK36)))","v":""},{"$f":"IF(A36=\"\",\"\",VLOOKUP(A36,Data!G$2:K$302,5,FALSE))","v":""},{"$f":"IF(A36=\"\",\"\",VLOOKUP(A36,Data!G$2:K$302,2,FALSE))","v":""},{"$f":"IF(A36=\"\",\"\",VLOOKUP(A36,Data!G$2:K$302,3,FALSE))","v":""},{"$f":"IF(A36=\"\",\"\",VLOOKUP(A36,Data!G$2:K$302,4,FALSE))","v":""},null,null,null,null,null,null,null,null,null,null,null,null,null,null,null,null,null,null,null,null,null,null,null,null,null,null,null,null,null,0,null,{"$f":"MATCH(\"*\"&AH$1&\"*\",OFFSET(Inscriptions!L$4:L$303,SUM('J1'!AK$6:'J1'!AK35),0),0)","v":{"$error":"#N/A"}}]
[{"$f":"IF(ISNA(INDEX(Inscriptions!A$4:A$303,SUM('J1'!AK$7:'J1'!AK37))),\"\",INDEX(Inscriptions!A$4:A$303,SUM('J1'!AK$7:'J1'!AK37)))","v":""},{"$f":"IF(A37=\"\",\"\",VLOOKUP(A37,Data!G$2:K$302,5,FALSE))","v":""},{"$f":"IF(A37=\"\",\"\",VLOOKUP(A37,Data!G$2:K$302,2,FALSE))","v":""},{"$f":"IF(A37=\"\",\"\",VLOOKUP(A37,Data!G$2:K$302,3,FALSE))","v":""},{"$f":"IF(A37=\"\",\"\",VLOOKUP(A37,Data!G$2:K$302,4,FALSE))","v":""},null,null,null,null,null,null,null,null,null,null,null,null,null,null,null,null,null,null,null,null,null,null,null,null,null,null,null,null,null,0,null,{"$f":"MATCH(\"*\"&AH$1&\"*\",OFFSET(Inscriptions!L$4:L$303,SUM('J1'!AK$6:'J1'!AK36),0),0)","v":{"$error":"#N/A"}}]
[{"$f":"IF(ISNA(INDEX(Inscriptions!A$4:A$303,SUM('J1'!AK$7:'J1'!AK38))),\"\",INDEX(Inscriptions!A$4:A$303,SUM('J1'!AK$7:'J1'!AK38)))","v":""},{"$f":"IF(A38=\"\",\"\",VLOOKUP(A38,Data!G$2:K$302,5,FALSE))","v":""},{"$f":"IF(A38=\"\",\"\",VLOOKUP(A38,Data!G$2:K$302,2,FALSE))","v":""},{"$f":"IF(A38=\"\",\"\",VLOOKUP(A38,Data!G$2:K$302,3,FALSE))","v":""},{"$f":"IF(A38=\"\",\"\",VLOOKUP(A38,Data!G$2:K$302,4,FALSE))","v":""},null,null,null,null,null,null,null,null,null,null,null,null,null,null,null,null,null,null,null,null,null,null,null,null,null,null,null,null,null,0,null,{"$f":"MATCH(\"*\"&AH$1&\"*\",OFFSET(Inscriptions!L$4:L$303,SUM('J1'!AK$6:'J1'!AK37),0),0)","v":{"$error":"#N/A"}}]
[{"$f":"IF(ISNA(INDEX(Inscriptions!A$4:A$303,SUM('J1'!AK$7:'J1'!AK39))),\"\",INDEX(Inscriptions!A$4:A$303,SUM('J1'!AK$7:'J1'!AK39)))","v":""},{"$f":"IF(A39=\"\",\"\",VLOOKUP(A39,Data!G$2:K$302,5,FALSE))","v":""},{"$f":"IF(A39=\"\",\"\",VLOOKUP(A39,Data!G$2:K$302,2,FALSE))","v":""},{"$f":"IF(A39=\"\",\"\",VLOOKUP(A39,Data!G$2:K$302,3,FALSE))","v":""},{"$f":"IF(A39=\"\",\"\",VLOOKUP(A39,Data!G$2:K$302,4,FALSE))","v":""},null,null,null,null,null,null,null,null,null,null,null,null,null,null,null,null,null,null,null,null,null,null,null,null,null,null,null,null,null,0,null,{"$f":"MATCH(\"*\"&AH$1&\"*\",OFFSET(Inscriptions!L$4:L$303,SUM('J1'!AK$6:'J1'!AK38),0),0)","v":{"$error":"#N/A"}}]
[{"$f":"IF(ISNA(INDEX(Inscriptions!A$4:A$303,SUM('J1'!AK$7:'J1'!AK40))),\"\",INDEX(Inscriptions!A$4:A$303,SUM('J1'!AK$7:'J1'!AK40)))","v":""},{"$f":"IF(A40=\"\",\"\",VLOOKUP(A40,Data!G$2:K$302,5,FALSE))","v":""},{"$f":"IF(A40=\"\",\"\",VLOOKUP(A40,Data!G$2:K$302,2,FALSE))","v":""},{"$f":"IF(A40=\"\",\"\",VLOOKUP(A40,Data!G$2:K$302,3,FALSE))","v":""},{"$f":"IF(A40=\"\",\"\",VLOOKUP(A40,Data!G$2:K$302,4,FALSE))","v":""},null,null,null,null,null,null,null,null,null,null,null,null,null,null,null,null,null,null,null,null,null,null,null,null,null,null,null,null,null,0,null,{"$f":"MATCH(\"*\"&AH$1&\"*\",OFFSET(Inscriptions!L$4:L$303,SUM('J1'!AK$6:'J1'!AK39),0),0)","v":{"$error":"#N/A"}}]
[{"$f":"IF(ISNA(INDEX(Inscriptions!A$4:A$303,SUM('J1'!AK$7:'J1'!AK41))),\"\",INDEX(Inscriptions!A$4:A$303,SUM('J1'!AK$7:'J1'!AK41)))","v":""},{"$f":"IF(A41=\"\",\"\",VLOOKUP(A41,Data!G$2:K$302,5,FALSE))","v":""},{"$f":"IF(A41=\"\",\"\",VLOOKUP(A41,Data!G$2:K$302,2,FALSE))","v":""},{"$f":"IF(A41=\"\",\"\",VLOOKUP(A41,Data!G$2:K$302,3,FALSE))","v":""},{"$f":"IF(A41=\"\",\"\",VLOOKUP(A41,Data!G$2:K$302,4,FALSE))","v":""},null,null,null,null,null,null,null,null,null,null,null,null,null,null,null,null,null,null,null,null,null,null,null,null,null,null,null,null,null,0,null,{"$f":"MATCH(\"*\"&AH$1&\"*\",OFFSET(Inscriptions!L$4:L$303,SUM('J1'!AK$6:'J1'!AK40),0),0)","v":{"$error":"#N/A"}}]
[{"$f":"IF(ISNA(INDEX(Inscriptions!A$4:A$303,SUM('J1'!AK$7:'J1'!AK42))),\"\",INDEX(Inscriptions!A$4:A$303,SUM('J1'!AK$7:'J1'!AK42)))","v":""},{"$f":"IF(A42=\"\",\"\",VLOOKUP(A42,Data!G$2:K$302,5,FALSE))","v":""},{"$f":"IF(A42=\"\",\"\",VLOOKUP(A42,Data!G$2:K$302,2,FALSE))","v":""},{"$f":"IF(A42=\"\",\"\",VLOOKUP(A42,Data!G$2:K$302,3,FALSE))","v":""},{"$f":"IF(A42=\"\",\"\",VLOOKUP(A42,Data!G$2:K$302,4,FALSE))","v":""},null,null,null,null,null,null,null,null,null,null,null,null,null,null,null,null,null,null,null,null,null,null,null,null,null,null,null,null,null,0,null,{"$f":"MATCH(\"*\"&AH$1&\"*\",OFFSET(Inscriptions!L$4:L$303,SUM('J1'!AK$6:'J1'!AK41),0),0)","v":{"$error":"#N/A"}}]
[{"$f":"IF(ISNA(INDEX(Inscriptions!A$4:A$303,SUM('J1'!AK$7:'J1'!AK43))),\"\",INDEX(Inscriptions!A$4:A$303,SUM('J1'!AK$7:'J1'!AK43)))","v":""},{"$f":"IF(A43=\"\",\"\",VLOOKUP(A43,Data!G$2:K$302,5,FALSE))","v":""},{"$f":"IF(A43=\"\",\"\",VLOOKUP(A43,Data!G$2:K$302,2,FALSE))","v":""},{"$f":"IF(A43=\"\",\"\",VLOOKUP(A43,Data!G$2:K$302,3,FALSE))","v":""},{"$f":"IF(A43=\"\",\"\",VLOOKUP(A43,Data!G$2:K$302,4,FALSE))","v":""},null,null,null,null,null,null,null,null,null,null,null,null,null,null,null,null,null,null,null,null,null,null,null,null,null,null,null,null,null,0,null,{"$f":"MATCH(\"*\"&AH$1&\"*\",OFFSET(Inscriptions!L$4:L$303,SUM('J1'!AK$6:'J1'!AK42),0),0)","v":{"$error":"#N/A"}}]
[{"$f":"IF(ISNA(INDEX(Inscriptions!A$4:A$303,SUM('J1'!AK$7:'J1'!AK44))),\"\",INDEX(Inscriptions!A$4:A$303,SUM('J1'!AK$7:'J1'!AK44)))","v":""},{"$f":"IF(A44=\"\",\"\",VLOOKUP(A44,Data!G$2:K$302,5,FALSE))","v":""},{"$f":"IF(A44=\"\",\"\",VLOOKUP(A44,Data!G$2:K$302,2,FALSE))","v":""},{"$f":"IF(A44=\"\",\"\",VLOOKUP(A44,Data!G$2:K$302,3,FALSE))","v":""},{"$f":"IF(A44=\"\",\"\",VLOOKUP(A44,Data!G$2:K$302,4,FALSE))","v":""},null,null,null,null,null,null,null,null,null,null,null,null,null,null,null,null,null,null,null,null,null,null,null,null,null,null,null,null,null,0,null,{"$f":"MATCH(\"*\"&AH$1&\"*\",OFFSET(Inscriptions!L$4:L$303,SUM('J1'!AK$6:'J1'!AK43),0),0)","v":{"$error":"#N/A"}}]
[{"$f":"IF(ISNA(INDEX(Inscriptions!A$4:A$303,SUM('J1'!AK$7:'J1'!AK45))),\"\",INDEX(Inscriptions!A$4:A$303,SUM('J1'!AK$7:'J1'!AK45)))","v":""},{"$f":"IF(A45=\"\",\"\",VLOOKUP(A45,Data!G$2:K$302,5,FALSE))","v":""},{"$f":"IF(A45=\"\",\"\",VLOOKUP(A45,Data!G$2:K$302,2,FALSE))","v":""},{"$f":"IF(A45=\"\",\"\",VLOOKUP(A45,Data!G$2:K$302,3,FALSE))","v":""},{"$f":"IF(A45=\"\",\"\",VLOOKUP(A45,Data!G$2:K$302,4,FALSE))","v":""},null,null,null,null,null,null,null,null,null,null,null,null,null,null,null,null,null,null,null,null,null,null,null,null,null,null,null,null,null,0,null,{"$f":"MATCH(\"*\"&AH$1&\"*\",OFFSET(Inscriptions!L$4:L$303,SUM('J1'!AK$6:'J1'!AK44),0),0)","v":{"$error":"#N/A"}}]
[{"$f":"IF(ISNA(INDEX(Inscriptions!A$4:A$303,SUM('J1'!AK$7:'J1'!AK46))),\"\",INDEX(Inscriptions!A$4:A$303,SUM('J1'!AK$7:'J1'!AK46)))","v":""},{"$f":"IF(A46=\"\",\"\",VLOOKUP(A46,Data!G$2:K$302,5,FALSE))","v":""},{"$f":"IF(A46=\"\",\"\",VLOOKUP(A46,Data!G$2:K$302,2,FALSE))","v":""},{"$f":"IF(A46=\"\",\"\",VLOOKUP(A46,Data!G$2:K$302,3,FALSE))","v":""},{"$f":"IF(A46=\"\",\"\",VLOOKUP(A46,Data!G$2:K$302,4,FALSE))","v":""},null,null,null,null,null,null,null,null,null,null,null,null,null,null,null,null,null,null,null,null,null,null,null,null,null,null,null,null,null,0,null,{"$f":"MATCH(\"*\"&AH$1&\"*\",OFFSET(Inscriptions!L$4:L$303,SUM('J1'!AK$6:'J1'!AK45),0),0)","v":{"$error":"#N/A"}}]
[{"$f":"IF(ISNA(INDEX(Inscriptions!A$4:A$303,SUM('J1'!AK$7:'J1'!AK47))),\"\",INDEX(Inscriptions!A$4:A$303,SUM('J1'!AK$7:'J1'!AK47)))","v":""},{"$f":"IF(A47=\"\",\"\",VLOOKUP(A47,Data!G$2:K$302,5,FALSE))","v":""},{"$f":"IF(A47=\"\",\"\",VLOOKUP(A47,Data!G$2:K$302,2,FALSE))","v":""},{"$f":"IF(A47=\"\",\"\",VLOOKUP(A47,Data!G$2:K$302,3,FALSE))","v":""},{"$f":"IF(A47=\"\",\"\",VLOOKUP(A47,Data!G$2:K$302,4,FALSE))","v":""},null,null,null,null,null,null,null,null,null,null,null,null,null,null,null,null,null,null,null,null,null,null,null,null,null,null,null,null,null,0,null,{"$f":"MATCH(\"*\"&AH$1&\"*\",OFFSET(Inscriptions!L$4:L$303,SUM('J1'!AK$6:'J1'!AK46),0),0)","v":{"$error":"#N/A"}}]
[{"$f":"IF(ISNA(INDEX(Inscriptions!A$4:A$303,SUM('J1'!AK$7:'J1'!AK48))),\"\",INDEX(Inscriptions!A$4:A$303,SUM('J1'!AK$7:'J1'!AK48)))","v":""},{"$f":"IF(A48=\"\",\"\",VLOOKUP(A48,Data!G$2:K$302,5,FALSE))","v":""},{"$f":"IF(A48=\"\",\"\",VLOOKUP(A48,Data!G$2:K$302,2,FALSE))","v":""},{"$f":"IF(A48=\"\",\"\",VLOOKUP(A48,Data!G$2:K$302,3,FALSE))","v":""},{"$f":"IF(A48=\"\",\"\",VLOOKUP(A48,Data!G$2:K$302,4,FALSE))","v":""},null,null,null,null,null,null,null,null,null,null,null,null,null,null,null,null,null,null,null,null,null,null,null,null,null,null,null,null,null,0,null,{"$f":"MATCH(\"*\"&AH$1&\"*\",OFFSET(Inscriptions!L$4:L$303,SUM('J1'!AK$6:'J1'!AK47),0),0)","v":{"$error":"#N/A"}}]
[{"$f":"IF(ISNA(INDEX(Inscriptions!A$4:A$303,SUM('J1'!AK$7:'J1'!AK49))),\"\",INDEX(Inscriptions!A$4:A$303,SUM('J1'!AK$7:'J1'!AK49)))","v":""},{"$f":"IF(A49=\"\",\"\",VLOOKUP(A49,Data!G$2:K$302,5,FALSE))","v":""},{"$f":"IF(A49=\"\",\"\",VLOOKUP(A49,Data!G$2:K$302,2,FALSE))","v":""},{"$f":"IF(A49=\"\",\"\",VLOOKUP(A49,Data!G$2:K$302,3,FALSE))","v":""},{"$f":"IF(A49=\"\",\"\",VLOOKUP(A49,Data!G$2:K$302,4,FALSE))","v":""},null,null,null,null,null,null,null,null,null,null,null,null,null,null,null,null,null,null,null,null,null,null,null,null,null,null,null,null,null,0,null,{"$f":"MATCH(\"*\"&AH$1&\"*\",OFFSET(Inscriptions!L$4:L$303,SUM('J1'!AK$6:'J1'!AK48),0),0)","v":{"$error":"#N/A"}}]
[{"$f":"IF(ISNA(INDEX(Inscriptions!A$4:A$303,SUM('J1'!AK$7:'J1'!AK50))),\"\",INDEX(Inscriptions!A$4:A$303,SUM('J1'!AK$7:'J1'!AK50)))","v":""},{"$f":"IF(A50=\"\",\"\",VLOOKUP(A50,Data!G$2:K$302,5,FALSE))","v":""},{"$f":"IF(A50=\"\",\"\",VLOOKUP(A50,Data!G$2:K$302,2,FALSE))","v":""},{"$f":"IF(A50=\"\",\"\",VLOOKUP(A50,Data!G$2:K$302,3,FALSE))","v":""},{"$f":"IF(A50=\"\",\"\",VLOOKUP(A50,Data!G$2:K$302,4,FALSE))","v":""},null,null,null,null,null,null,null,null,null,null,null,null,null,null,null,null,null,null,null,null,null,null,null,null,null,null,null,null,null,0,null,{"$f":"MATCH(\"*\"&AH$1&\"*\",OFFSET(Inscriptions!L$4:L$303,SUM('J1'!AK$6:'J1'!AK49),0),0)","v":{"$error":"#N/A"}}]
[{"$f":"IF(ISNA(INDEX(Inscriptions!A$4:A$303,SUM('J1'!AK$7:'J1'!AK51))),\"\",INDEX(Inscriptions!A$4:A$303,SUM('J1'!AK$7:'J1'!AK51)))","v":""},{"$f":"IF(A51=\"\",\"\",VLOOKUP(A51,Data!G$2:K$302,5,FALSE))","v":""},{"$f":"IF(A51=\"\",\"\",VLOOKUP(A51,Data!G$2:K$302,2,FALSE))","v":""},{"$f":"IF(A51=\"\",\"\",VLOOKUP(A51,Data!G$2:K$302,3,FALSE))","v":""},{"$f":"IF(A51=\"\",\"\",VLOOKUP(A51,Data!G$2:K$302,4,FALSE))","v":""},null,null,null,null,null,null,null,null,null,null,null,null,null,null,null,null,null,null,null,null,null,null,null,null,null,null,null,null,null,0,null,{"$f":"MATCH(\"*\"&AH$1&\"*\",OFFSET(Inscriptions!L$4:L$303,SUM('J1'!AK$6:'J1'!AK50),0),0)","v":{"$error":"#N/A"}}]
[{"$f":"IF(ISNA(INDEX(Inscriptions!A$4:A$303,SUM('J1'!AK$7:'J1'!AK52))),\"\",INDEX(Inscriptions!A$4:A$303,SUM('J1'!AK$7:'J1'!AK52)))","v":""},{"$f":"IF(A52=\"\",\"\",VLOOKUP(A52,Data!G$2:K$302,5,FALSE))","v":""},{"$f":"IF(A52=\"\",\"\",VLOOKUP(A52,Data!G$2:K$302,2,FALSE))","v":""},{"$f":"IF(A52=\"\",\"\",VLOOKUP(A52,Data!G$2:K$302,3,FALSE))","v":""},{"$f":"IF(A52=\"\",\"\",VLOOKUP(A52,Data!G$2:K$302,4,FALSE))","v":""},null,null,null,null,null,null,null,null,null,null,null,null,null,null,null,null,null,null,null,null,null,null,null,null,null,null,null,null,null,0,null,{"$f":"MATCH(\"*\"&AH$1&\"*\",OFFSET(Inscriptions!L$4:L$303,SUM('J1'!AK$6:'J1'!AK51),0),0)","v":{"$error":"#N/A"}}]
[{"$f":"IF(ISNA(INDEX(Inscriptions!A$4:A$303,SUM('J1'!AK$7:'J1'!AK53))),\"\",INDEX(Inscriptions!A$4:A$303,SUM('J1'!AK$7:'J1'!AK53)))","v":""},{"$f":"IF(A53=\"\",\"\",VLOOKUP(A53,Data!G$2:K$302,5,FALSE))","v":""},{"$f":"IF(A53=\"\",\"\",VLOOKUP(A53,Data!G$2:K$302,2,FALSE))","v":""},{"$f":"IF(A53=\"\",\"\",VLOOKUP(A53,Data!G$2:K$302,3,FALSE))","v":""},{"$f":"IF(A53=\"\",\"\",VLOOKUP(A53,Data!G$2:K$302,4,FALSE))","v":""},null,null,null,null,null,null,null,null,null,null,null,null,null,null,null,null,null,null,null,null,null,null,null,null,null,null,null,null,null,0,null,{"$f":"MATCH(\"*\"&AH$1&\"*\",OFFSET(Inscriptions!L$4:L$303,SUM('J1'!AK$6:'J1'!AK52),0),0)","v":{"$error":"#N/A"}}]
[{"$f":"IF(ISNA(INDEX(Inscriptions!A$4:A$303,SUM('J1'!AK$7:'J1'!AK54))),\"\",INDEX(Inscriptions!A$4:A$303,SUM('J1'!AK$7:'J1'!AK54)))","v":""},{"$f":"IF(A54=\"\",\"\",VLOOKUP(A54,Data!G$2:K$302,5,FALSE))","v":""},{"$f":"IF(A54=\"\",\"\",VLOOKUP(A54,Data!G$2:K$302,2,FALSE))","v":""},{"$f":"IF(A54=\"\",\"\",VLOOKUP(A54,Data!G$2:K$302,3,FALSE))","v":""},{"$f":"IF(A54=\"\",\"\",VLOOKUP(A54,Data!G$2:K$302,4,FALSE))","v":""},null,null,null,null,null,null,null,null,null,null,null,null,null,null,null,null,null,null,null,null,null,null,null,null,null,null,null,null,null,0,null,{"$f":"MATCH(\"*\"&AH$1&\"*\",OFFSET(Inscriptions!L$4:L$303,SUM('J1'!AK$6:'J1'!AK53),0),0)","v":{"$error":"#N/A"}}]
[{"$f":"IF(ISNA(INDEX(Inscriptions!A$4:A$303,SUM('J1'!AK$7:'J1'!AK55))),\"\",INDEX(Inscriptions!A$4:A$303,SUM('J1'!AK$7:'J1'!AK55)))","v":""},{"$f":"IF(A55=\"\",\"\",VLOOKUP(A55,Data!G$2:K$302,5,FALSE))","v":""},{"$f":"IF(A55=\"\",\"\",VLOOKUP(A55,Data!G$2:K$302,2,FALSE))","v":""},{"$f":"IF(A55=\"\",\"\",VLOOKUP(A55,Data!G$2:K$302,3,FALSE))","v":""},{"$f":"IF(A55=\"\",\"\",VLOOKUP(A55,Data!G$2:K$302,4,FALSE))","v":""},null,null,null,null,null,null,null,null,null,null,null,null,null,null,null,null,null,null,null,null,null,null,null,null,null,null,null,null,null,0,null,{"$f":"MATCH(\"*\"&AH$1&\"*\",OFFSET(Inscriptions!L$4:L$303,SUM('J1'!AK$6:'J1'!AK54),0),0)","v":{"$error":"#N/A"}}]
[{"$f":"CONCATENATE(IF(ChoixLangue=Languages!$B$1,Languages!$B105,IF(ChoixLangue=Languages!$C$1,Languages!$C105,IF(ChoixLangue=Languages!$D$1,Languages!$D105,Languages!$E105))),SUM(AI7:AI55))","v":"Nbe nageuses : 0"},"-","-","-",null,"-",null,"-",null,"-",null,null,null,"-"]

{"sheet":"Seniors","index":10,"n_rows":56,"n_cols":34,"rows_kept":56,"cut":false,"hidden":false,"merged":[[1,7,1,13],[3,0,3,13]]}
[{"$f":"IF('Cover Page'!B5=\"\",\"\",'Cover Page'!B5)","v":""},null,null,null,null,null,null,null,null,null,null,null,null,null,null,null,null,null,null,null,null,null,null,null,null,null,null,null,null,null,"x",null,null,{"$f":"MID(CELL(\"filename\",A1),FIND(\"]\",CELL(\"filename\",A1),1)+1,20)","v":"Seniors"}]
[{"$f":"IF('Cover Page'!B6=\"\",\"\",'Cover Page'!B6)","v":""},null,null,null,null,null,null,{"$f":"IF(ChoixLangue=Languages!$B$1,CONCATENATE(Languages!$B$97,\" \",AH1),IF(ChoixLangue=Languages!$C$1,CONCATENATE(Languages!$C$97,\" \",AH1),IF(ChoixLangue=Languages!$D$1,CONCATENATE(Languages!$D$97,\" \",AH1),CONCATENATE(Languages!$E$97,\" \",AH1))))","v":"Catégorie Seniors"}]
[{"$f":"IF('Cover Page'!B7=\"\",\"\",'Cover Page'!B7)","v":""}]
[{"$f":"IF('Cover Page'!B10=\"\",\"\",CONCATENATE(IF(ChoixLangue=Languages!$B$1,Languages!$B98,IF(ChoixLangue=Languages!$C$1,Languages!$C98,IF(ChoixLangue=Languages!$D$1,Languages!$D98,Languages!$E98))),'Cover Page'!B10))","v":""}]
[{"$f":"A56","v":"Nbe nageuses : 0"}]
[{"$f":"IF(ChoixLangue=Languages!$B$1,Languages!$B99,IF(ChoixLangue=Languages!$C$1,Languages!$C99,IF(ChoixLangue=Languages!$D$1,Languages!$D99,Languages!$E99)))","v":"NOM Prénom"},{"$f":"IF(ChoixLangue=Languages!$B$1,Languages!$B100,IF(ChoixLangue=Languages!$C$1,Languages!$C100,IF(ChoixLangue=Languages!$D$1,Languages!$D100,Languages!$E100)))","v":"Club"},{"$f":"IF(ChoixLangue=Languages!$B$1,Languages!$B101,IF(ChoixLangue=Languages!$C$1,Languages!$C101,IF(ChoixLangue=Languages!$D$1,Languages!$D101,Languages!$E101)))","v":"Licence"},{"$f":"IF(ChoixLangue=Languages!$B$1,Languages!$B102,IF(ChoixLangue=Languages!$C$1,Languages!$C102,IF(ChoixLangue=Languages!$D$1,Languages!$D102,Languages!$E102)))","v":"An. Nais."},{"$f":"IF(ChoixLangue=Languages!$B$1,Languages!$B103,IF(ChoixLangue=Languages!$C$1,Languages!$C103,IF(ChoixLangue=Languages!$D$1,Languages!$D103,Languages!$E103)))","v":"N° Test"},"Figures","Solo Tech","Solo Free","Duo Tech","Duo Free","Mix. Duet Tech","Mix. Duet Free","Team Tech","Team Free"]
[{"$f":"IF(ISNA(INDEX(Inscriptions!A$4:A$303,SUM(Seniors!AH$7:'Seniors'!AH7))),\"\",INDEX(Inscriptions!A$4:A$303,SUM(Seniors!AH$7:'Seniors'!AH7)))","v":""},{"$f":"IF(A7=\"\",\"\",VLOOKUP(A7,Data!G$2:K$302,5,FALSE))","v":""},{"$f":"IF(A7=\"\",\"\",VLOOKUP(A7,Data!G$2:K$302,2,FALSE))","v":""},{"$f":"IF(A7=\"\",\"\",VLOOKUP(A7,Data!G$2:K$302,3,FALSE))","v":""},{"$f":"IF(A7=\"\",\"\",VLOOKUP(A7,Data!G$2:K$302,4,FALSE))","v":""},null,null,null,null,null,null,null,null,null,null,null,null,null,null,null,null,null,null,null,null,null,null,null,null,null,null,{"$f":"IF(A7<>\"\",1,0)","v":0},null,{"$f":"MATCH(\"*\"&AE$1&\"*\",OFFSET(Inscriptions!AA$4:AA$303,SUM(Seniors!AH$6:'Seniors'!AH6),0),0)","v":{"$error":"#N/A"}}]
[{"$f":"IF(ISNA(INDEX(Inscriptions!A$4:A$303,SUM(Seniors!AH$7:'Seniors'!AH8))),\"\",INDEX(Inscriptions!A$4:A$303,SUM(Seniors!AH$7:'Seniors'!AH8)))","v":""},{"$f":"IF(A8=\"\",\"\",VLOOKUP(A8,Data!G$2:K$302,5,FALSE))","v":""},{"$f":"IF(A8=\"\",\"\",VLOOKUP(A8,Data!G$2:K$302,2,FALSE))","v":""},{"$f":"IF(A8=\"\",\"\",VLOOKUP(A8,Data!G$2:K$302,3,FALSE))","v":""},{"$f":"IF(A8=\"\",\"\",VLOOKUP(A8,Data!G$2:K$302,4,FALSE))","v":""},null,null,null,null,null,null,null,null,null,null,null,null,null,null,null,null,null,null,null,null,null,null,null,null,null,null,{"$f":"IF(A8<>\"\",1,0)","v":0},null,{"$f":"MATCH(\"*\"&AE$1&\"*\",OFFSET(Inscriptions!AA$4:AA$303,SUM(Seniors!AH$6:'Seniors'!AH7),0),0)","v":{"$error":"#N/A"}}]
[{"$f":"IF(ISNA(INDEX(Inscriptions!A$4:A$303,SUM(Seniors!AH$7:'Seniors'!AH9))),\"\",INDEX(Inscriptions!A$4:A$303,SUM(Seniors!AH$7:'Seniors'!AH9)))","v":""},{"$f":"IF(A9=\"\",\"\",VLOOKUP(A9,Data!G$2:K$302,5,FALSE))","v":""},{"$f":"IF(A9=\"\",\"\",VLOOKUP(A9,Data!G$2:K$302,2,FALSE))","v":""},{"$f":"IF(A9=\"\",\"\",VLOOKUP(A9,Data!G$2:K$302,3,FALSE))","v":""},{"$f":"IF(A9=\"\",\"\",VLOOKUP(A9,Data!G$2:K$302,4,FALSE))","v":""},null,null,null,null,null,null,null,null,null,null,null,null,null,null,null,null,null,null,null,null,null,null,null,null,null,null,{"$f":"IF(A9<>\"\",1,0)","v":0},null,{"$f":"MATCH(\"*\"&AE$1&\"*\",OFFSET(Inscriptions!AA$4:AA$303,SUM(Seniors!AH$6:'Seniors'!AH8),0),0)","v":{"$error":"#N/A"}}]
[{"$f":"IF(ISNA(INDEX(Inscriptions!A$4:A$303,SUM(Seniors!AH$7:'Seniors'!AH10))),\"\",INDEX(Inscriptions!A$4:A$303,SUM(Seniors!AH$7:'Seniors'!AH10)))","v":""},{"$f":"IF(A10=\"\",\"\",VLOOKUP(A10,Data!G$2:K$302,5,FALSE))","v":""},{"$f":"IF(A10=\"\",\"\",VLOOKUP(A10,Data!G$2:K$302,2,FALSE))","v":""},{"$f":"IF(A10=\"\",\"\",VLOOKUP(A10,Data!G$2:K$302,3,FALSE))","v":""},{"$f":"IF(A10=\"\",\"\",VLOOKUP(A10,Data!G$2:K$302,4,FALSE))","v":""},null,null,null,null,null,null,null,null,null,null,null,null,null,null,null,null,null,null,null,null,null,null,null,null,null,null,0,null,{"$f":"MATCH(\"*\"&AE$1&\"*\",OFFSET(Inscriptions!AA$4:AA$303,SUM(Seniors!AH$6:'Seniors'!AH9),0),0)","v":{"$error":"#N/A"}}]
[{"$f":"IF(ISNA(INDEX(Inscriptions!A$4:A$303,SUM(Seniors!AH$7:'Seniors'!AH11))),\"\",INDEX(Inscriptions!A$4:A$303,SUM(Seniors!AH$7:'Seniors'!AH11)))","v":""},{"$f":"IF(A11=\"\",\"\",VLOOKUP(A11,Data!G$2:K$302,5,FALSE))","v":""},{"$f":"IF(A11=\"\",\"\",VLOOKUP(A11,Data!G$2:K$302,2,FALSE))","v":""},{"$f":"IF(A11=\"\",\"\",VLOOKUP(A11,Data!G$2:K$302,3,FALSE))","v":""},{"$f":"IF(A11=\"\",\"\",VLOOKUP(A11,Data!G$2:K$302,4,FALSE))","v":""},null,null,null,null,null,null,null,null,null,null,null,null,null,null,null,null,null,null,null,null,null,null,null,null,null,null,0,null,{"$f":"MATCH(\"*\"&AE$1&\"*\",OFFSET(Inscriptions!AA$4:AA$303,SUM(Seniors!AH$6:'Seniors'!AH10),0),0)","v":{"$error":"#N/A"}}]
[{"$f":"IF(ISNA(INDEX(Inscriptions!A$4:A$303,SUM(Seniors!AH$7:'Seniors'!AH12))),\"\",INDEX(Inscriptions!A$4:A$303,SUM(Seniors!AH$7:'Seniors'!AH12)))","v":""},{"$f":"IF(A12=\"\",\"\",VLOOKUP(A12,Data!G$2:K$302,5,FALSE))","v":""},{"$f":"IF(A12=\"\",\"\",VLOOKUP(A12,Data!G$2:K$302,2,FALSE))","v":""},{"$f":"IF(A12=\"\",\"\",VLOOKUP(A12,Data!G$2:K$302,3,FALSE))","v":""},{"$f":"IF(A12=\"\",\"\",VLOOKUP(A12,Data!G$2:K$302,4,FALSE))","v":""},null,null,null,null,null,null,null,null,null,null,null,null,null,null,null,null,null,null,null,null,null,null,null,null,null,null,0,null,{"$f":"MATCH(\"*\"&AE$1&\"*\",OFFSET(Inscriptions!AA$4:AA$303,SUM(Seniors!AH$6:'Seniors'!AH11),0),0)","v":{"$error":"#N/A"}}]
[{"$f":"IF(ISNA(INDEX(Inscriptions!A$4:A$303,SUM(Seniors!AH$7:'Seniors'!AH13))),\"\",INDEX(Inscriptions!A$4:A$303,SUM(Seniors!AH$7:'Seniors'!AH13)))","v":""},{"$f":"IF(A13=\"\",\"\",VLOOKUP(A13,Data!G$2:K$302,5,FALSE))","v":""},{"$f":"IF(A13=\"\",\"\",VLOOKUP(A13,Data!G$2:K$302,2,FALSE))","v":""},{"$f":"IF(A13=\"\",\"\",VLOOKUP(A13,Data!G$2:K$302,3,FALSE))","v":""},{"$f":"IF(A13=\"\",\"\",VLOOKUP(A13,Data!G$2:K$302,4,FALSE))","v":""},null,null,null,null,null,null,null,null,null,null,null,null,null,null,null,null,null,null,null,null,null,null,null,null,null,null,0,null,{"$f":"MATCH(\"*\"&AE$1&\"*\",OFFSET(Inscriptions!AA$4:AA$303,SUM(Seniors!AH$6:'Seniors'!AH12),0),0)","v":{"$error":"#N/A"}}]
[{"$f":"IF(ISNA(INDEX(Inscriptions!A$4:A$303,SUM(Seniors!AH$7:'Seniors'!AH14))),\"\",INDEX(Inscriptions!A$4:A$303,SUM(Seniors!AH$7:'Seniors'!AH14)))","v":""},{"$f":"IF(A14=\"\",\"\",VLOOKUP(A14,Data!G$2:K$302,5,FALSE))","v":""},{"$f":"IF(A14=\"\",\"\",VLOOKUP(A14,Data!G$2:K$302,2,FALSE))","v":""},{"$f":"IF(A14=\"\",\"\",VLOOKUP(A14,Data!G$2:K$302,3,FALSE))","v":""},{"$f":"IF(A14=\"\",\"\",VLOOKUP(A14,Data!G$2:K$302,4,FALSE))","v":""},null,null,null,null,null,null,null,null,null,null,null,null,null,null,null,null,null,null,null,null,null,null,null,null,null,null,0,null,{"$f":"MATCH(\"*\"&AE$1&\"*\",OFFSET(Inscriptions!AA$4:AA$303,SUM(Seniors!AH$6:'Seniors'!AH13),0),0)","v":{"$error":"#N/A"}}]
[{"$f":"IF(ISNA(INDEX(Inscriptions!A$4:A$303,SUM(Seniors!AH$7:'Seniors'!AH15))),\"\",INDEX(Inscriptions!A$4:A$303,SUM(Seniors!AH$7:'Seniors'!AH15)))","v":""},{"$f":"IF(A15=\"\",\"\",VLOOKUP(A15,Data!G$2:K$302,5,FALSE))","v":""},{"$f":"IF(A15=\"\",\"\",VLOOKUP(A15,Data!G$2:K$302,2,FALSE))","v":""},{"$f":"IF(A15=\"\",\"\",VLOOKUP(A15,Data!G$2:K$302,3,FALSE))","v":""},{"$f":"IF(A15=\"\",\"\",VLOOKUP(A15,Data!G$2:K$302,4,FALSE))","v":""},null,null,null,null,null,null,null,null,null,null,null,null,null,null,null,null,null,null,null,null,null,null,null,null,null,null,0,null,{"$f":"MATCH(\"*\"&AE$1&\"*\",OFFSET(Inscriptions!AA$4:AA$303,SUM(Seniors!AH$6:'Seniors'!AH14),0),0)","v":{"$error":"#N/A"}}]
[{"$f":"IF(ISNA(INDEX(Inscriptions!A$4:A$303,SUM(Seniors!AH$7:'Seniors'!AH16))),\"\",INDEX(Inscriptions!A$4:A$303,SUM(Seniors!AH$7:'Seniors'!AH16)))","v":""},{"$f":"IF(A16=\"\",\"\",VLOOKUP(A16,Data!G$2:K$302,5,FALSE))","v":""},{"$f":"IF(A16=\"\",\"\",VLOOKUP(A16,Data!G$2:K$302,2,FALSE))","v":""},{"$f":"IF(A16=\"\",\"\",VLOOKUP(A16,Data!G$2:K$302,3,FALSE))","v":""},{"$f":"IF(A16=\"\",\"\",VLOOKUP(A16,Data!G$2:K$302,4,FALSE))","v":""},null,null,null,null,null,null,null,null,null,null,null,null,null,null,null,null,null,null,null,null,null,null,null,null,null,null,0,null,{"$f":"MATCH(\"*\"&AE$1&\"*\",OFFSET(Inscriptions!AA$4:AA$303,SUM(Seniors!AH$6:'Seniors'!AH15),0),0)","v":{"$error":"#N/A"}}]
[{"$f":"IF(ISNA(INDEX(Inscriptions!A$4:A$303,SUM(Seniors!AH$7:'Seniors'!AH17))),\"\",INDEX(Inscriptions!A$4:A$303,SUM(Seniors!AH$7:'Seniors'!AH17)))","v":""},{"$f":"IF(A17=\"\",\"\",VLOOKUP(A17,Data!G$2:K$302,5,FALSE))","v":""},{"$f":"IF(A17=\"\",\"\",VLOOKUP(A17,Data!G$2:K$302,2,FALSE))","v":""},{"$f":"IF(A17=\"\",\"\",VLOOKUP(A17,Data!G$2:K$302,3,FALSE))","v":""},{"$f":"IF(A17=\"\",\"\",VLOOKUP(A17,Data!G$2:K$302,4,FALSE))","v":""},null,null,null,null,null,null,null,null,null,null,null,null,null,null,null,null,null,null,null,null,null,null,null,null,null,null,0,null,{"$f":"MATCH(\"*\"&AE$1&\"*\",OFFSET(Inscriptions!AA$4:AA$303,SUM(Seniors!AH$6:'Seniors'!AH16),0),0)","v":{"$error":"#N/A"}}]
[{"$f":"IF(ISNA(INDEX(Inscriptions!A$4:A$303,SUM(Seniors!AH$7:'Seniors'!AH18))),\"\",INDEX(Inscriptions!A$4:A$303,SUM(Seniors!AH$7:'Seniors'!AH18)))","v":""},{"$f":"IF(A18=\"\",\"\",VLOOKUP(A18,Data!G$2:K$302,5,FALSE))","v":""},{"$f":"IF(A18=\"\",\"\",VLOOKUP(A18,Data!G$2:K$302,2,FALSE))","v":""},{"$f":"IF(A18=\"\",\"\",VLOOKUP(A18,Data!G$2:K$302,3,FALSE))","v":""},{"$f":"IF(A18=\"\",\"\",VLOOKUP(A18,Data!G$2:K$302,4,FALSE))","v":""},null,null,null,null,null,null,null,null,null,null,null,null,null,null,null,null,null,null,null,null,null,null,null,null,null,null,0,null,{"$f":"MATCH(\"*\"&AE$1&\"*\",OFFSET(Inscriptions!AA$4:AA$303,SUM(Seniors!AH$6:'Seniors'!AH17),0),0)","v":{"$error":"#N/A"}}]
[{"$f":"IF(ISNA(INDEX(Inscriptions!A$4:A$303,SUM(Seniors!AH$7:'Seniors'!AH19))),\"\",INDEX(Inscriptions!A$4:A$303,SUM(Seniors!AH$7:'Seniors'!AH19)))","v":""},{"$f":"IF(A19=\"\",\"\",VLOOKUP(A19,Data!G$2:K$302,5,FALSE))","v":""},{"$f":"IF(A19=\"\",\"\",VLOOKUP(A19,Data!G$2:K$302,2,FALSE))","v":""},{"$f":"IF(A19=\"\",\"\",VLOOKUP(A19,Data!G$2:K$302,3,FALSE))","v":""},{"$f":"IF(A19=\"\",\"\",VLOOKUP(A19,Data!G$2:K$302,4,FALSE))","v":""},null,null,null,null,null,null,null,null,null,null,null,null,null,null,null,null,null,null,null,null,null,null,null,null,null,null,0,null,{"$f":"MATCH(\"*\"&AE$1&\"*\",OFFSET(Inscriptions!AA$4:AA$303,SUM(Seniors!AH$6:'Seniors'!AH18),0),0)","v":{"$error":"#N/A"}}]
[{"$f":"IF(ISNA(INDEX(Inscriptions!A$4:A$303,SUM(Seniors!AH$7:'Seniors'!AH20))),\"\",INDEX(Inscriptions!A$4:A$303,SUM(Seniors!AH$7:'Seniors'!AH20)))","v":""},{"$f":"IF(A20=\"\",\"\",VLOOKUP(A20,Data!G$2:K$302,5,FALSE))","v":""},{"$f":"IF(A20=\"\",\"\",VLOOKUP(A20,Data!G$2:K$302,2,FALSE))","v":""},{"$f":"IF(A20=\"\",\"\",VLOOKUP(A20,Data!G$2:K$302,3,FALSE))","v":""},{"$f":"IF(A20=\"\",\"\",VLOOKUP(A20,Data!G$2:K$302,4,FALSE))","v":""},null,null,null,null,null,null,null,null,null,null,null,null,null,null,null,null,null,null,null,null,null,null,null,null,null,null,0,null,{"$f":"MATCH(\"*\"&AE$1&\"*\",OFFSET(Inscriptions!AA$4:AA$303,SUM(Seniors!AH$6:'Seniors'!AH19),0),0)","v":{"$error":"#N/A"}}]
[{"$f":"IF(ISNA(INDEX(Inscriptions!A$4:A$303,SUM(Seniors!AH$7:'Seniors'!AH21))),\"\",INDEX(Inscriptions!A$4:A$303,SUM(Seniors!AH$7:'Seniors'!AH21)))","v":""},{"$f":"IF(A21=\"\",\"\",VLOOKUP(A21,Data!G$2:K$302,5,FALSE))","v":""},{"$f":"IF(A21=\"\",\"\",VLOOKUP(A21,Data!G$2:K$302,2,FALSE))","v":""},{"$f":"IF(A21=\"\",\"\",VLOOKUP(A21,Data!G$2:K$302,3,FALSE))","v":""},{"$f":"IF(A21=\"\",\"\",VLOOKUP(A21,Data!G$2:K$302,4,FALSE))","v":""},null,null,null,null,null,null,null,null,null,null,null,null,null,null,null,null,null,null,null,null,null,null,null,null,null,null,0,null,{"$f":"MATCH(\"*\"&AE$1&\"*\",OFFSET(Inscriptions!AA$4:AA$303,SUM(Seniors!AH$6:'Seniors'!AH20),0),0)","v":{"$error":"#N/A"}}]
[{"$f":"IF(ISNA(INDEX(Inscriptions!A$4:A$303,SUM(Seniors!AH$7:'Seniors'!AH22))),\"\",INDEX(Inscriptions!A$4:A$303,SUM(Seniors!AH$7:'Seniors'!AH22)))","v":""},{"$f":"IF(A22=\"\",\"\",VLOOKUP(A22,Data!G$2:K$302,5,FALSE))","v":""},{"$f":"IF(A22=\"\",\"\",VLOOKUP(A22,Data!G$2:K$302,2,FALSE))","v":""},{"$f":"IF(A22=\"\",\"\",VLOOKUP(A22,Data!G$2:K$302,3,FALSE))","v":""},{"$f":"IF(A22=\"\",\"\",VLOOKUP(A22,Data!G$2:K$302,4,FALSE))","v":""},null,null,null,null,null,null,null,null,null,null,null,null,null,null,null,null,null,null,null,null,null,null,null,null,null,null,0,null,{"$f":"MATCH(\"*\"&AE$1&\"*\",OFFSET(Inscriptions!AA$4:AA$303,SUM(Seniors!AH$6:'Seniors'!AH21),0),0)","v":{"$error":"#N/A"}}]
[{"$f":"IF(ISNA(INDEX(Inscriptions!A$4:A$303,SUM(Seniors!AH$7:'Seniors'!AH23))),\"\",INDEX(Inscriptions!A$4:A$303,SUM(Seniors!AH$7:'Seniors'!AH23)))","v":""},{"$f":"IF(A23=\"\",\"\",VLOOKUP(A23,Data!G$2:K$302,5,FALSE))","v":""},{"$f":"IF(A23=\"\",\"\",VLOOKUP(A23,Data!G$2:K$302,2,FALSE))","v":""},{"$f":"IF(A23=\"\",\"\",VLOOKUP(A23,Data!G$2:K$302,3,FALSE))","v":""},{"$f":"IF(A23=\"\",\"\",VLOOKUP(A23,Data!G$2:K$302,4,FALSE))","v":""},null,null,null,null,null,null,null,null,null,null,null,null,null,null,null,null,null,null,null,null,null,null,null,null,null,null,0,null,{"$f":"MATCH(\"*\"&AE$1&\"*\",OFFSET(Inscriptions!AA$4:AA$303,SUM(Seniors!AH$6:'Seniors'!AH22),0),0)","v":{"$error":"#N/A"}}]
[{"$f":"IF(ISNA(INDEX(Inscriptions!A$4:A$303,SUM(Seniors!AH$7:'Seniors'!AH24))),\"\",INDEX(Inscriptions!A$4:A$303,SUM(Seniors!AH$7:'Seniors'!AH24)))","v":""},{"$f":"IF(A24=\"\",\"\",VLOOKUP(A24,Data!G$2:K$302,5,FALSE))","v":""},{"$f":"IF(A24=\"\",\"\",VLOOKUP(A24,Data!G$2:K$302,2,FALSE))","v":""},{"$f":"IF(A24=\"\",\"\",VLOOKUP(A24,Data!G$2:K$302,3,FALSE))","v":""},{"$f":"IF(A24=\"\",\"\",VLOOKUP(A24,Data!G$2:K$302,4,FALSE))","v":""},null,null,null,null,null,null,null,null,null,null,null,null,null,null,null,null,null,null,null,null,null,null,null,null,null,null,0,null,{"$f":"MATCH(\"*\"&AE$1&\"*\",OFFSET(Inscriptions!AA$4:AA$303,SUM(Seniors!AH$6:'Seniors'!AH23),0),0)","v":{"$error":"#N/A"}}]
[{"$f":"IF(ISNA(INDEX(Inscriptions!A$4:A$303,SUM(Seniors!AH$7:'Seniors'!AH25))),\"\",INDEX(Inscriptions!A$4:A$303,SUM(Seniors!AH$7:'Seniors'!AH25)))","v":""},{"$f":"IF(A25=\"\",\"\",VLOOKUP(A25,Data!G$2:K$302,5,FALSE))","v":""},{"$f":"IF(A25=\"\",\"\",VLOOKUP(A25,Data!G$2:K$302,2,FALSE))","v":""},{"$f":"IF(A25=\"\",\"\",VLOOKUP(A25,Data!G$2:K$302,3,FALSE))","v":""},{"$f":"IF(A25=\"\",\"\",VLOOKUP(A25,Data!G$2:K$302,4,FALSE))","v":""},null,null,null,null,null,null,null,null,null,null,null,null,null,null,null,null,null,null,null,null,null,null,null,null,null,null,0,null,{"$f":"MATCH(\"*\"&AE$1&\"*\",OFFSET(Inscriptions!AA$4:AA$303,SUM(Seniors!AH$6:'Seniors'!AH24),0),0)","v":{"$error":"#N/A"}}]
[{"$f":"IF(ISNA(INDEX(Inscriptions!A$4:A$303,SUM(Seniors!AH$7:'Seniors'!AH26))),\"\",INDEX(Inscriptions!A$4:A$303,SUM(Seniors!AH$7:'Seniors'!AH26)))","v":""},{"$f":"IF(A26=\"\",\"\",VLOOKUP(A26,Data!G$2:K$302,5,FALSE))","v":""},{"$f":"IF(A26=\"\",\"\",VLOOKUP(A26,Data!G$2:K$302,2,FALSE))","v":""},{"$f":"IF(A26=\"\",\"\",VLOOKUP(A26,Data!G$2:K$302,3,FALSE))","v":""},{"$f":"IF(A26=\"\",\"\",VLOOKUP(A26,Data!G$2:K$302,4,FALSE))","v":""},null,null,null,null,null,null,null,null,null,null,null,null,null,null,null,null,null,null,null,null,null,null,null,null,null,null,0,null,{"$f":"MATCH(\"*\"&AE$1&\"*\",OFFSET(Inscriptions!AA$4:AA$303,SUM(Seniors!AH$6:'Seniors'!AH25),0),0)","v":{"$error":"#N/A"}}]
[{"$f":"IF(ISNA(INDEX(Inscriptions!A$4:A$303,SUM(Seniors!AH$7:'Seniors'!AH27))),\"\",INDEX(Inscriptions!A$4:A$303,SUM(Seniors!AH$7:'Seniors'!AH27)))","v":""},{"$f":"IF(A27=\"\",\"\",VLOOKUP(A27,Data!G$2:K$302,5,FALSE))","v":""},{"$f":"IF(A27=\"\",\"\",VLOOKUP(A27,Data!G$2:K$302,2,FALSE))","v":""},{"$f":"IF(A27=\"\",\"\",VLOOKUP(A27,Data!G$2:K$302,3,FALSE))","v":""},{"$f":"IF(A27=\"\",\"\",VLOOKUP(A27,Data!G$2:K$302,4,FALSE))","v":""},null,null,null,null,null,null,null,null,null,null,null,null,null,null,null,null,null,null,null,null,null,null,null,null,null,null,0,null,{"$f":"MATCH(\"*\"&AE$1&\"*\",OFFSET(Inscriptions!AA$4:AA$303,SUM(Seniors!AH$6:'Seniors'!AH26),0),0)","v":{"$error":"#N/A"}}]
[{"$f":"IF(ISNA(INDEX(Inscriptions!A$4:A$303,SUM(Seniors!AH$7:'Seniors'!AH28))),\"\",INDEX(Inscriptions!A$4:A$303,SUM(Seniors!AH$7:'Seniors'!AH28)))","v":""},{"$f":"IF(A28=\"\",\"\",VLOOKUP(A28,Data!G$2:K$302,5,FALSE))","v":""},{"$f":"IF(A28=\"\",\"\",VLOOKUP(A28,Data!G$2:K$302,2,FALSE))","v":""},{"$f":"IF(A28=\"\",\"\",VLOOKUP(A28,Data!G$2:K$302,3,FALSE))","v":""},{"$f":"IF(A28=\"\",\"\",VLOOKUP(A28,Data!G$2:K$302,4,FALSE))","v":""},null,null,null,null,null,null,null,null,null,null,null,null,null,null,null,null,null,null,null,null,null,null,null,null,null,null,0,null,{"$f":"MATCH(\"*\"&AE$1&\"*\",OFFSET(Inscriptions!AA$4:AA$303,SUM(Seniors!AH$6:'Seniors'!AH27),0),0)","v":{"$error":"#N/A"}}]
[{"$f":"IF(ISNA(INDEX(Inscriptions!A$4:A$303,SUM(Seniors!AH$7:'Seniors'!AH29))),\"\",INDEX(Inscriptions!A$4:A$303,SUM(Seniors!AH$7:'Seniors'!AH29)))","v":""},{"$f":"IF(A29=\"\",\"\",VLOOKUP(A29,Data!G$2:K$302,5,FALSE))","v":""},{"$f":"IF(A29=\"\",\"\",VLOOKUP(A29,Data!G$2:K$302,2,FALSE))","v":""},{"$f":"IF(A29=\"\",\"\",VLOOKUP(A29,Data!G$2:K$302,3,FALSE))","v":""},{"$f":"IF(A29=\"\",\"\",VLOOKUP(A29,Data!G$2:K$302,4,FALSE))","v":""},null,null,null,null,null,null,null,null,null,null,null,null,null,null,null,null,null,null,null,null,null,null,null,null,null,null,0,null,{"$f":"MATCH(\"*\"&AE$1&\"*\",OFFSET(Inscriptions!AA$4:AA$303,SUM(Seniors!AH$6:'Seniors'!AH28),0),0)","v":{"$error":"#N/A"}}]
[{"$f":"IF(ISNA(INDEX(Inscriptions!A$4:A$303,SUM(Seniors!AH$7:'Seniors'!AH30))),\"\",INDEX(Inscriptions!A$4:A$303,SUM(Seniors!AH$7:'Seniors'!AH30)))","v":""},{"$f":"IF(A30=\"\",\"\",VLOOKUP(A30,Data!G$2:K$302,5,FALSE))","v":""},{"$f":"IF(A30=\"\",\"\",VLOOKUP(A30,Data!G$2:K$302,2,FALSE))","v":""},{"$f":"IF(A30=\"\",\"\",VLOOKUP(A30,Data!G$2:K$302,3,FALSE))","v":""},{"$f":"IF(A30=\"\",\"\",VLOOKUP(A30,Data!G$2:K$302,4,FALSE))","v":""},null,null,null,null,null,null,null,null,null,null,null,null,null,null,null,null,null,null,null,null,null,null,null,null,null,null,0,null,{"$f":"MATCH(\"*\"&AE$1&\"*\",OFFSET(Inscriptions!AA$4:AA$303,SUM(Seniors!AH$6:'Seniors'!AH29),0),0)","v":{"$error":"#N/A"}}]
[{"$f":"IF(ISNA(INDEX(Inscriptions!A$4:A$303,SUM(Seniors!AH$7:'Seniors'!AH31))),\"\",INDEX(Inscriptions!A$4:A$303,SUM(Seniors!AH$7:'Seniors'!AH31)))","v":""},{"$f":"IF(A31=\"\",\"\",VLOOKUP(A31,Data!G$2:K$302,5,FALSE))","v":""},{"$f":"IF(A31=\"\",\"\",VLOOKUP(A31,Data!G$2:K$302,2,FALSE))","v":""},{"$f":"IF(A31=\"\",\"\",VLOOKUP(A31,Data!G$2:K$302,3,FALSE))","v":""},{"$f":"IF(A31=\"\",\"\",VLOOKUP(A31,Data!G$2:K$302,4,FALSE))","v":""},null,null,null,null,null,null,null,null,null,null,null,null,null,null,null,null,null,null,null,null,null,null,null,null,null,null,0,null,{"$f":"MATCH(\"*\"&AE$1&\"*\",OFFSET(Inscriptions!AA$4:AA$303,SUM(Seniors!AH$6:'Seniors'!AH30),0),0)","v":{"$error":"#N/A"}}]
[{"$f":"IF(ISNA(INDEX(Inscriptions!A$4:A$303,SUM(Seniors!AH$7:'Seniors'!AH32))),\"\",INDEX(Inscriptions!A$4:A$303,SUM(Seniors!AH$7:'Seniors'!AH32)))","v":""},{"$f":"IF(A32=\"\",\"\",VLOOKUP(A32,Data!G$2:K$302,5,FALSE))","v":""},{"$f":"IF(A32=\"\",\"\",VLOOKUP(A32,Data!G$2:K$302,2,FALSE))","v":""},{"$f":"IF(A32=\"\",\"\",VLOOKUP(A32,Data!G$2:K$302,3,FALSE))","v":""},{"$f":"IF(A32=\"\",\"\",VLOOKUP(A32,Data!G$2:K$302,4,FALSE))","v":""},null,null,null,null,null,null,null,null,null,null,null,null,null,null,null,null,null,null,null,null,null,null,null,null,null,null,0,null,{"$f":"MATCH(\"*\"&AE$1&\"*\",OFFSET(Inscriptions!AA$4:AA$303,SUM(Seniors!AH$6:'Seniors'!AH31),0),0)","v":{"$error":"#N/A"}}]
[{"$f":"IF(ISNA(INDEX(Inscriptions!A$4:A$303,SUM(Seniors!AH$7:'Seniors'!AH33))),\"\",INDEX(Inscriptions!A$4:A$303,SUM(Seniors!AH$7:'Seniors'!AH33)))","v":""},{"$f":"IF(A33=\"\",\"\",VLOOKUP(A33,Data!G$2:K$302,5,FALSE))","v":""},{"$f":"IF(A33=\"\",\"\",VLOOKUP(A33,Data!G$2:K$302,2,FALSE))","v":""},{"$f":"IF(A33=\"\",\"\",VLOOKUP(A33,Data!G$2:K$302,3,FALSE))","v":""},{"$f":"IF(A33=\"\",\"\",VLOOKUP(A33,Data!G$2:K$302,4,FALSE))","v":""},null,null,null,null,null,null,null,null,null,null,null,null,null,null,null,null,null,null,null,null,null,null,null,null,null,null,0,null,{"$f":"MATCH(\"*\"&AE$1&\"*\",OFFSET(Inscriptions!AA$4:AA$303,SUM(Seniors!AH$6:'Seniors'!AH32),0),0)","v":{"$error":"#N/A"}}]
[{"$f":"IF(ISNA(INDEX(Inscriptions!A$4:A$303,SUM(Seniors!AH$7:'Seniors'!AH34))),\"\",INDEX(Inscriptions!A$4:A$303,SUM(Seniors!AH$7:'Seniors'!AH34)))","v":""},{"$f":"IF(A34=\"\",\"\",VLOOKUP(A34,Data!G$2:K$302,5,FALSE))","v":""},{"$f":"IF(A34=\"\",\"\",VLOOKUP(A34,Data!G$2:K$302,2,FALSE))","v":""},{"$f":"IF(A34=\"\",\"\",VLOOKUP(A34,Data!G$2:K$302,3,FALSE))","v":""},{"$f":"IF(A34=\"\",\"\",VLOOKUP(A34,Data!G$2:K$302,4,FALSE))","v":""},null,null,null,null,null,null,null,null,null,null,null,null,null,null,null,null,null,null,null,null,null,null,null,null,null,null,0,null,{"$f":"MATCH(\"*\"&AE$1&\"*\",OFFSET(Inscriptions!AA$4:AA$303,SUM(Seniors!AH$6:'Seniors'!AH33),0),0)","v":{"$error":"#N/A"}}]
[{"$f":"IF(ISNA(INDEX(Inscriptions!A$4:A$303,SUM(Seniors!AH$7:'Seniors'!AH35))),\"\",INDEX(Inscriptions!A$4:A$303,SUM(Seniors!AH$7:'Seniors'!AH35)))","v":""},{"$f":"IF(A35=\"\",\"\",VLOOKUP(A35,Data!G$2:K$302,5,FALSE))","v":""},{"$f":"IF(A35=\"\",\"\",VLOOKUP(A35,Data!G$2:K$302,2,FALSE))","v":""},{"$f":"IF(A35=\"\",\"\",VLOOKUP(A35,Data!G$2:K$302,3,FALSE))","v":""},{"$f":"IF(A35=\"\",\"\",VLOOKUP(A35,Data!G$2:K$302,4,FALSE))","v":""},null,null,null,null,null,null,null,null,null,null,null,null,null,null,null,null,null,null,null,null,null,null,null,null,null,null,0,null,{"$f":"MATCH(\"*\"&AE$1&\"*\",OFFSET(Inscriptions!AA$4:AA$303,SUM(Seniors!AH$6:'Seniors'!AH34),0),0)","v":{"$error":"#N/A"}}]
[{"$f":"IF(ISNA(INDEX(Inscriptions!A$4:A$303,SUM(Seniors!AH$7:'Seniors'!AH36))),\"\",INDEX(Inscriptions!A$4:A$303,SUM(Seniors!AH$7:'Seniors'!AH36)))","v":""},{"$f":"IF(A36=\"\",\"\",VLOOKUP(A36,Data!G$2:K$302,5,FALSE))","v":""},{"$f":"IF(A36=\"\",\"\",VLOOKUP(A36,Data!G$2:K$302,2,FALSE))","v":""},{"$f":"IF(A36=\"\",\"\",VLOOKUP(A36,Data!G$2:K$302,3,FALSE))","v":""},{"$f":"IF(A36=\"\",\"\",VLOOKUP(A36,Data!G$2:K$302,4,FALSE))","v":""},null,null,null,null,null,null,null,null,null,null,null,null,null,null,null,null,null,null,null,null,null,null,null,null,null,null,0,null,{"$f":"MATCH(\"*\"&AE$1&\"*\",OFFSET(Inscriptions!AA$4:AA$303,SUM(Seniors!AH$6:'Seniors'!AH35),0),0)","v":{"$error":"#N/A"}}]
[{"$f":"IF(ISNA(INDEX(Inscriptions!A$4:A$303,SUM(Seniors!AH$7:'Seniors'!AH37))),\"\",INDEX(Inscriptions!A$4:A$303,SUM(Seniors!AH$7:'Seniors'!AH37)))","v":""},{"$f":"IF(A37=\"\",\"\",VLOOKUP(A37,Data!G$2:K$302,5,FALSE))","v":""},{"$f":"IF(A37=\"\",\"\",VLOOKUP(A37,Data!G$2:K$302,2,FALSE))","v":""},{"$f":"IF(A37=\"\",\"\",VLOOKUP(A37,Data!G$2:K$302,3,FALSE))","v":""},{"$f":"IF(A37=\"\",\"\",VLOOKUP(A37,Data!G$2:K$302,4,FALSE))","v":""},null,null,null,null,null,null,null,null,null,null,null,null,null,null,null,null,null,null,null,null,null,null,null,null,null,null,0,null,{"$f":"MATCH(\"*\"&AE$1&\"*\",OFFSET(Inscriptions!AA$4:AA$303,SUM(Seniors!AH$6:'Seniors'!AH36),0),0)","v":{"$error":"#N/A"}}]
[{"$f":"IF(ISNA(INDEX(Inscriptions!A$4:A$303,SUM(Seniors!AH$7:'Seniors'!AH38))),\"\",INDEX(Inscriptions!A$4:A$303,SUM(Seniors!AH$7:'Seniors'!AH38)))","v":""},{"$f":"IF(A38=\"\",\"\",VLOOKUP(A38,Data!G$2:K$302,5,FALSE))","v":""},{"$f":"IF(A38=\"\",\"\",VLOOKUP(A38,Data!G$2:K$302,2,FALSE))","v":""},{"$f":"IF(A38=\"\",\"\",VLOOKUP(A38,Data!G$2:K$302,3,FALSE))","v":""},{"$f":"IF(A38=\"\",\"\",VLOOKUP(A38,Data!G$2:K$302,4,FALSE))","v":""},null,null,null,null,null,null,null,null,null,null,null,null,null,null,null,null,null,null,null,null,null,null,null,null,null,null,0,null,{"$f":"MATCH(\"*\"&AE$1&\"*\",OFFSET(Inscriptions!AA$4:AA$303,SUM(Seniors!AH$6:'Seniors'!AH37),0),0)","v":{"$error":"#N/A"}}]
[{"$f":"IF(ISNA(INDEX(Inscriptions!A$4:A$303,SUM(Seniors!AH$7:'Seniors'!AH39))),\"\",INDEX(Inscriptions!A$4:A$303,SUM(Seniors!AH$7:'Seniors'!AH39)))","v":""},{"$f":"IF(A39=\"\",\"\",VLOOKUP(A39,Data!G$2:K$302,5,FALSE))","v":""},{"$f":"IF(A39=\"\",\"\",VLOOKUP(A39,Data!G$2:K$302,2,FALSE))","v":""},{"$f":"IF(A39=\"\",\"\",VLOOKUP(A39,Data!G$2:K$302,3,FALSE))","v":""},{"$f":"IF(A39=\"\",\"\",VLOOKUP(A39,Data!G$2:K$302,4,FALSE))","v":""},null,null,null,null,null,null,null,null,null,null,null,null,null,null,null,null,null,null,null,null,null,null,null,null,null,null,0,null,{"$f":"MATCH(\"*\"&AE$1&\"*\",OFFSET(Inscriptions!AA$4:AA$303,SUM(Seniors!AH$6:'Seniors'!AH38),0),0)","v":{"$error":"#N/A"}}]
[{"$f":"IF(ISNA(INDEX(Inscriptions!A$4:A$303,SUM(Seniors!AH$7:'Seniors'!AH40))),\"\",INDEX(Inscriptions!A$4:A$303,SUM(Seniors!AH$7:'Seniors'!AH40)))","v":""},{"$f":"IF(A40=\"\",\"\",VLOOKUP(A40,Data!G$2:K$302,5,FALSE))","v":""},{"$f":"IF(A40=\"\",\"\",VLOOKUP(A40,Data!G$2:K$302,2,FALSE))","v":""},{"$f":"IF(A40=\"\",\"\",VLOOKUP(A40,Data!G$2:K$302,3,FALSE))","v":""},{"$f":"IF(A40=\"\",\"\",VLOOKUP(A40,Data!G$2:K$302,4,FALSE))","v":""},null,null,null,null,null,null,null,null,null,null,null,null,null,null,null,null,null,null,null,null,null,null,null,null,null,null,0,null,{"$f":"MATCH(\"*\"&AE$1&\"*\",OFFSET(Inscriptions!AA$4:AA$303,SUM(Seniors!AH$6:'Seniors'!AH39),0),0)","v":{"$error":"#N/A"}}]
[{"$f":"IF(ISNA(INDEX(Inscriptions!A$4:A$303,SUM(Seniors!AH$7:'Seniors'!AH41))),\"\",INDEX(Inscriptions!A$4:A$303,SUM(Seniors!AH$7:'Seniors'!AH41)))","v":""},{"$f":"IF(A41=\"\",\"\",VLOOKUP(A41,Data!G$2:K$302,5,FALSE))","v":""},{"$f":"IF(A41=\"\",\"\",VLOOKUP(A41,Data!G$2:K$302,2,FALSE))","v":""},{"$f":"IF(A41=\"\",\"\",VLOOKUP(A41,Data!G$2:K$302,3,FALSE))","v":""},{"$f":"IF(A41=\"\",\"\",VLOOKUP(A41,Data!G$2:K$302,4,FALSE))","v":""},null,null,null,null,null,null,null,null,null,null,null,null,null,null,null,null,null,null,null,null,null,null,null,null,null,null,0,null,{"$f":"MATCH(\"*\"&AE$1&\"*\",OFFSET(Inscriptions!AA$4:AA$303,SUM(Seniors!AH$6:'Seniors'!AH40),0),0)","v":{"$error":"#N/A"}}]
[{"$f":"IF(ISNA(INDEX(Inscriptions!A$4:A$303,SUM(Seniors!AH$7:'Seniors'!AH42))),\"\",INDEX(Inscriptions!A$4:A$303,SUM(Seniors!AH$7:'Seniors'!AH42)))","v":""},{"$f":"IF(A42=\"\",\"\",VLOOKUP(A42,Data!G$2:K$302,5,FALSE))","v":""},{"$f":"IF(A42=\"\",\"\",VLOOKUP(A42,Data!G$2:K$302,2,FALSE))","v":""},{"$f":"IF(A42=\"\",\"\",VLOOKUP(A42,Data!G$2:K$302,3,FALSE))","v":""},{"$f":"IF(A42=\"\",\"\",VLOOKUP(A42,Data!G$2:K$302,4,FALSE))","v":""},null,null,null,null,null,null,null,null,null,null,null,null,null,null,null,null,null,null,null,null,null,null,null,null,null,null,0,null,{"$f":"MATCH(\"*\"&AE$1&\"*\",OFFSET(Inscriptions!AA$4:AA$303,SUM(Seniors!AH$6:'Seniors'!AH41),0),0)","v":{"$error":"#N/A"}}]
[{"$f":"IF(ISNA(INDEX(Inscriptions!A$4:A$303,SUM(Seniors!AH$7:'Seniors'!AH43))),\"\",INDEX(Inscriptions!A$4:A$303,SUM(Seniors!AH$7:'Seniors'!AH43)))","v":""},{"$f":"IF(A43=\"\",\"\",VLOOKUP(A43,Data!G$2:K$302,5,FALSE))","v":""},{"$f":"IF(A43=\"\",\"\",VLOOKUP(A43,Data!G$2:K$302,2,FALSE))","v":""},{"$f":"IF(A43=\"\",\"\",VLOOKUP(A43,Data!G$2:K$302,3,FALSE))","v":""},{"$f":"IF(A43=\"\",\"\",VLOOKUP(A43,Data!G$2:K$302,4,FALSE))","v":""},null,null,null,null,null,null,null,null,null,null,null,null,null,null,null,null,null,null,null,null,null,null,null,null,null,null,0,null,{"$f":"MATCH(\"*\"&AE$1&\"*\",OFFSET(Inscriptions!AA$4:AA$303,SUM(Seniors!AH$6:'Seniors'!AH42),0),0)","v":{"$error":"#N/A"}}]
[{"$f":"IF(ISNA(INDEX(Inscriptions!A$4:A$303,SUM(Seniors!AH$7:'Seniors'!AH44))),\"\",INDEX(Inscriptions!A$4:A$303,SUM(Seniors!AH$7:'Seniors'!AH44)))","v":""},{"$f":"IF(A44=\"\",\"\",VLOOKUP(A44,Data!G$2:K$302,5,FALSE))","v":""},{"$f":"IF(A44=\"\",\"\",VLOOKUP(A44,Data!G$2:K$302,2,FALSE))","v":""},{"$f":"IF(A44=\"\",\"\",VLOOKUP(A44,Data!G$2:K$302,3,FALSE))","v":""},{"$f":"IF(A44=\"\",\"\",VLOOKUP(A44,Data!G$2:K$302,4,FALSE))","v":""},null,null,null,null,null,null,null,null,null,null,null,null,null,null,null,null,null,null,null,null,null,null,null,null,null,null,0,null,{"$f":"MATCH(\"*\"&AE$1&\"*\",OFFSET(Inscriptions!AA$4:AA$303,SUM(Seniors!AH$6:'Seniors'!AH43),0),0)","v":{"$error":"#N/A"}}]
[{"$f":"IF(ISNA(INDEX(Inscriptions!A$4:A$303,SUM(Seniors!AH$7:'Seniors'!AH45))),\"\",INDEX(Inscriptions!A$4:A$303,SUM(Seniors!AH$7:'Seniors'!AH45)))","v":""},{"$f":"IF(A45=\"\",\"\",VLOOKUP(A45,Data!G$2:K$302,5,FALSE))","v":""},{"$f":"IF(A45=\"\",\"\",VLOOKUP(A45,Data!G$2:K$302,2,FALSE))","v":""},{"$f":"IF(A45=\"\",\"\",VLOOKUP(A45,Data!G$2:K$302,3,FALSE))","v":""},{"$f":"IF(A45=\"\",\"\",VLOOKUP(A45,Data!G$2:K$302,4,FALSE))","v":""},null,null,null,null,null,null,null,null,null,null,null,null,null,null,null,null,null,null,null,null,null,null,null,null,null,null,0,null,{"$f":"MATCH(\"*\"&AE$1&\"*\",OFFSET(Inscriptions!AA$4:AA$303,SUM(Seniors!AH$6:'Seniors'!AH44),0),0)","v":{"$error":"#N/A"}}]
[{"$f":"IF(ISNA(INDEX(Inscriptions!A$4:A$303,SUM(Seniors!AH$7:'Seniors'!AH46))),\"\",INDEX(Inscriptions!A$4:A$303,SUM(Seniors!AH$7:'Seniors'!AH46)))","v":""},{"$f":"IF(A46=\"\",\"\",VLOOKUP(A46,Data!G$2:K$302,5,FALSE))","v":""},{"$f":"IF(A46=\"\",\"\",VLOOKUP(A46,Data!G$2:K$302,2,FALSE))","v":""},{"$f":"IF(A46=\"\",\"\",VLOOKUP(A46,Data!G$2:K$302,3,FALSE))","v":""},{"$f":"IF(A46=\"\",\"\",VLOOKUP(A46,Data!G$2:K$302,4,FALSE))","v":""},null,null,null,null,null,null,null,null,null,null,null,null,null,null,null,null,null,null,null,null,null,null,null,null,null,null,0,null,{"$f":"MATCH(\"*\"&AE$1&\"*\",OFFSET(Inscriptions!AA$4:AA$303,SUM(Seniors!AH$6:'Seniors'!AH45),0),0)","v":{"$error":"#N/A"}}]
[{"$f":"IF(ISNA(INDEX(Inscriptions!A$4:A$303,SUM(Seniors!AH$7:'Seniors'!AH47))),\"\",INDEX(Inscriptions!A$4:A$303,SUM(Seniors!AH$7:'Seniors'!AH47)))","v":""},{"$f":"IF(A47=\"\",\"\",VLOOKUP(A47,Data!G$2:K$302,5,FALSE))","v":""},{"$f":"IF(A47=\"\",\"\",VLOOKUP(A47,Data!G$2:K$302,2,FALSE))","v":""},{"$f":"IF(A47=\"\",\"\",VLOOKUP(A47,Data!G$2:K$302,3,FALSE))","v":""},{"$f":"IF(A47=\"\",\"\",VLOOKUP(A47,Data!G$2:K$302,4,FALSE))","v":""},null,null,null,null,null,null,null,null,null,null,null,null,null,null,null,null,null,null,null,null,null,null,null,null,null,null,0,null,{"$f":"MATCH(\"*\"&AE$1&\"*\",OFFSET(Inscriptions!AA$4:AA$303,SUM(Seniors!AH$6:'Seniors'!AH46),0),0)","v":{"$error":"#N/A"}}]
[{"$f":"IF(ISNA(INDEX(Inscriptions!A$4:A$303,SUM(Seniors!AH$7:'Seniors'!AH48))),\"\",INDEX(Inscriptions!A$4:A$303,SUM(Seniors!AH$7:'Seniors'!AH48)))","v":""},{"$f":"IF(A48=\"\",\"\",VLOOKUP(A48,Data!G$2:K$302,5,FALSE))","v":""},{"$f":"IF(A48=\"\",\"\",VLOOKUP(A48,Data!G$2:K$302,2,FALSE))","v":""},{"$f":"IF(A48=\"\",\"\",VLOOKUP(A48,Data!G$2:K$302,3,FALSE))","v":""},{"$f":"IF(A48=\"\",\"\",VLOOKUP(A48,Data!G$2:K$302,4,FALSE))","v":""},null,null,null,null,null,null,null,null,null,null,null,null,null,null,null,null,null,null,null,null,null,null,null,null,null,null,0,null,{"$f":"MATCH(\"*\"&AE$1&\"*\",OFFSET(Inscriptions!AA$4:AA$303,SUM(Seniors!AH$6:'Seniors'!AH47),0),0)","v":{"$error":"#N/A"}}]
[{"$f":"IF(ISNA(INDEX(Inscriptions!A$4:A$303,SUM(Seniors!AH$7:'Seniors'!AH49))),\"\",INDEX(Inscriptions!A$4:A$303,SUM(Seniors!AH$7:'Seniors'!AH49)))","v":""},{"$f":"IF(A49=\"\",\"\",VLOOKUP(A49,Data!G$2:K$302,5,FALSE))","v":""},{"$f":"IF(A49=\"\",\"\",VLOOKUP(A49,Data!G$2:K$302,2,FALSE))","v":""},{"$f":"IF(A49=\"\",\"\",VLOOKUP(A49,Data!G$2:K$302,3,FALSE))","v":""},{"$f":"IF(A49=\"\",\"\",VLOOKUP(A49,Data!G$2:K$302,4,FALSE))","v":""},null,null,null,null,null,null,null,null,null,null,null,null,null,null,null,null,null,null,null,null,null,null,null,null,null,null,0,null,{"$f":"MATCH(\"*\"&AE$1&\"*\",OFFSET(Inscriptions!AA$4:AA$303,SUM(Seniors!AH$6:'Seniors'!AH48),0),0)","v":{"$error":"#N/A"}}]
[{"$f":"IF(ISNA(INDEX(Inscriptions!A$4:A$303,SUM(Seniors!AH$7:'Seniors'!AH50))),\"\",INDEX(Inscriptions!A$4:A$303,SUM(Seniors!AH$7:'Seniors'!AH50)))","v":""},{"$f":"IF(A50=\"\",\"\",VLOOKUP(A50,Data!G$2:K$302,5,FALSE))","v":""},{"$f":"IF(A50=\"\",\"\",VLOOKUP(A50,Data!G$2:K$302,2,FALSE))","v":""},{"$f":"IF(A50=\"\",\"\",VLOOKUP(A50,Data!G$2:K$302,3,FALSE))","v":""},{"$f":"IF(A50=\"\",\"\",VLOOKUP(A50,Data!G$2:K$302,4,FALSE))","v":""},null,null,null,null,null,null,null,null,null,null,null,null,null,null,null,null,null,null,null,null,null,null,null,null,null,null,0,null,{"$f":"MATCH(\"*\"&AE$1&\"*\",OFFSET(Inscriptions!AA$4:AA$303,SUM(Seniors!AH$6:'Seniors'!AH49),0),0)","v":{"$error":"#N/A"}}]
[{"$f":"IF(ISNA(INDEX(Inscriptions!A$4:A$303,SUM(Seniors!AH$7:'Seniors'!AH51))),\"\",INDEX(Inscriptions!A$4:A$303,SUM(Seniors!AH$7:'Seniors'!AH51)))","v":""},{"$f":"IF(A51=\"\",\"\",VLOOKUP(A51,Data!G$2:K$302,5,FALSE))","v":""},{"$f":"IF(A51=\"\",\"\",VLOOKUP(A51,Data!G$2:K$302,2,FALSE))","v":""},{"$f":"IF(A51=\"\",\"\",VLOOKUP(A51,Data!G$2:K$302,3,FALSE))","v":""},{"$f":"IF(A51=\"\",\"\",VLOOKUP(A51,Data!G$2:K$302,4,FALSE))","v":""},null,null,null,null,null,null,null,null,null,null,null,null,null,null,null,null,null,null,null,null,null,null,null,null,null,null,0,null,{"$f":"MATCH(\"*\"&AE$1&\"*\",OFFSET(Inscriptions!AA$4:AA$303,SUM(Seniors!AH$6:'Seniors'!AH50),0),0)","v":{"$error":"#N/A"}}]
[{"$f":"IF(ISNA(INDEX(Inscriptions!A$4:A$303,SUM(Seniors!AH$7:'Seniors'!AH52))),\"\",INDEX(Inscriptions!A$4:A$303,SUM(Seniors!AH$7:'Seniors'!AH52)))","v":""},{"$f":"IF(A52=\"\",\"\",VLOOKUP(A52,Data!G$2:K$302,5,FALSE))","v":""},{"$f":"IF(A52=\"\",\"\",VLOOKUP(A52,Data!G$2:K$302,2,FALSE))","v":""},{"$f":"IF(A52=\"\",\"\",VLOOKUP(A52,Data!G$2:K$302,3,FALSE))","v":""},{"$f":"IF(A52=\"\",\"\",VLOOKUP(A52,Data!G$2:K$302,4,FALSE))","v":""},null,null,null,null,null,null,null,null,null,null,null,null,null,null,null,null,null,null,null,null,null,null,null,null,null,null,0,null,{"$f":"MATCH(\"*\"&AE$1&\"*\",OFFSET(Inscriptions!AA$4:AA$303,SUM(Seniors!AH$6:'Seniors'!AH51),0),0)","v":{"$error":"#N/A"}}]
[{"$f":"IF(ISNA(INDEX(Inscriptions!A$4:A$303,SUM(Seniors!AH$7:'Seniors'!AH53))),\"\",INDEX(Inscriptions!A$4:A$303,SUM(Seniors!AH$7:'Seniors'!AH53)))","v":""},{"$f":"IF(A53=\"\",\"\",VLOOKUP(A53,Data!G$2:K$302,5,FALSE))","v":""},{"$f":"IF(A53=\"\",\"\",VLOOKUP(A53,Data!G$2:K$302,2,FALSE))","v":""},{"$f":"IF(A53=\"\",\"\",VLOOKUP(A53,Data!G$2:K$302,3,FALSE))","v":""},{"$f":"IF(A53=\"\",\"\",VLOOKUP(A53,Data!G$2:K$302,4,FALSE))","v":""},null,null,null,null,null,null,null,null,null,null,null,null,null,null,null,null,null,null,null,null,null,null,null,null,null,null,0,null,{"$f":"MATCH(\"*\"&AE$1&\"*\",OFFSET(Inscriptions!AA$4:AA$303,SUM(Seniors!AH$6:'Seniors'!AH52),0),0)","v":{"$error":"#N/A"}}]
[{"$f":"IF(ISNA(INDEX(Inscriptions!A$4:A$303,SUM(Seniors!AH$7:'Seniors'!AH54))),\"\",INDEX(Inscriptions!A$4:A$303,SUM(Seniors!AH$7:'Seniors'!AH54)))","v":""},{"$f":"IF(A54=\"\",\"\",VLOOKUP(A54,Data!G$2:K$302,5,FALSE))","v":""},{"$f":"IF(A54=\"\",\"\",VLOOKUP(A54,Data!G$2:K$302,2,FALSE))","v":""},{"$f":"IF(A54=\"\",\"\",VLOOKUP(A54,Data!G$2:K$302,3,FALSE))","v":""},{"$f":"IF(A54=\"\",\"\",VLOOKUP(A54,Data!G$2:K$302,4,FALSE))","v":""},null,null,null,null,null,null,null,null,null,null,null,null,null,null,null,null,null,null,null,null,null,null,null,null,null,null,0,null,{"$f":"MATCH(\"*\"&AE$1&\"*\",OFFSET(Inscriptions!AA$4:AA$303,SUM(Seniors!AH$6:'Seniors'!AH53),0),0)","v":{"$error":"#N/A"}}]
[{"$f":"IF(ISNA(INDEX(Inscriptions!A$4:A$303,SUM(Seniors!AH$7:'Seniors'!AH55))),\"\",INDEX(Inscriptions!A$4:A$303,SUM(Seniors!AH$7:'Seniors'!AH55)))","v":""},{"$f":"IF(A55=\"\",\"\",VLOOKUP(A55,Data!G$2:K$302,5,FALSE))","v":""},{"$f":"IF(A55=\"\",\"\",VLOOKUP(A55,Data!G$2:K$302,2,FALSE))","v":""},{"$f":"IF(A55=\"\",\"\",VLOOKUP(A55,Data!G$2:K$302,3,FALSE))","v":""},{"$f":"IF(A55=\"\",\"\",VLOOKUP(A55,Data!G$2:K$302,4,FALSE))","v":""},null,null,null,null,null,null,null,null,null,null,null,null,null,null,null,null,null,null,null,null,null,null,null,null,null,null,0,null,{"$f":"MATCH(\"*\"&AE$1&\"*\",OFFSET(Inscriptions!AA$4:AA$303,SUM(Seniors!AH$6:'Seniors'!AH54),0),0)","v":{"$error":"#N/A"}}]
[{"$f":"CONCATENATE(IF(ChoixLangue=Languages!$B$1,Languages!$B105,IF(ChoixLangue=Languages!$C$1,Languages!$C105,IF(ChoixLangue=Languages!$D$1,Languages!$D105,Languages!$E105))),SUM(AF7:AF55))","v":"Nbe nageuses : 0"},"-","-","-",null,"-","-","-","-"]

{"sheet":"All categories","index":11,"n_rows":56,"n_cols":34,"rows_kept":56,"cut":false,"hidden":true,"merged":[[3,0,3,13],[1,7,1,13]]}
[{"$f":"IF('Cover Page'!B5=\"\",\"\",'Cover Page'!B5)","v":""},null,null,null,null,null,null,null,null,null,null,null,null,null,null,null,null,null,null,null,null,null,null,null,null,null,null,null,null,null,"x",null,null,{"$f":"MID(CELL(\"filename\",A1),FIND(\"]\",CELL(\"filename\",A1),1)+1,20)","v":"All categories"}]
[{"$f":"IF('Cover Page'!B6=\"\",\"\",'Cover Page'!B6)","v":""},null,null,null,null,null,null,{"$f":"IF(ChoixLangue=Languages!$B$1,CONCATENATE(Languages!$B$97,\" \",AH1),IF(ChoixLangue=Languages!$C$1,CONCATENATE(Languages!$C$97,\" \",AH1),IF(ChoixLangue=Languages!$D$1,CONCATENATE(Languages!$D$97,\" \",AH1),CONCATENATE(Languages!$E$97,\" \",AH1))))","v":"Catégorie All categories"}]
[{"$f":"IF('Cover Page'!B7=\"\",\"\",'Cover Page'!B7)","v":""}]
[{"$f":"IF('Cover Page'!B10=\"\",\"\",CONCATENATE(IF(ChoixLangue=Languages!$B$1,Languages!$B98,IF(ChoixLangue=Languages!$C$1,Languages!$C98,IF(ChoixLangue=Languages!$D$1,Languages!$D98,Languages!$E98))),'Cover Page'!B10))","v":""}]
[{"$f":"A56","v":"Nbe nageuses : 0"}]
[{"$f":"IF(ChoixLangue=Languages!$B$1,Languages!$B99,IF(ChoixLangue=Languages!$C$1,Languages!$C99,IF(ChoixLangue=Languages!$D$1,Languages!$D99,Languages!$E99)))","v":"NOM Prénom"},{"$f":"IF(ChoixLangue=Languages!$B$1,Languages!$B100,IF(ChoixLangue=Languages!$C$1,Languages!$C100,IF(ChoixLangue=Languages!$D$1,Languages!$D100,Languages!$E100)))","v":"Club"},{"$f":"IF(ChoixLangue=Languages!$B$1,Languages!$B101,IF(ChoixLangue=Languages!$C$1,Languages!$C101,IF(ChoixLangue=Languages!$D$1,Languages!$D101,Languages!$E101)))","v":"Licence"},{"$f":"IF(ChoixLangue=Languages!$B$1,Languages!$B102,IF(ChoixLangue=Languages!$C$1,Languages!$C102,IF(ChoixLangue=Languages!$D$1,Languages!$D102,Languages!$E102)))","v":"An. Nais."},{"$f":"IF(ChoixLangue=Languages!$B$1,Languages!$B103,IF(ChoixLangue=Languages!$C$1,Languages!$C103,IF(ChoixLangue=Languages!$D$1,Languages!$D103,Languages!$E103)))","v":"N° Test"},"Figures","Solo Tech","Solo Free","Duo Tech","Duo Free","Mix. Duet Tech","Mix. Duet Free","Team Tech","Team Free"]
[{"$f":"IF(ISNA(INDEX(Inscriptions!A$4:A$303,SUM('All categories'!AH$7:'All categories'!AH7))),\"\",INDEX(Inscriptions!A$4:A$303,SUM('All categories'!AH$7:'All categories'!AH7)))","v":""},{"$f":"IF(A7=\"\",\"\",VLOOKUP(A7,Data!G$2:K$302,5,FALSE))","v":""},{"$f":"IF(A7=\"\",\"\",VLOOKUP(A7,Data!G$2:K$302,2,FALSE))","v":""},{"$f":"IF(A7=\"\",\"\",VLOOKUP(A7,Data!G$2:K$302,3,FALSE))","v":""},{"$f":"IF(A7=\"\",\"\",VLOOKUP(A7,Data!G$2:K$302,4,FALSE))","v":""},null,null,null,null,null,null,null,null,null,null,null,null,null,null,null,null,null,null,null,null,null,null,null,null,null,null,{"$f":"IF(A7<>\"\",1,0)","v":0},null,{"$f":"MATCH(\"*\"&AE$1&\"*\",OFFSET(Inscriptions!M$4:M$303,SUM('All categories'!AH$6:'All categories'!AH6),0),0)","v":{"$error":"#N/A"}}]
[{"$f":"IF(ISNA(INDEX(Inscriptions!A$4:A$303,SUM('All categories'!AH$7:'All categories'!AH8))),\"\",INDEX(Inscriptions!A$4:A$303,SUM('All categories'!AH$7:'All categories'!AH8)))","v":""},{"$f":"IF(A8=\"\",\"\",VLOOKUP(A8,Data!G$2:K$302,5,FALSE))","v":""},{"$f":"IF(A8=\"\",\"\",VLOOKUP(A8,Data!G$2:K$302,2,FALSE))","v":""},{"$f":"IF(A8=\"\",\"\",VLOOKUP(A8,Data!G$2:K$302,3,FALSE))","v":""},{"$f":"IF(A8=\"\",\"\",VLOOKUP(A8,Data!G$2:K$302,4,FALSE))","v":""},null,null,null,null,null,null,null,null,null,null,null,null,null,null,null,null,null,null,null,null,null,null,null,null,null,null,{"$f":"IF(A8<>\"\",1,0)","v":0},null,{"$f":"MATCH(\"*\"&AE$1&\"*\",OFFSET(Inscriptions!M$4:M$303,SUM('All categories'!AH$6:'All categories'!AH7),0),0)","v":{"$error":"#N/A"}}]
[{"$f":"IF(ISNA(INDEX(Inscriptions!A$4:A$303,SUM('All categories'!AH$7:'All categories'!AH9))),\"\",INDEX(Inscriptions!A$4:A$303,SUM('All categories'!AH$7:'All categories'!AH9)))","v":""},{"$f":"IF(A9=\"\",\"\",VLOOKUP(A9,Data!G$2:K$302,5,FALSE))","v":""},{"$f":"IF(A9=\"\",\"\",VLOOKUP(A9,Data!G$2:K$302,2,FALSE))","v":""},{"$f":"IF(A9=\"\",\"\",VLOOKUP(A9,Data!G$2:K$302,3,FALSE))","v":""},{"$f":"IF(A9=\"\",\"\",VLOOKUP(A9,Data!G$2:K$302,4,FALSE))","v":""},null,null,null,null,null,null,null,null,null,null,null,null,null,null,null,null,null,null,null,null,null,null,null,null,null,null,{"$f":"IF(A9<>\"\",1,0)","v":0},null,{"$f":"MATCH(\"*\"&AE$1&\"*\",OFFSET(Inscriptions!M$4:M$303,SUM('All categories'!AH$6:'All categories'!AH8),0),0)","v":{"$error":"#N/A"}}]
[{"$f":"IF(ISNA(INDEX(Inscriptions!A$4:A$303,SUM('All categories'!AH$7:'All categories'!AH10))),\"\",INDEX(Inscriptions!A$4:A$303,SUM('All categories'!AH$7:'All categories'!AH10)))","v":""},{"$f":"IF(A10=\"\",\"\",VLOOKUP(A10,Data!G$2:K$302,5,FALSE))","v":""},{"$f":"IF(A10=\"\",\"\",VLOOKUP(A10,Data!G$2:K$302,2,FALSE))","v":""},{"$f":"IF(A10=\"\",\"\",VLOOKUP(A10,Data!G$2:K$302,3,FALSE))","v":""},{"$f":"IF(A10=\"\",\"\",VLOOKUP(A10,Data!G$2:K$302,4,FALSE))","v":""},null,null,null,null,null,null,null,null,null,null,null,null,null,null,null,null,null,null,null,null,null,null,null,null,null,null,0,null,{"$f":"MATCH(\"*\"&AE$1&\"*\",OFFSET(Inscriptions!M$4:M$303,SUM('All categories'!AH$6:'All categories'!AH9),0),0)","v":{"$error":"#N/A"}}]
[{"$f":"IF(ISNA(INDEX(Inscriptions!A$4:A$303,SUM('All categories'!AH$7:'All categories'!AH11))),\"\",INDEX(Inscriptions!A$4:A$303,SUM('All categories'!AH$7:'All categories'!AH11)))","v":""},{"$f":"IF(A11=\"\",\"\",VLOOKUP(A11,Data!G$2:K$302,5,FALSE))","v":""},{"$f":"IF(A11=\"\",\"\",VLOOKUP(A11,Data!G$2:K$302,2,FALSE))","v":""},{"$f":"IF(A11=\"\",\"\",VLOOKUP(A11,Data!G$2:K$302,3,FALSE))","v":""},{"$f":"IF(A11=\"\",\"\",VLOOKUP(A11,Data!G$2:K$302,4,FALSE))","v":""},null,null,null,null,null,null,null,null,null,null,null,null,null,null,null,null,null,null,null,null,null,null,null,null,null,null,0,null,{"$f":"MATCH(\"*\"&AE$1&\"*\",OFFSET(Inscriptions!M$4:M$303,SUM('All categories'!AH$6:'All categories'!AH10),0),0)","v":{"$error":"#N/A"}}]
[{"$f":"IF(ISNA(INDEX(Inscriptions!A$4:A$303,SUM('All categories'!AH$7:'All categories'!AH12))),\"\",INDEX(Inscriptions!A$4:A$303,SUM('All categories'!AH$7:'All categories'!AH12)))","v":""},{"$f":"IF(A12=\"\",\"\",VLOOKUP(A12,Data!G$2:K$302,5,FALSE))","v":""},{"$f":"IF(A12=\"\",\"\",VLOOKUP(A12,Data!G$2:K$302,2,FALSE))","v":""},{"$f":"IF(A12=\"\",\"\",VLOOKUP(A12,Data!G$2:K$302,3,FALSE))","v":""},{"$f":"IF(A12=\"\",\"\",VLOOKUP(A12,Data!G$2:K$302,4,FALSE))","v":""},null,null,null,null,null,null,null,null,null,null,null,null,null,null,null,null,null,null,null,null,null,null,null,null,null,null,0,null,{"$f":"MATCH(\"*\"&AE$1&\"*\",OFFSET(Inscriptions!M$4:M$303,SUM('All categories'!AH$6:'All categories'!AH11),0),0)","v":{"$error":"#N/A"}}]
[{"$f":"IF(ISNA(INDEX(Inscriptions!A$4:A$303,SUM('All categories'!AH$7:'All categories'!AH13))),\"\",INDEX(Inscriptions!A$4:A$303,SUM('All categories'!AH$7:'All categories'!AH13)))","v":""},{"$f":"IF(A13=\"\",\"\",VLOOKUP(A13,Data!G$2:K$302,5,FALSE))","v":""},{"$f":"IF(A13=\"\",\"\",VLOOKUP(A13,Data!G$2:K$302,2,FALSE))","v":""},{"$f":"IF(A13=\"\",\"\",VLOOKUP(A13,Data!G$2:K$302,3,FALSE))","v":""},{"$f":"IF(A13=\"\",\"\",VLOOKUP(A13,Data!G$2:K$302,4,FALSE))","v":""},null,null,null,null,null,null,null,null,null,null,null,null,null,null,null,null,null,null,null,null,null,null,null,null,null,null,0,null,{"$f":"MATCH(\"*\"&AE$1&\"*\",OFFSET(Inscriptions!M$4:M$303,SUM('All categories'!AH$6:'All categories'!AH12),0),0)","v":{"$error":"#N/A"}}]
[{"$f":"IF(ISNA(INDEX(Inscriptions!A$4:A$303,SUM('All categories'!AH$7:'All categories'!AH14))),\"\",INDEX(Inscriptions!A$4:A$303,SUM('All categories'!AH$7:'All categories'!AH14)))","v":""},{"$f":"IF(A14=\"\",\"\",VLOOKUP(A14,Data!G$2:K$302,5,FALSE))","v":""},{"$f":"IF(A14=\"\",\"\",VLOOKUP(A14,Data!G$2:K$302,2,FALSE))","v":""},{"$f":"IF(A14=\"\",\"\",VLOOKUP(A14,Data!G$2:K$302,3,FALSE))","v":""},{"$f":"IF(A14=\"\",\"\",VLOOKUP(A14,Data!G$2:K$302,4,FALSE))","v":""},null,null,null,null,null,null,null,null,null,null,null,null,null,null,null,null,null,null,null,null,null,null,null,null,null,null,0,null,{"$f":"MATCH(\"*\"&AE$1&\"*\",OFFSET(Inscriptions!M$4:M$303,SUM('All categories'!AH$6:'All categories'!AH13),0),0)","v":{"$error":"#N/A"}}]
[{"$f":"IF(ISNA(INDEX(Inscriptions!A$4:A$303,SUM('All categories'!AH$7:'All categories'!AH15))),\"\",INDEX(Inscriptions!A$4:A$303,SUM('All categories'!AH$7:'All categories'!AH15)))","v":""},{"$f":"IF(A15=\"\",\"\",VLOOKUP(A15,Data!G$2:K$302,5,FALSE))","v":""},{"$f":"IF(A15=\"\",\"\",VLOOKUP(A15,Data!G$2:K$302,2,FALSE))","v":""},{"$f":"IF(A15=\"\",\"\",VLOOKUP(A15,Data!G$2:K$302,3,FALSE))","v":""},{"$f":"IF(A15=\"\",\"\",VLOOKUP(A15,Data!G$2:K$302,4,FALSE))","v":""},null,null,null,null,null,null,null,null,null,null,null,null,null,null,null,null,null,null,null,null,null,null,null,null,null,null,0,null,{"$f":"MATCH(\"*\"&AE$1&\"*\",OFFSET(Inscriptions!M$4:M$303,SUM('All categories'!AH$6:'All categories'!AH14),0),0)","v":{"$error":"#N/A"}}]
[{"$f":"IF(ISNA(INDEX(Inscriptions!A$4:A$303,SUM('All categories'!AH$7:'All categories'!AH16))),\"\",INDEX(Inscriptions!A$4:A$303,SUM('All categories'!AH$7:'All categories'!AH16)))","v":""},{"$f":"IF(A16=\"\",\"\",VLOOKUP(A16,Data!G$2:K$302,5,FALSE))","v":""},{"$f":"IF(A16=\"\",\"\",VLOOKUP(A16,Data!G$2:K$302,2,FALSE))","v":""},{"$f":"IF(A16=\"\",\"\",VLOOKUP(A16,Data!G$2:K$302,3,FALSE))","v":""},{"$f":"IF(A16=\"\",\"\",VLOOKUP(A16,Data!G$2:K$302,4,FALSE))","v":""},null,null,null,null,null,null,null,null,null,null,null,null,null,null,null,null,null,null,null,null,null,null,null,null,null,null,0,null,{"$f":"MATCH(\"*\"&AE$1&\"*\",OFFSET(Inscriptions!M$4:M$303,SUM('All categories'!AH$6:'All categories'!AH15),0),0)","v":{"$error":"#N/A"}}]
[{"$f":"IF(ISNA(INDEX(Inscriptions!A$4:A$303,SUM('All categories'!AH$7:'All categories'!AH17))),\"\",INDEX(Inscriptions!A$4:A$303,SUM('All categories'!AH$7:'All categories'!AH17)))","v":""},{"$f":"IF(A17=\"\",\"\",VLOOKUP(A17,Data!G$2:K$302,5,FALSE))","v":""},{"$f":"IF(A17=\"\",\"\",VLOOKUP(A17,Data!G$2:K$302,2,FALSE))","v":""},{"$f":"IF(A17=\"\",\"\",VLOOKUP(A17,Data!G$2:K$302,3,FALSE))","v":""},{"$f":"IF(A17=\"\",\"\",VLOOKUP(A17,Data!G$2:K$302,4,FALSE))","v":""},null,null,null,null,null,null,null,null,null,null,null,null,null,null,null,null,null,null,null,null,null,null,null,null,null,null,0,null,{"$f":"MATCH(\"*\"&AE$1&\"*\",OFFSET(Inscriptions!M$4:M$303,SUM('All categories'!AH$6:'All categories'!AH16),0),0)","v":{"$error":"#N/A"}}]
[{"$f":"IF(ISNA(INDEX(Inscriptions!A$4:A$303,SUM('All categories'!AH$7:'All categories'!AH18))),\"\",INDEX(Inscriptions!A$4:A$303,SUM('All categories'!AH$7:'All categories'!AH18)))","v":""},{"$f":"IF(A18=\"\",\"\",VLOOKUP(A18,Data!G$2:K$302,5,FALSE))","v":""},{"$f":"IF(A18=\"\",\"\",VLOOKUP(A18,Data!G$2:K$302,2,FALSE))","v":""},{"$f":"IF(A18=\"\",\"\",VLOOKUP(A18,Data!G$2:K$302,3,FALSE))","v":""},{"$f":"IF(A18=\"\",\"\",VLOOKUP(A18,Data!G$2:K$302,4,FALSE))","v":""},null,null,null,null,null,null,null,null,null,null,null,null,null,null,null,null,null,null,null,null,null,null,null,null,null,null,0,null,{"$f":"MATCH(\"*\"&AE$1&\"*\",OFFSET(Inscriptions!M$4:M$303,SUM('All categories'!AH$6:'All categories'!AH17),0),0)","v":{"$error":"#N/A"}}]
[{"$f":"IF(ISNA(INDEX(Inscriptions!A$4:A$303,SUM('All categories'!AH$7:'All categories'!AH19))),\"\",INDEX(Inscriptions!A$4:A$303,SUM('All categories'!AH$7:'All categories'!AH19)))","v":""},{"$f":"IF(A19=\"\",\"\",VLOOKUP(A19,Data!G$2:K$302,5,FALSE))","v":""},{"$f":"IF(A19=\"\",\"\",VLOOKUP(A19,Data!G$2:K$302,2,FALSE))","v":""},{"$f":"IF(A19=\"\",\"\",VLOOKUP(A19,Data!G$2:K$302,3,FALSE))","v":""},{"$f":"IF(A19=\"\",\"\",VLOOKUP(A19,Data!G$2:K$302,4,FALSE))","v":""},null,null,null,null,null,null,null,null,null,null,null,null,null,null,null,null,null,null,null,null,null,null,null,null,null,null,0,null,{"$f":"MATCH(\"*\"&AE$1&\"*\",OFFSET(Inscriptions!M$4:M$303,SUM('All categories'!AH$6:'All categories'!AH18),0),0)","v":{"$error":"#N/A"}}]
[{"$f":"IF(ISNA(INDEX(Inscriptions!A$4:A$303,SUM('All categories'!AH$7:'All categories'!AH20))),\"\",INDEX(Inscriptions!A$4:A$303,SUM('All categories'!AH$7:'All categories'!AH20)))","v":""},{"$f":"IF(A20=\"\",\"\",VLOOKUP(A20,Data!G$2:K$302,5,FALSE))","v":""},{"$f":"IF(A20=\"\",\"\",VLOOKUP(A20,Data!G$2:K$302,2,FALSE))","v":""},{"$f":"IF(A20=\"\",\"\",VLOOKUP(A20,Data!G$2:K$302,3,FALSE))","v":""},{"$f":"IF(A20=\"\",\"\",VLOOKUP(A20,Data!G$2:K$302,4,FALSE))","v":""},null,null,null,null,null,null,null,null,null,null,null,null,null,null,null,null,null,null,null,null,null,null,null,null,null,null,0,null,{"$f":"MATCH(\"*\"&AE$1&\"*\",OFFSET(Inscriptions!M$4:M$303,SUM('All categories'!AH$6:'All categories'!AH19),0),0)","v":{"$error":"#N/A"}}]
[{"$f":"IF(ISNA(INDEX(Inscriptions!A$4:A$303,SUM('All categories'!AH$7:'All categories'!AH21))),\"\",INDEX(Inscriptions!A$4:A$303,SUM('All categories'!AH$7:'All categories'!AH21)))","v":""},{"$f":"IF(A21=\"\",\"\",VLOOKUP(A21,Data!G$2:K$302,5,FALSE))","v":""},{"$f":"IF(A21=\"\",\"\",VLOOKUP(A21,Data!G$2:K$302,2,FALSE))","v":""},{"$f":"IF(A21=\"\",\"\",VLOOKUP(A21,Data!G$2:K$302,3,FALSE))","v":""},{"$f":"IF(A21=\"\",\"\",VLOOKUP(A21,Data!G$2:K$302,4,FALSE))","v":""},null,null,null,null,null,null,null,null,null,null,null,null,null,null,null,null,null,null,null,null,null,null,null,null,null,null,0,null,{"$f":"MATCH(\"*\"&AE$1&\"*\",OFFSET(Inscriptions!M$4:M$303,SUM('All categories'!AH$6:'All categories'!AH20),0),0)","v":{"$error":"#N/A"}}]
[{"$f":"IF(ISNA(INDEX(Inscriptions!A$4:A$303,SUM('All categories'!AH$7:'All categories'!AH22))),\"\",INDEX(Inscriptions!A$4:A$303,SUM('All categories'!AH$7:'All categories'!AH22)))","v":""},{"$f":"IF(A22=\"\",\"\",VLOOKUP(A22,Data!G$2:K$302,5,FALSE))","v":""},{"$f":"IF(A22=\"\",\"\",VLOOKUP(A22,Data!G$2:K$302,2,FALSE))","v":""},{"$f":"IF(A22=\"\",\"\",VLOOKUP(A22,Data!G$2:K$302,3,FALSE))","v":""},{"$f":"IF(A22=\"\",\"\",VLOOKUP(A22,Data!G$2:K$302,4,FALSE))","v":""},null,null,null,null,null,null,null,null,null,null,null,null,null,null,null,null,null,null,null,null,null,null,null,null,null,null,0,null,{"$f":"MATCH(\"*\"&AE$1&\"*\",OFFSET(Inscriptions!M$4:M$303,SUM('All categories'!AH$6:'All categories'!AH21),0),0)","v":{"$error":"#N/A"}}]
[{"$f":"IF(ISNA(INDEX(Inscriptions!A$4:A$303,SUM('All categories'!AH$7:'All categories'!AH23))),\"\",INDEX(Inscriptions!A$4:A$303,SUM('All categories'!AH$7:'All categories'!AH23)))","v":""},{"$f":"IF(A23=\"\",\"\",VLOOKUP(A23,Data!G$2:K$302,5,FALSE))","v":""},{"$f":"IF(A23=\"\",\"\",VLOOKUP(A23,Data!G$2:K$302,2,FALSE))","v":""},{"$f":"IF(A23=\"\",\"\",VLOOKUP(A23,Data!G$2:K$302,3,FALSE))","v":""},{"$f":"IF(A23=\"\",\"\",VLOOKUP(A23,Data!G$2:K$302,4,FALSE))","v":""},null,null,null,null,null,null,null,null,null,null,null,null,null,null,null,null,null,null,null,null,null,null,null,null,null,null,0,null,{"$f":"MATCH(\"*\"&AE$1&\"*\",OFFSET(Inscriptions!M$4:M$303,SUM('All categories'!AH$6:'All categories'!AH22),0),0)","v":{"$error":"#N/A"}}]
[{"$f":"IF(ISNA(INDEX(Inscriptions!A$4:A$303,SUM('All categories'!AH$7:'All categories'!AH24))),\"\",INDEX(Inscriptions!A$4:A$303,SUM('All categories'!AH$7:'All categories'!AH24)))","v":""},{"$f":"IF(A24=\"\",\"\",VLOOKUP(A24,Data!G$2:K$302,5,FALSE))","v":""},{"$f":"IF(A24=\"\",\"\",VLOOKUP(A24,Data!G$2:K$302,2,FALSE))","v":""},{"$f":"IF(A24=\"\",\"\",VLOOKUP(A24,Data!G$2:K$302,3,FALSE))","v":""},{"$f":"IF(A24=\"\",\"\",VLOOKUP(A24,Data!G$2:K$302,4,FALSE))","v":""},null,null,null,null,null,null,null,null,null,null,null,null,null,null,null,null,null,null,null,null,null,null,null,null,null,null,0,null,{"$f":"MATCH(\"*\"&AE$1&\"*\",OFFSET(Inscriptions!M$4:M$303,SUM('All categories'!AH$6:'All categories'!AH23),0),0)","v":{"$error":"#N/A"}}]
[{"$f":"IF(ISNA(INDEX(Inscriptions!A$4:A$303,SUM('All categories'!AH$7:'All categories'!AH25))),\"\",INDEX(Inscriptions!A$4:A$303,SUM('All categories'!AH$7:'All categories'!AH25)))","v":""},{"$f":"IF(A25=\"\",\"\",VLOOKUP(A25,Data!G$2:K$302,5,FALSE))","v":""},{"$f":"IF(A25=\"\",\"\",VLOOKUP(A25,Data!G$2:K$302,2,FALSE))","v":""},{"$f":"IF(A25=\"\",\"\",VLOOKUP(A25,Data!G$2:K$302,3,FALSE))","v":""},{"$f":"IF(A25=\"\",\"\",VLOOKUP(A25,Data!G$2:K$302,4,FALSE))","v":""},null,null,null,null,null,null,null,null,null,null,null,null,null,null,null,null,null,null,null,null,null,null,null,null,null,null,0,null,{"$f":"MATCH(\"*\"&AE$1&\"*\",OFFSET(Inscriptions!M$4:M$303,SUM('All categories'!AH$6:'All categories'!AH24),0),0)","v":{"$error":"#N/A"}}]
[{"$f":"IF(ISNA(INDEX(Inscriptions!A$4:A$303,SUM('All categories'!AH$7:'All categories'!AH26))),\"\",INDEX(Inscriptions!A$4:A$303,SUM('All categories'!AH$7:'All categories'!AH26)))","v":""},{"$f":"IF(A26=\"\",\"\",VLOOKUP(A26,Data!G$2:K$302,5,FALSE))","v":""},{"$f":"IF(A26=\"\",\"\",VLOOKUP(A26,Data!G$2:K$302,2,FALSE))","v":""},{"$f":"IF(A26=\"\",\"\",VLOOKUP(A26,Data!G$2:K$302,3,FALSE))","v":""},{"$f":"IF(A26=\"\",\"\",VLOOKUP(A26,Data!G$2:K$302,4,FALSE))","v":""},null,null,null,null,null,null,null,null,null,null,null,null,null,null,null,null,null,null,null,null,null,null,null,null,null,null,0,null,{"$f":"MATCH(\"*\"&AE$1&\"*\",OFFSET(Inscriptions!M$4:M$303,SUM('All categories'!AH$6:'All categories'!AH25),0),0)","v":{"$error":"#N/A"}}]
[{"$f":"IF(ISNA(INDEX(Inscriptions!A$4:A$303,SUM('All categories'!AH$7:'All categories'!AH27))),\"\",INDEX(Inscriptions!A$4:A$303,SUM('All categories'!AH$7:'All categories'!AH27)))","v":""},{"$f":"IF(A27=\"\",\"\",VLOOKUP(A27,Data!G$2:K$302,5,FALSE))","v":""},{"$f":"IF(A27=\"\",\"\",VLOOKUP(A27,Data!G$2:K$302,2,FALSE))","v":""},{"$f":"IF(A27=\"\",\"\",VLOOKUP(A27,Data!G$2:K$302,3,FALSE))","v":""},{"$f":"IF(A27=\"\",\"\",VLOOKUP(A27,Data!G$2:K$302,4,FALSE))","v":""},null,null,null,null,null,null,null,null,null,null,null,null,null,null,null,null,null,null,null,null,null,null,null,null,null,null,0,null,{"$f":"MATCH(\"*\"&AE$1&\"*\",OFFSET(Inscriptions!M$4:M$303,SUM('All categories'!AH$6:'All categories'!AH26),0),0)","v":{"$error":"#N/A"}}]
[{"$f":"IF(ISNA(INDEX(Inscriptions!A$4:A$303,SUM('All categories'!AH$7:'All categories'!AH28))),\"\",INDEX(Inscriptions!A$4:A$303,SUM('All categories'!AH$7:'All categories'!AH28)))","v":""},{"$f":"IF(A28=\"\",\"\",VLOOKUP(A28,Data!G$2:K$302,5,FALSE))","v":""},{"$f":"IF(A28=\"\",\"\",VLOOKUP(A28,Data!G$2:K$302,2,FALSE))","v":""},{"$f":"IF(A28=\"\",\"\",VLOOKUP(A28,Data!G$2:K$302,3,FALSE))","v":""},{"$f":"IF(A28=\"\",\"\",VLOOKUP(A28,Data!G$2:K$302,4,FALSE))","v":""},null,null,null,null,null,null,null,null,null,null,null,null,null,null,null,null,null,null,null,null,null,null,null,null,null,null,0,null,{"$f":"MATCH(\"*\"&AE$1&\"*\",OFFSET(Inscriptions!M$4:M$303,SUM('All categories'!AH$6:'All categories'!AH27),0),0)","v":{"$error":"#N/A"}}]
[{"$f":"IF(ISNA(INDEX(Inscriptions!A$4:A$303,SUM('All categories'!AH$7:'All categories'!AH29))),\"\",INDEX(Inscriptions!A$4:A$303,SUM('All categories'!AH$7:'All categories'!AH29)))","v":""},{"$f":"IF(A29=\"\",\"\",VLOOKUP(A29,Data!G$2:K$302,5,FALSE))","v":""},{"$f":"IF(A29=\"\",\"\",VLOOKUP(A29,Data!G$2:K$302,2,FALSE))","v":""},{"$f":"IF(A29=\"\",\"\",VLOOKUP(A29,Data!G$2:K$302,3,FALSE))","v":""},{"$f":"IF(A29=\"\",\"\",VLOOKUP(A29,Data!G$2:K$302,4,FALSE))","v":""},null,null,null,null,null,null,null,null,null,null,null,null,null,null,null,null,null,null,null,null,null,null,null,null,null,null,0,null,{"$f":"MATCH(\"*\"&AE$1&\"*\",OFFSET(Inscriptions!M$4:M$303,SUM('All categories'!AH$6:'All categories'!AH28),0),0)","v":{"$error":"#N/A"}}]
[{"$f":"IF(ISNA(INDEX(Inscriptions!A$4:A$303,SUM('All categories'!AH$7:'All categories'!AH30))),\"\",INDEX(Inscriptions!A$4:A$303,SUM('All categories'!AH$7:'All categories'!AH30)))","v":""},{"$f":"IF(A30=\"\",\"\",VLOOKUP(A30,Data!G$2:K$302,5,FALSE))","v":""},{"$f":"IF(A30=\"\",\"\",VLOOKUP(A30,Data!G$2:K$302,2,FALSE))","v":""},{"$f":"IF(A30=\"\",\"\",VLOOKUP(A30,Data!G$2:K$302,3,FALSE))","v":""},{"$f":"IF(A30=\"\",\"\",VLOOKUP(A30,Data!G$2:K$302,4,FALSE))","v":""},null,null,null,null,null,null,null,null,null,null,null,null,null,null,null,null,null,null,null,null,null,null,null,null,null,null,0,null,{"$f":"MATCH(\"*\"&AE$1&\"*\",OFFSET(Inscriptions!M$4:M$303,SUM('All categories'!AH$6:'All categories'!AH29),0),0)","v":{"$error":"#N/A"}}]
[{"$f":"IF(ISNA(INDEX(Inscriptions!A$4:A$303,SUM('All categories'!AH$7:'All categories'!AH31))),\"\",INDEX(Inscriptions!A$4:A$303,SUM('All categories'!AH$7:'All categories'!AH31)))","v":""},{"$f":"IF(A31=\"\",\"\",VLOOKUP(A31,Data!G$2:K$302,5,FALSE))","v":""},{"$f":"IF(A31=\"\",\"\",VLOOKUP(A31,Data!G$2:K$302,2,FALSE))","v":""},{"$f":"IF(A31=\"\",\"\",VLOOKUP(A31,Data!G$2:K$302,3,FALSE))","v":""},{"$f":"IF(A31=\"\",\"\",VLOOKUP(A31,Data!G$2:K$302,4,FALSE))","v":""},null,null,null,null,null,null,null,null,null,null,null,null,null,null,null,null,null,null,null,null,null,null,null,null,null,null,0,null,{"$f":"MATCH(\"*\"&AE$1&\"*\",OFFSET(Inscriptions!M$4:M$303,SUM('All categories'!AH$6:'All categories'!AH30),0),0)","v":{"$error":"#N/A"}}]
[{"$f":"IF(ISNA(INDEX(Inscriptions!A$4:A$303,SUM('All categories'!AH$7:'All categories'!AH32))),\"\",INDEX(Inscriptions!A$4:A$303,SUM('All categories'!AH$7:'All categories'!AH32)))","v":""},{"$f":"IF(A32=\"\",\"\",VLOOKUP(A32,Data!G$2:K$302,5,FALSE))","v":""},{"$f":"IF(A32=\"\",\"\",VLOOKUP(A32,Data!G$2:K$302,2,FALSE))","v":""},{"$f":"IF(A32=\"\",\"\",VLOOKUP(A32,Data!G$2:K$302,3,FALSE))","v":""},{"$f":"IF(A32=\"\",\"\",VLOOKUP(A32,Data!G$2:K$302,4,FALSE))","v":""},null,null,null,null,null,null,null,null,null,null,null,null,null,null,null,null,null,null,null,null,null,null,null,null,null,null,0,null,{"$f":"MATCH(\"*\"&AE$1&\"*\",OFFSET(Inscriptions!M$4:M$303,SUM('All categories'!AH$6:'All categories'!AH31),0),0)","v":{"$error":"#N/A"}}]
[{"$f":"IF(ISNA(INDEX(Inscriptions!A$4:A$303,SUM('All categories'!AH$7:'All categories'!AH33))),\"\",INDEX(Inscriptions!A$4:A$303,SUM('All categories'!AH$7:'All categories'!AH33)))","v":""},{"$f":"IF(A33=\"\",\"\",VLOOKUP(A33,Data!G$2:K$302,5,FALSE))","v":""},{"$f":"IF(A33=\"\",\"\",VLOOKUP(A33,Data!G$2:K$302,2,FALSE))","v":""},{"$f":"IF(A33=\"\",\"\",VLOOKUP(A33,Data!G$2:K$302,3,FALSE))","v":""},{"$f":"IF(A33=\"\",\"\",VLOOKUP(A33,Data!G$2:K$302,4,FALSE))","v":""},null,null,null,null,null,null,null,null,null,null,null,null,null,null,null,null,null,null,null,null,null,null,null,null,null,null,0,null,{"$f":"MATCH(\"*\"&AE$1&\"*\",OFFSET(Inscriptions!M$4:M$303,SUM('All categories'!AH$6:'All categories'!AH32),0),0)","v":{"$error":"#N/A"}}]
[{"$f":"IF(ISNA(INDEX(Inscriptions!A$4:A$303,SUM('All categories'!AH$7:'All categories'!AH34))),\"\",INDEX(Inscriptions!A$4:A$303,SUM('All categories'!AH$7:'All categories'!AH34)))","v":""},{"$f":"IF(A34=\"\",\"\",VLOOKUP(A34,Data!G$2:K$302,5,FALSE))","v":""},{"$f":"IF(A34=\"\",\"\",VLOOKUP(A34,Data!G$2:K$302,2,FALSE))","v":""},{"$f":"IF(A34=\"\",\"\",VLOOKUP(A34,Data!G$2:K$302,3,FALSE))","v":""},{"$f":"IF(A34=\"\",\"\",VLOOKUP(A34,Data!G$2:K$302,4,FALSE))","v":""},null,null,null,null,null,null,null,null,null,null,null,null,null,null,null,null,null,null,null,null,null,null,null,null,null,null,0,null,{"$f":"MATCH(\"*\"&AE$1&\"*\",OFFSET(Inscriptions!M$4:M$303,SUM('All categories'!AH$6:'All categories'!AH33),0),0)","v":{"$error":"#N/A"}}]
[{"$f":"IF(ISNA(INDEX(Inscriptions!A$4:A$303,SUM('All categories'!AH$7:'All categories'!AH35))),\"\",INDEX(Inscriptions!A$4:A$303,SUM('All categories'!AH$7:'All categories'!AH35)))","v":""},{"$f":"IF(A35=\"\",\"\",VLOOKUP(A35,Data!G$2:K$302,5,FALSE))","v":""},{"$f":"IF(A35=\"\",\"\",VLOOKUP(A35,Data!G$2:K$302,2,FALSE))","v":""},{"$f":"IF(A35=\"\",\"\",VLOOKUP(A35,Data!G$2:K$302,3,FALSE))","v":""},{"$f":"IF(A35=\"\",\"\",VLOOKUP(A35,Data!G$2:K$302,4,FALSE))","v":""},null,null,null,null,null,null,null,null,null,null,null,null,null,null,null,null,null,null,null,null,null,null,null,null,null,null,0,null,{"$f":"MATCH(\"*\"&AE$1&\"*\",OFFSET(Inscriptions!M$4:M$303,SUM('All categories'!AH$6:'All categories'!AH34),0),0)","v":{"$error":"#N/A"}}]
[{"$f":"IF(ISNA(INDEX(Inscriptions!A$4:A$303,SUM('All categories'!AH$7:'All categories'!AH36))),\"\",INDEX(Inscriptions!A$4:A$303,SUM('All categories'!AH$7:'All categories'!AH36)))","v":""},{"$f":"IF(A36=\"\",\"\",VLOOKUP(A36,Data!G$2:K$302,5,FALSE))","v":""},{"$f":"IF(A36=\"\",\"\",VLOOKUP(A36,Data!G$2:K$302,2,FALSE))","v":""},{"$f":"IF(A36=\"\",\"\",VLOOKUP(A36,Data!G$2:K$302,3,FALSE))","v":""},{"$f":"IF(A36=\"\",\"\",VLOOKUP(A36,Data!G$2:K$302,4,FALSE))","v":""},null,null,null,null,null,null,null,null,null,null,null,null,null,null,null,null,null,null,null,null,null,null,null,null,null,null,0,null,{"$f":"MATCH(\"*\"&AE$1&\"*\",OFFSET(Inscriptions!M$4:M$303,SUM('All categories'!AH$6:'All categories'!AH35),0),0)","v":{"$error":"#N/A"}}]
[{"$f":"IF(ISNA(INDEX(Inscriptions!A$4:A$303,SUM('All categories'!AH$7:'All categories'!AH37))),\"\",INDEX(Inscriptions!A$4:A$303,SUM('All categories'!AH$7:'All categories'!AH37)))","v":""},{"$f":"IF(A37=\"\",\"\",VLOOKUP(A37,Data!G$2:K$302,5,FALSE))","v":""},{"$f":"IF(A37=\"\",\"\",VLOOKUP(A37,Data!G$2:K$302,2,FALSE))","v":""},{"$f":"IF(A37=\"\",\"\",VLOOKUP(A37,Data!G$2:K$302,3,FALSE))","v":""},{"$f":"IF(A37=\"\",\"\",VLOOKUP(A37,Data!G$2:K$302,4,FALSE))","v":""},null,null,null,null,null,null,null,null,null,null,null,null,null,null,null,null,null,null,null,null,null,null,null,null,null,null,0,null,{"$f":"MATCH(\"*\"&AE$1&\"*\",OFFSET(Inscriptions!M$4:M$303,SUM('All categories'!AH$6:'All categories'!AH36),0),0)","v":{"$error":"#N/A"}}]
[{"$f":"IF(ISNA(INDEX(Inscriptions!A$4:A$303,SUM('All categories'!AH$7:'All categories'!AH38))),\"\",INDEX(Inscriptions!A$4:A$303,SUM('All categories'!AH$7:'All categories'!AH38)))","v":""},{"$f":"IF(A38=\"\",\"\",VLOOKUP(A38,Data!G$2:K$302,5,FALSE))","v":""},{"$f":"IF(A38=\"\",\"\",VLOOKUP(A38,Data!G$2:K$302,2,FALSE))","v":""},{"$f":"IF(A38=\"\",\"\",VLOOKUP(A38,Data!G$2:K$302,3,FALSE))","v":""},{"$f":"IF(A38=\"\",\"\",VLOOKUP(A38,Data!G$2:K$302,4,FALSE))","v":""},null,null,null,null,null,null,null,null,null,null,null,null,null,null,null,null,null,null,null,null,null,null,null,null,null,null,0,null,{"$f":"MATCH(\"*\"&AE$1&\"*\",OFFSET(Inscriptions!M$4:M$303,SUM('All categories'!AH$6:'All categories'!AH37),0),0)","v":{"$error":"#N/A"}}]
[{"$f":"IF(ISNA(INDEX(Inscriptions!A$4:A$303,SUM('All categories'!AH$7:'All categories'!AH39))),\"\",INDEX(Inscriptions!A$4:A$303,SUM('All categories'!AH$7:'All categories'!AH39)))","v":""},{"$f":"IF(A39=\"\",\"\",VLOOKUP(A39,Data!G$2:K$302,5,FALSE))","v":""},{"$f":"IF(A39=\"\",\"\",VLOOKUP(A39,Data!G$2:K$302,2,FALSE))","v":""},{"$f":"IF(A39=\"\",\"\",VLOOKUP(A39,Data!G$2:K$302,3,FALSE))","v":""},{"$f":"IF(A39=\"\",\"\",VLOOKUP(A39,Data!G$2:K$302,4,FALSE))","v":""},null,null,null,null,null,null,null,null,null,null,null,null,null,null,null,null,null,null,null,null,null,null,null,null,null,null,0,null,{"$f":"MATCH(\"*\"&AE$1&\"*\",OFFSET(Inscriptions!M$4:M$303,SUM('All categories'!AH$6:'All categories'!AH38),0),0)","v":{"$error":"#N/A"}}]
[{"$f":"IF(ISNA(INDEX(Inscriptions!A$4:A$303,SUM('All categories'!AH$7:'All categories'!AH40))),\"\",INDEX(Inscriptions!A$4:A$303,SUM('All categories'!AH$7:'All categories'!AH40)))","v":""},{"$f":"IF(A40=\"\",\"\",VLOOKUP(A40,Data!G$2:K$302,5,FALSE))","v":""},{"$f":"IF(A40=\"\",\"\",VLOOKUP(A40,Data!G$2:K$302,2,FALSE))","v":""},{"$f":"IF(A40=\"\",\"\",VLOOKUP(A40,Data!G$2:K$302,3,FALSE))","v":""},{"$f":"IF(A40=\"\",\"\",VLOOKUP(A40,Data!G$2:K$302,4,FALSE))","v":""},null,null,null,null,null,null,null,null,null,null,null,null,null,null,null,null,null,null,null,null,null,null,null,null,null,null,0,null,{"$f":"MATCH(\"*\"&AE$1&\"*\",OFFSET(Inscriptions!M$4:M$303,SUM('All categories'!AH$6:'All categories'!AH39),0),0)","v":{"$error":"#N/A"}}]
[{"$f":"IF(ISNA(INDEX(Inscriptions!A$4:A$303,SUM('All categories'!AH$7:'All categories'!AH41))),\"\",INDEX(Inscriptions!A$4:A$303,SUM('All categories'!AH$7:'All categories'!AH41)))","v":""},{"$f":"IF(A41=\"\",\"\",VLOOKUP(A41,Data!G$2:K$302,5,FALSE))","v":""},{"$f":"IF(A41=\"\",\"\",VLOOKUP(A41,Data!G$2:K$302,2,FALSE))","v":""},{"$f":"IF(A41=\"\",\"\",VLOOKUP(A41,Data!G$2:K$302,3,FALSE))","v":""},{"$f":"IF(A41=\"\",\"\",VLOOKUP(A41,Data!G$2:K$302,4,FALSE))","v":""},null,null,null,null,null,null,null,null,null,null,null,null,null,null,null,null,null,null,null,null,null,null,null,null,null,null,0,null,{"$f":"MATCH(\"*\"&AE$1&\"*\",OFFSET(Inscriptions!M$4:M$303,SUM('All categories'!AH$6:'All categories'!AH40),0),0)","v":{"$error":"#N/A"}}]
[{"$f":"IF(ISNA(INDEX(Inscriptions!A$4:A$303,SUM('All categories'!AH$7:'All categories'!AH42))),\"\",INDEX(Inscriptions!A$4:A$303,SUM('All categories'!AH$7:'All categories'!AH42)))","v":""},{"$f":"IF(A42=\"\",\"\",VLOOKUP(A42,Data!G$2:K$302,5,FALSE))","v":""},{"$f":"IF(A42=\"\",\"\",VLOOKUP(A42,Data!G$2:K$302,2,FALSE))","v":""},{"$f":"IF(A42=\"\",\"\",VLOOKUP(A42,Data!G$2:K$302,3,FALSE))","v":""},{"$f":"IF(A42=\"\",\"\",VLOOKUP(A42,Data!G$2:K$302,4,FALSE))","v":""},null,null,null,null,null,null,null,null,null,null,null,null,null,null,null,null,null,null,null,null,null,null,null,null,null,null,0,null,{"$f":"MATCH(\"*\"&AE$1&\"*\",OFFSET(Inscriptions!M$4:M$303,SUM('All categories'!AH$6:'All categories'!AH41),0),0)","v":{"$error":"#N/A"}}]
[{"$f":"IF(ISNA(INDEX(Inscriptions!A$4:A$303,SUM('All categories'!AH$7:'All categories'!AH43))),\"\",INDEX(Inscriptions!A$4:A$303,SUM('All categories'!AH$7:'All categories'!AH43)))","v":""},{"$f":"IF(A43=\"\",\"\",VLOOKUP(A43,Data!G$2:K$302,5,FALSE))","v":""},{"$f":"IF(A43=\"\",\"\",VLOOKUP(A43,Data!G$2:K$302,2,FALSE))","v":""},{"$f":"IF(A43=\"\",\"\",VLOOKUP(A43,Data!G$2:K$302,3,FALSE))","v":""},{"$f":"IF(A43=\"\",\"\",VLOOKUP(A43,Data!G$2:K$302,4,FALSE))","v":""},null,null,null,null,null,null,null,null,null,null,null,null,null,null,null,null,null,null,null,null,null,null,null,null,null,null,0,null,{"$f":"MATCH(\"*\"&AE$1&\"*\",OFFSET(Inscriptions!M$4:M$303,SUM('All categories'!AH$6:'All categories'!AH42),0),0)","v":{"$error":"#N/A"}}]
[{"$f":"IF(ISNA(INDEX(Inscriptions!A$4:A$303,SUM('All categories'!AH$7:'All categories'!AH44))),\"\",INDEX(Inscriptions!A$4:A$303,SUM('All categories'!AH$7:'All categories'!AH44)))","v":""},{"$f":"IF(A44=\"\",\"\",VLOOKUP(A44,Data!G$2:K$302,5,FALSE))","v":""},{"$f":"IF(A44=\"\",\"\",VLOOKUP(A44,Data!G$2:K$302,2,FALSE))","v":""},{"$f":"IF(A44=\"\",\"\",VLOOKUP(A44,Data!G$2:K$302,3,FALSE))","v":""},{"$f":"IF(A44=\"\",\"\",VLOOKUP(A44,Data!G$2:K$302,4,FALSE))","v":""},null,null,null,null,null,null,null,null,null,null,null,null,null,null,null,null,null,null,null,null,null,null,null,null,null,null,0,null,{"$f":"MATCH(\"*\"&AE$1&\"*\",OFFSET(Inscriptions!M$4:M$303,SUM('All categories'!AH$6:'All categories'!AH43),0),0)","v":{"$error":"#N/A"}}]
[{"$f":"IF(ISNA(INDEX(Inscriptions!A$4:A$303,SUM('All categories'!AH$7:'All categories'!AH45))),\"\",INDEX(Inscriptions!A$4:A$303,SUM('All categories'!AH$7:'All categories'!AH45)))","v":""},{"$f":"IF(A45=\"\",\"\",VLOOKUP(A45,Data!G$2:K$302,5,FALSE))","v":""},{"$f":"IF(A45=\"\",\"\",VLOOKUP(A45,Data!G$2:K$302,2,FALSE))","v":""},{"$f":"IF(A45=\"\",\"\",VLOOKUP(A45,Data!G$2:K$302,3,FALSE))","v":""},{"$f":"IF(A45=\"\",\"\",VLOOKUP(A45,Data!G$2:K$302,4,FALSE))","v":""},null,null,null,null,null,null,null,null,null,null,null,null,null,null,null,null,null,null,null,null,null,null,null,null,null,null,0,null,{"$f":"MATCH(\"*\"&AE$1&\"*\",OFFSET(Inscriptions!M$4:M$303,SUM('All categories'!AH$6:'All categories'!AH44),0),0)","v":{"$error":"#N/A"}}]
[{"$f":"IF(ISNA(INDEX(Inscriptions!A$4:A$303,SUM('All categories'!AH$7:'All categories'!AH46))),\"\",INDEX(Inscriptions!A$4:A$303,SUM('All categories'!AH$7:'All categories'!AH46)))","v":""},{"$f":"IF(A46=\"\",\"\",VLOOKUP(A46,Data!G$2:K$302,5,FALSE))","v":""},{"$f":"IF(A46=\"\",\"\",VLOOKUP(A46,Data!G$2:K$302,2,FALSE))","v":""},{"$f":"IF(A46=\"\",\"\",VLOOKUP(A46,Data!G$2:K$302,3,FALSE))","v":""},{"$f":"IF(A46=\"\",\"\",VLOOKUP(A46,Data!G$2:K$302,4,FALSE))","v":""},null,null,null,null,null,null,null,null,null,null,null,null,null,null,null,null,null,null,null,null,null,null,null,null,null,null,0,null,{"$f":"MATCH(\"*\"&AE$1&\"*\",OFFSET(Inscriptions!M$4:M$303,SUM('All categories'!AH$6:'All categories'!AH45),0),0)","v":{"$error":"#N/A"}}]
[{"$f":"IF(ISNA(INDEX(Inscriptions!A$4:A$303,SUM('All categories'!AH$7:'All categories'!AH47))),\"\",INDEX(Inscriptions!A$4:A$303,SUM('All categories'!AH$7:'All categories'!AH47)))","v":""},{"$f":"IF(A47=\"\",\"\",VLOOKUP(A47,Data!G$2:K$302,5,FALSE))","v":""},{"$f":"IF(A47=\"\",\"\",VLOOKUP(A47,Data!G$2:K$302,2,FALSE))","v":""},{"$f":"IF(A47=\"\",\"\",VLOOKUP(A47,Data!G$2:K$302,3,FALSE))","v":""},{"$f":"IF(A47=\"\",\"\",VLOOKUP(A47,Data!G$2:K$302,4,FALSE))","v":""},null,null,null,null,null,null,null,null,null,null,null,null,null,null,null,null,null,null,null,null,null,null,null,null,null,null,0,null,{"$f":"MATCH(\"*\"&AE$1&\"*\",OFFSET(Inscriptions!M$4:M$303,SUM('All categories'!AH$6:'All categories'!AH46),0),0)","v":{"$error":"#N/A"}}]
[{"$f":"IF(ISNA(INDEX(Inscriptions!A$4:A$303,SUM('All categories'!AH$7:'All categories'!AH48))),\"\",INDEX(Inscriptions!A$4:A$303,SUM('All categories'!AH$7:'All categories'!AH48)))","v":""},{"$f":"IF(A48=\"\",\"\",VLOOKUP(A48,Data!G$2:K$302,5,FALSE))","v":""},{"$f":"IF(A48=\"\",\"\",VLOOKUP(A48,Data!G$2:K$302,2,FALSE))","v":""},{"$f":"IF(A48=\"\",\"\",VLOOKUP(A48,Data!G$2:K$302,3,FALSE))","v":""},{"$f":"IF(A48=\"\",\"\",VLOOKUP(A48,Data!G$2:K$302,4,FALSE))","v":""},null,null,null,null,null,null,null,null,null,null,null,null,null,null,null,null,null,null,null,null,null,null,null,null,null,null,0,null,{"$f":"MATCH(\"*\"&AE$1&\"*\",OFFSET(Inscriptions!M$4:M$303,SUM('All categories'!AH$6:'All categories'!AH47),0),0)","v":{"$error":"#N/A"}}]
[{"$f":"IF(ISNA(INDEX(Inscriptions!A$4:A$303,SUM('All categories'!AH$7:'All categories'!AH49))),\"\",INDEX(Inscriptions!A$4:A$303,SUM('All categories'!AH$7:'All categories'!AH49)))","v":""},{"$f":"IF(A49=\"\",\"\",VLOOKUP(A49,Data!G$2:K$302,5,FALSE))","v":""},{"$f":"IF(A49=\"\",\"\",VLOOKUP(A49,Data!G$2:K$302,2,FALSE))","v":""},{"$f":"IF(A49=\"\",\"\",VLOOKUP(A49,Data!G$2:K$302,3,FALSE))","v":""},{"$f":"IF(A49=\"\",\"\",VLOOKUP(A49,Data!G$2:K$302,4,FALSE))","v":""},null,null,null,null,null,null,null,null,null,null,null,null,null,null,null,null,null,null,null,null,null,null,null,null,null,null,0,null,{"$f":"MATCH(\"*\"&AE$1&\"*\",OFFSET(Inscriptions!M$4:M$303,SUM('All categories'!AH$6:'All categories'!AH48),0),0)","v":{"$error":"#N/A"}}]
[{"$f":"IF(ISNA(INDEX(Inscriptions!A$4:A$303,SUM('All categories'!AH$7:'All categories'!AH50))),\"\",INDEX(Inscriptions!A$4:A$303,SUM('All categories'!AH$7:'All categories'!AH50)))","v":""},{"$f":"IF(A50=\"\",\"\",VLOOKUP(A50,Data!G$2:K$302,5,FALSE))","v":""},{"$f":"IF(A50=\"\",\"\",VLOOKUP(A50,Data!G$2:K$302,2,FALSE))","v":""},{"$f":"IF(A50=\"\",\"\",VLOOKUP(A50,Data!G$2:K$302,3,FALSE))","v":""},{"$f":"IF(A50=\"\",\"\",VLOOKUP(A50,Data!G$2:K$302,4,FALSE))","v":""},null,null,null,null,null,null,null,null,null,null,null,null,null,null,null,null,null,null,null,null,null,null,null,null,null,null,0,null,{"$f":"MATCH(\"*\"&AE$1&\"*\",OFFSET(Inscriptions!M$4:M$303,SUM('All categories'!AH$6:'All categories'!AH49),0),0)","v":{"$error":"#N/A"}}]
[{"$f":"IF(ISNA(INDEX(Inscriptions!A$4:A$303,SUM('All categories'!AH$7:'All categories'!AH51))),\"\",INDEX(Inscriptions!A$4:A$303,SUM('All categories'!AH$7:'All categories'!AH51)))","v":""},{"$f":"IF(A51=\"\",\"\",VLOOKUP(A51,Data!G$2:K$302,5,FALSE))","v":""},{"$f":"IF(A51=\"\",\"\",VLOOKUP(A51,Data!G$2:K$302,2,FALSE))","v":""},{"$f":"IF(A51=\"\",\"\",VLOOKUP(A51,Data!G$2:K$302,3,FALSE))","v":""},{"$f":"IF(A51=\"\",\"\",VLOOKUP(A51,Data!G$2:K$302,4,FALSE))","v":""},null,null,null,null,null,null,null,null,null,null,null,null,null,null,null,null,null,null,null,null,null,null,null,null,null,null,0,null,{"$f":"MATCH(\"*\"&AE$1&\"*\",OFFSET(Inscriptions!M$4:M$303,SUM('All categories'!AH$6:'All categories'!AH50),0),0)","v":{"$error":"#N/A"}}]
[{"$f":"IF(ISNA(INDEX(Inscriptions!A$4:A$303,SUM('All categories'!AH$7:'All categories'!AH52))),\"\",INDEX(Inscriptions!A$4:A$303,SUM('All categories'!AH$7:'All categories'!AH52)))","v":""},{"$f":"IF(A52=\"\",\"\",VLOOKUP(A52,Data!G$2:K$302,5,FALSE))","v":""},{"$f":"IF(A52=\"\",\"\",VLOOKUP(A52,Data!G$2:K$302,2,FALSE))","v":""},{"$f":"IF(A52=\"\",\"\",VLOOKUP(A52,Data!G$2:K$302,3,FALSE))","v":""},{"$f":"IF(A52=\"\",\"\",VLOOKUP(A52,Data!G$2:K$302,4,FALSE))","v":""},null,null,null,null,null,null,null,null,null,null,null,null,null,null,null,null,null,null,null,null,null,null,null,null,null,null,0,null,{"$f":"MATCH(\"*\"&AE$1&\"*\",OFFSET(Inscriptions!M$4:M$303,SUM('All categories'!AH$6:'All categories'!AH51),0),0)","v":{"$error":"#N/A"}}]
[{"$f":"IF(ISNA(INDEX(Inscriptions!A$4:A$303,SUM('All categories'!AH$7:'All categories'!AH53))),\"\",INDEX(Inscriptions!A$4:A$303,SUM('All categories'!AH$7:'All categories'!AH53)))","v":""},{"$f":"IF(A53=\"\",\"\",VLOOKUP(A53,Data!G$2:K$302,5,FALSE))","v":""},{"$f":"IF(A53=\"\",\"\",VLOOKUP(A53,Data!G$2:K$302,2,FALSE))","v":""},{"$f":"IF(A53=\"\",\"\",VLOOKUP(A53,Data!G$2:K$302,3,FALSE))","v":""},{"$f":"IF(A53=\"\",\"\",VLOOKUP(A53,Data!G$2:K$302,4,FALSE))","v":""},null,null,null,null,null,null,null,null,null,null,null,null,null,null,null,null,null,null,null,null,null,null,null,null,null,null,0,null,{"$f":"MATCH(\"*\"&AE$1&\"*\",OFFSET(Inscriptions!M$4:M$303,SUM('All categories'!AH$6:'All categories'!AH52),0),0)","v":{"$error":"#N/A"}}]
[{"$f":"IF(ISNA(INDEX(Inscriptions!A$4:A$303,SUM('All categories'!AH$7:'All categories'!AH54))),\"\",INDEX(Inscriptions!A$4:A$303,SUM('All categories'!AH$7:'All categories'!AH54)))","v":""},{"$f":"IF(A54=\"\",\"\",VLOOKUP(A54,Data!G$2:K$302,5,FALSE))","v":""},{"$f":"IF(A54=\"\",\"\",VLOOKUP(A54,Data!G$2:K$302,2,FALSE))","v":""},{"$f":"IF(A54=\"\",\"\",VLOOKUP(A54,Data!G$2:K$302,3,FALSE))","v":""},{"$f":"IF(A54=\"\",\"\",VLOOKUP(A54,Data!G$2:K$302,4,FALSE))","v":""},null,null,null,null,null,null,null,null,null,null,null,null,null,null,null,null,null,null,null,null,null,null,null,null,null,null,0,null,{"$f":"MATCH(\"*\"&AE$1&\"*\",OFFSET(Inscriptions!M$4:M$303,SUM('All categories'!AH$6:'All categories'!AH53),0),0)","v":{"$error":"#N/A"}}]
[{"$f":"IF(ISNA(INDEX(Inscriptions!A$4:A$303,SUM('All categories'!AH$7:'All categories'!AH55))),\"\",INDEX(Inscriptions!A$4:A$303,SUM('All categories'!AH$7:'All categories'!AH55)))","v":""},{"$f":"IF(A55=\"\",\"\",VLOOKUP(A55,Data!G$2:K$302,5,FALSE))","v":""},{"$f":"IF(A55=\"\",\"\",VLOOKUP(A55,Data!G$2:K$302,2,FALSE))","v":""},{"$f":"IF(A55=\"\",\"\",VLOOKUP(A55,Data!G$2:K$302,3,FALSE))","v":""},{"$f":"IF(A55=\"\",\"\",VLOOKUP(A55,Data!G$2:K$302,4,FALSE))","v":""},null,null,null,null,null,null,null,null,null,null,null,null,null,null,null,null,null,null,null,null,null,null,null,null,null,null,0,null,{"$f":"MATCH(\"*\"&AE$1&\"*\",OFFSET(Inscriptions!M$4:M$303,SUM('All categories'!AH$6:'All categories'!AH54),0),0)","v":{"$error":"#N/A"}}]
[{"$f":"CONCATENATE(IF(ChoixLangue=Languages!$B$1,Languages!$B105,IF(ChoixLangue=Languages!$C$1,Languages!$C105,IF(ChoixLangue=Languages!$D$1,Languages!$D105,Languages!$E105))),SUM(AF7:AF55))","v":"Nbe nageuses : 0"},"-","-","-",null,"-","-","-","-"]

{"sheet":"U1 RSR","index":12,"n_rows":56,"n_cols":33,"rows_kept":56,"cut":false,"hidden":true,"merged":[[3,0,3,9]]}
[{"$f":"IF('Cover Page'!B5=\"\",\"\",'Cover Page'!B5)","v":""},null,null,null,null,null,null,null,null,null,null,null,null,null,null,null,null,null,null,null,null,null,null,null,null,null,null,null,null,"x",null,null,{"$f":"MID(CELL(\"filename\",A1),FIND(\"]\",CELL(\"filename\",A1),1)+1,20)","v":"U1 RSR"}]
[{"$f":"IF('Cover Page'!B6=\"\",\"\",'Cover Page'!B6)","v":""},null,null,null,null,null,null,null,null,{"$f":"IF(ChoixLangue=Languages!$B$1,Languages!$B$97 & \" \" & AG1,IF(ChoixLangue=Languages!$C$1,Languages!$C$97 & \" \" & AG1,IF(ChoixLangue=Languages!$D$1,Languages!$D$97 & \" \" & AG1,Languages!$E$97 & \" \" & AG1)))","v":"Catégorie U1 RSR"}]
[{"$f":"IF('Cover Page'!B7=\"\",\"\",'Cover Page'!B7)","v":""}]
[{"$f":"IF('Cover Page'!B10=\"\",\"\",CONCATENATE(IF(ChoixLangue=Languages!$B$1,Languages!$B98,IF(ChoixLangue=Languages!$C$1,Languages!$C98,IF(ChoixLangue=Languages!$D$1,Languages!$D98,Languages!$E98))),'Cover Page'!B10))","v":""}]
[{"$f":"A56","v":"Nbe nageuses : 0"}]
[{"$f":"IF(ChoixLangue=Languages!$B$1,Languages!$B99,IF(ChoixLangue=Languages!$C$1,Languages!$C99,IF(ChoixLangue=Languages!$D$1,Languages!$D99,Languages!$E99)))","v":"NOM Prénom"},{"$f":"IF(ChoixLangue=Languages!$B$1,Languages!$B100,IF(ChoixLangue=Languages!$C$1,Languages!$C100,IF(ChoixLangue=Languages!$D$1,Languages!$D100,Languages!$E100)))","v":"Club"},{"$f":"IF(ChoixLangue=Languages!$B$1,Languages!$B101,IF(ChoixLangue=Languages!$C$1,Languages!$C101,IF(ChoixLangue=Languages!$D$1,Languages!$D101,Languages!$E101)))","v":"Licence"},{"$f":"IF(ChoixLangue=Languages!$B$1,Languages!$B102,IF(ChoixLangue=Languages!$C$1,Languages!$C102,IF(ChoixLangue=Languages!$D$1,Languages!$D102,Languages!$E102)))","v":"An. Nais."},{"$f":"IF(ChoixLangue=Languages!$B$1,Languages!$B103,IF(ChoixLangue=Languages!$C$1,Languages!$C103,IF(ChoixLangue=Languages!$D$1,Languages!$D103,Languages!$E103)))","v":"N° Test"},{"$f":"IF(ChoixLangue=Languages!$B$1,Languages!$B104,IF(ChoixLangue=Languages!$C$1,Languages!$C104,IF(ChoixLangue=Languages!$D$1,Languages!$D104,Languages!$E104)))","v":"Figures"},"Solo Free","Duo Free","Mix. Duet Free","Team Free"]
[{"$f":"IF(ISNA(INDEX(Inscriptions!A$4:A$303,SUM('U1 RSR'!AG$7:'U1 RSR'!AG7))),\"\",INDEX(Inscriptions!A$4:A$303,SUM('U1 RSR'!AG$7:'U1 RSR'!AG7)))","v":""},{"$f":"IF(A7=\"\",\"\",VLOOKUP(A7,Data!G$2:K$302,5,FALSE))","v":""},{"$f":"IF(A7=\"\",\"\",VLOOKUP(A7,Data!G$2:K$302,2,FALSE))","v":""},{"$f":"IF(A7=\"\",\"\",VLOOKUP(A7,Data!G$2:K$302,3,FALSE))","v":""},{"$f":"IF(A7=\"\",\"\",VLOOKUP(A7,Data!G$2:K$302,4,FALSE))","v":""},null,null,null,null,null,null,null,null,null,null,null,null,null,null,null,null,null,null,null,null,null,null,null,null,null,{"$f":"IF(A7<>\"\",1,0)","v":0},null,{"$f":"MATCH(\"*\"&AD$1&\"*\",OFFSET(Inscriptions!N$4:N$303,SUM('U1 RSR'!AG$6:'U1 RSR'!AG6),0),0)","v":{"$error":"#N/A"}}]
[{"$f":"IF(ISNA(INDEX(Inscriptions!A$4:A$303,SUM('U1 RSR'!AG$7:'U1 RSR'!AG8))),\"\",INDEX(Inscriptions!A$4:A$303,SUM('U1 RSR'!AG$7:'U1 RSR'!AG8)))","v":""},{"$f":"IF(A8=\"\",\"\",VLOOKUP(A8,Data!G$2:K$302,5,FALSE))","v":""},{"$f":"IF(A8=\"\",\"\",VLOOKUP(A8,Data!G$2:K$302,2,FALSE))","v":""},{"$f":"IF(A8=\"\",\"\",VLOOKUP(A8,Data!G$2:K$302,3,FALSE))","v":""},{"$f":"IF(A8=\"\",\"\",VLOOKUP(A8,Data!G$2:K$302,4,FALSE))","v":""},null,null,null,null,null,null,null,null,null,null,null,null,null,null,null,null,null,null,null,null,null,null,null,null,null,0,null,{"$f":"MATCH(\"*\"&AD$1&\"*\",OFFSET(Inscriptions!N$4:N$303,SUM('U1 RSR'!AG$6:'U1 RSR'!AG7),0),0)","v":{"$error":"#N/A"}}]
[{"$f":"IF(ISNA(INDEX(Inscriptions!A$4:A$303,SUM('U1 RSR'!AG$7:'U1 RSR'!AG9))),\"\",INDEX(Inscriptions!A$4:A$303,SUM('U1 RSR'!AG$7:'U1 RSR'!AG9)))","v":""},{"$f":"IF(A9=\"\",\"\",VLOOKUP(A9,Data!G$2:K$302,5,FALSE))","v":""},{"$f":"IF(A9=\"\",\"\",VLOOKUP(A9,Data!G$2:K$302,2,FALSE))","v":""},{"$f":"IF(A9=\"\",\"\",VLOOKUP(A9,Data!G$2:K$302,3,FALSE))","v":""},{"$f":"IF(A9=\"\",\"\",VLOOKUP(A9,Data!G$2:K$302,4,FALSE))","v":""},null,null,null,null,null,null,null,null,null,null,null,null,null,null,null,null,null,null,null,null,null,null,null,null,null,0,null,{"$f":"MATCH(\"*\"&AD$1&\"*\",OFFSET(Inscriptions!N$4:N$303,SUM('U1 RSR'!AG$6:'U1 RSR'!AG8),0),0)","v":{"$error":"#N/A"}}]
[{"$f":"IF(ISNA(INDEX(Inscriptions!A$4:A$303,SUM('U1 RSR'!AG$7:'U1 RSR'!AG10))),\"\",INDEX(Inscriptions!A$4:A$303,SUM('U1 RSR'!AG$7:'U1 RSR'!AG10)))","v":""},{"$f":"IF(A10=\"\",\"\",VLOOKUP(A10,Data!G$2:K$302,5,FALSE))","v":""},{"$f":"IF(A10=\"\",\"\",VLOOKUP(A10,Data!G$2:K$302,2,FALSE))","v":""},{"$f":"IF(A10=\"\",\"\",VLOOKUP(A10,Data!G$2:K$302,3,FALSE))","v":""},{"$f":"IF(A10=\"\",\"\",VLOOKUP(A10,Data!G$2:K$302,4,FALSE))","v":""},null,null,null,null,null,null,null,null,null,null,null,null,null,null,null,null,null,null,null,null,null,null,null,null,null,0,null,{"$f":"MATCH(\"*\"&AD$1&\"*\",OFFSET(Inscriptions!N$4:N$303,SUM('U1 RSR'!AG$6:'U1 RSR'!AG9),0),0)","v":{"$error":"#N/A"}}]
[{"$f":"IF(ISNA(INDEX(Inscriptions!A$4:A$303,SUM('U1 RSR'!AG$7:'U1 RSR'!AG11))),\"\",INDEX(Inscriptions!A$4:A$303,SUM('U1 RSR'!AG$7:'U1 RSR'!AG11)))","v":""},{"$f":"IF(A11=\"\",\"\",VLOOKUP(A11,Data!G$2:K$302,5,FALSE))","v":""},{"$f":"IF(A11=\"\",\"\",VLOOKUP(A11,Data!G$2:K$302,2,FALSE))","v":""},{"$f":"IF(A11=\"\",\"\",VLOOKUP(A11,Data!G$2:K$302,3,FALSE))","v":""},{"$f":"IF(A11=\"\",\"\",VLOOKUP(A11,Data!G$2:K$302,4,FALSE))","v":""},null,null,null,null,null,null,null,null,null,null,null,null,null,null,null,null,null,null,null,null,null,null,null,null,null,0,null,{"$f":"MATCH(\"*\"&AD$1&\"*\",OFFSET(Inscriptions!N$4:N$303,SUM('U1 RSR'!AG$6:'U1 RSR'!AG10),0),0)","v":{"$error":"#N/A"}}]
[{"$f":"IF(ISNA(INDEX(Inscriptions!A$4:A$303,SUM('U1 RSR'!AG$7:'U1 RSR'!AG12))),\"\",INDEX(Inscriptions!A$4:A$303,SUM('U1 RSR'!AG$7:'U1 RSR'!AG12)))","v":""},{"$f":"IF(A12=\"\",\"\",VLOOKUP(A12,Data!G$2:K$302,5,FALSE))","v":""},{"$f":"IF(A12=\"\",\"\",VLOOKUP(A12,Data!G$2:K$302,2,FALSE))","v":""},{"$f":"IF(A12=\"\",\"\",VLOOKUP(A12,Data!G$2:K$302,3,FALSE))","v":""},{"$f":"IF(A12=\"\",\"\",VLOOKUP(A12,Data!G$2:K$302,4,FALSE))","v":""},null,null,null,null,null,null,null,null,null,null,null,null,null,null,null,null,null,null,null,null,null,null,null,null,null,0,null,{"$f":"MATCH(\"*\"&AD$1&\"*\",OFFSET(Inscriptions!N$4:N$303,SUM('U1 RSR'!AG$6:'U1 RSR'!AG11),0),0)","v":{"$error":"#N/A"}}]
[{"$f":"IF(ISNA(INDEX(Inscriptions!A$4:A$303,SUM('U1 RSR'!AG$7:'U1 RSR'!AG13))),\"\",INDEX(Inscriptions!A$4:A$303,SUM('U1 RSR'!AG$7:'U1 RSR'!AG13)))","v":""},{"$f":"IF(A13=\"\",\"\",VLOOKUP(A13,Data!G$2:K$302,5,FALSE))","v":""},{"$f":"IF(A13=\"\",\"\",VLOOKUP(A13,Data!G$2:K$302,2,FALSE))","v":""},{"$f":"IF(A13=\"\",\"\",VLOOKUP(A13,Data!G$2:K$302,3,FALSE))","v":""},{"$f":"IF(A13=\"\",\"\",VLOOKUP(A13,Data!G$2:K$302,4,FALSE))","v":""},null,null,null,null,null,null,null,null,null,null,null,null,null,null,null,null,null,null,null,null,null,null,null,null,null,0,null,{"$f":"MATCH(\"*\"&AD$1&\"*\",OFFSET(Inscriptions!N$4:N$303,SUM('U1 RSR'!AG$6:'U1 RSR'!AG12),0),0)","v":{"$error":"#N/A"}}]
[{"$f":"IF(ISNA(INDEX(Inscriptions!A$4:A$303,SUM('U1 RSR'!AG$7:'U1 RSR'!AG14))),\"\",INDEX(Inscriptions!A$4:A$303,SUM('U1 RSR'!AG$7:'U1 RSR'!AG14)))","v":""},{"$f":"IF(A14=\"\",\"\",VLOOKUP(A14,Data!G$2:K$302,5,FALSE))","v":""},{"$f":"IF(A14=\"\",\"\",VLOOKUP(A14,Data!G$2:K$302,2,FALSE))","v":""},{"$f":"IF(A14=\"\",\"\",VLOOKUP(A14,Data!G$2:K$302,3,FALSE))","v":""},{"$f":"IF(A14=\"\",\"\",VLOOKUP(A14,Data!G$2:K$302,4,FALSE))","v":""},null,null,null,null,null,null,null,null,null,null,null,null,null,null,null,null,null,null,null,null,null,null,null,null,null,0,null,{"$f":"MATCH(\"*\"&AD$1&\"*\",OFFSET(Inscriptions!N$4:N$303,SUM('U1 RSR'!AG$6:'U1 RSR'!AG13),0),0)","v":{"$error":"#N/A"}}]
[{"$f":"IF(ISNA(INDEX(Inscriptions!A$4:A$303,SUM('U1 RSR'!AG$7:'U1 RSR'!AG15))),\"\",INDEX(Inscriptions!A$4:A$303,SUM('U1 RSR'!AG$7:'U1 RSR'!AG15)))","v":""},{"$f":"IF(A15=\"\",\"\",VLOOKUP(A15,Data!G$2:K$302,5,FALSE))","v":""},{"$f":"IF(A15=\"\",\"\",VLOOKUP(A15,Data!G$2:K$302,2,FALSE))","v":""},{"$f":"IF(A15=\"\",\"\",VLOOKUP(A15,Data!G$2:K$302,3,FALSE))","v":""},{"$f":"IF(A15=\"\",\"\",VLOOKUP(A15,Data!G$2:K$302,4,FALSE))","v":""},null,null,null,null,null,null,null,null,null,null,null,null,null,null,null,null,null,null,null,null,null,null,null,null,null,0,null,{"$f":"MATCH(\"*\"&AD$1&\"*\",OFFSET(Inscriptions!N$4:N$303,SUM('U1 RSR'!AG$6:'U1 RSR'!AG14),0),0)","v":{"$error":"#N/A"}}]
[{"$f":"IF(ISNA(INDEX(Inscriptions!A$4:A$303,SUM('U1 RSR'!AG$7:'U1 RSR'!AG16))),\"\",INDEX(Inscriptions!A$4:A$303,SUM('U1 RSR'!AG$7:'U1 RSR'!AG16)))","v":""},{"$f":"IF(A16=\"\",\"\",VLOOKUP(A16,Data!G$2:K$302,5,FALSE))","v":""},{"$f":"IF(A16=\"\",\"\",VLOOKUP(A16,Data!G$2:K$302,2,FALSE))","v":""},{"$f":"IF(A16=\"\",\"\",VLOOKUP(A16,Data!G$2:K$302,3,FALSE))","v":""},{"$f":"IF(A16=\"\",\"\",VLOOKUP(A16,Data!G$2:K$302,4,FALSE))","v":""},null,null,null,null,null,null,null,null,null,null,null,null,null,null,null,null,null,null,null,null,null,null,null,null,null,0,null,{"$f":"MATCH(\"*\"&AD$1&\"*\",OFFSET(Inscriptions!N$4:N$303,SUM('U1 RSR'!AG$6:'U1 RSR'!AG15),0),0)","v":{"$error":"#N/A"}}]
[{"$f":"IF(ISNA(INDEX(Inscriptions!A$4:A$303,SUM('U1 RSR'!AG$7:'U1 RSR'!AG17))),\"\",INDEX(Inscriptions!A$4:A$303,SUM('U1 RSR'!AG$7:'U1 RSR'!AG17)))","v":""},{"$f":"IF(A17=\"\",\"\",VLOOKUP(A17,Data!G$2:K$302,5,FALSE))","v":""},{"$f":"IF(A17=\"\",\"\",VLOOKUP(A17,Data!G$2:K$302,2,FALSE))","v":""},{"$f":"IF(A17=\"\",\"\",VLOOKUP(A17,Data!G$2:K$302,3,FALSE))","v":""},{"$f":"IF(A17=\"\",\"\",VLOOKUP(A17,Data!G$2:K$302,4,FALSE))","v":""},null,null,null,null,null,null,null,null,null,null,null,null,null,null,null,null,null,null,null,null,null,null,null,null,null,0,null,{"$f":"MATCH(\"*\"&AD$1&\"*\",OFFSET(Inscriptions!N$4:N$303,SUM('U1 RSR'!AG$6:'U1 RSR'!AG16),0),0)","v":{"$error":"#N/A"}}]
[{"$f":"IF(ISNA(INDEX(Inscriptions!A$4:A$303,SUM('U1 RSR'!AG$7:'U1 RSR'!AG18))),\"\",INDEX(Inscriptions!A$4:A$303,SUM('U1 RSR'!AG$7:'U1 RSR'!AG18)))","v":""},{"$f":"IF(A18=\"\",\"\",VLOOKUP(A18,Data!G$2:K$302,5,FALSE))","v":""},{"$f":"IF(A18=\"\",\"\",VLOOKUP(A18,Data!G$2:K$302,2,FALSE))","v":""},{"$f":"IF(A18=\"\",\"\",VLOOKUP(A18,Data!G$2:K$302,3,FALSE))","v":""},{"$f":"IF(A18=\"\",\"\",VLOOKUP(A18,Data!G$2:K$302,4,FALSE))","v":""},null,null,null,null,null,null,null,null,null,null,null,null,null,null,null,null,null,null,null,null,null,null,null,null,null,0,null,{"$f":"MATCH(\"*\"&AD$1&\"*\",OFFSET(Inscriptions!N$4:N$303,SUM('U1 RSR'!AG$6:'U1 RSR'!AG17),0),0)","v":{"$error":"#N/A"}}]
[{"$f":"IF(ISNA(INDEX(Inscriptions!A$4:A$303,SUM('U1 RSR'!AG$7:'U1 RSR'!AG19))),\"\",INDEX(Inscriptions!A$4:A$303,SUM('U1 RSR'!AG$7:'U1 RSR'!AG19)))","v":""},{"$f":"IF(A19=\"\",\"\",VLOOKUP(A19,Data!G$2:K$302,5,FALSE))","v":""},{"$f":"IF(A19=\"\",\"\",VLOOKUP(A19,Data!G$2:K$302,2,FALSE))","v":""},{"$f":"IF(A19=\"\",\"\",VLOOKUP(A19,Data!G$2:K$302,3,FALSE))","v":""},{"$f":"IF(A19=\"\",\"\",VLOOKUP(A19,Data!G$2:K$302,4,FALSE))","v":""},null,null,null,null,null,null,null,null,null,null,null,null,null,null,null,null,null,null,null,null,null,null,null,null,null,0,null,{"$f":"MATCH(\"*\"&AD$1&\"*\",OFFSET(Inscriptions!N$4:N$303,SUM('U1 RSR'!AG$6:'U1 RSR'!AG18),0),0)","v":{"$error":"#N/A"}}]
[{"$f":"IF(ISNA(INDEX(Inscriptions!A$4:A$303,SUM('U1 RSR'!AG$7:'U1 RSR'!AG20))),\"\",INDEX(Inscriptions!A$4:A$303,SUM('U1 RSR'!AG$7:'U1 RSR'!AG20)))","v":""},{"$f":"IF(A20=\"\",\"\",VLOOKUP(A20,Data!G$2:K$302,5,FALSE))","v":""},{"$f":"IF(A20=\"\",\"\",VLOOKUP(A20,Data!G$2:K$302,2,FALSE))","v":""},{"$f":"IF(A20=\"\",\"\",VLOOKUP(A20,Data!G$2:K$302,3,FALSE))","v":""},{"$f":"IF(A20=\"\",\"\",VLOOKUP(A20,Data!G$2:K$302,4,FALSE))","v":""},null,null,null,null,null,null,null,null,null,null,null,null,null,null,null,null,null,null,null,null,null,null,null,null,null,0,null,{"$f":"MATCH(\"*\"&AD$1&\"*\",OFFSET(Inscriptions!N$4:N$303,SUM('U1 RSR'!AG$6:'U1 RSR'!AG19),0),0)","v":{"$error":"#N/A"}}]
[{"$f":"IF(ISNA(INDEX(Inscriptions!A$4:A$303,SUM('U1 RSR'!AG$7:'U1 RSR'!AG21))),\"\",INDEX(Inscriptions!A$4:A$303,SUM('U1 RSR'!AG$7:'U1 RSR'!AG21)))","v":""},{"$f":"IF(A21=\"\",\"\",VLOOKUP(A21,Data!G$2:K$302,5,FALSE))","v":""},{"$f":"IF(A21=\"\",\"\",VLOOKUP(A21,Data!G$2:K$302,2,FALSE))","v":""},{"$f":"IF(A21=\"\",\"\",VLOOKUP(A21,Data!G$2:K$302,3,FALSE))","v":""},{"$f":"IF(A21=\"\",\"\",VLOOKUP(A21,Data!G$2:K$302,4,FALSE))","v":""},null,null,null,null,null,null,null,null,null,null,null,null,null,null,null,null,null,null,null,null,null,null,null,null,null,0,null,{"$f":"MATCH(\"*\"&AD$1&\"*\",OFFSET(Inscriptions!N$4:N$303,SUM('U1 RSR'!AG$6:'U1 RSR'!AG20),0),0)","v":{"$error":"#N/A"}}]
[{"$f":"IF(ISNA(INDEX(Inscriptions!A$4:A$303,SUM('U1 RSR'!AG$7:'U1 RSR'!AG22))),\"\",INDEX(Inscriptions!A$4:A$303,SUM('U1 RSR'!AG$7:'U1 RSR'!AG22)))","v":""},{"$f":"IF(A22=\"\",\"\",VLOOKUP(A22,Data!G$2:K$302,5,FALSE))","v":""},{"$f":"IF(A22=\"\",\"\",VLOOKUP(A22,Data!G$2:K$302,2,FALSE))","v":""},{"$f":"IF(A22=\"\",\"\",VLOOKUP(A22,Data!G$2:K$302,3,FALSE))","v":""},{"$f":"IF(A22=\"\",\"\",VLOOKUP(A22,Data!G$2:K$302,4,FALSE))","v":""},null,null,null,null,null,null,null,null,null,null,null,null,null,null,null,null,null,null,null,null,null,null,null,null,null,0,null,{"$f":"MATCH(\"*\"&AD$1&\"*\",OFFSET(Inscriptions!N$4:N$303,SUM('U1 RSR'!AG$6:'U1 RSR'!AG21),0),0)","v":{"$error":"#N/A"}}]
[{"$f":"IF(ISNA(INDEX(Inscriptions!A$4:A$303,SUM('U1 RSR'!AG$7:'U1 RSR'!AG23))),\"\",INDEX(Inscriptions!A$4:A$303,SUM('U1 RSR'!AG$7:'U1 RSR'!AG23)))","v":""},{"$f":"IF(A23=\"\",\"\",VLOOKUP(A23,Data!G$2:K$302,5,FALSE))","v":""},{"$f":"IF(A23=\"\",\"\",VLOOKUP(A23,Data!G$2:K$302,2,FALSE))","v":""},{"$f":"IF(A23=\"\",\"\",VLOOKUP(A23,Data!G$2:K$302,3,FALSE))","v":""},{"$f":"IF(A23=\"\",\"\",VLOOKUP(A23,Data!G$2:K$302,4,FALSE))","v":""},null,null,null,null,null,null,null,null,null,null,null,null,null,null,null,null,null,null,null,null,null,null,null,null,null,0,null,{"$f":"MATCH(\"*\"&AD$1&\"*\",OFFSET(Inscriptions!N$4:N$303,SUM('U1 RSR'!AG$6:'U1 RSR'!AG22),0),0)","v":{"$error":"#N/A"}}]
[{"$f":"IF(ISNA(INDEX(Inscriptions!A$4:A$303,SUM('U1 RSR'!AG$7:'U1 RSR'!AG24))),\"\",INDEX(Inscriptions!A$4:A$303,SUM('U1 RSR'!AG$7:'U1 RSR'!AG24)))","v":""},{"$f":"IF(A24=\"\",\"\",VLOOKUP(A24,Data!G$2:K$302,5,FALSE))","v":""},{"$f":"IF(A24=\"\",\"\",VLOOKUP(A24,Data!G$2:K$302,2,FALSE))","v":""},{"$f":"IF(A24=\"\",\"\",VLOOKUP(A24,Data!G$2:K$302,3,FALSE))","v":""},{"$f":"IF(A24=\"\",\"\",VLOOKUP(A24,Data!G$2:K$302,4,FALSE))","v":""},null,null,null,null,null,null,null,null,null,null,null,null,null,null,null,null,null,null,null,null,null,null,null,null,null,0,null,{"$f":"MATCH(\"*\"&AD$1&\"*\",OFFSET(Inscriptions!N$4:N$303,SUM('U1 RSR'!AG$6:'U1 RSR'!AG23),0),0)","v":{"$error":"#N/A"}}]
[{"$f":"IF(ISNA(INDEX(Inscriptions!A$4:A$303,SUM('U1 RSR'!AG$7:'U1 RSR'!AG25))),\"\",INDEX(Inscriptions!A$4:A$303,SUM('U1 RSR'!AG$7:'U1 RSR'!AG25)))","v":""},{"$f":"IF(A25=\"\",\"\",VLOOKUP(A25,Data!G$2:K$302,5,FALSE))","v":""},{"$f":"IF(A25=\"\",\"\",VLOOKUP(A25,Data!G$2:K$302,2,FALSE))","v":""},{"$f":"IF(A25=\"\",\"\",VLOOKUP(A25,Data!G$2:K$302,3,FALSE))","v":""},{"$f":"IF(A25=\"\",\"\",VLOOKUP(A25,Data!G$2:K$302,4,FALSE))","v":""},null,null,null,null,null,null,null,null,null,null,null,null,null,null,null,null,null,null,null,null,null,null,null,null,null,0,null,{"$f":"MATCH(\"*\"&AD$1&\"*\",OFFSET(Inscriptions!N$4:N$303,SUM('U1 RSR'!AG$6:'U1 RSR'!AG24),0),0)","v":{"$error":"#N/A"}}]
[{"$f":"IF(ISNA(INDEX(Inscriptions!A$4:A$303,SUM('U1 RSR'!AG$7:'U1 RSR'!AG26))),\"\",INDEX(Inscriptions!A$4:A$303,SUM('U1 RSR'!AG$7:'U1 RSR'!AG26)))","v":""},{"$f":"IF(A26=\"\",\"\",VLOOKUP(A26,Data!G$2:K$302,5,FALSE))","v":""},{"$f":"IF(A26=\"\",\"\",VLOOKUP(A26,Data!G$2:K$302,2,FALSE))","v":""},{"$f":"IF(A26=\"\",\"\",VLOOKUP(A26,Data!G$2:K$302,3,FALSE))","v":""},{"$f":"IF(A26=\"\",\"\",VLOOKUP(A26,Data!G$2:K$302,4,FALSE))","v":""},null,null,null,null,null,null,null,null,null,null,null,null,null,null,null,null,null,null,null,null,null,null,null,null,null,0,null,{"$f":"MATCH(\"*\"&AD$1&\"*\",OFFSET(Inscriptions!N$4:N$303,SUM('U1 RSR'!AG$6:'U1 RSR'!AG25),0),0)","v":{"$error":"#N/A"}}]
[{"$f":"IF(ISNA(INDEX(Inscriptions!A$4:A$303,SUM('U1 RSR'!AG$7:'U1 RSR'!AG27))),\"\",INDEX(Inscriptions!A$4:A$303,SUM('U1 RSR'!AG$7:'U1 RSR'!AG27)))","v":""},{"$f":"IF(A27=\"\",\"\",VLOOKUP(A27,Data!G$2:K$302,5,FALSE))","v":""},{"$f":"IF(A27=\"\",\"\",VLOOKUP(A27,Data!G$2:K$302,2,FALSE))","v":""},{"$f":"IF(A27=\"\",\"\",VLOOKUP(A27,Data!G$2:K$302,3,FALSE))","v":""},{"$f":"IF(A27=\"\",\"\",VLOOKUP(A27,Data!G$2:K$302,4,FALSE))","v":""},null,null,null,null,null,null,null,null,null,null,null,null,null,null,null,null,null,null,null,null,null,null,null,null,null,0,null,{"$f":"MATCH(\"*\"&AD$1&\"*\",OFFSET(Inscriptions!N$4:N$303,SUM('U1 RSR'!AG$6:'U1 RSR'!AG26),0),0)","v":{"$error":"#N/A"}}]
[{"$f":"IF(ISNA(INDEX(Inscriptions!A$4:A$303,SUM('U1 RSR'!AG$7:'U1 RSR'!AG28))),\"\",INDEX(Inscriptions!A$4:A$303,SUM('U1 RSR'!AG$7:'U1 RSR'!AG28)))","v":""},{"$f":"IF(A28=\"\",\"\",VLOOKUP(A28,Data!G$2:K$302,5,FALSE))","v":""},{"$f":"IF(A28=\"\",\"\",VLOOKUP(A28,Data!G$2:K$302,2,FALSE))","v":""},{"$f":"IF(A28=\"\",\"\",VLOOKUP(A28,Data!G$2:K$302,3,FALSE))","v":""},{"$f":"IF(A28=\"\",\"\",VLOOKUP(A28,Data!G$2:K$302,4,FALSE))","v":""},null,null,null,null,null,null,null,null,null,null,null,null,null,null,null,null,null,null,null,null,null,null,null,null,null,0,null,{"$f":"MATCH(\"*\"&AD$1&\"*\",OFFSET(Inscriptions!N$4:N$303,SUM('U1 RSR'!AG$6:'U1 RSR'!AG27),0),0)","v":{"$error":"#N/A"}}]
[{"$f":"IF(ISNA(INDEX(Inscriptions!A$4:A$303,SUM('U1 RSR'!AG$7:'U1 RSR'!AG29))),\"\",INDEX(Inscriptions!A$4:A$303,SUM('U1 RSR'!AG$7:'U1 RSR'!AG29)))","v":""},{"$f":"IF(A29=\"\",\"\",VLOOKUP(A29,Data!G$2:K$302,5,FALSE))","v":""},{"$f":"IF(A29=\"\",\"\",VLOOKUP(A29,Data!G$2:K$302,2,FALSE))","v":""},{"$f":"IF(A29=\"\",\"\",VLOOKUP(A29,Data!G$2:K$302,3,FALSE))","v":""},{"$f":"IF(A29=\"\",\"\",VLOOKUP(A29,Data!G$2:K$302,4,FALSE))","v":""},null,null,null,null,null,null,null,null,null,null,null,null,null,null,null,null,null,null,null,null,null,null,null,null,null,0,null,{"$f":"MATCH(\"*\"&AD$1&\"*\",OFFSET(Inscriptions!N$4:N$303,SUM('U1 RSR'!AG$6:'U1 RSR'!AG28),0),0)","v":{"$error":"#N/A"}}]
[{"$f":"IF(ISNA(INDEX(Inscriptions!A$4:A$303,SUM('U1 RSR'!AG$7:'U1 RSR'!AG30))),\"\",INDEX(Inscriptions!A$4:A$303,SUM('U1 RSR'!AG$7:'U1 RSR'!AG30)))","v":""},{"$f":"IF(A30=\"\",\"\",VLOOKUP(A30,Data!G$2:K$302,5,FALSE))","v":""},{"$f":"IF(A30=\"\",\"\",VLOOKUP(A30,Data!G$2:K$302,2,FALSE))","v":""},{"$f":"IF(A30=\"\",\"\",VLOOKUP(A30,Data!G$2:K$302,3,FALSE))","v":""},{"$f":"IF(A30=\"\",\"\",VLOOKUP(A30,Data!G$2:K$302,4,FALSE))","v":""},null,null,null,null,null,null,null,null,null,null,null,null,null,null,null,null,null,null,null,null,null,null,null,null,null,0,null,{"$f":"MATCH(\"*\"&AD$1&\"*\",OFFSET(Inscriptions!N$4:N$303,SUM('U1 RSR'!AG$6:'U1 RSR'!AG29),0),0)","v":{"$error":"#N/A"}}]
[{"$f":"IF(ISNA(INDEX(Inscriptions!A$4:A$303,SUM('U1 RSR'!AG$7:'U1 RSR'!AG31))),\"\",INDEX(Inscriptions!A$4:A$303,SUM('U1 RSR'!AG$7:'U1 RSR'!AG31)))","v":""},{"$f":"IF(A31=\"\",\"\",VLOOKUP(A31,Data!G$2:K$302,5,FALSE))","v":""},{"$f":"IF(A31=\"\",\"\",VLOOKUP(A31,Data!G$2:K$302,2,FALSE))","v":""},{"$f":"IF(A31=\"\",\"\",VLOOKUP(A31,Data!G$2:K$302,3,FALSE))","v":""},{"$f":"IF(A31=\"\",\"\",VLOOKUP(A31,Data!G$2:K$302,4,FALSE))","v":""},null,null,null,null,null,null,null,null,null,null,null,null,null,null,null,null,null,null,null,null,null,null,null,null,null,0,null,{"$f":"MATCH(\"*\"&AD$1&\"*\",OFFSET(Inscriptions!N$4:N$303,SUM('U1 RSR'!AG$6:'U1 RSR'!AG30),0),0)","v":{"$error":"#N/A"}}]
[{"$f":"IF(ISNA(INDEX(Inscriptions!A$4:A$303,SUM('U1 RSR'!AG$7:'U1 RSR'!AG32))),\"\",INDEX(Inscriptions!A$4:A$303,SUM('U1 RSR'!AG$7:'U1 RSR'!AG32)))","v":""},{"$f":"IF(A32=\"\",\"\",VLOOKUP(A32,Data!G$2:K$302,5,FALSE))","v":""},{"$f":"IF(A32=\"\",\"\",VLOOKUP(A32,Data!G$2:K$302,2,FALSE))","v":""},{"$f":"IF(A32=\"\",\"\",VLOOKUP(A32,Data!G$2:K$302,3,FALSE))","v":""},{"$f":"IF(A32=\"\",\"\",VLOOKUP(A32,Data!G$2:K$302,4,FALSE))","v":""},null,null,null,null,null,null,null,null,null,null,null,null,null,null,null,null,null,null,null,null,null,null,null,null,null,0,null,{"$f":"MATCH(\"*\"&AD$1&\"*\",OFFSET(Inscriptions!N$4:N$303,SUM('U1 RSR'!AG$6:'U1 RSR'!AG31),0),0)","v":{"$error":"#N/A"}}]
[{"$f":"IF(ISNA(INDEX(Inscriptions!A$4:A$303,SUM('U1 RSR'!AG$7:'U1 RSR'!AG33))),\"\",INDEX(Inscriptions!A$4:A$303,SUM('U1 RSR'!AG$7:'U1 RSR'!AG33)))","v":""},{"$f":"IF(A33=\"\",\"\",VLOOKUP(A33,Data!G$2:K$302,5,FALSE))","v":""},{"$f":"IF(A33=\"\",\"\",VLOOKUP(A33,Data!G$2:K$302,2,FALSE))","v":""},{"$f":"IF(A33=\"\",\"\",VLOOKUP(A33,Data!G$2:K$302,3,FALSE))","v":""},{"$f":"IF(A33=\"\",\"\",VLOOKUP(A33,Data!G$2:K$302,4,FALSE))","v":""},null,null,null,null,null,null,null,null,null,null,null,null,null,null,null,null,null,null,null,null,null,null,null,null,null,0,null,{"$f":"MATCH(\"*\"&AD$1&\"*\",OFFSET(Inscriptions!N$4:N$303,SUM('U1 RSR'!AG$6:'U1 RSR'!AG32),0),0)","v":{"$error":"#N/A"}}]
[{"$f":"IF(ISNA(INDEX(Inscriptions!A$4:A$303,SUM('U1 RSR'!AG$7:'U1 RSR'!AG34))),\"\",INDEX(Inscriptions!A$4:A$303,SUM('U1 RSR'!AG$7:'U1 RSR'!AG34)))","v":""},{"$f":"IF(A34=\"\",\"\",VLOOKUP(A34,Data!G$2:K$302,5,FALSE))","v":""},{"$f":"IF(A34=\"\",\"\",VLOOKUP(A34,Data!G$2:K$302,2,FALSE))","v":""},{"$f":"IF(A34=\"\",\"\",VLOOKUP(A34,Data!G$2:K$302,3,FALSE))","v":""},{"$f":"IF(A34=\"\",\"\",VLOOKUP(A34,Data!G$2:K$302,4,FALSE))","v":""},null,null,null,null,null,null,null,null,null,null,null,null,null,null,null,null,null,null,null,null,null,null,null,null,null,0,null,{"$f":"MATCH(\"*\"&AD$1&\"*\",OFFSET(Inscriptions!N$4:N$303,SUM('U1 RSR'!AG$6:'U1 RSR'!AG33),0),0)","v":{"$error":"#N/A"}}]
[{"$f":"IF(ISNA(INDEX(Inscriptions!A$4:A$303,SUM('U1 RSR'!AG$7:'U1 RSR'!AG35))),\"\",INDEX(Inscriptions!A$4:A$303,SUM('U1 RSR'!AG$7:'U1 RSR'!AG35)))","v":""},{"$f":"IF(A35=\"\",\"\",VLOOKUP(A35,Data!G$2:K$302,5,FALSE))","v":""},{"$f":"IF(A35=\"\",\"\",VLOOKUP(A35,Data!G$2:K$302,2,FALSE))","v":""},{"$f":"IF(A35=\"\",\"\",VLOOKUP(A35,Data!G$2:K$302,3,FALSE))","v":""},{"$f":"IF(A35=\"\",\"\",VLOOKUP(A35,Data!G$2:K$302,4,FALSE))","v":""},null,null,null,null,null,null,null,null,null,null,null,null,null,null,null,null,null,null,null,null,null,null,null,null,null,0,null,{"$f":"MATCH(\"*\"&AD$1&\"*\",OFFSET(Inscriptions!N$4:N$303,SUM('U1 RSR'!AG$6:'U1 RSR'!AG34),0),0)","v":{"$error":"#N/A"}}]
[{"$f":"IF(ISNA(INDEX(Inscriptions!A$4:A$303,SUM('U1 RSR'!AG$7:'U1 RSR'!AG36))),\"\",INDEX(Inscriptions!A$4:A$303,SUM('U1 RSR'!AG$7:'U1 RSR'!AG36)))","v":""},{"$f":"IF(A36=\"\",\"\",VLOOKUP(A36,Data!G$2:K$302,5,FALSE))","v":""},{"$f":"IF(A36=\"\",\"\",VLOOKUP(A36,Data!G$2:K$302,2,FALSE))","v":""},{"$f":"IF(A36=\"\",\"\",VLOOKUP(A36,Data!G$2:K$302,3,FALSE))","v":""},{"$f":"IF(A36=\"\",\"\",VLOOKUP(A36,Data!G$2:K$302,4,FALSE))","v":""},null,null,null,null,null,null,null,null,null,null,null,null,null,null,null,null,null,null,null,null,null,null,null,null,null,0,null,{"$f":"MATCH(\"*\"&AD$1&\"*\",OFFSET(Inscriptions!N$4:N$303,SUM('U1 RSR'!AG$6:'U1 RSR'!AG35),0),0)","v":{"$error":"#N/A"}}]
[{"$f":"IF(ISNA(INDEX(Inscriptions!A$4:A$303,SUM('U1 RSR'!AG$7:'U1 RSR'!AG37))),\"\",INDEX(Inscriptions!A$4:A$303,SUM('U1 RSR'!AG$7:'U1 RSR'!AG37)))","v":""},{"$f":"IF(A37=\"\",\"\",VLOOKUP(A37,Data!G$2:K$302,5,FALSE))","v":""},{"$f":"IF(A37=\"\",\"\",VLOOKUP(A37,Data!G$2:K$302,2,FALSE))","v":""},{"$f":"IF(A37=\"\",\"\",VLOOKUP(A37,Data!G$2:K$302,3,FALSE))","v":""},{"$f":"IF(A37=\"\",\"\",VLOOKUP(A37,Data!G$2:K$302,4,FALSE))","v":""},null,null,null,null,null,null,null,null,null,null,null,null,null,null,null,null,null,null,null,null,null,null,null,null,null,0,null,{"$f":"MATCH(\"*\"&AD$1&\"*\",OFFSET(Inscriptions!N$4:N$303,SUM('U1 RSR'!AG$6:'U1 RSR'!AG36),0),0)","v":{"$error":"#N/A"}}]
[{"$f":"IF(ISNA(INDEX(Inscriptions!A$4:A$303,SUM('U1 RSR'!AG$7:'U1 RSR'!AG38))),\"\",INDEX(Inscriptions!A$4:A$303,SUM('U1 RSR'!AG$7:'U1 RSR'!AG38)))","v":""},{"$f":"IF(A38=\"\",\"\",VLOOKUP(A38,Data!G$2:K$302,5,FALSE))","v":""},{"$f":"IF(A38=\"\",\"\",VLOOKUP(A38,Data!G$2:K$302,2,FALSE))","v":""},{"$f":"IF(A38=\"\",\"\",VLOOKUP(A38,Data!G$2:K$302,3,FALSE))","v":""},{"$f":"IF(A38=\"\",\"\",VLOOKUP(A38,Data!G$2:K$302,4,FALSE))","v":""},null,null,null,null,null,null,null,null,null,null,null,null,null,null,null,null,null,null,null,null,null,null,null,null,null,0,null,{"$f":"MATCH(\"*\"&AD$1&\"*\",OFFSET(Inscriptions!N$4:N$303,SUM('U1 RSR'!AG$6:'U1 RSR'!AG37),0),0)","v":{"$error":"#N/A"}}]
[{"$f":"IF(ISNA(INDEX(Inscriptions!A$4:A$303,SUM('U1 RSR'!AG$7:'U1 RSR'!AG39))),\"\",INDEX(Inscriptions!A$4:A$303,SUM('U1 RSR'!AG$7:'U1 RSR'!AG39)))","v":""},{"$f":"IF(A39=\"\",\"\",VLOOKUP(A39,Data!G$2:K$302,5,FALSE))","v":""},{"$f":"IF(A39=\"\",\"\",VLOOKUP(A39,Data!G$2:K$302,2,FALSE))","v":""},{"$f":"IF(A39=\"\",\"\",VLOOKUP(A39,Data!G$2:K$302,3,FALSE))","v":""},{"$f":"IF(A39=\"\",\"\",VLOOKUP(A39,Data!G$2:K$302,4,FALSE))","v":""},null,null,null,null,null,null,null,null,null,null,null,null,null,null,null,null,null,null,null,null,null,null,null,null,null,0,null,{"$f":"MATCH(\"*\"&AD$1&\"*\",OFFSET(Inscriptions!N$4:N$303,SUM('U1 RSR'!AG$6:'U1 RSR'!AG38),0),0)","v":{"$error":"#N/A"}}]
[{"$f":"IF(ISNA(INDEX(Inscriptions!A$4:A$303,SUM('U1 RSR'!AG$7:'U1 RSR'!AG40))),\"\",INDEX(Inscriptions!A$4:A$303,SUM('U1 RSR'!AG$7:'U1 RSR'!AG40)))","v":""},{"$f":"IF(A40=\"\",\"\",VLOOKUP(A40,Data!G$2:K$302,5,FALSE))","v":""},{"$f":"IF(A40=\"\",\"\",VLOOKUP(A40,Data!G$2:K$302,2,FALSE))","v":""},{"$f":"IF(A40=\"\",\"\",VLOOKUP(A40,Data!G$2:K$302,3,FALSE))","v":""},{"$f":"IF(A40=\"\",\"\",VLOOKUP(A40,Data!G$2:K$302,4,FALSE))","v":""},null,null,null,null,null,null,null,null,null,null,null,null,null,null,null,null,null,null,null,null,null,null,null,null,null,0,null,{"$f":"MATCH(\"*\"&AD$1&\"*\",OFFSET(Inscriptions!N$4:N$303,SUM('U1 RSR'!AG$6:'U1 RSR'!AG39),0),0)","v":{"$error":"#N/A"}}]
[{"$f":"IF(ISNA(INDEX(Inscriptions!A$4:A$303,SUM('U1 RSR'!AG$7:'U1 RSR'!AG41))),\"\",INDEX(Inscriptions!A$4:A$303,SUM('U1 RSR'!AG$7:'U1 RSR'!AG41)))","v":""},{"$f":"IF(A41=\"\",\"\",VLOOKUP(A41,Data!G$2:K$302,5,FALSE))","v":""},{"$f":"IF(A41=\"\",\"\",VLOOKUP(A41,Data!G$2:K$302,2,FALSE))","v":""},{"$f":"IF(A41=\"\",\"\",VLOOKUP(A41,Data!G$2:K$302,3,FALSE))","v":""},{"$f":"IF(A41=\"\",\"\",VLOOKUP(A41,Data!G$2:K$302,4,FALSE))","v":""},null,null,null,null,null,null,null,null,null,null,null,null,null,null,null,null,null,null,null,null,null,null,null,null,null,0,null,{"$f":"MATCH(\"*\"&AD$1&\"*\",OFFSET(Inscriptions!N$4:N$303,SUM('U1 RSR'!AG$6:'U1 RSR'!AG40),0),0)","v":{"$error":"#N/A"}}]
[{"$f":"IF(ISNA(INDEX(Inscriptions!A$4:A$303,SUM('U1 RSR'!AG$7:'U1 RSR'!AG42))),\"\",INDEX(Inscriptions!A$4:A$303,SUM('U1 RSR'!AG$7:'U1 RSR'!AG42)))","v":""},{"$f":"IF(A42=\"\",\"\",VLOOKUP(A42,Data!G$2:K$302,5,FALSE))","v":""},{"$f":"IF(A42=\"\",\"\",VLOOKUP(A42,Data!G$2:K$302,2,FALSE))","v":""},{"$f":"IF(A42=\"\",\"\",VLOOKUP(A42,Data!G$2:K$302,3,FALSE))","v":""},{"$f":"IF(A42=\"\",\"\",VLOOKUP(A42,Data!G$2:K$302,4,FALSE))","v":""},null,null,null,null,null,null,null,null,null,null,null,null,null,null,null,null,null,null,null,null,null,null,null,null,null,0,null,{"$f":"MATCH(\"*\"&AD$1&\"*\",OFFSET(Inscriptions!N$4:N$303,SUM('U1 RSR'!AG$6:'U1 RSR'!AG41),0),0)","v":{"$error":"#N/A"}}]
[{"$f":"IF(ISNA(INDEX(Inscriptions!A$4:A$303,SUM('U1 RSR'!AG$7:'U1 RSR'!AG43))),\"\",INDEX(Inscriptions!A$4:A$303,SUM('U1 RSR'!AG$7:'U1 RSR'!AG43)))","v":""},{"$f":"IF(A43=\"\",\"\",VLOOKUP(A43,Data!G$2:K$302,5,FALSE))","v":""},{"$f":"IF(A43=\"\",\"\",VLOOKUP(A43,Data!G$2:K$302,2,FALSE))","v":""},{"$f":"IF(A43=\"\",\"\",VLOOKUP(A43,Data!G$2:K$302,3,FALSE))","v":""},{"$f":"IF(A43=\"\",\"\",VLOOKUP(A43,Data!G$2:K$302,4,FALSE))","v":""},null,null,null,null,null,null,null,null,null,null,null,null,null,null,null,null,null,null,null,null,null,null,null,null,null,0,null,{"$f":"MATCH(\"*\"&AD$1&\"*\",OFFSET(Inscriptions!N$4:N$303,SUM('U1 RSR'!AG$6:'U1 RSR'!AG42),0),0)","v":{"$error":"#N/A"}}]
[{"$f":"IF(ISNA(INDEX(Inscriptions!A$4:A$303,SUM('U1 RSR'!AG$7:'U1 RSR'!AG44))),\"\",INDEX(Inscriptions!A$4:A$303,SUM('U1 RSR'!AG$7:'U1 RSR'!AG44)))","v":""},{"$f":"IF(A44=\"\",\"\",VLOOKUP(A44,Data!G$2:K$302,5,FALSE))","v":""},{"$f":"IF(A44=\"\",\"\",VLOOKUP(A44,Data!G$2:K$302,2,FALSE))","v":""},{"$f":"IF(A44=\"\",\"\",VLOOKUP(A44,Data!G$2:K$302,3,FALSE))","v":""},{"$f":"IF(A44=\"\",\"\",VLOOKUP(A44,Data!G$2:K$302,4,FALSE))","v":""},null,null,null,null,null,null,null,null,null,null,null,null,null,null,null,null,null,null,null,null,null,null,null,null,null,0,null,{"$f":"MATCH(\"*\"&AD$1&\"*\",OFFSET(Inscriptions!N$4:N$303,SUM('U1 RSR'!AG$6:'U1 RSR'!AG43),0),0)","v":{"$error":"#N/A"}}]
[{"$f":"IF(ISNA(INDEX(Inscriptions!A$4:A$303,SUM('U1 RSR'!AG$7:'U1 RSR'!AG45))),\"\",INDEX(Inscriptions!A$4:A$303,SUM('U1 RSR'!AG$7:'U1 RSR'!AG45)))","v":""},{"$f":"IF(A45=\"\",\"\",VLOOKUP(A45,Data!G$2:K$302,5,FALSE))","v":""},{"$f":"IF(A45=\"\",\"\",VLOOKUP(A45,Data!G$2:K$302,2,FALSE))","v":""},{"$f":"IF(A45=\"\",\"\",VLOOKUP(A45,Data!G$2:K$302,3,FALSE))","v":""},{"$f":"IF(A45=\"\",\"\",VLOOKUP(A45,Data!G$2:K$302,4,FALSE))","v":""},null,null,null,null,null,null,null,null,null,null,null,null,null,null,null,null,null,null,null,null,null,null,null,null,null,0,null,{"$f":"MATCH(\"*\"&AD$1&\"*\",OFFSET(Inscriptions!N$4:N$303,SUM('U1 RSR'!AG$6:'U1 RSR'!AG44),0),0)","v":{"$error":"#N/A"}}]
[{"$f":"IF(ISNA(INDEX(Inscriptions!A$4:A$303,SUM('U1 RSR'!AG$7:'U1 RSR'!AG46))),\"\",INDEX(Inscriptions!A$4:A$303,SUM('U1 RSR'!AG$7:'U1 RSR'!AG46)))","v":""},{"$f":"IF(A46=\"\",\"\",VLOOKUP(A46,Data!G$2:K$302,5,FALSE))","v":""},{"$f":"IF(A46=\"\",\"\",VLOOKUP(A46,Data!G$2:K$302,2,FALSE))","v":""},{"$f":"IF(A46=\"\",\"\",VLOOKUP(A46,Data!G$2:K$302,3,FALSE))","v":""},{"$f":"IF(A46=\"\",\"\",VLOOKUP(A46,Data!G$2:K$302,4,FALSE))","v":""},null,null,null,null,null,null,null,null,null,null,null,null,null,null,null,null,null,null,null,null,null,null,null,null,null,0,null,{"$f":"MATCH(\"*\"&AD$1&\"*\",OFFSET(Inscriptions!N$4:N$303,SUM('U1 RSR'!AG$6:'U1 RSR'!AG45),0),0)","v":{"$error":"#N/A"}}]
[{"$f":"IF(ISNA(INDEX(Inscriptions!A$4:A$303,SUM('U1 RSR'!AG$7:'U1 RSR'!AG47))),\"\",INDEX(Inscriptions!A$4:A$303,SUM('U1 RSR'!AG$7:'U1 RSR'!AG47)))","v":""},{"$f":"IF(A47=\"\",\"\",VLOOKUP(A47,Data!G$2:K$302,5,FALSE))","v":""},{"$f":"IF(A47=\"\",\"\",VLOOKUP(A47,Data!G$2:K$302,2,FALSE))","v":""},{"$f":"IF(A47=\"\",\"\",VLOOKUP(A47,Data!G$2:K$302,3,FALSE))","v":""},{"$f":"IF(A47=\"\",\"\",VLOOKUP(A47,Data!G$2:K$302,4,FALSE))","v":""},null,null,null,null,null,null,null,null,null,null,null,null,null,null,null,null,null,null,null,null,null,null,null,null,null,0,null,{"$f":"MATCH(\"*\"&AD$1&\"*\",OFFSET(Inscriptions!N$4:N$303,SUM('U1 RSR'!AG$6:'U1 RSR'!AG46),0),0)","v":{"$error":"#N/A"}}]
[{"$f":"IF(ISNA(INDEX(Inscriptions!A$4:A$303,SUM('U1 RSR'!AG$7:'U1 RSR'!AG48))),\"\",INDEX(Inscriptions!A$4:A$303,SUM('U1 RSR'!AG$7:'U1 RSR'!AG48)))","v":""},{"$f":"IF(A48=\"\",\"\",VLOOKUP(A48,Data!G$2:K$302,5,FALSE))","v":""},{"$f":"IF(A48=\"\",\"\",VLOOKUP(A48,Data!G$2:K$302,2,FALSE))","v":""},{"$f":"IF(A48=\"\",\"\",VLOOKUP(A48,Data!G$2:K$302,3,FALSE))","v":""},{"$f":"IF(A48=\"\",\"\",VLOOKUP(A48,Data!G$2:K$302,4,FALSE))","v":""},null,null,null,null,null,null,null,null,null,null,null,null,null,null,null,null,null,null,null,null,null,null,null,null,null,0,null,{"$f":"MATCH(\"*\"&AD$1&\"*\",OFFSET(Inscriptions!N$4:N$303,SUM('U1 RSR'!AG$6:'U1 RSR'!AG47),0),0)","v":{"$error":"#N/A"}}]
[{"$f":"IF(ISNA(INDEX(Inscriptions!A$4:A$303,SUM('U1 RSR'!AG$7:'U1 RSR'!AG49))),\"\",INDEX(Inscriptions!A$4:A$303,SUM('U1 RSR'!AG$7:'U1 RSR'!AG49)))","v":""},{"$f":"IF(A49=\"\",\"\",VLOOKUP(A49,Data!G$2:K$302,5,FALSE))","v":""},{"$f":"IF(A49=\"\",\"\",VLOOKUP(A49,Data!G$2:K$302,2,FALSE))","v":""},{"$f":"IF(A49=\"\",\"\",VLOOKUP(A49,Data!G$2:K$302,3,FALSE))","v":""},{"$f":"IF(A49=\"\",\"\",VLOOKUP(A49,Data!G$2:K$302,4,FALSE))","v":""},null,null,null,null,null,null,null,null,null,null,null,null,null,null,null,null,null,null,null,null,null,null,null,null,null,0,null,{"$f":"MATCH(\"*\"&AD$1&\"*\",OFFSET(Inscriptions!N$4:N$303,SUM('U1 RSR'!AG$6:'U1 RSR'!AG48),0),0)","v":{"$error":"#N/A"}}]
[{"$f":"IF(ISNA(INDEX(Inscriptions!A$4:A$303,SUM('U1 RSR'!AG$7:'U1 RSR'!AG50))),\"\",INDEX(Inscriptions!A$4:A$303,SUM('U1 RSR'!AG$7:'U1 RSR'!AG50)))","v":""},{"$f":"IF(A50=\"\",\"\",VLOOKUP(A50,Data!G$2:K$302,5,FALSE))","v":""},{"$f":"IF(A50=\"\",\"\",VLOOKUP(A50,Data!G$2:K$302,2,FALSE))","v":""},{"$f":"IF(A50=\"\",\"\",VLOOKUP(A50,Data!G$2:K$302,3,FALSE))","v":""},{"$f":"IF(A50=\"\",\"\",VLOOKUP(A50,Data!G$2:K$302,4,FALSE))","v":""},null,null,null,null,null,null,null,null,null,null,null,null,null,null,null,null,null,null,null,null,null,null,null,null,null,0,null,{"$f":"MATCH(\"*\"&AD$1&\"*\",OFFSET(Inscriptions!N$4:N$303,SUM('U1 RSR'!AG$6:'U1 RSR'!AG49),0),0)","v":{"$error":"#N/A"}}]
[{"$f":"IF(ISNA(INDEX(Inscriptions!A$4:A$303,SUM('U1 RSR'!AG$7:'U1 RSR'!AG51))),\"\",INDEX(Inscriptions!A$4:A$303,SUM('U1 RSR'!AG$7:'U1 RSR'!AG51)))","v":""},{"$f":"IF(A51=\"\",\"\",VLOOKUP(A51,Data!G$2:K$302,5,FALSE))","v":""},{"$f":"IF(A51=\"\",\"\",VLOOKUP(A51,Data!G$2:K$302,2,FALSE))","v":""},{"$f":"IF(A51=\"\",\"\",VLOOKUP(A51,Data!G$2:K$302,3,FALSE))","v":""},{"$f":"IF(A51=\"\",\"\",VLOOKUP(A51,Data!G$2:K$302,4,FALSE))","v":""},null,null,null,null,null,null,null,null,null,null,null,null,null,null,null,null,null,null,null,null,null,null,null,null,null,0,null,{"$f":"MATCH(\"*\"&AD$1&\"*\",OFFSET(Inscriptions!N$4:N$303,SUM('U1 RSR'!AG$6:'U1 RSR'!AG50),0),0)","v":{"$error":"#N/A"}}]
[{"$f":"IF(ISNA(INDEX(Inscriptions!A$4:A$303,SUM('U1 RSR'!AG$7:'U1 RSR'!AG52))),\"\",INDEX(Inscriptions!A$4:A$303,SUM('U1 RSR'!AG$7:'U1 RSR'!AG52)))","v":""},{"$f":"IF(A52=\"\",\"\",VLOOKUP(A52,Data!G$2:K$302,5,FALSE))","v":""},{"$f":"IF(A52=\"\",\"\",VLOOKUP(A52,Data!G$2:K$302,2,FALSE))","v":""},{"$f":"IF(A52=\"\",\"\",VLOOKUP(A52,Data!G$2:K$302,3,FALSE))","v":""},{"$f":"IF(A52=\"\",\"\",VLOOKUP(A52,Data!G$2:K$302,4,FALSE))","v":""},null,null,null,null,null,null,null,null,null,null,null,null,null,null,null,null,null,null,null,null,null,null,null,null,null,0,null,{"$f":"MATCH(\"*\"&AD$1&\"*\",OFFSET(Inscriptions!N$4:N$303,SUM('U1 RSR'!AG$6:'U1 RSR'!AG51),0),0)","v":{"$error":"#N/A"}}]
[{"$f":"IF(ISNA(INDEX(Inscriptions!A$4:A$303,SUM('U1 RSR'!AG$7:'U1 RSR'!AG53))),\"\",INDEX(Inscriptions!A$4:A$303,SUM('U1 RSR'!AG$7:'U1 RSR'!AG53)))","v":""},{"$f":"IF(A53=\"\",\"\",VLOOKUP(A53,Data!G$2:K$302,5,FALSE))","v":""},{"$f":"IF(A53=\"\",\"\",VLOOKUP(A53,Data!G$2:K$302,2,FALSE))","v":""},{"$f":"IF(A53=\"\",\"\",VLOOKUP(A53,Data!G$2:K$302,3,FALSE))","v":""},{"$f":"IF(A53=\"\",\"\",VLOOKUP(A53,Data!G$2:K$302,4,FALSE))","v":""},null,null,null,null,null,null,null,null,null,null,null,null,null,null,null,null,null,null,null,null,null,null,null,null,null,0,null,{"$f":"MATCH(\"*\"&AD$1&\"*\",OFFSET(Inscriptions!N$4:N$303,SUM('U1 RSR'!AG$6:'U1 RSR'!AG52),0),0)","v":{"$error":"#N/A"}}]
[{"$f":"IF(ISNA(INDEX(Inscriptions!A$4:A$303,SUM('U1 RSR'!AG$7:'U1 RSR'!AG54))),\"\",INDEX(Inscriptions!A$4:A$303,SUM('U1 RSR'!AG$7:'U1 RSR'!AG54)))","v":""},{"$f":"IF(A54=\"\",\"\",VLOOKUP(A54,Data!G$2:K$302,5,FALSE))","v":""},{"$f":"IF(A54=\"\",\"\",VLOOKUP(A54,Data!G$2:K$302,2,FALSE))","v":""},{"$f":"IF(A54=\"\",\"\",VLOOKUP(A54,Data!G$2:K$302,3,FALSE))","v":""},{"$f":"IF(A54=\"\",\"\",VLOOKUP(A54,Data!G$2:K$302,4,FALSE))","v":""},null,null,null,null,null,null,null,null,null,null,null,null,null,null,null,null,null,null,null,null,null,null,null,null,null,0,null,{"$f":"MATCH(\"*\"&AD$1&\"*\",OFFSET(Inscriptions!N$4:N$303,SUM('U1 RSR'!AG$6:'U1 RSR'!AG53),0),0)","v":{"$error":"#N/A"}}]
[{"$f":"IF(ISNA(INDEX(Inscriptions!A$4:A$303,SUM('U1 RSR'!AG$7:'U1 RSR'!AG55))),\"\",INDEX(Inscriptions!A$4:A$303,SUM('U1 RSR'!AG$7:'U1 RSR'!AG55)))","v":""},{"$f":"IF(A55=\"\",\"\",VLOOKUP(A55,Data!G$2:K$302,5,FALSE))","v":""},{"$f":"IF(A55=\"\",\"\",VLOOKUP(A55,Data!G$2:K$302,2,FALSE))","v":""},{"$f":"IF(A55=\"\",\"\",VLOOKUP(A55,Data!G$2:K$302,3,FALSE))","v":""},{"$f":"IF(A55=\"\",\"\",VLOOKUP(A55,Data!G$2:K$302,4,FALSE))","v":""},null,null,null,null,null,null,null,null,null,null,null,null,null,null,null,null,null,null,null,null,null,null,null,null,null,0,null,{"$f":"MATCH(\"*\"&AD$1&\"*\",OFFSET(Inscriptions!N$4:N$303,SUM('U1 RSR'!AG$6:'U1 RSR'!AG54),0),0)","v":{"$error":"#N/A"}}]
[{"$f":"CONCATENATE(IF(ChoixLangue=Languages!$B$1,Languages!$B105,IF(ChoixLangue=Languages!$C$1,Languages!$C105,IF(ChoixLangue=Languages!$D$1,Languages!$D105,Languages!$E105))),SUM(AE7:AE55))","v":"Nbe nageuses : 0"},"-","-","-",null,"-","-","-",null,"-"]

{"sheet":"U2 RSR","index":13,"n_rows":56,"n_cols":32,"rows_kept":56,"cut":false,"hidden":true,"merged":[[3,0,3,8]]}
[{"$f":"IF('Cover Page'!B5=\"\",\"\",'Cover Page'!B5)","v":""},null,null,null,null,null,null,null,null,null,null,null,null,null,null,null,null,null,null,null,null,null,null,null,null,null,null,null,"x",null,null,{"$f":"MID(CELL(\"filename\",A1),FIND(\"]\",CELL(\"filename\",A1),1)+1,20)","v":"U2 RSR"}]
[{"$f":"IF('Cover Page'!B6=\"\",\"\",'Cover Page'!B6)","v":""},null,null,null,null,null,null,null,{"$f":"IF(ChoixLangue=Languages!$B$1,Languages!$B$97 & \" \" & AF1,IF(ChoixLangue=Languages!$C$1,Languages!$C$97 & \" \" & AF1,IF(ChoixLangue=Languages!$D$1,Languages!$D$97 & \" \" & AF1,Languages!$E$97 & \" \" & AF1)))","v":"Catégorie U2 RSR"}]
[{"$f":"IF('Cover Page'!B7=\"\",\"\",'Cover Page'!B7)","v":""}]
[{"$f":"IF('Cover Page'!B10=\"\",\"\",CONCATENATE(IF(ChoixLangue=Languages!$B$1,Languages!$B98,IF(ChoixLangue=Languages!$C$1,Languages!$C98,IF(ChoixLangue=Languages!$D$1,Languages!$D98,Languages!$E98))),'Cover Page'!B10))","v":""}]
[{"$f":"A56","v":"Nbe nageuses : 0"}]
[{"$f":"IF(ChoixLangue=Languages!$B$1,Languages!$B99,IF(ChoixLangue=Languages!$C$1,Languages!$C99,IF(ChoixLangue=Languages!$D$1,Languages!$D99,Languages!$E99)))","v":"NOM Prénom"},{"$f":"IF(ChoixLangue=Languages!$B$1,Languages!$B100,IF(ChoixLangue=Languages!$C$1,Languages!$C100,IF(ChoixLangue=Languages!$D$1,Languages!$D100,Languages!$E100)))","v":"Club"},{"$f":"IF(ChoixLangue=Languages!$B$1,Languages!$B101,IF(ChoixLangue=Languages!$C$1,Languages!$C101,IF(ChoixLangue=Languages!$D$1,Languages!$D101,Languages!$E101)))","v":"Licence"},{"$f":"IF(ChoixLangue=Languages!$B$1,Languages!$B102,IF(ChoixLangue=Languages!$C$1,Languages!$C102,IF(ChoixLangue=Languages!$D$1,Languages!$D102,Languages!$E102)))","v":"An. Nais."},{"$f":"IF(ChoixLangue=Languages!$B$1,Languages!$B103,IF(ChoixLangue=Languages!$C$1,Languages!$C103,IF(ChoixLangue=Languages!$D$1,Languages!$D103,Languages!$E103)))","v":"N° Test"},{"$f":"IF(ChoixLangue=Languages!$B$1,Languages!$B104,IF(ChoixLangue=Languages!$C$1,Languages!$C104,IF(ChoixLangue=Languages!$D$1,Languages!$D104,Languages!$E104)))","v":"Figures"},"Solo Free","Duo Free","Team Free"]
[{"$f":"IF(ISNA(INDEX(Inscriptions!A$4:A$303,SUM('U2 RSR'!AF$7:'U2 RSR'!AF7))),\"\",INDEX(Inscriptions!A$4:A$303,SUM('U2 RSR'!AF$7:'U2 RSR'!AF7)))","v":""},{"$f":"IF(A7=\"\",\"\",VLOOKUP(A7,Data!G$2:K$302,5,FALSE))","v":""},{"$f":"IF(A7=\"\",\"\",VLOOKUP(A7,Data!G$2:K$302,2,FALSE))","v":""},{"$f":"IF(A7=\"\",\"\",VLOOKUP(A7,Data!G$2:K$302,3,FALSE))","v":""},{"$f":"IF(A7=\"\",\"\",VLOOKUP(A7,Data!G$2:K$302,4,FALSE))","v":""},null,null,null,null,null,null,null,null,null,null,null,null,null,null,null,null,null,null,null,null,null,null,null,null,{"$f":"IF(A7<>\"\",1,0)","v":0},null,{"$f":"MATCH(\"*\"&AC$1&\"*\",OFFSET(Inscriptions!T$4:T$303,SUM('U2 RSR'!AF$6:'U2 RSR'!AF6),0),0)","v":{"$error":"#N/A"}}]
[{"$f":"IF(ISNA(INDEX(Inscriptions!A$4:A$303,SUM('U2 RSR'!AF$7:'U2 RSR'!AF8))),\"\",INDEX(Inscriptions!A$4:A$303,SUM('U2 RSR'!AF$7:'U2 RSR'!AF8)))","v":""},{"$f":"IF(A8=\"\",\"\",VLOOKUP(A8,Data!G$2:K$302,5,FALSE))","v":""},{"$f":"IF(A8=\"\",\"\",VLOOKUP(A8,Data!G$2:K$302,2,FALSE))","v":""},{"$f":"IF(A8=\"\",\"\",VLOOKUP(A8,Data!G$2:K$302,3,FALSE))","v":""},{"$f":"IF(A8=\"\",\"\",VLOOKUP(A8,Data!G$2:K$302,4,FALSE))","v":""},null,null,null,null,null,null,null,null,null,null,null,null,null,null,null,null,null,null,null,null,null,null,null,null,{"$f":"IF(A8<>\"\",1,0)","v":0},null,{"$f":"MATCH(\"*\"&AC$1&\"*\",OFFSET(Inscriptions!T$4:T$303,SUM('U2 RSR'!AF$6:'U2 RSR'!AF7),0),0)","v":{"$error":"#N/A"}}]
[{"$f":"IF(ISNA(INDEX(Inscriptions!A$4:A$303,SUM('U2 RSR'!AF$7:'U2 RSR'!AF9))),\"\",INDEX(Inscriptions!A$4:A$303,SUM('U2 RSR'!AF$7:'U2 RSR'!AF9)))","v":""},{"$f":"IF(A9=\"\",\"\",VLOOKUP(A9,Data!G$2:K$302,5,FALSE))","v":""},{"$f":"IF(A9=\"\",\"\",VLOOKUP(A9,Data!G$2:K$302,2,FALSE))","v":""},{"$f":"IF(A9=\"\",\"\",VLOOKUP(A9,Data!G$2:K$302,3,FALSE))","v":""},{"$f":"IF(A9=\"\",\"\",VLOOKUP(A9,Data!G$2:K$302,4,FALSE))","v":""},null,null,null,null,null,null,null,null,null,null,null,null,null,null,null,null,null,null,null,null,null,null,null,null,{"$f":"IF(A9<>\"\",1,0)","v":0},null,{"$f":"MATCH(\"*\"&AC$1&\"*\",OFFSET(Inscriptions!T$4:T$303,SUM('U2 RSR'!AF$6:'U2 RSR'!AF8),0),0)","v":{"$error":"#N/A"}}]
[{"$f":"IF(ISNA(INDEX(Inscriptions!A$4:A$303,SUM('U2 RSR'!AF$7:'U2 RSR'!AF10))),\"\",INDEX(Inscriptions!A$4:A$303,SUM('U2 RSR'!AF$7:'U2 RSR'!AF10)))","v":""},{"$f":"IF(A10=\"\",\"\",VLOOKUP(A10,Data!G$2:K$302,5,FALSE))","v":""},{"$f":"IF(A10=\"\",\"\",VLOOKUP(A10,Data!G$2:K$302,2,FALSE))","v":""},{"$f":"IF(A10=\"\",\"\",VLOOKUP(A10,Data!G$2:K$302,3,FALSE))","v":""},{"$f":"IF(A10=\"\",\"\",VLOOKUP(A10,Data!G$2:K$302,4,FALSE))","v":""},null,null,null,null,null,null,null,null,null,null,null,null,null,null,null,null,null,null,null,null,null,null,null,null,0,null,{"$f":"MATCH(\"*\"&AC$1&\"*\",OFFSET(Inscriptions!T$4:T$303,SUM('U2 RSR'!AF$6:'U2 RSR'!AF9),0),0)","v":{"$error":"#N/A"}}]
[{"$f":"IF(ISNA(INDEX(Inscriptions!A$4:A$303,SUM('U2 RSR'!AF$7:'U2 RSR'!AF11))),\"\",INDEX(Inscriptions!A$4:A$303,SUM('U2 RSR'!AF$7:'U2 RSR'!AF11)))","v":""},{"$f":"IF(A11=\"\",\"\",VLOOKUP(A11,Data!G$2:K$302,5,FALSE))","v":""},{"$f":"IF(A11=\"\",\"\",VLOOKUP(A11,Data!G$2:K$302,2,FALSE))","v":""},{"$f":"IF(A11=\"\",\"\",VLOOKUP(A11,Data!G$2:K$302,3,FALSE))","v":""},{"$f":"IF(A11=\"\",\"\",VLOOKUP(A11,Data!G$2:K$302,4,FALSE))","v":""},null,null,null,null,null,null,null,null,null,null,null,null,null,null,null,null,null,null,null,null,null,null,null,null,0,null,{"$f":"MATCH(\"*\"&AC$1&\"*\",OFFSET(Inscriptions!T$4:T$303,SUM('U2 RSR'!AF$6:'U2 RSR'!AF10),0),0)","v":{"$error":"#N/A"}}]
[{"$f":"IF(ISNA(INDEX(Inscriptions!A$4:A$303,SUM('U2 RSR'!AF$7:'U2 RSR'!AF12))),\"\",INDEX(Inscriptions!A$4:A$303,SUM('U2 RSR'!AF$7:'U2 RSR'!AF12)))","v":""},{"$f":"IF(A12=\"\",\"\",VLOOKUP(A12,Data!G$2:K$302,5,FALSE))","v":""},{"$f":"IF(A12=\"\",\"\",VLOOKUP(A12,Data!G$2:K$302,2,FALSE))","v":""},{"$f":"IF(A12=\"\",\"\",VLOOKUP(A12,Data!G$2:K$302,3,FALSE))","v":""},{"$f":"IF(A12=\"\",\"\",VLOOKUP(A12,Data!G$2:K$302,4,FALSE))","v":""},null,null,null,null,null,null,null,null,null,null,null,null,null,null,null,null,null,null,null,null,null,null,null,null,0,null,{"$f":"MATCH(\"*\"&AC$1&\"*\",OFFSET(Inscriptions!T$4:T$303,SUM('U2 RSR'!AF$6:'U2 RSR'!AF11),0),0)","v":{"$error":"#N/A"}}]
[{"$f":"IF(ISNA(INDEX(Inscriptions!A$4:A$303,SUM('U2 RSR'!AF$7:'U2 RSR'!AF13))),\"\",INDEX(Inscriptions!A$4:A$303,SUM('U2 RSR'!AF$7:'U2 RSR'!AF13)))","v":""},{"$f":"IF(A13=\"\",\"\",VLOOKUP(A13,Data!G$2:K$302,5,FALSE))","v":""},{"$f":"IF(A13=\"\",\"\",VLOOKUP(A13,Data!G$2:K$302,2,FALSE))","v":""},{"$f":"IF(A13=\"\",\"\",VLOOKUP(A13,Data!G$2:K$302,3,FALSE))","v":""},{"$f":"IF(A13=\"\",\"\",VLOOKUP(A13,Data!G$2:K$302,4,FALSE))","v":""},null,null,null,null,null,null,null,null,null,null,null,null,null,null,null,null,null,null,null,null,null,null,null,null,0,null,{"$f":"MATCH(\"*\"&AC$1&\"*\",OFFSET(Inscriptions!T$4:T$303,SUM('U2 RSR'!AF$6:'U2 RSR'!AF12),0),0)","v":{"$error":"#N/A"}}]
[{"$f":"IF(ISNA(INDEX(Inscriptions!A$4:A$303,SUM('U2 RSR'!AF$7:'U2 RSR'!AF14))),\"\",INDEX(Inscriptions!A$4:A$303,SUM('U2 RSR'!AF$7:'U2 RSR'!AF14)))","v":""},{"$f":"IF(A14=\"\",\"\",VLOOKUP(A14,Data!G$2:K$302,5,FALSE))","v":""},{"$f":"IF(A14=\"\",\"\",VLOOKUP(A14,Data!G$2:K$302,2,FALSE))","v":""},{"$f":"IF(A14=\"\",\"\",VLOOKUP(A14,Data!G$2:K$302,3,FALSE))","v":""},{"$f":"IF(A14=\"\",\"\",VLOOKUP(A14,Data!G$2:K$302,4,FALSE))","v":""},null,null,null,null,null,null,null,null,null,null,null,null,null,null,null,null,null,null,null,null,null,null,null,null,0,null,{"$f":"MATCH(\"*\"&AC$1&\"*\",OFFSET(Inscriptions!T$4:T$303,SUM('U2 RSR'!AF$6:'U2 RSR'!AF13),0),0)","v":{"$error":"#N/A"}}]
[{"$f":"IF(ISNA(INDEX(Inscriptions!A$4:A$303,SUM('U2 RSR'!AF$7:'U2 RSR'!AF15))),\"\",INDEX(Inscriptions!A$4:A$303,SUM('U2 RSR'!AF$7:'U2 RSR'!AF15)))","v":""},{"$f":"IF(A15=\"\",\"\",VLOOKUP(A15,Data!G$2:K$302,5,FALSE))","v":""},{"$f":"IF(A15=\"\",\"\",VLOOKUP(A15,Data!G$2:K$302,2,FALSE))","v":""},{"$f":"IF(A15=\"\",\"\",VLOOKUP(A15,Data!G$2:K$302,3,FALSE))","v":""},{"$f":"IF(A15=\"\",\"\",VLOOKUP(A15,Data!G$2:K$302,4,FALSE))","v":""},null,null,null,null,null,null,null,null,null,null,null,null,null,null,null,null,null,null,null,null,null,null,null,null,0,null,{"$f":"MATCH(\"*\"&AC$1&\"*\",OFFSET(Inscriptions!T$4:T$303,SUM('U2 RSR'!AF$6:'U2 RSR'!AF14),0),0)","v":{"$error":"#N/A"}}]
[{"$f":"IF(ISNA(INDEX(Inscriptions!A$4:A$303,SUM('U2 RSR'!AF$7:'U2 RSR'!AF16))),\"\",INDEX(Inscriptions!A$4:A$303,SUM('U2 RSR'!AF$7:'U2 RSR'!AF16)))","v":""},{"$f":"IF(A16=\"\",\"\",VLOOKUP(A16,Data!G$2:K$302,5,FALSE))","v":""},{"$f":"IF(A16=\"\",\"\",VLOOKUP(A16,Data!G$2:K$302,2,FALSE))","v":""},{"$f":"IF(A16=\"\",\"\",VLOOKUP(A16,Data!G$2:K$302,3,FALSE))","v":""},{"$f":"IF(A16=\"\",\"\",VLOOKUP(A16,Data!G$2:K$302,4,FALSE))","v":""},null,null,null,null,null,null,null,null,null,null,null,null,null,null,null,null,null,null,null,null,null,null,null,null,0,null,{"$f":"MATCH(\"*\"&AC$1&\"*\",OFFSET(Inscriptions!T$4:T$303,SUM('U2 RSR'!AF$6:'U2 RSR'!AF15),0),0)","v":{"$error":"#N/A"}}]
[{"$f":"IF(ISNA(INDEX(Inscriptions!A$4:A$303,SUM('U2 RSR'!AF$7:'U2 RSR'!AF17))),\"\",INDEX(Inscriptions!A$4:A$303,SUM('U2 RSR'!AF$7:'U2 RSR'!AF17)))","v":""},{"$f":"IF(A17=\"\",\"\",VLOOKUP(A17,Data!G$2:K$302,5,FALSE))","v":""},{"$f":"IF(A17=\"\",\"\",VLOOKUP(A17,Data!G$2:K$302,2,FALSE))","v":""},{"$f":"IF(A17=\"\",\"\",VLOOKUP(A17,Data!G$2:K$302,3,FALSE))","v":""},{"$f":"IF(A17=\"\",\"\",VLOOKUP(A17,Data!G$2:K$302,4,FALSE))","v":""},null,null,null,null,null,null,null,null,null,null,null,null,null,null,null,null,null,null,null,null,null,null,null,null,0,null,{"$f":"MATCH(\"*\"&AC$1&\"*\",OFFSET(Inscriptions!T$4:T$303,SUM('U2 RSR'!AF$6:'U2 RSR'!AF16),0),0)","v":{"$error":"#N/A"}}]
[{"$f":"IF(ISNA(INDEX(Inscriptions!A$4:A$303,SUM('U2 RSR'!AF$7:'U2 RSR'!AF18))),\"\",INDEX(Inscriptions!A$4:A$303,SUM('U2 RSR'!AF$7:'U2 RSR'!AF18)))","v":""},{"$f":"IF(A18=\"\",\"\",VLOOKUP(A18,Data!G$2:K$302,5,FALSE))","v":""},{"$f":"IF(A18=\"\",\"\",VLOOKUP(A18,Data!G$2:K$302,2,FALSE))","v":""},{"$f":"IF(A18=\"\",\"\",VLOOKUP(A18,Data!G$2:K$302,3,FALSE))","v":""},{"$f":"IF(A18=\"\",\"\",VLOOKUP(A18,Data!G$2:K$302,4,FALSE))","v":""},null,null,null,null,null,null,null,null,null,null,null,null,null,null,null,null,null,null,null,null,null,null,null,null,0,null,{"$f":"MATCH(\"*\"&AC$1&\"*\",OFFSET(Inscriptions!T$4:T$303,SUM('U2 RSR'!AF$6:'U2 RSR'!AF17),0),0)","v":{"$error":"#N/A"}}]
[{"$f":"IF(ISNA(INDEX(Inscriptions!A$4:A$303,SUM('U2 RSR'!AF$7:'U2 RSR'!AF19))),\"\",INDEX(Inscriptions!A$4:A$303,SUM('U2 RSR'!AF$7:'U2 RSR'!AF19)))","v":""},{"$f":"IF(A19=\"\",\"\",VLOOKUP(A19,Data!G$2:K$302,5,FALSE))","v":""},{"$f":"IF(A19=\"\",\"\",VLOOKUP(A19,Data!G$2:K$302,2,FALSE))","v":""},{"$f":"IF(A19=\"\",\"\",VLOOKUP(A19,Data!G$2:K$302,3,FALSE))","v":""},{"$f":"IF(A19=\"\",\"\",VLOOKUP(A19,Data!G$2:K$302,4,FALSE))","v":""},null,null,null,null,null,null,null,null,null,null,null,null,null,null,null,null,null,null,null,null,null,null,null,null,0,null,{"$f":"MATCH(\"*\"&AC$1&\"*\",OFFSET(Inscriptions!T$4:T$303,SUM('U2 RSR'!AF$6:'U2 RSR'!AF18),0),0)","v":{"$error":"#N/A"}}]
[{"$f":"IF(ISNA(INDEX(Inscriptions!A$4:A$303,SUM('U2 RSR'!AF$7:'U2 RSR'!AF20))),\"\",INDEX(Inscriptions!A$4:A$303,SUM('U2 RSR'!AF$7:'U2 RSR'!AF20)))","v":""},{"$f":"IF(A20=\"\",\"\",VLOOKUP(A20,Data!G$2:K$302,5,FALSE))","v":""},{"$f":"IF(A20=\"\",\"\",VLOOKUP(A20,Data!G$2:K$302,2,FALSE))","v":""},{"$f":"IF(A20=\"\",\"\",VLOOKUP(A20,Data!G$2:K$302,3,FALSE))","v":""},{"$f":"IF(A20=\"\",\"\",VLOOKUP(A20,Data!G$2:K$302,4,FALSE))","v":""},null,null,null,null,null,null,null,null,null,null,null,null,null,null,null,null,null,null,null,null,null,null,null,null,0,null,{"$f":"MATCH(\"*\"&AC$1&\"*\",OFFSET(Inscriptions!T$4:T$303,SUM('U2 RSR'!AF$6:'U2 RSR'!AF19),0),0)","v":{"$error":"#N/A"}}]
[{"$f":"IF(ISNA(INDEX(Inscriptions!A$4:A$303,SUM('U2 RSR'!AF$7:'U2 RSR'!AF21))),\"\",INDEX(Inscriptions!A$4:A$303,SUM('U2 RSR'!AF$7:'U2 RSR'!AF21)))","v":""},{"$f":"IF(A21=\"\",\"\",VLOOKUP(A21,Data!G$2:K$302,5,FALSE))","v":""},{"$f":"IF(A21=\"\",\"\",VLOOKUP(A21,Data!G$2:K$302,2,FALSE))","v":""},{"$f":"IF(A21=\"\",\"\",VLOOKUP(A21,Data!G$2:K$302,3,FALSE))","v":""},{"$f":"IF(A21=\"\",\"\",VLOOKUP(A21,Data!G$2:K$302,4,FALSE))","v":""},null,null,null,null,null,null,null,null,null,null,null,null,null,null,null,null,null,null,null,null,null,null,null,null,0,null,{"$f":"MATCH(\"*\"&AC$1&\"*\",OFFSET(Inscriptions!T$4:T$303,SUM('U2 RSR'!AF$6:'U2 RSR'!AF20),0),0)","v":{"$error":"#N/A"}}]
[{"$f":"IF(ISNA(INDEX(Inscriptions!A$4:A$303,SUM('U2 RSR'!AF$7:'U2 RSR'!AF22))),\"\",INDEX(Inscriptions!A$4:A$303,SUM('U2 RSR'!AF$7:'U2 RSR'!AF22)))","v":""},{"$f":"IF(A22=\"\",\"\",VLOOKUP(A22,Data!G$2:K$302,5,FALSE))","v":""},{"$f":"IF(A22=\"\",\"\",VLOOKUP(A22,Data!G$2:K$302,2,FALSE))","v":""},{"$f":"IF(A22=\"\",\"\",VLOOKUP(A22,Data!G$2:K$302,3,FALSE))","v":""},{"$f":"IF(A22=\"\",\"\",VLOOKUP(A22,Data!G$2:K$302,4,FALSE))","v":""},null,null,null,null,null,null,null,null,null,null,null,null,null,null,null,null,null,null,null,null,null,null,null,null,0,null,{"$f":"MATCH(\"*\"&AC$1&\"*\",OFFSET(Inscriptions!T$4:T$303,SUM('U2 RSR'!AF$6:'U2 RSR'!AF21),0),0)","v":{"$error":"#N/A"}}]
[{"$f":"IF(ISNA(INDEX(Inscriptions!A$4:A$303,SUM('U2 RSR'!AF$7:'U2 RSR'!AF23))),\"\",INDEX(Inscriptions!A$4:A$303,SUM('U2 RSR'!AF$7:'U2 RSR'!AF23)))","v":""},{"$f":"IF(A23=\"\",\"\",VLOOKUP(A23,Data!G$2:K$302,5,FALSE))","v":""},{"$f":"IF(A23=\"\",\"\",VLOOKUP(A23,Data!G$2:K$302,2,FALSE))","v":""},{"$f":"IF(A23=\"\",\"\",VLOOKUP(A23,Data!G$2:K$302,3,FALSE))","v":""},{"$f":"IF(A23=\"\",\"\",VLOOKUP(A23,Data!G$2:K$302,4,FALSE))","v":""},null,null,null,null,null,null,null,null,null,null,null,null,null,null,null,null,null,null,null,null,null,null,null,null,0,null,{"$f":"MATCH(\"*\"&AC$1&\"*\",OFFSET(Inscriptions!T$4:T$303,SUM('U2 RSR'!AF$6:'U2 RSR'!AF22),0),0)","v":{"$error":"#N/A"}}]
[{"$f":"IF(ISNA(INDEX(Inscriptions!A$4:A$303,SUM('U2 RSR'!AF$7:'U2 RSR'!AF24))),\"\",INDEX(Inscriptions!A$4:A$303,SUM('U2 RSR'!AF$7:'U2 RSR'!AF24)))","v":""},{"$f":"IF(A24=\"\",\"\",VLOOKUP(A24,Data!G$2:K$302,5,FALSE))","v":""},{"$f":"IF(A24=\"\",\"\",VLOOKUP(A24,Data!G$2:K$302,2,FALSE))","v":""},{"$f":"IF(A24=\"\",\"\",VLOOKUP(A24,Data!G$2:K$302,3,FALSE))","v":""},{"$f":"IF(A24=\"\",\"\",VLOOKUP(A24,Data!G$2:K$302,4,FALSE))","v":""},null,null,null,null,null,null,null,null,null,null,null,null,null,null,null,null,null,null,null,null,null,null,null,null,0,null,{"$f":"MATCH(\"*\"&AC$1&\"*\",OFFSET(Inscriptions!T$4:T$303,SUM('U2 RSR'!AF$6:'U2 RSR'!AF23),0),0)","v":{"$error":"#N/A"}}]
[{"$f":"IF(ISNA(INDEX(Inscriptions!A$4:A$303,SUM('U2 RSR'!AF$7:'U2 RSR'!AF25))),\"\",INDEX(Inscriptions!A$4:A$303,SUM('U2 RSR'!AF$7:'U2 RSR'!AF25)))","v":""},{"$f":"IF(A25=\"\",\"\",VLOOKUP(A25,Data!G$2:K$302,5,FALSE))","v":""},{"$f":"IF(A25=\"\",\"\",VLOOKUP(A25,Data!G$2:K$302,2,FALSE))","v":""},{"$f":"IF(A25=\"\",\"\",VLOOKUP(A25,Data!G$2:K$302,3,FALSE))","v":""},{"$f":"IF(A25=\"\",\"\",VLOOKUP(A25,Data!G$2:K$302,4,FALSE))","v":""},null,null,null,null,null,null,null,null,null,null,null,null,null,null,null,null,null,null,null,null,null,null,null,null,0,null,{"$f":"MATCH(\"*\"&AC$1&\"*\",OFFSET(Inscriptions!T$4:T$303,SUM('U2 RSR'!AF$6:'U2 RSR'!AF24),0),0)","v":{"$error":"#N/A"}}]
[{"$f":"IF(ISNA(INDEX(Inscriptions!A$4:A$303,SUM('U2 RSR'!AF$7:'U2 RSR'!AF26))),\"\",INDEX(Inscriptions!A$4:A$303,SUM('U2 RSR'!AF$7:'U2 RSR'!AF26)))","v":""},{"$f":"IF(A26=\"\",\"\",VLOOKUP(A26,Data!G$2:K$302,5,FALSE))","v":""},{"$f":"IF(A26=\"\",\"\",VLOOKUP(A26,Data!G$2:K$302,2,FALSE))","v":""},{"$f":"IF(A26=\"\",\"\",VLOOKUP(A26,Data!G$2:K$302,3,FALSE))","v":""},{"$f":"IF(A26=\"\",\"\",VLOOKUP(A26,Data!G$2:K$302,4,FALSE))","v":""},null,null,null,null,null,null,null,null,null,null,null,null,null,null,null,null,null,null,null,null,null,null,null,null,0,null,{"$f":"MATCH(\"*\"&AC$1&\"*\",OFFSET(Inscriptions!T$4:T$303,SUM('U2 RSR'!AF$6:'U2 RSR'!AF25),0),0)","v":{"$error":"#N/A"}}]
[{"$f":"IF(ISNA(INDEX(Inscriptions!A$4:A$303,SUM('U2 RSR'!AF$7:'U2 RSR'!AF27))),\"\",INDEX(Inscriptions!A$4:A$303,SUM('U2 RSR'!AF$7:'U2 RSR'!AF27)))","v":""},{"$f":"IF(A27=\"\",\"\",VLOOKUP(A27,Data!G$2:K$302,5,FALSE))","v":""},{"$f":"IF(A27=\"\",\"\",VLOOKUP(A27,Data!G$2:K$302,2,FALSE))","v":""},{"$f":"IF(A27=\"\",\"\",VLOOKUP(A27,Data!G$2:K$302,3,FALSE))","v":""},{"$f":"IF(A27=\"\",\"\",VLOOKUP(A27,Data!G$2:K$302,4,FALSE))","v":""},null,null,null,null,null,null,null,null,null,null,null,null,null,null,null,null,null,null,null,null,null,null,null,null,0,null,{"$f":"MATCH(\"*\"&AC$1&\"*\",OFFSET(Inscriptions!T$4:T$303,SUM('U2 RSR'!AF$6:'U2 RSR'!AF26),0),0)","v":{"$error":"#N/A"}}]
[{"$f":"IF(ISNA(INDEX(Inscriptions!A$4:A$303,SUM('U2 RSR'!AF$7:'U2 RSR'!AF28))),\"\",INDEX(Inscriptions!A$4:A$303,SUM('U2 RSR'!AF$7:'U2 RSR'!AF28)))","v":""},{"$f":"IF(A28=\"\",\"\",VLOOKUP(A28,Data!G$2:K$302,5,FALSE))","v":""},{"$f":"IF(A28=\"\",\"\",VLOOKUP(A28,Data!G$2:K$302,2,FALSE))","v":""},{"$f":"IF(A28=\"\",\"\",VLOOKUP(A28,Data!G$2:K$302,3,FALSE))","v":""},{"$f":"IF(A28=\"\",\"\",VLOOKUP(A28,Data!G$2:K$302,4,FALSE))","v":""},null,null,null,null,null,null,null,null,null,null,null,null,null,null,null,null,null,null,null,null,null,null,null,null,0,null,{"$f":"MATCH(\"*\"&AC$1&\"*\",OFFSET(Inscriptions!T$4:T$303,SUM('U2 RSR'!AF$6:'U2 RSR'!AF27),0),0)","v":{"$error":"#N/A"}}]
[{"$f":"IF(ISNA(INDEX(Inscriptions!A$4:A$303,SUM('U2 RSR'!AF$7:'U2 RSR'!AF29))),\"\",INDEX(Inscriptions!A$4:A$303,SUM('U2 RSR'!AF$7:'U2 RSR'!AF29)))","v":""},{"$f":"IF(A29=\"\",\"\",VLOOKUP(A29,Data!G$2:K$302,5,FALSE))","v":""},{"$f":"IF(A29=\"\",\"\",VLOOKUP(A29,Data!G$2:K$302,2,FALSE))","v":""},{"$f":"IF(A29=\"\",\"\",VLOOKUP(A29,Data!G$2:K$302,3,FALSE))","v":""},{"$f":"IF(A29=\"\",\"\",VLOOKUP(A29,Data!G$2:K$302,4,FALSE))","v":""},null,null,null,null,null,null,null,null,null,null,null,null,null,null,null,null,null,null,null,null,null,null,null,null,0,null,{"$f":"MATCH(\"*\"&AC$1&\"*\",OFFSET(Inscriptions!T$4:T$303,SUM('U2 RSR'!AF$6:'U2 RSR'!AF28),0),0)","v":{"$error":"#N/A"}}]
[{"$f":"IF(ISNA(INDEX(Inscriptions!A$4:A$303,SUM('U2 RSR'!AF$7:'U2 RSR'!AF30))),\"\",INDEX(Inscriptions!A$4:A$303,SUM('U2 RSR'!AF$7:'U2 RSR'!AF30)))","v":""},{"$f":"IF(A30=\"\",\"\",VLOOKUP(A30,Data!G$2:K$302,5,FALSE))","v":""},{"$f":"IF(A30=\"\",\"\",VLOOKUP(A30,Data!G$2:K$302,2,FALSE))","v":""},{"$f":"IF(A30=\"\",\"\",VLOOKUP(A30,Data!G$2:K$302,3,FALSE))","v":""},{"$f":"IF(A30=\"\",\"\",VLOOKUP(A30,Data!G$2:K$302,4,FALSE))","v":""},null,null,null,null,null,null,null,null,null,null,null,null,null,null,null,null,null,null,null,null,null,null,null,null,0,null,{"$f":"MATCH(\"*\"&AC$1&\"*\",OFFSET(Inscriptions!T$4:T$303,SUM('U2 RSR'!AF$6:'U2 RSR'!AF29),0),0)","v":{"$error":"#N/A"}}]
[{"$f":"IF(ISNA(INDEX(Inscriptions!A$4:A$303,SUM('U2 RSR'!AF$7:'U2 RSR'!AF31))),\"\",INDEX(Inscriptions!A$4:A$303,SUM('U2 RSR'!AF$7:'U2 RSR'!AF31)))","v":""},{"$f":"IF(A31=\"\",\"\",VLOOKUP(A31,Data!G$2:K$302,5,FALSE))","v":""},{"$f":"IF(A31=\"\",\"\",VLOOKUP(A31,Data!G$2:K$302,2,FALSE))","v":""},{"$f":"IF(A31=\"\",\"\",VLOOKUP(A31,Data!G$2:K$302,3,FALSE))","v":""},{"$f":"IF(A31=\"\",\"\",VLOOKUP(A31,Data!G$2:K$302,4,FALSE))","v":""},null,null,null,null,null,null,null,null,null,null,null,null,null,null,null,null,null,null,null,null,null,null,null,null,0,null,{"$f":"MATCH(\"*\"&AC$1&\"*\",OFFSET(Inscriptions!T$4:T$303,SUM('U2 RSR'!AF$6:'U2 RSR'!AF30),0),0)","v":{"$error":"#N/A"}}]
[{"$f":"IF(ISNA(INDEX(Inscriptions!A$4:A$303,SUM('U2 RSR'!AF$7:'U2 RSR'!AF32))),\"\",INDEX(Inscriptions!A$4:A$303,SUM('U2 RSR'!AF$7:'U2 RSR'!AF32)))","v":""},{"$f":"IF(A32=\"\",\"\",VLOOKUP(A32,Data!G$2:K$302,5,FALSE))","v":""},{"$f":"IF(A32=\"\",\"\",VLOOKUP(A32,Data!G$2:K$302,2,FALSE))","v":""},{"$f":"IF(A32=\"\",\"\",VLOOKUP(A32,Data!G$2:K$302,3,FALSE))","v":""},{"$f":"IF(A32=\"\",\"\",VLOOKUP(A32,Data!G$2:K$302,4,FALSE))","v":""},null,null,null,null,null,null,null,null,null,null,null,null,null,null,null,null,null,null,null,null,null,null,null,null,0,null,{"$f":"MATCH(\"*\"&AC$1&\"*\",OFFSET(Inscriptions!T$4:T$303,SUM('U2 RSR'!AF$6:'U2 RSR'!AF31),0),0)","v":{"$error":"#N/A"}}]
[{"$f":"IF(ISNA(INDEX(Inscriptions!A$4:A$303,SUM('U2 RSR'!AF$7:'U2 RSR'!AF33))),\"\",INDEX(Inscriptions!A$4:A$303,SUM('U2 RSR'!AF$7:'U2 RSR'!AF33)))","v":""},{"$f":"IF(A33=\"\",\"\",VLOOKUP(A33,Data!G$2:K$302,5,FALSE))","v":""},{"$f":"IF(A33=\"\",\"\",VLOOKUP(A33,Data!G$2:K$302,2,FALSE))","v":""},{"$f":"IF(A33=\"\",\"\",VLOOKUP(A33,Data!G$2:K$302,3,FALSE))","v":""},{"$f":"IF(A33=\"\",\"\",VLOOKUP(A33,Data!G$2:K$302,4,FALSE))","v":""},null,null,null,null,null,null,null,null,null,null,null,null,null,null,null,null,null,null,null,null,null,null,null,null,0,null,{"$f":"MATCH(\"*\"&AC$1&\"*\",OFFSET(Inscriptions!T$4:T$303,SUM('U2 RSR'!AF$6:'U2 RSR'!AF32),0),0)","v":{"$error":"#N/A"}}]
[{"$f":"IF(ISNA(INDEX(Inscriptions!A$4:A$303,SUM('U2 RSR'!AF$7:'U2 RSR'!AF34))),\"\",INDEX(Inscriptions!A$4:A$303,SUM('U2 RSR'!AF$7:'U2 RSR'!AF34)))","v":""},{"$f":"IF(A34=\"\",\"\",VLOOKUP(A34,Data!G$2:K$302,5,FALSE))","v":""},{"$f":"IF(A34=\"\",\"\",VLOOKUP(A34,Data!G$2:K$302,2,FALSE))","v":""},{"$f":"IF(A34=\"\",\"\",VLOOKUP(A34,Data!G$2:K$302,3,FALSE))","v":""},{"$f":"IF(A34=\"\",\"\",VLOOKUP(A34,Data!G$2:K$302,4,FALSE))","v":""},null,null,null,null,null,null,null,null,null,null,null,null,null,null,null,null,null,null,null,null,null,null,null,null,0,null,{"$f":"MATCH(\"*\"&AC$1&\"*\",OFFSET(Inscriptions!T$4:T$303,SUM('U2 RSR'!AF$6:'U2 RSR'!AF33),0),0)","v":{"$error":"#N/A"}}]
[{"$f":"IF(ISNA(INDEX(Inscriptions!A$4:A$303,SUM('U2 RSR'!AF$7:'U2 RSR'!AF35))),\"\",INDEX(Inscriptions!A$4:A$303,SUM('U2 RSR'!AF$7:'U2 RSR'!AF35)))","v":""},{"$f":"IF(A35=\"\",\"\",VLOOKUP(A35,Data!G$2:K$302,5,FALSE))","v":""},{"$f":"IF(A35=\"\",\"\",VLOOKUP(A35,Data!G$2:K$302,2,FALSE))","v":""},{"$f":"IF(A35=\"\",\"\",VLOOKUP(A35,Data!G$2:K$302,3,FALSE))","v":""},{"$f":"IF(A35=\"\",\"\",VLOOKUP(A35,Data!G$2:K$302,4,FALSE))","v":""},null,null,null,null,null,null,null,null,null,null,null,null,null,null,null,null,null,null,null,null,null,null,null,null,0,null,{"$f":"MATCH(\"*\"&AC$1&\"*\",OFFSET(Inscriptions!T$4:T$303,SUM('U2 RSR'!AF$6:'U2 RSR'!AF34),0),0)","v":{"$error":"#N/A"}}]
[{"$f":"IF(ISNA(INDEX(Inscriptions!A$4:A$303,SUM('U2 RSR'!AF$7:'U2 RSR'!AF36))),\"\",INDEX(Inscriptions!A$4:A$303,SUM('U2 RSR'!AF$7:'U2 RSR'!AF36)))","v":""},{"$f":"IF(A36=\"\",\"\",VLOOKUP(A36,Data!G$2:K$302,5,FALSE))","v":""},{"$f":"IF(A36=\"\",\"\",VLOOKUP(A36,Data!G$2:K$302,2,FALSE))","v":""},{"$f":"IF(A36=\"\",\"\",VLOOKUP(A36,Data!G$2:K$302,3,FALSE))","v":""},{"$f":"IF(A36=\"\",\"\",VLOOKUP(A36,Data!G$2:K$302,4,FALSE))","v":""},null,null,null,null,null,null,null,null,null,null,null,null,null,null,null,null,null,null,null,null,null,null,null,null,0,null,{"$f":"MATCH(\"*\"&AC$1&\"*\",OFFSET(Inscriptions!T$4:T$303,SUM('U2 RSR'!AF$6:'U2 RSR'!AF35),0),0)","v":{"$error":"#N/A"}}]
[{"$f":"IF(ISNA(INDEX(Inscriptions!A$4:A$303,SUM('U2 RSR'!AF$7:'U2 RSR'!AF37))),\"\",INDEX(Inscriptions!A$4:A$303,SUM('U2 RSR'!AF$7:'U2 RSR'!AF37)))","v":""},{"$f":"IF(A37=\"\",\"\",VLOOKUP(A37,Data!G$2:K$302,5,FALSE))","v":""},{"$f":"IF(A37=\"\",\"\",VLOOKUP(A37,Data!G$2:K$302,2,FALSE))","v":""},{"$f":"IF(A37=\"\",\"\",VLOOKUP(A37,Data!G$2:K$302,3,FALSE))","v":""},{"$f":"IF(A37=\"\",\"\",VLOOKUP(A37,Data!G$2:K$302,4,FALSE))","v":""},null,null,null,null,null,null,null,null,null,null,null,null,null,null,null,null,null,null,null,null,null,null,null,null,0,null,{"$f":"MATCH(\"*\"&AC$1&\"*\",OFFSET(Inscriptions!T$4:T$303,SUM('U2 RSR'!AF$6:'U2 RSR'!AF36),0),0)","v":{"$error":"#N/A"}}]
[{"$f":"IF(ISNA(INDEX(Inscriptions!A$4:A$303,SUM('U2 RSR'!AF$7:'U2 RSR'!AF38))),\"\",INDEX(Inscriptions!A$4:A$303,SUM('U2 RSR'!AF$7:'U2 RSR'!AF38)))","v":""},{"$f":"IF(A38=\"\",\"\",VLOOKUP(A38,Data!G$2:K$302,5,FALSE))","v":""},{"$f":"IF(A38=\"\",\"\",VLOOKUP(A38,Data!G$2:K$302,2,FALSE))","v":""},{"$f":"IF(A38=\"\",\"\",VLOOKUP(A38,Data!G$2:K$302,3,FALSE))","v":""},{"$f":"IF(A38=\"\",\"\",VLOOKUP(A38,Data!G$2:K$302,4,FALSE))","v":""},null,null,null,null,null,null,null,null,null,null,null,null,null,null,null,null,null,null,null,null,null,null,null,null,0,null,{"$f":"MATCH(\"*\"&AC$1&\"*\",OFFSET(Inscriptions!T$4:T$303,SUM('U2 RSR'!AF$6:'U2 RSR'!AF37),0),0)","v":{"$error":"#N/A"}}]
[{"$f":"IF(ISNA(INDEX(Inscriptions!A$4:A$303,SUM('U2 RSR'!AF$7:'U2 RSR'!AF39))),\"\",INDEX(Inscriptions!A$4:A$303,SUM('U2 RSR'!AF$7:'U2 RSR'!AF39)))","v":""},{"$f":"IF(A39=\"\",\"\",VLOOKUP(A39,Data!G$2:K$302,5,FALSE))","v":""},{"$f":"IF(A39=\"\",\"\",VLOOKUP(A39,Data!G$2:K$302,2,FALSE))","v":""},{"$f":"IF(A39=\"\",\"\",VLOOKUP(A39,Data!G$2:K$302,3,FALSE))","v":""},{"$f":"IF(A39=\"\",\"\",VLOOKUP(A39,Data!G$2:K$302,4,FALSE))","v":""},null,null,null,null,null,null,null,null,null,null,null,null,null,null,null,null,null,null,null,null,null,null,null,null,0,null,{"$f":"MATCH(\"*\"&AC$1&\"*\",OFFSET(Inscriptions!T$4:T$303,SUM('U2 RSR'!AF$6:'U2 RSR'!AF38),0),0)","v":{"$error":"#N/A"}}]
[{"$f":"IF(ISNA(INDEX(Inscriptions!A$4:A$303,SUM('U2 RSR'!AF$7:'U2 RSR'!AF40))),\"\",INDEX(Inscriptions!A$4:A$303,SUM('U2 RSR'!AF$7:'U2 RSR'!AF40)))","v":""},{"$f":"IF(A40=\"\",\"\",VLOOKUP(A40,Data!G$2:K$302,5,FALSE))","v":""},{"$f":"IF(A40=\"\",\"\",VLOOKUP(A40,Data!G$2:K$302,2,FALSE))","v":""},{"$f":"IF(A40=\"\",\"\",VLOOKUP(A40,Data!G$2:K$302,3,FALSE))","v":""},{"$f":"IF(A40=\"\",\"\",VLOOKUP(A40,Data!G$2:K$302,4,FALSE))","v":""},null,null,null,null,null,null,null,null,null,null,null,null,null,null,null,null,null,null,null,null,null,null,null,null,0,null,{"$f":"MATCH(\"*\"&AC$1&\"*\",OFFSET(Inscriptions!T$4:T$303,SUM('U2 RSR'!AF$6:'U2 RSR'!AF39),0),0)","v":{"$error":"#N/A"}}]
[{"$f":"IF(ISNA(INDEX(Inscriptions!A$4:A$303,SUM('U2 RSR'!AF$7:'U2 RSR'!AF41))),\"\",INDEX(Inscriptions!A$4:A$303,SUM('U2 RSR'!AF$7:'U2 RSR'!AF41)))","v":""},{"$f":"IF(A41=\"\",\"\",VLOOKUP(A41,Data!G$2:K$302,5,FALSE))","v":""},{"$f":"IF(A41=\"\",\"\",VLOOKUP(A41,Data!G$2:K$302,2,FALSE))","v":""},{"$f":"IF(A41=\"\",\"\",VLOOKUP(A41,Data!G$2:K$302,3,FALSE))","v":""},{"$f":"IF(A41=\"\",\"\",VLOOKUP(A41,Data!G$2:K$302,4,FALSE))","v":""},null,null,null,null,null,null,null,null,null,null,null,null,null,null,null,null,null,null,null,null,null,null,null,null,0,null,{"$f":"MATCH(\"*\"&AC$1&\"*\",OFFSET(Inscriptions!T$4:T$303,SUM('U2 RSR'!AF$6:'U2 RSR'!AF40),0),0)","v":{"$error":"#N/A"}}]
[{"$f":"IF(ISNA(INDEX(Inscriptions!A$4:A$303,SUM('U2 RSR'!AF$7:'U2 RSR'!AF42))),\"\",INDEX(Inscriptions!A$4:A$303,SUM('U2 RSR'!AF$7:'U2 RSR'!AF42)))","v":""},{"$f":"IF(A42=\"\",\"\",VLOOKUP(A42,Data!G$2:K$302,5,FALSE))","v":""},{"$f":"IF(A42=\"\",\"\",VLOOKUP(A42,Data!G$2:K$302,2,FALSE))","v":""},{"$f":"IF(A42=\"\",\"\",VLOOKUP(A42,Data!G$2:K$302,3,FALSE))","v":""},{"$f":"IF(A42=\"\",\"\",VLOOKUP(A42,Data!G$2:K$302,4,FALSE))","v":""},null,null,null,null,null,null,null,null,null,null,null,null,null,null,null,null,null,null,null,null,null,null,null,null,0,null,{"$f":"MATCH(\"*\"&AC$1&\"*\",OFFSET(Inscriptions!T$4:T$303,SUM('U2 RSR'!AF$6:'U2 RSR'!AF41),0),0)","v":{"$error":"#N/A"}}]
[{"$f":"IF(ISNA(INDEX(Inscriptions!A$4:A$303,SUM('U2 RSR'!AF$7:'U2 RSR'!AF43))),\"\",INDEX(Inscriptions!A$4:A$303,SUM('U2 RSR'!AF$7:'U2 RSR'!AF43)))","v":""},{"$f":"IF(A43=\"\",\"\",VLOOKUP(A43,Data!G$2:K$302,5,FALSE))","v":""},{"$f":"IF(A43=\"\",\"\",VLOOKUP(A43,Data!G$2:K$302,2,FALSE))","v":""},{"$f":"IF(A43=\"\",\"\",VLOOKUP(A43,Data!G$2:K$302,3,FALSE))","v":""},{"$f":"IF(A43=\"\",\"\",VLOOKUP(A43,Data!G$2:K$302,4,FALSE))","v":""},null,null,null,null,null,null,null,null,null,null,null,null,null,null,null,null,null,null,null,null,null,null,null,null,0,null,{"$f":"MATCH(\"*\"&AC$1&\"*\",OFFSET(Inscriptions!T$4:T$303,SUM('U2 RSR'!AF$6:'U2 RSR'!AF42),0),0)","v":{"$error":"#N/A"}}]
[{"$f":"IF(ISNA(INDEX(Inscriptions!A$4:A$303,SUM('U2 RSR'!AF$7:'U2 RSR'!AF44))),\"\",INDEX(Inscriptions!A$4:A$303,SUM('U2 RSR'!AF$7:'U2 RSR'!AF44)))","v":""},{"$f":"IF(A44=\"\",\"\",VLOOKUP(A44,Data!G$2:K$302,5,FALSE))","v":""},{"$f":"IF(A44=\"\",\"\",VLOOKUP(A44,Data!G$2:K$302,2,FALSE))","v":""},{"$f":"IF(A44=\"\",\"\",VLOOKUP(A44,Data!G$2:K$302,3,FALSE))","v":""},{"$f":"IF(A44=\"\",\"\",VLOOKUP(A44,Data!G$2:K$302,4,FALSE))","v":""},null,null,null,null,null,null,null,null,null,null,null,null,null,null,null,null,null,null,null,null,null,null,null,null,0,null,{"$f":"MATCH(\"*\"&AC$1&\"*\",OFFSET(Inscriptions!T$4:T$303,SUM('U2 RSR'!AF$6:'U2 RSR'!AF43),0),0)","v":{"$error":"#N/A"}}]
[{"$f":"IF(ISNA(INDEX(Inscriptions!A$4:A$303,SUM('U2 RSR'!AF$7:'U2 RSR'!AF45))),\"\",INDEX(Inscriptions!A$4:A$303,SUM('U2 RSR'!AF$7:'U2 RSR'!AF45)))","v":""},{"$f":"IF(A45=\"\",\"\",VLOOKUP(A45,Data!G$2:K$302,5,FALSE))","v":""},{"$f":"IF(A45=\"\",\"\",VLOOKUP(A45,Data!G$2:K$302,2,FALSE))","v":""},{"$f":"IF(A45=\"\",\"\",VLOOKUP(A45,Data!G$2:K$302,3,FALSE))","v":""},{"$f":"IF(A45=\"\",\"\",VLOOKUP(A45,Data!G$2:K$302,4,FALSE))","v":""},null,null,null,null,null,null,null,null,null,null,null,null,null,null,null,null,null,null,null,null,null,null,null,null,0,null,{"$f":"MATCH(\"*\"&AC$1&\"*\",OFFSET(Inscriptions!T$4:T$303,SUM('U2 RSR'!AF$6:'U2 RSR'!AF44),0),0)","v":{"$error":"#N/A"}}]
[{"$f":"IF(ISNA(INDEX(Inscriptions!A$4:A$303,SUM('U2 RSR'!AF$7:'U2 RSR'!AF46))),\"\",INDEX(Inscriptions!A$4:A$303,SUM('U2 RSR'!AF$7:'U2 RSR'!AF46)))","v":""},{"$f":"IF(A46=\"\",\"\",VLOOKUP(A46,Data!G$2:K$302,5,FALSE))","v":""},{"$f":"IF(A46=\"\",\"\",VLOOKUP(A46,Data!G$2:K$302,2,FALSE))","v":""},{"$f":"IF(A46=\"\",\"\",VLOOKUP(A46,Data!G$2:K$302,3,FALSE))","v":""},{"$f":"IF(A46=\"\",\"\",VLOOKUP(A46,Data!G$2:K$302,4,FALSE))","v":""},null,null,null,null,null,null,null,null,null,null,null,null,null,null,null,null,null,null,null,null,null,null,null,null,0,null,{"$f":"MATCH(\"*\"&AC$1&\"*\",OFFSET(Inscriptions!T$4:T$303,SUM('U2 RSR'!AF$6:'U2 RSR'!AF45),0),0)","v":{"$error":"#N/A"}}]
[{"$f":"IF(ISNA(INDEX(Inscriptions!A$4:A$303,SUM('U2 RSR'!AF$7:'U2 RSR'!AF47))),\"\",INDEX(Inscriptions!A$4:A$303,SUM('U2 RSR'!AF$7:'U2 RSR'!AF47)))","v":""},{"$f":"IF(A47=\"\",\"\",VLOOKUP(A47,Data!G$2:K$302,5,FALSE))","v":""},{"$f":"IF(A47=\"\",\"\",VLOOKUP(A47,Data!G$2:K$302,2,FALSE))","v":""},{"$f":"IF(A47=\"\",\"\",VLOOKUP(A47,Data!G$2:K$302,3,FALSE))","v":""},{"$f":"IF(A47=\"\",\"\",VLOOKUP(A47,Data!G$2:K$302,4,FALSE))","v":""},null,null,null,null,null,null,null,null,null,null,null,null,null,null,null,null,null,null,null,null,null,null,null,null,0,null,{"$f":"MATCH(\"*\"&AC$1&\"*\",OFFSET(Inscriptions!T$4:T$303,SUM('U2 RSR'!AF$6:'U2 RSR'!AF46),0),0)","v":{"$error":"#N/A"}}]
[{"$f":"IF(ISNA(INDEX(Inscriptions!A$4:A$303,SUM('U2 RSR'!AF$7:'U2 RSR'!AF48))),\"\",INDEX(Inscriptions!A$4:A$303,SUM('U2 RSR'!AF$7:'U2 RSR'!AF48)))","v":""},{"$f":"IF(A48=\"\",\"\",VLOOKUP(A48,Data!G$2:K$302,5,FALSE))","v":""},{"$f":"IF(A48=\"\",\"\",VLOOKUP(A48,Data!G$2:K$302,2,FALSE))","v":""},{"$f":"IF(A48=\"\",\"\",VLOOKUP(A48,Data!G$2:K$302,3,FALSE))","v":""},{"$f":"IF(A48=\"\",\"\",VLOOKUP(A48,Data!G$2:K$302,4,FALSE))","v":""},null,null,null,null,null,null,null,null,null,null,null,null,null,null,null,null,null,null,null,null,null,null,null,null,0,null,{"$f":"MATCH(\"*\"&AC$1&\"*\",OFFSET(Inscriptions!T$4:T$303,SUM('U2 RSR'!AF$6:'U2 RSR'!AF47),0),0)","v":{"$error":"#N/A"}}]
[{"$f":"IF(ISNA(INDEX(Inscriptions!A$4:A$303,SUM('U2 RSR'!AF$7:'U2 RSR'!AF49))),\"\",INDEX(Inscriptions!A$4:A$303,SUM('U2 RSR'!AF$7:'U2 RSR'!AF49)))","v":""},{"$f":"IF(A49=\"\",\"\",VLOOKUP(A49,Data!G$2:K$302,5,FALSE))","v":""},{"$f":"IF(A49=\"\",\"\",VLOOKUP(A49,Data!G$2:K$302,2,FALSE))","v":""},{"$f":"IF(A49=\"\",\"\",VLOOKUP(A49,Data!G$2:K$302,3,FALSE))","v":""},{"$f":"IF(A49=\"\",\"\",VLOOKUP(A49,Data!G$2:K$302,4,FALSE))","v":""},null,null,null,null,null,null,null,null,null,null,null,null,null,null,null,null,null,null,null,null,null,null,null,null,0,null,{"$f":"MATCH(\"*\"&AC$1&\"*\",OFFSET(Inscriptions!T$4:T$303,SUM('U2 RSR'!AF$6:'U2 RSR'!AF48),0),0)","v":{"$error":"#N/A"}}]
[{"$f":"IF(ISNA(INDEX(Inscriptions!A$4:A$303,SUM('U2 RSR'!AF$7:'U2 RSR'!AF50))),\"\",INDEX(Inscriptions!A$4:A$303,SUM('U2 RSR'!AF$7:'U2 RSR'!AF50)))","v":""},{"$f":"IF(A50=\"\",\"\",VLOOKUP(A50,Data!G$2:K$302,5,FALSE))","v":""},{"$f":"IF(A50=\"\",\"\",VLOOKUP(A50,Data!G$2:K$302,2,FALSE))","v":""},{"$f":"IF(A50=\"\",\"\",VLOOKUP(A50,Data!G$2:K$302,3,FALSE))","v":""},{"$f":"IF(A50=\"\",\"\",VLOOKUP(A50,Data!G$2:K$302,4,FALSE))","v":""},null,null,null,null,null,null,null,null,null,null,null,null,null,null,null,null,null,null,null,null,null,null,null,null,0,null,{"$f":"MATCH(\"*\"&AC$1&\"*\",OFFSET(Inscriptions!T$4:T$303,SUM('U2 RSR'!AF$6:'U2 RSR'!AF49),0),0)","v":{"$error":"#N/A"}}]
[{"$f":"IF(ISNA(INDEX(Inscriptions!A$4:A$303,SUM('U2 RSR'!AF$7:'U2 RSR'!AF51))),\"\",INDEX(Inscriptions!A$4:A$303,SUM('U2 RSR'!AF$7:'U2 RSR'!AF51)))","v":""},{"$f":"IF(A51=\"\",\"\",VLOOKUP(A51,Data!G$2:K$302,5,FALSE))","v":""},{"$f":"IF(A51=\"\",\"\",VLOOKUP(A51,Data!G$2:K$302,2,FALSE))","v":""},{"$f":"IF(A51=\"\",\"\",VLOOKUP(A51,Data!G$2:K$302,3,FALSE))","v":""},{"$f":"IF(A51=\"\",\"\",VLOOKUP(A51,Data!G$2:K$302,4,FALSE))","v":""},null,null,null,null,null,null,null,null,null,null,null,null,null,null,null,null,null,null,null,null,null,null,null,null,0,null,{"$f":"MATCH(\"*\"&AC$1&\"*\",OFFSET(Inscriptions!T$4:T$303,SUM('U2 RSR'!AF$6:'U2 RSR'!AF50),0),0)","v":{"$error":"#N/A"}}]
[{"$f":"IF(ISNA(INDEX(Inscriptions!A$4:A$303,SUM('U2 RSR'!AF$7:'U2 RSR'!AF52))),\"\",INDEX(Inscriptions!A$4:A$303,SUM('U2 RSR'!AF$7:'U2 RSR'!AF52)))","v":""},{"$f":"IF(A52=\"\",\"\",VLOOKUP(A52,Data!G$2:K$302,5,FALSE))","v":""},{"$f":"IF(A52=\"\",\"\",VLOOKUP(A52,Data!G$2:K$302,2,FALSE))","v":""},{"$f":"IF(A52=\"\",\"\",VLOOKUP(A52,Data!G$2:K$302,3,FALSE))","v":""},{"$f":"IF(A52=\"\",\"\",VLOOKUP(A52,Data!G$2:K$302,4,FALSE))","v":""},null,null,null,null,null,null,null,null,null,null,null,null,null,null,null,null,null,null,null,null,null,null,null,null,0,null,{"$f":"MATCH(\"*\"&AC$1&\"*\",OFFSET(Inscriptions!T$4:T$303,SUM('U2 RSR'!AF$6:'U2 RSR'!AF51),0),0)","v":{"$error":"#N/A"}}]
[{"$f":"IF(ISNA(INDEX(Inscriptions!A$4:A$303,SUM('U2 RSR'!AF$7:'U2 RSR'!AF53))),\"\",INDEX(Inscriptions!A$4:A$303,SUM('U2 RSR'!AF$7:'U2 RSR'!AF53)))","v":""},{"$f":"IF(A53=\"\",\"\",VLOOKUP(A53,Data!G$2:K$302,5,FALSE))","v":""},{"$f":"IF(A53=\"\",\"\",VLOOKUP(A53,Data!G$2:K$302,2,FALSE))","v":""},{"$f":"IF(A53=\"\",\"\",VLOOKUP(A53,Data!G$2:K$302,3,FALSE))","v":""},{"$f":"IF(A53=\"\",\"\",VLOOKUP(A53,Data!G$2:K$302,4,FALSE))","v":""},null,null,null,null,null,null,null,null,null,null,null,null,null,null,null,null,null,null,null,null,null,null,null,null,0,null,{"$f":"MATCH(\"*\"&AC$1&\"*\",OFFSET(Inscriptions!T$4:T$303,SUM('U2 RSR'!AF$6:'U2 RSR'!AF52),0),0)","v":{"$error":"#N/A"}}]
[{"$f":"IF(ISNA(INDEX(Inscriptions!A$4:A$303,SUM('U2 RSR'!AF$7:'U2 RSR'!AF54))),\"\",INDEX(Inscriptions!A$4:A$303,SUM('U2 RSR'!AF$7:'U2 RSR'!AF54)))","v":""},{"$f":"IF(A54=\"\",\"\",VLOOKUP(A54,Data!G$2:K$302,5,FALSE))","v":""},{"$f":"IF(A54=\"\",\"\",VLOOKUP(A54,Data!G$2:K$302,2,FALSE))","v":""},{"$f":"IF(A54=\"\",\"\",VLOOKUP(A54,Data!G$2:K$302,3,FALSE))","v":""},{"$f":"IF(A54=\"\",\"\",VLOOKUP(A54,Data!G$2:K$302,4,FALSE))","v":""},null,null,null,null,null,null,null,null,null,null,null,null,null,null,null,null,null,null,null,null,null,null,null,null,0,null,{"$f":"MATCH(\"*\"&AC$1&\"*\",OFFSET(Inscriptions!T$4:T$303,SUM('U2 RSR'!AF$6:'U2 RSR'!AF53),0),0)","v":{"$error":"#N/A"}}]
[{"$f":"IF(ISNA(INDEX(Inscriptions!A$4:A$303,SUM('U2 RSR'!AF$7:'U2 RSR'!AF55))),\"\",INDEX(Inscriptions!A$4:A$303,SUM('U2 RSR'!AF$7:'U2 RSR'!AF55)))","v":""},{"$f":"IF(A55=\"\",\"\",VLOOKUP(A55,Data!G$2:K$302,5,FALSE))","v":""},{"$f":"IF(A55=\"\",\"\",VLOOKUP(A55,Data!G$2:K$302,2,FALSE))","v":""},{"$f":"IF(A55=\"\",\"\",VLOOKUP(A55,Data!G$2:K$302,3,FALSE))","v":""},{"$f":"IF(A55=\"\",\"\",VLOOKUP(A55,Data!G$2:K$302,4,FALSE))","v":""},null,null,null,null,null,null,null,null,null,null,null,null,null,null,null,null,null,null,null,null,null,null,null,null,0,null,{"$f":"MATCH(\"*\"&AC$1&\"*\",OFFSET(Inscriptions!T$4:T$303,SUM('U2 RSR'!AF$6:'U2 RSR'!AF54),0),0)","v":{"$error":"#N/A"}}]
[{"$f":"CONCATENATE(IF(ChoixLangue=Languages!$B$1,Languages!$B105,IF(ChoixLangue=Languages!$C$1,Languages!$C105,IF(ChoixLangue=Languages!$D$1,Languages!$D105,Languages!$E105))),SUM(AD7:AD55))","v":"Nbe nageuses : 0"},"-","-","-",null,"-","-","-","-"]

{"sheet":"U3 RSR","index":14,"n_rows":56,"n_cols":32,"rows_kept":56,"cut":false,"hidden":true,"merged":[[3,0,3,8]]}
[{"$f":"IF('Cover Page'!B5=\"\",\"\",'Cover Page'!B5)","v":""},null,null,null,null,null,null,null,null,null,null,null,null,null,null,null,null,null,null,null,null,null,null,null,null,null,null,null,"x",null,null,{"$f":"MID(CELL(\"filename\",A1),FIND(\"]\",CELL(\"filename\",A1),1)+1,20)","v":"U3 RSR"}]
[{"$f":"IF('Cover Page'!B6=\"\",\"\",'Cover Page'!B6)","v":""},null,null,null,null,null,null,null,{"$f":"IF(ChoixLangue=Languages!$B$1,Languages!$B$97 & \" \" & AF1,IF(ChoixLangue=Languages!$C$1,Languages!$C$97 & \" \" & AF1,IF(ChoixLangue=Languages!$D$1,Languages!$D$97 & \" \" & AF1,Languages!$E$97 & \" \" & AF1)))","v":"Catégorie U3 RSR"}]
[{"$f":"IF('Cover Page'!B7=\"\",\"\",'Cover Page'!B7)","v":""}]
[{"$f":"IF('Cover Page'!B10=\"\",\"\",CONCATENATE(IF(ChoixLangue=Languages!$B$1,Languages!$B98,IF(ChoixLangue=Languages!$C$1,Languages!$C98,IF(ChoixLangue=Languages!$D$1,Languages!$D98,Languages!$E98))),'Cover Page'!B10))","v":""}]
[{"$f":"A56","v":"Nbe nageuses : 0"}]
[{"$f":"IF(ChoixLangue=Languages!$B$1,Languages!$B99,IF(ChoixLangue=Languages!$C$1,Languages!$C99,IF(ChoixLangue=Languages!$D$1,Languages!$D99,Languages!$E99)))","v":"NOM Prénom"},{"$f":"IF(ChoixLangue=Languages!$B$1,Languages!$B100,IF(ChoixLangue=Languages!$C$1,Languages!$C100,IF(ChoixLangue=Languages!$D$1,Languages!$D100,Languages!$E100)))","v":"Club"},{"$f":"IF(ChoixLangue=Languages!$B$1,Languages!$B101,IF(ChoixLangue=Languages!$C$1,Languages!$C101,IF(ChoixLangue=Languages!$D$1,Languages!$D101,Languages!$E101)))","v":"Licence"},{"$f":"IF(ChoixLangue=Languages!$B$1,Languages!$B102,IF(ChoixLangue=Languages!$C$1,Languages!$C102,IF(ChoixLangue=Languages!$D$1,Languages!$D102,Languages!$E102)))","v":"An. Nais."},{"$f":"IF(ChoixLangue=Languages!$B$1,Languages!$B103,IF(ChoixLangue=Languages!$C$1,Languages!$C103,IF(ChoixLangue=Languages!$D$1,Languages!$D103,Languages!$E103)))","v":"N° Test"},{"$f":"IF(ChoixLangue=Languages!$B$1,Languages!$B104,IF(ChoixLangue=Languages!$C$1,Languages!$C104,IF(ChoixLangue=Languages!$D$1,Languages!$D104,Languages!$E104)))","v":"Figures"},"Solo Free","Duo Free","Team Free"]
[{"$f":"IF(ISNA(INDEX(Inscriptions!A$4:A$303,SUM('U3 RSR'!AF$7:'U3 RSR'!AF7))),\"\",INDEX(Inscriptions!A$4:A$303,SUM('U3 RSR'!AF$7:'U3 RSR'!AF7)))","v":""},{"$f":"IF(A7=\"\",\"\",VLOOKUP(A7,Data!G$2:K$302,5,FALSE))","v":""},{"$f":"IF(A7=\"\",\"\",VLOOKUP(A7,Data!G$2:K$302,2,FALSE))","v":""},{"$f":"IF(A7=\"\",\"\",VLOOKUP(A7,Data!G$2:K$302,3,FALSE))","v":""},{"$f":"IF(A7=\"\",\"\",VLOOKUP(A7,Data!G$2:K$302,4,FALSE))","v":""},null,null,null,null,null,null,null,null,null,null,null,null,null,null,null,null,null,null,null,null,null,null,null,null,{"$f":"IF(A7<>\"\",1,0)","v":0},null,{"$f":"MATCH(\"*\"&AC$1&\"*\",OFFSET(Inscriptions!U$4:U$303,SUM('U3 RSR'!AF$6:'U3 RSR'!AF6),0),0)","v":{"$error":"#N/A"}}]
[{"$f":"IF(ISNA(INDEX(Inscriptions!A$4:A$303,SUM('U3 RSR'!AF$7:'U3 RSR'!AF8))),\"\",INDEX(Inscriptions!A$4:A$303,SUM('U3 RSR'!AF$7:'U3 RSR'!AF8)))","v":""},{"$f":"IF(A8=\"\",\"\",VLOOKUP(A8,Data!G$2:K$302,5,FALSE))","v":""},{"$f":"IF(A8=\"\",\"\",VLOOKUP(A8,Data!G$2:K$302,2,FALSE))","v":""},{"$f":"IF(A8=\"\",\"\",VLOOKUP(A8,Data!G$2:K$302,3,FALSE))","v":""},{"$f":"IF(A8=\"\",\"\",VLOOKUP(A8,Data!G$2:K$302,4,FALSE))","v":""},null,null,null,null,null,null,null,null,null,null,null,null,null,null,null,null,null,null,null,null,null,null,null,null,{"$f":"IF(A8<>\"\",1,0)","v":0},null,{"$f":"MATCH(\"*\"&AC$1&\"*\",OFFSET(Inscriptions!U$4:U$303,SUM('U3 RSR'!AF$6:'U3 RSR'!AF7),0),0)","v":{"$error":"#N/A"}}]
[{"$f":"IF(ISNA(INDEX(Inscriptions!A$4:A$303,SUM('U3 RSR'!AF$7:'U3 RSR'!AF9))),\"\",INDEX(Inscriptions!A$4:A$303,SUM('U3 RSR'!AF$7:'U3 RSR'!AF9)))","v":""},{"$f":"IF(A9=\"\",\"\",VLOOKUP(A9,Data!G$2:K$302,5,FALSE))","v":""},{"$f":"IF(A9=\"\",\"\",VLOOKUP(A9,Data!G$2:K$302,2,FALSE))","v":""},{"$f":"IF(A9=\"\",\"\",VLOOKUP(A9,Data!G$2:K$302,3,FALSE))","v":""},{"$f":"IF(A9=\"\",\"\",VLOOKUP(A9,Data!G$2:K$302,4,FALSE))","v":""},null,null,null,null,null,null,null,null,null,null,null,null,null,null,null,null,null,null,null,null,null,null,null,null,{"$f":"IF(A9<>\"\",1,0)","v":0},null,{"$f":"MATCH(\"*\"&AC$1&\"*\",OFFSET(Inscriptions!U$4:U$303,SUM('U3 RSR'!AF$6:'U3 RSR'!AF8),0),0)","v":{"$error":"#N/A"}}]
[{"$f":"IF(ISNA(INDEX(Inscriptions!A$4:A$303,SUM('U3 RSR'!AF$7:'U3 RSR'!AF10))),\"\",INDEX(Inscriptions!A$4:A$303,SUM('U3 RSR'!AF$7:'U3 RSR'!AF10)))","v":""},{"$f":"IF(A10=\"\",\"\",VLOOKUP(A10,Data!G$2:K$302,5,FALSE))","v":""},{"$f":"IF(A10=\"\",\"\",VLOOKUP(A10,Data!G$2:K$302,2,FALSE))","v":""},{"$f":"IF(A10=\"\",\"\",VLOOKUP(A10,Data!G$2:K$302,3,FALSE))","v":""},{"$f":"IF(A10=\"\",\"\",VLOOKUP(A10,Data!G$2:K$302,4,FALSE))","v":""},null,null,null,null,null,null,null,null,null,null,null,null,null,null,null,null,null,null,null,null,null,null,null,null,0,null,{"$f":"MATCH(\"*\"&AC$1&\"*\",OFFSET(Inscriptions!U$4:U$303,SUM('U3 RSR'!AF$6:'U3 RSR'!AF9),0),0)","v":{"$error":"#N/A"}}]
[{"$f":"IF(ISNA(INDEX(Inscriptions!A$4:A$303,SUM('U3 RSR'!AF$7:'U3 RSR'!AF11))),\"\",INDEX(Inscriptions!A$4:A$303,SUM('U3 RSR'!AF$7:'U3 RSR'!AF11)))","v":""},{"$f":"IF(A11=\"\",\"\",VLOOKUP(A11,Data!G$2:K$302,5,FALSE))","v":""},{"$f":"IF(A11=\"\",\"\",VLOOKUP(A11,Data!G$2:K$302,2,FALSE))","v":""},{"$f":"IF(A11=\"\",\"\",VLOOKUP(A11,Data!G$2:K$302,3,FALSE))","v":""},{"$f":"IF(A11=\"\",\"\",VLOOKUP(A11,Data!G$2:K$302,4,FALSE))","v":""},null,null,null,null,null,null,null,null,null,null,null,null,null,null,null,null,null,null,null,null,null,null,null,null,0,null,{"$f":"MATCH(\"*\"&AC$1&\"*\",OFFSET(Inscriptions!U$4:U$303,SUM('U3 RSR'!AF$6:'U3 RSR'!AF10),0),0)","v":{"$error":"#N/A"}}]
[{"$f":"IF(ISNA(INDEX(Inscriptions!A$4:A$303,SUM('U3 RSR'!AF$7:'U3 RSR'!AF12))),\"\",INDEX(Inscriptions!A$4:A$303,SUM('U3 RSR'!AF$7:'U3 RSR'!AF12)))","v":""},{"$f":"IF(A12=\"\",\"\",VLOOKUP(A12,Data!G$2:K$302,5,FALSE))","v":""},{"$f":"IF(A12=\"\",\"\",VLOOKUP(A12,Data!G$2:K$302,2,FALSE))","v":""},{"$f":"IF(A12=\"\",\"\",VLOOKUP(A12,Data!G$2:K$302,3,FALSE))","v":""},{"$f":"IF(A12=\"\",\"\",VLOOKUP(A12,Data!G$2:K$302,4,FALSE))","v":""},null,null,null,null,null,null,null,null,null,null,null,null,null,null,null,null,null,null,null,null,null,null,null,null,0,null,{"$f":"MATCH(\"*\"&AC$1&\"*\",OFFSET(Inscriptions!U$4:U$303,SUM('U3 RSR'!AF$6:'U3 RSR'!AF11),0),0)","v":{"$error":"#N/A"}}]
[{"$f":"IF(ISNA(INDEX(Inscriptions!A$4:A$303,SUM('U3 RSR'!AF$7:'U3 RSR'!AF13))),\"\",INDEX(Inscriptions!A$4:A$303,SUM('U3 RSR'!AF$7:'U3 RSR'!AF13)))","v":""},{"$f":"IF(A13=\"\",\"\",VLOOKUP(A13,Data!G$2:K$302,5,FALSE))","v":""},{"$f":"IF(A13=\"\",\"\",VLOOKUP(A13,Data!G$2:K$302,2,FALSE))","v":""},{"$f":"IF(A13=\"\",\"\",VLOOKUP(A13,Data!G$2:K$302,3,FALSE))","v":""},{"$f":"IF(A13=\"\",\"\",VLOOKUP(A13,Data!G$2:K$302,4,FALSE))","v":""},null,null,null,null,null,null,null,null,null,null,null,null,null,null,null,null,null,null,null,null,null,null,null,null,0,null,{"$f":"MATCH(\"*\"&AC$1&\"*\",OFFSET(Inscriptions!U$4:U$303,SUM('U3 RSR'!AF$6:'U3 RSR'!AF12),0),0)","v":{"$error":"#N/A"}}]
[{"$f":"IF(ISNA(INDEX(Inscriptions!A$4:A$303,SUM('U3 RSR'!AF$7:'U3 RSR'!AF14))),\"\",INDEX(Inscriptions!A$4:A$303,SUM('U3 RSR'!AF$7:'U3 RSR'!AF14)))","v":""},{"$f":"IF(A14=\"\",\"\",VLOOKUP(A14,Data!G$2:K$302,5,FALSE))","v":""},{"$f":"IF(A14=\"\",\"\",VLOOKUP(A14,Data!G$2:K$302,2,FALSE))","v":""},{"$f":"IF(A14=\"\",\"\",VLOOKUP(A14,Data!G$2:K$302,3,FALSE))","v":""},{"$f":"IF(A14=\"\",\"\",VLOOKUP(A14,Data!G$2:K$302,4,FALSE))","v":""},null,null,null,null,null,null,null,null,null,null,null,null,null,null,null,null,null,null,null,null,null,null,null,null,0,null,{"$f":"MATCH(\"*\"&AC$1&\"*\",OFFSET(Inscriptions!U$4:U$303,SUM('U3 RSR'!AF$6:'U3 RSR'!AF13),0),0)","v":{"$error":"#N/A"}}]
[{"$f":"IF(ISNA(INDEX(Inscriptions!A$4:A$303,SUM('U3 RSR'!AF$7:'U3 RSR'!AF15))),\"\",INDEX(Inscriptions!A$4:A$303,SUM('U3 RSR'!AF$7:'U3 RSR'!AF15)))","v":""},{"$f":"IF(A15=\"\",\"\",VLOOKUP(A15,Data!G$2:K$302,5,FALSE))","v":""},{"$f":"IF(A15=\"\",\"\",VLOOKUP(A15,Data!G$2:K$302,2,FALSE))","v":""},{"$f":"IF(A15=\"\",\"\",VLOOKUP(A15,Data!G$2:K$302,3,FALSE))","v":""},{"$f":"IF(A15=\"\",\"\",VLOOKUP(A15,Data!G$2:K$302,4,FALSE))","v":""},null,null,null,null,null,null,null,null,null,null,null,null,null,null,null,null,null,null,null,null,null,null,null,null,0,null,{"$f":"MATCH(\"*\"&AC$1&\"*\",OFFSET(Inscriptions!U$4:U$303,SUM('U3 RSR'!AF$6:'U3 RSR'!AF14),0),0)","v":{"$error":"#N/A"}}]
[{"$f":"IF(ISNA(INDEX(Inscriptions!A$4:A$303,SUM('U3 RSR'!AF$7:'U3 RSR'!AF16))),\"\",INDEX(Inscriptions!A$4:A$303,SUM('U3 RSR'!AF$7:'U3 RSR'!AF16)))","v":""},{"$f":"IF(A16=\"\",\"\",VLOOKUP(A16,Data!G$2:K$302,5,FALSE))","v":""},{"$f":"IF(A16=\"\",\"\",VLOOKUP(A16,Data!G$2:K$302,2,FALSE))","v":""},{"$f":"IF(A16=\"\",\"\",VLOOKUP(A16,Data!G$2:K$302,3,FALSE))","v":""},{"$f":"IF(A16=\"\",\"\",VLOOKUP(A16,Data!G$2:K$302,4,FALSE))","v":""},null,null,null,null,null,null,null,null,null,null,null,null,null,null,null,null,null,null,null,null,null,null,null,null,0,null,{"$f":"MATCH(\"*\"&AC$1&\"*\",OFFSET(Inscriptions!U$4:U$303,SUM('U3 RSR'!AF$6:'U3 RSR'!AF15),0),0)","v":{"$error":"#N/A"}}]
[{"$f":"IF(ISNA(INDEX(Inscriptions!A$4:A$303,SUM('U3 RSR'!AF$7:'U3 RSR'!AF17))),\"\",INDEX(Inscriptions!A$4:A$303,SUM('U3 RSR'!AF$7:'U3 RSR'!AF17)))","v":""},{"$f":"IF(A17=\"\",\"\",VLOOKUP(A17,Data!G$2:K$302,5,FALSE))","v":""},{"$f":"IF(A17=\"\",\"\",VLOOKUP(A17,Data!G$2:K$302,2,FALSE))","v":""},{"$f":"IF(A17=\"\",\"\",VLOOKUP(A17,Data!G$2:K$302,3,FALSE))","v":""},{"$f":"IF(A17=\"\",\"\",VLOOKUP(A17,Data!G$2:K$302,4,FALSE))","v":""},null,null,null,null,null,null,null,null,null,null,null,null,null,null,null,null,null,null,null,null,null,null,null,null,0,null,{"$f":"MATCH(\"*\"&AC$1&\"*\",OFFSET(Inscriptions!U$4:U$303,SUM('U3 RSR'!AF$6:'U3 RSR'!AF16),0),0)","v":{"$error":"#N/A"}}]
[{"$f":"IF(ISNA(INDEX(Inscriptions!A$4:A$303,SUM('U3 RSR'!AF$7:'U3 RSR'!AF18))),\"\",INDEX(Inscriptions!A$4:A$303,SUM('U3 RSR'!AF$7:'U3 RSR'!AF18)))","v":""},{"$f":"IF(A18=\"\",\"\",VLOOKUP(A18,Data!G$2:K$302,5,FALSE))","v":""},{"$f":"IF(A18=\"\",\"\",VLOOKUP(A18,Data!G$2:K$302,2,FALSE))","v":""},{"$f":"IF(A18=\"\",\"\",VLOOKUP(A18,Data!G$2:K$302,3,FALSE))","v":""},{"$f":"IF(A18=\"\",\"\",VLOOKUP(A18,Data!G$2:K$302,4,FALSE))","v":""},null,null,null,null,null,null,null,null,null,null,null,null,null,null,null,null,null,null,null,null,null,null,null,null,0,null,{"$f":"MATCH(\"*\"&AC$1&\"*\",OFFSET(Inscriptions!U$4:U$303,SUM('U3 RSR'!AF$6:'U3 RSR'!AF17),0),0)","v":{"$error":"#N/A"}}]
[{"$f":"IF(ISNA(INDEX(Inscriptions!A$4:A$303,SUM('U3 RSR'!AF$7:'U3 RSR'!AF19))),\"\",INDEX(Inscriptions!A$4:A$303,SUM('U3 RSR'!AF$7:'U3 RSR'!AF19)))","v":""},{"$f":"IF(A19=\"\",\"\",VLOOKUP(A19,Data!G$2:K$302,5,FALSE))","v":""},{"$f":"IF(A19=\"\",\"\",VLOOKUP(A19,Data!G$2:K$302,2,FALSE))","v":""},{"$f":"IF(A19=\"\",\"\",VLOOKUP(A19,Data!G$2:K$302,3,FALSE))","v":""},{"$f":"IF(A19=\"\",\"\",VLOOKUP(A19,Data!G$2:K$302,4,FALSE))","v":""},null,null,null,null,null,null,null,null,null,null,null,null,null,null,null,null,null,null,null,null,null,null,null,null,0,null,{"$f":"MATCH(\"*\"&AC$1&\"*\",OFFSET(Inscriptions!U$4:U$303,SUM('U3 RSR'!AF$6:'U3 RSR'!AF18),0),0)","v":{"$error":"#N/A"}}]
[{"$f":"IF(ISNA(INDEX(Inscriptions!A$4:A$303,SUM('U3 RSR'!AF$7:'U3 RSR'!AF20))),\"\",INDEX(Inscriptions!A$4:A$303,SUM('U3 RSR'!AF$7:'U3 RSR'!AF20)))","v":""},{"$f":"IF(A20=\"\",\"\",VLOOKUP(A20,Data!G$2:K$302,5,FALSE))","v":""},{"$f":"IF(A20=\"\",\"\",VLOOKUP(A20,Data!G$2:K$302,2,FALSE))","v":""},{"$f":"IF(A20=\"\",\"\",VLOOKUP(A20,Data!G$2:K$302,3,FALSE))","v":""},{"$f":"IF(A20=\"\",\"\",VLOOKUP(A20,Data!G$2:K$302,4,FALSE))","v":""},null,null,null,null,null,null,null,null,null,null,null,null,null,null,null,null,null,null,null,null,null,null,null,null,0,null,{"$f":"MATCH(\"*\"&AC$1&\"*\",OFFSET(Inscriptions!U$4:U$303,SUM('U3 RSR'!AF$6:'U3 RSR'!AF19),0),0)","v":{"$error":"#N/A"}}]
[{"$f":"IF(ISNA(INDEX(Inscriptions!A$4:A$303,SUM('U3 RSR'!AF$7:'U3 RSR'!AF21))),\"\",INDEX(Inscriptions!A$4:A$303,SUM('U3 RSR'!AF$7:'U3 RSR'!AF21)))","v":""},{"$f":"IF(A21=\"\",\"\",VLOOKUP(A21,Data!G$2:K$302,5,FALSE))","v":""},{"$f":"IF(A21=\"\",\"\",VLOOKUP(A21,Data!G$2:K$302,2,FALSE))","v":""},{"$f":"IF(A21=\"\",\"\",VLOOKUP(A21,Data!G$2:K$302,3,FALSE))","v":""},{"$f":"IF(A21=\"\",\"\",VLOOKUP(A21,Data!G$2:K$302,4,FALSE))","v":""},null,null,null,null,null,null,null,null,null,null,null,null,null,null,null,null,null,null,null,null,null,null,null,null,0,null,{"$f":"MATCH(\"*\"&AC$1&\"*\",OFFSET(Inscriptions!U$4:U$303,SUM('U3 RSR'!AF$6:'U3 RSR'!AF20),0),0)","v":{"$error":"#N/A"}}]
[{"$f":"IF(ISNA(INDEX(Inscriptions!A$4:A$303,SUM('U3 RSR'!AF$7:'U3 RSR'!AF22))),\"\",INDEX(Inscriptions!A$4:A$303,SUM('U3 RSR'!AF$7:'U3 RSR'!AF22)))","v":""},{"$f":"IF(A22=\"\",\"\",VLOOKUP(A22,Data!G$2:K$302,5,FALSE))","v":""},{"$f":"IF(A22=\"\",\"\",VLOOKUP(A22,Data!G$2:K$302,2,FALSE))","v":""},{"$f":"IF(A22=\"\",\"\",VLOOKUP(A22,Data!G$2:K$302,3,FALSE))","v":""},{"$f":"IF(A22=\"\",\"\",VLOOKUP(A22,Data!G$2:K$302,4,FALSE))","v":""},null,null,null,null,null,null,null,null,null,null,null,null,null,null,null,null,null,null,null,null,null,null,null,null,0,null,{"$f":"MATCH(\"*\"&AC$1&\"*\",OFFSET(Inscriptions!U$4:U$303,SUM('U3 RSR'!AF$6:'U3 RSR'!AF21),0),0)","v":{"$error":"#N/A"}}]
[{"$f":"IF(ISNA(INDEX(Inscriptions!A$4:A$303,SUM('U3 RSR'!AF$7:'U3 RSR'!AF23))),\"\",INDEX(Inscriptions!A$4:A$303,SUM('U3 RSR'!AF$7:'U3 RSR'!AF23)))","v":""},{"$f":"IF(A23=\"\",\"\",VLOOKUP(A23,Data!G$2:K$302,5,FALSE))","v":""},{"$f":"IF(A23=\"\",\"\",VLOOKUP(A23,Data!G$2:K$302,2,FALSE))","v":""},{"$f":"IF(A23=\"\",\"\",VLOOKUP(A23,Data!G$2:K$302,3,FALSE))","v":""},{"$f":"IF(A23=\"\",\"\",VLOOKUP(A23,Data!G$2:K$302,4,FALSE))","v":""},null,null,null,null,null,null,null,null,null,null,null,null,null,null,null,null,null,null,null,null,null,null,null,null,0,null,{"$f":"MATCH(\"*\"&AC$1&\"*\",OFFSET(Inscriptions!U$4:U$303,SUM('U3 RSR'!AF$6:'U3 RSR'!AF22),0),0)","v":{"$error":"#N/A"}}]
[{"$f":"IF(ISNA(INDEX(Inscriptions!A$4:A$303,SUM('U3 RSR'!AF$7:'U3 RSR'!AF24))),\"\",INDEX(Inscriptions!A$4:A$303,SUM('U3 RSR'!AF$7:'U3 RSR'!AF24)))","v":""},{"$f":"IF(A24=\"\",\"\",VLOOKUP(A24,Data!G$2:K$302,5,FALSE))","v":""},{"$f":"IF(A24=\"\",\"\",VLOOKUP(A24,Data!G$2:K$302,2,FALSE))","v":""},{"$f":"IF(A24=\"\",\"\",VLOOKUP(A24,Data!G$2:K$302,3,FALSE))","v":""},{"$f":"IF(A24=\"\",\"\",VLOOKUP(A24,Data!G$2:K$302,4,FALSE))","v":""},null,null,null,null,null,null,null,null,null,null,null,null,null,null,null,null,null,null,null,null,null,null,null,null,0,null,{"$f":"MATCH(\"*\"&AC$1&\"*\",OFFSET(Inscriptions!U$4:U$303,SUM('U3 RSR'!AF$6:'U3 RSR'!AF23),0),0)","v":{"$error":"#N/A"}}]
[{"$f":"IF(ISNA(INDEX(Inscriptions!A$4:A$303,SUM('U3 RSR'!AF$7:'U3 RSR'!AF25))),\"\",INDEX(Inscriptions!A$4:A$303,SUM('U3 RSR'!AF$7:'U3 RSR'!AF25)))","v":""},{"$f":"IF(A25=\"\",\"\",VLOOKUP(A25,Data!G$2:K$302,5,FALSE))","v":""},{"$f":"IF(A25=\"\",\"\",VLOOKUP(A25,Data!G$2:K$302,2,FALSE))","v":""},{"$f":"IF(A25=\"\",\"\",VLOOKUP(A25,Data!G$2:K$302,3,FALSE))","v":""},{"$f":"IF(A25=\"\",\"\",VLOOKUP(A25,Data!G$2:K$302,4,FALSE))","v":""},null,null,null,null,null,null,null,null,null,null,null,null,null,null,null,null,null,null,null,null,null,null,null,null,0,null,{"$f":"MATCH(\"*\"&AC$1&\"*\",OFFSET(Inscriptions!U$4:U$303,SUM('U3 RSR'!AF$6:'U3 RSR'!AF24),0),0)","v":{"$error":"#N/A"}}]
[{"$f":"IF(ISNA(INDEX(Inscriptions!A$4:A$303,SUM('U3 RSR'!AF$7:'U3 RSR'!AF26))),\"\",INDEX(Inscriptions!A$4:A$303,SUM('U3 RSR'!AF$7:'U3 RSR'!AF26)))","v":""},{"$f":"IF(A26=\"\",\"\",VLOOKUP(A26,Data!G$2:K$302,5,FALSE))","v":""},{"$f":"IF(A26=\"\",\"\",VLOOKUP(A26,Data!G$2:K$302,2,FALSE))","v":""},{"$f":"IF(A26=\"\",\"\",VLOOKUP(A26,Data!G$2:K$302,3,FALSE))","v":""},{"$f":"IF(A26=\"\",\"\",VLOOKUP(A26,Data!G$2:K$302,4,FALSE))","v":""},null,null,null,null,null,null,null,null,null,null,null,null,null,null,null,null,null,null,null,null,null,null,null,null,0,null,{"$f":"MATCH(\"*\"&AC$1&\"*\",OFFSET(Inscriptions!U$4:U$303,SUM('U3 RSR'!AF$6:'U3 RSR'!AF25),0),0)","v":{"$error":"#N/A"}}]
[{"$f":"IF(ISNA(INDEX(Inscriptions!A$4:A$303,SUM('U3 RSR'!AF$7:'U3 RSR'!AF27))),\"\",INDEX(Inscriptions!A$4:A$303,SUM('U3 RSR'!AF$7:'U3 RSR'!AF27)))","v":""},{"$f":"IF(A27=\"\",\"\",VLOOKUP(A27,Data!G$2:K$302,5,FALSE))","v":""},{"$f":"IF(A27=\"\",\"\",VLOOKUP(A27,Data!G$2:K$302,2,FALSE))","v":""},{"$f":"IF(A27=\"\",\"\",VLOOKUP(A27,Data!G$2:K$302,3,FALSE))","v":""},{"$f":"IF(A27=\"\",\"\",VLOOKUP(A27,Data!G$2:K$302,4,FALSE))","v":""},null,null,null,null,null,null,null,null,null,null,null,null,null,null,null,null,null,null,null,null,null,null,null,null,0,null,{"$f":"MATCH(\"*\"&AC$1&\"*\",OFFSET(Inscriptions!U$4:U$303,SUM('U3 RSR'!AF$6:'U3 RSR'!AF26),0),0)","v":{"$error":"#N/A"}}]
[{"$f":"IF(ISNA(INDEX(Inscriptions!A$4:A$303,SUM('U3 RSR'!AF$7:'U3 RSR'!AF28))),\"\",INDEX(Inscriptions!A$4:A$303,SUM('U3 RSR'!AF$7:'U3 RSR'!AF28)))","v":""},{"$f":"IF(A28=\"\",\"\",VLOOKUP(A28,Data!G$2:K$302,5,FALSE))","v":""},{"$f":"IF(A28=\"\",\"\",VLOOKUP(A28,Data!G$2:K$302,2,FALSE))","v":""},{"$f":"IF(A28=\"\",\"\",VLOOKUP(A28,Data!G$2:K$302,3,FALSE))","v":""},{"$f":"IF(A28=\"\",\"\",VLOOKUP(A28,Data!G$2:K$302,4,FALSE))","v":""},null,null,null,null,null,null,null,null,null,null,null,null,null,null,null,null,null,null,null,null,null,null,null,null,0,null,{"$f":"MATCH(\"*\"&AC$1&\"*\",OFFSET(Inscriptions!U$4:U$303,SUM('U3 RSR'!AF$6:'U3 RSR'!AF27),0),0)","v":{"$error":"#N/A"}}]
[{"$f":"IF(ISNA(INDEX(Inscriptions!A$4:A$303,SUM('U3 RSR'!AF$7:'U3 RSR'!AF29))),\"\",INDEX(Inscriptions!A$4:A$303,SUM('U3 RSR'!AF$7:'U3 RSR'!AF29)))","v":""},{"$f":"IF(A29=\"\",\"\",VLOOKUP(A29,Data!G$2:K$302,5,FALSE))","v":""},{"$f":"IF(A29=\"\",\"\",VLOOKUP(A29,Data!G$2:K$302,2,FALSE))","v":""},{"$f":"IF(A29=\"\",\"\",VLOOKUP(A29,Data!G$2:K$302,3,FALSE))","v":""},{"$f":"IF(A29=\"\",\"\",VLOOKUP(A29,Data!G$2:K$302,4,FALSE))","v":""},null,null,null,null,null,null,null,null,null,null,null,null,null,null,null,null,null,null,null,null,null,null,null,null,0,null,{"$f":"MATCH(\"*\"&AC$1&\"*\",OFFSET(Inscriptions!U$4:U$303,SUM('U3 RSR'!AF$6:'U3 RSR'!AF28),0),0)","v":{"$error":"#N/A"}}]
[{"$f":"IF(ISNA(INDEX(Inscriptions!A$4:A$303,SUM('U3 RSR'!AF$7:'U3 RSR'!AF30))),\"\",INDEX(Inscriptions!A$4:A$303,SUM('U3 RSR'!AF$7:'U3 RSR'!AF30)))","v":""},{"$f":"IF(A30=\"\",\"\",VLOOKUP(A30,Data!G$2:K$302,5,FALSE))","v":""},{"$f":"IF(A30=\"\",\"\",VLOOKUP(A30,Data!G$2:K$302,2,FALSE))","v":""},{"$f":"IF(A30=\"\",\"\",VLOOKUP(A30,Data!G$2:K$302,3,FALSE))","v":""},{"$f":"IF(A30=\"\",\"\",VLOOKUP(A30,Data!G$2:K$302,4,FALSE))","v":""},null,null,null,null,null,null,null,null,null,null,null,null,null,null,null,null,null,null,null,null,null,null,null,null,0,null,{"$f":"MATCH(\"*\"&AC$1&\"*\",OFFSET(Inscriptions!U$4:U$303,SUM('U3 RSR'!AF$6:'U3 RSR'!AF29),0),0)","v":{"$error":"#N/A"}}]
[{"$f":"IF(ISNA(INDEX(Inscriptions!A$4:A$303,SUM('U3 RSR'!AF$7:'U3 RSR'!AF31))),\"\",INDEX(Inscriptions!A$4:A$303,SUM('U3 RSR'!AF$7:'U3 RSR'!AF31)))","v":""},{"$f":"IF(A31=\"\",\"\",VLOOKUP(A31,Data!G$2:K$302,5,FALSE))","v":""},{"$f":"IF(A31=\"\",\"\",VLOOKUP(A31,Data!G$2:K$302,2,FALSE))","v":""},{"$f":"IF(A31=\"\",\"\",VLOOKUP(A31,Data!G$2:K$302,3,FALSE))","v":""},{"$f":"IF(A31=\"\",\"\",VLOOKUP(A31,Data!G$2:K$302,4,FALSE))","v":""},null,null,null,null,null,null,null,null,null,null,null,null,null,null,null,null,null,null,null,null,null,null,null,null,0,null,{"$f":"MATCH(\"*\"&AC$1&\"*\",OFFSET(Inscriptions!U$4:U$303,SUM('U3 RSR'!AF$6:'U3 RSR'!AF30),0),0)","v":{"$error":"#N/A"}}]
[{"$f":"IF(ISNA(INDEX(Inscriptions!A$4:A$303,SUM('U3 RSR'!AF$7:'U3 RSR'!AF32))),\"\",INDEX(Inscriptions!A$4:A$303,SUM('U3 RSR'!AF$7:'U3 RSR'!AF32)))","v":""},{"$f":"IF(A32=\"\",\"\",VLOOKUP(A32,Data!G$2:K$302,5,FALSE))","v":""},{"$f":"IF(A32=\"\",\"\",VLOOKUP(A32,Data!G$2:K$302,2,FALSE))","v":""},{"$f":"IF(A32=\"\",\"\",VLOOKUP(A32,Data!G$2:K$302,3,FALSE))","v":""},{"$f":"IF(A32=\"\",\"\",VLOOKUP(A32,Data!G$2:K$302,4,FALSE))","v":""},null,null,null,null,null,null,null,null,null,null,null,null,null,null,null,null,null,null,null,null,null,null,null,null,0,null,{"$f":"MATCH(\"*\"&AC$1&\"*\",OFFSET(Inscriptions!U$4:U$303,SUM('U3 RSR'!AF$6:'U3 RSR'!AF31),0),0)","v":{"$error":"#N/A"}}]
[{"$f":"IF(ISNA(INDEX(Inscriptions!A$4:A$303,SUM('U3 RSR'!AF$7:'U3 RSR'!AF33))),\"\",INDEX(Inscriptions!A$4:A$303,SUM('U3 RSR'!AF$7:'U3 RSR'!AF33)))","v":""},{"$f":"IF(A33=\"\",\"\",VLOOKUP(A33,Data!G$2:K$302,5,FALSE))","v":""},{"$f":"IF(A33=\"\",\"\",VLOOKUP(A33,Data!G$2:K$302,2,FALSE))","v":""},{"$f":"IF(A33=\"\",\"\",VLOOKUP(A33,Data!G$2:K$302,3,FALSE))","v":""},{"$f":"IF(A33=\"\",\"\",VLOOKUP(A33,Data!G$2:K$302,4,FALSE))","v":""},null,null,null,null,null,null,null,null,null,null,null,null,null,null,null,null,null,null,null,null,null,null,null,null,0,null,{"$f":"MATCH(\"*\"&AC$1&\"*\",OFFSET(Inscriptions!U$4:U$303,SUM('U3 RSR'!AF$6:'U3 RSR'!AF32),0),0)","v":{"$error":"#N/A"}}]
[{"$f":"IF(ISNA(INDEX(Inscriptions!A$4:A$303,SUM('U3 RSR'!AF$7:'U3 RSR'!AF34))),\"\",INDEX(Inscriptions!A$4:A$303,SUM('U3 RSR'!AF$7:'U3 RSR'!AF34)))","v":""},{"$f":"IF(A34=\"\",\"\",VLOOKUP(A34,Data!G$2:K$302,5,FALSE))","v":""},{"$f":"IF(A34=\"\",\"\",VLOOKUP(A34,Data!G$2:K$302,2,FALSE))","v":""},{"$f":"IF(A34=\"\",\"\",VLOOKUP(A34,Data!G$2:K$302,3,FALSE))","v":""},{"$f":"IF(A34=\"\",\"\",VLOOKUP(A34,Data!G$2:K$302,4,FALSE))","v":""},null,null,null,null,null,null,null,null,null,null,null,null,null,null,null,null,null,null,null,null,null,null,null,null,0,null,{"$f":"MATCH(\"*\"&AC$1&\"*\",OFFSET(Inscriptions!U$4:U$303,SUM('U3 RSR'!AF$6:'U3 RSR'!AF33),0),0)","v":{"$error":"#N/A"}}]
[{"$f":"IF(ISNA(INDEX(Inscriptions!A$4:A$303,SUM('U3 RSR'!AF$7:'U3 RSR'!AF35))),\"\",INDEX(Inscriptions!A$4:A$303,SUM('U3 RSR'!AF$7:'U3 RSR'!AF35)))","v":""},{"$f":"IF(A35=\"\",\"\",VLOOKUP(A35,Data!G$2:K$302,5,FALSE))","v":""},{"$f":"IF(A35=\"\",\"\",VLOOKUP(A35,Data!G$2:K$302,2,FALSE))","v":""},{"$f":"IF(A35=\"\",\"\",VLOOKUP(A35,Data!G$2:K$302,3,FALSE))","v":""},{"$f":"IF(A35=\"\",\"\",VLOOKUP(A35,Data!G$2:K$302,4,FALSE))","v":""},null,null,null,null,null,null,null,null,null,null,null,null,null,null,null,null,null,null,null,null,null,null,null,null,0,null,{"$f":"MATCH(\"*\"&AC$1&\"*\",OFFSET(Inscriptions!U$4:U$303,SUM('U3 RSR'!AF$6:'U3 RSR'!AF34),0),0)","v":{"$error":"#N/A"}}]
[{"$f":"IF(ISNA(INDEX(Inscriptions!A$4:A$303,SUM('U3 RSR'!AF$7:'U3 RSR'!AF36))),\"\",INDEX(Inscriptions!A$4:A$303,SUM('U3 RSR'!AF$7:'U3 RSR'!AF36)))","v":""},{"$f":"IF(A36=\"\",\"\",VLOOKUP(A36,Data!G$2:K$302,5,FALSE))","v":""},{"$f":"IF(A36=\"\",\"\",VLOOKUP(A36,Data!G$2:K$302,2,FALSE))","v":""},{"$f":"IF(A36=\"\",\"\",VLOOKUP(A36,Data!G$2:K$302,3,FALSE))","v":""},{"$f":"IF(A36=\"\",\"\",VLOOKUP(A36,Data!G$2:K$302,4,FALSE))","v":""},null,null,null,null,null,null,null,null,null,null,null,null,null,null,null,null,null,null,null,null,null,null,null,null,0,null,{"$f":"MATCH(\"*\"&AC$1&\"*\",OFFSET(Inscriptions!U$4:U$303,SUM('U3 RSR'!AF$6:'U3 RSR'!AF35),0),0)","v":{"$error":"#N/A"}}]
[{"$f":"IF(ISNA(INDEX(Inscriptions!A$4:A$303,SUM('U3 RSR'!AF$7:'U3 RSR'!AF37))),\"\",INDEX(Inscriptions!A$4:A$303,SUM('U3 RSR'!AF$7:'U3 RSR'!AF37)))","v":""},{"$f":"IF(A37=\"\",\"\",VLOOKUP(A37,Data!G$2:K$302,5,FALSE))","v":""},{"$f":"IF(A37=\"\",\"\",VLOOKUP(A37,Data!G$2:K$302,2,FALSE))","v":""},{"$f":"IF(A37=\"\",\"\",VLOOKUP(A37,Data!G$2:K$302,3,FALSE))","v":""},{"$f":"IF(A37=\"\",\"\",VLOOKUP(A37,Data!G$2:K$302,4,FALSE))","v":""},null,null,null,null,null,null,null,null,null,null,null,null,null,null,null,null,null,null,null,null,null,null,null,null,0,null,{"$f":"MATCH(\"*\"&AC$1&\"*\",OFFSET(Inscriptions!U$4:U$303,SUM('U3 RSR'!AF$6:'U3 RSR'!AF36),0),0)","v":{"$error":"#N/A"}}]
[{"$f":"IF(ISNA(INDEX(Inscriptions!A$4:A$303,SUM('U3 RSR'!AF$7:'U3 RSR'!AF38))),\"\",INDEX(Inscriptions!A$4:A$303,SUM('U3 RSR'!AF$7:'U3 RSR'!AF38)))","v":""},{"$f":"IF(A38=\"\",\"\",VLOOKUP(A38,Data!G$2:K$302,5,FALSE))","v":""},{"$f":"IF(A38=\"\",\"\",VLOOKUP(A38,Data!G$2:K$302,2,FALSE))","v":""},{"$f":"IF(A38=\"\",\"\",VLOOKUP(A38,Data!G$2:K$302,3,FALSE))","v":""},{"$f":"IF(A38=\"\",\"\",VLOOKUP(A38,Data!G$2:K$302,4,FALSE))","v":""},null,null,null,null,null,null,null,null,null,null,null,null,null,null,null,null,null,null,null,null,null,null,null,null,0,null,{"$f":"MATCH(\"*\"&AC$1&\"*\",OFFSET(Inscriptions!U$4:U$303,SUM('U3 RSR'!AF$6:'U3 RSR'!AF37),0),0)","v":{"$error":"#N/A"}}]
[{"$f":"IF(ISNA(INDEX(Inscriptions!A$4:A$303,SUM('U3 RSR'!AF$7:'U3 RSR'!AF39))),\"\",INDEX(Inscriptions!A$4:A$303,SUM('U3 RSR'!AF$7:'U3 RSR'!AF39)))","v":""},{"$f":"IF(A39=\"\",\"\",VLOOKUP(A39,Data!G$2:K$302,5,FALSE))","v":""},{"$f":"IF(A39=\"\",\"\",VLOOKUP(A39,Data!G$2:K$302,2,FALSE))","v":""},{"$f":"IF(A39=\"\",\"\",VLOOKUP(A39,Data!G$2:K$302,3,FALSE))","v":""},{"$f":"IF(A39=\"\",\"\",VLOOKUP(A39,Data!G$2:K$302,4,FALSE))","v":""},null,null,null,null,null,null,null,null,null,null,null,null,null,null,null,null,null,null,null,null,null,null,null,null,0,null,{"$f":"MATCH(\"*\"&AC$1&\"*\",OFFSET(Inscriptions!U$4:U$303,SUM('U3 RSR'!AF$6:'U3 RSR'!AF38),0),0)","v":{"$error":"#N/A"}}]
[{"$f":"IF(ISNA(INDEX(Inscriptions!A$4:A$303,SUM('U3 RSR'!AF$7:'U3 RSR'!AF40))),\"\",INDEX(Inscriptions!A$4:A$303,SUM('U3 RSR'!AF$7:'U3 RSR'!AF40)))","v":""},{"$f":"IF(A40=\"\",\"\",VLOOKUP(A40,Data!G$2:K$302,5,FALSE))","v":""},{"$f":"IF(A40=\"\",\"\",VLOOKUP(A40,Data!G$2:K$302,2,FALSE))","v":""},{"$f":"IF(A40=\"\",\"\",VLOOKUP(A40,Data!G$2:K$302,3,FALSE))","v":""},{"$f":"IF(A40=\"\",\"\",VLOOKUP(A40,Data!G$2:K$302,4,FALSE))","v":""},null,null,null,null,null,null,null,null,null,null,null,null,null,null,null,null,null,null,null,null,null,null,null,null,0,null,{"$f":"MATCH(\"*\"&AC$1&\"*\",OFFSET(Inscriptions!U$4:U$303,SUM('U3 RSR'!AF$6:'U3 RSR'!AF39),0),0)","v":{"$error":"#N/A"}}]
[{"$f":"IF(ISNA(INDEX(Inscriptions!A$4:A$303,SUM('U3 RSR'!AF$7:'U3 RSR'!AF41))),\"\",INDEX(Inscriptions!A$4:A$303,SUM('U3 RSR'!AF$7:'U3 RSR'!AF41)))","v":""},{"$f":"IF(A41=\"\",\"\",VLOOKUP(A41,Data!G$2:K$302,5,FALSE))","v":""},{"$f":"IF(A41=\"\",\"\",VLOOKUP(A41,Data!G$2:K$302,2,FALSE))","v":""},{"$f":"IF(A41=\"\",\"\",VLOOKUP(A41,Data!G$2:K$302,3,FALSE))","v":""},{"$f":"IF(A41=\"\",\"\",VLOOKUP(A41,Data!G$2:K$302,4,FALSE))","v":""},null,null,null,null,null,null,null,null,null,null,null,null,null,null,null,null,null,null,null,null,null,null,null,null,0,null,{"$f":"MATCH(\"*\"&AC$1&\"*\",OFFSET(Inscriptions!U$4:U$303,SUM('U3 RSR'!AF$6:'U3 RSR'!AF40),0),0)","v":{"$error":"#N/A"}}]
[{"$f":"IF(ISNA(INDEX(Inscriptions!A$4:A$303,SUM('U3 RSR'!AF$7:'U3 RSR'!AF42))),\"\",INDEX(Inscriptions!A$4:A$303,SUM('U3 RSR'!AF$7:'U3 RSR'!AF42)))","v":""},{"$f":"IF(A42=\"\",\"\",VLOOKUP(A42,Data!G$2:K$302,5,FALSE))","v":""},{"$f":"IF(A42=\"\",\"\",VLOOKUP(A42,Data!G$2:K$302,2,FALSE))","v":""},{"$f":"IF(A42=\"\",\"\",VLOOKUP(A42,Data!G$2:K$302,3,FALSE))","v":""},{"$f":"IF(A42=\"\",\"\",VLOOKUP(A42,Data!G$2:K$302,4,FALSE))","v":""},null,null,null,null,null,null,null,null,null,null,null,null,null,null,null,null,null,null,null,null,null,null,null,null,0,null,{"$f":"MATCH(\"*\"&AC$1&\"*\",OFFSET(Inscriptions!U$4:U$303,SUM('U3 RSR'!AF$6:'U3 RSR'!AF41),0),0)","v":{"$error":"#N/A"}}]
[{"$f":"IF(ISNA(INDEX(Inscriptions!A$4:A$303,SUM('U3 RSR'!AF$7:'U3 RSR'!AF43))),\"\",INDEX(Inscriptions!A$4:A$303,SUM('U3 RSR'!AF$7:'U3 RSR'!AF43)))","v":""},{"$f":"IF(A43=\"\",\"\",VLOOKUP(A43,Data!G$2:K$302,5,FALSE))","v":""},{"$f":"IF(A43=\"\",\"\",VLOOKUP(A43,Data!G$2:K$302,2,FALSE))","v":""},{"$f":"IF(A43=\"\",\"\",VLOOKUP(A43,Data!G$2:K$302,3,FALSE))","v":""},{"$f":"IF(A43=\"\",\"\",VLOOKUP(A43,Data!G$2:K$302,4,FALSE))","v":""},null,null,null,null,null,null,null,null,null,null,null,null,null,null,null,null,null,null,null,null,null,null,null,null,0,null,{"$f":"MATCH(\"*\"&AC$1&\"*\",OFFSET(Inscriptions!U$4:U$303,SUM('U3 RSR'!AF$6:'U3 RSR'!AF42),0),0)","v":{"$error":"#N/A"}}]
[{"$f":"IF(ISNA(INDEX(Inscriptions!A$4:A$303,SUM('U3 RSR'!AF$7:'U3 RSR'!AF44))),\"\",INDEX(Inscriptions!A$4:A$303,SUM('U3 RSR'!AF$7:'U3 RSR'!AF44)))","v":""},{"$f":"IF(A44=\"\",\"\",VLOOKUP(A44,Data!G$2:K$302,5,FALSE))","v":""},{"$f":"IF(A44=\"\",\"\",VLOOKUP(A44,Data!G$2:K$302,2,FALSE))","v":""},{"$f":"IF(A44=\"\",\"\",VLOOKUP(A44,Data!G$2:K$302,3,FALSE))","v":""},{"$f":"IF(A44=\"\",\"\",VLOOKUP(A44,Data!G$2:K$302,4,FALSE))","v":""},null,null,null,null,null,null,null,null,null,null,null,null,null,null,null,null,null,null,null,null,null,null,null,null,0,null,{"$f":"MATCH(\"*\"&AC$1&\"*\",OFFSET(Inscriptions!U$4:U$303,SUM('U3 RSR'!AF$6:'U3 RSR'!AF43),0),0)","v":{"$error":"#N/A"}}]
[{"$f":"IF(ISNA(INDEX(Inscriptions!A$4:A$303,SUM('U3 RSR'!AF$7:'U3 RSR'!AF45))),\"\",INDEX(Inscriptions!A$4:A$303,SUM('U3 RSR'!AF$7:'U3 RSR'!AF45)))","v":""},{"$f":"IF(A45=\"\",\"\",VLOOKUP(A45,Data!G$2:K$302,5,FALSE))","v":""},{"$f":"IF(A45=\"\",\"\",VLOOKUP(A45,Data!G$2:K$302,2,FALSE))","v":""},{"$f":"IF(A45=\"\",\"\",VLOOKUP(A45,Data!G$2:K$302,3,FALSE))","v":""},{"$f":"IF(A45=\"\",\"\",VLOOKUP(A45,Data!G$2:K$302,4,FALSE))","v":""},null,null,null,null,null,null,null,null,null,null,null,null,null,null,null,null,null,null,null,null,null,null,null,null,0,null,{"$f":"MATCH(\"*\"&AC$1&\"*\",OFFSET(Inscriptions!U$4:U$303,SUM('U3 RSR'!AF$6:'U3 RSR'!AF44),0),0)","v":{"$error":"#N/A"}}]
[{"$f":"IF(ISNA(INDEX(Inscriptions!A$4:A$303,SUM('U3 RSR'!AF$7:'U3 RSR'!AF46))),\"\",INDEX(Inscriptions!A$4:A$303,SUM('U3 RSR'!AF$7:'U3 RSR'!AF46)))","v":""},{"$f":"IF(A46=\"\",\"\",VLOOKUP(A46,Data!G$2:K$302,5,FALSE))","v":""},{"$f":"IF(A46=\"\",\"\",VLOOKUP(A46,Data!G$2:K$302,2,FALSE))","v":""},{"$f":"IF(A46=\"\",\"\",VLOOKUP(A46,Data!G$2:K$302,3,FALSE))","v":""},{"$f":"IF(A46=\"\",\"\",VLOOKUP(A46,Data!G$2:K$302,4,FALSE))","v":""},null,null,null,null,null,null,null,null,null,null,null,null,null,null,null,null,null,null,null,null,null,null,null,null,0,null,{"$f":"MATCH(\"*\"&AC$1&\"*\",OFFSET(Inscriptions!U$4:U$303,SUM('U3 RSR'!AF$6:'U3 RSR'!AF45),0),0)","v":{"$error":"#N/A"}}]
[{"$f":"IF(ISNA(INDEX(Inscriptions!A$4:A$303,SUM('U3 RSR'!AF$7:'U3 RSR'!AF47))),\"\",INDEX(Inscriptions!A$4:A$303,SUM('U3 RSR'!AF$7:'U3 RSR'!AF47)))","v":""},{"$f":"IF(A47=\"\",\"\",VLOOKUP(A47,Data!G$2:K$302,5,FALSE))","v":""},{"$f":"IF(A47=\"\",\"\",VLOOKUP(A47,Data!G$2:K$302,2,FALSE))","v":""},{"$f":"IF(A47=\"\",\"\",VLOOKUP(A47,Data!G$2:K$302,3,FALSE))","v":""},{"$f":"IF(A47=\"\",\"\",VLOOKUP(A47,Data!G$2:K$302,4,FALSE))","v":""},null,null,null,null,null,null,null,null,null,null,null,null,null,null,null,null,null,null,null,null,null,null,null,null,0,null,{"$f":"MATCH(\"*\"&AC$1&\"*\",OFFSET(Inscriptions!U$4:U$303,SUM('U3 RSR'!AF$6:'U3 RSR'!AF46),0),0)","v":{"$error":"#N/A"}}]
[{"$f":"IF(ISNA(INDEX(Inscriptions!A$4:A$303,SUM('U3 RSR'!AF$7:'U3 RSR'!AF48))),\"\",INDEX(Inscriptions!A$4:A$303,SUM('U3 RSR'!AF$7:'U3 RSR'!AF48)))","v":""},{"$f":"IF(A48=\"\",\"\",VLOOKUP(A48,Data!G$2:K$302,5,FALSE))","v":""},{"$f":"IF(A48=\"\",\"\",VLOOKUP(A48,Data!G$2:K$302,2,FALSE))","v":""},{"$f":"IF(A48=\"\",\"\",VLOOKUP(A48,Data!G$2:K$302,3,FALSE))","v":""},{"$f":"IF(A48=\"\",\"\",VLOOKUP(A48,Data!G$2:K$302,4,FALSE))","v":""},null,null,null,null,null,null,null,null,null,null,null,null,null,null,null,null,null,null,null,null,null,null,null,null,0,null,{"$f":"MATCH(\"*\"&AC$1&\"*\",OFFSET(Inscriptions!U$4:U$303,SUM('U3 RSR'!AF$6:'U3 RSR'!AF47),0),0)","v":{"$error":"#N/A"}}]
[{"$f":"IF(ISNA(INDEX(Inscriptions!A$4:A$303,SUM('U3 RSR'!AF$7:'U3 RSR'!AF49))),\"\",INDEX(Inscriptions!A$4:A$303,SUM('U3 RSR'!AF$7:'U3 RSR'!AF49)))","v":""},{"$f":"IF(A49=\"\",\"\",VLOOKUP(A49,Data!G$2:K$302,5,FALSE))","v":""},{"$f":"IF(A49=\"\",\"\",VLOOKUP(A49,Data!G$2:K$302,2,FALSE))","v":""},{"$f":"IF(A49=\"\",\"\",VLOOKUP(A49,Data!G$2:K$302,3,FALSE))","v":""},{"$f":"IF(A49=\"\",\"\",VLOOKUP(A49,Data!G$2:K$302,4,FALSE))","v":""},null,null,null,null,null,null,null,null,null,null,null,null,null,null,null,null,null,null,null,null,null,null,null,null,0,null,{"$f":"MATCH(\"*\"&AC$1&\"*\",OFFSET(Inscriptions!U$4:U$303,SUM('U3 RSR'!AF$6:'U3 RSR'!AF48),0),0)","v":{"$error":"#N/A"}}]
[{"$f":"IF(ISNA(INDEX(Inscriptions!A$4:A$303,SUM('U3 RSR'!AF$7:'U3 RSR'!AF50))),\"\",INDEX(Inscriptions!A$4:A$303,SUM('U3 RSR'!AF$7:'U3 RSR'!AF50)))","v":""},{"$f":"IF(A50=\"\",\"\",VLOOKUP(A50,Data!G$2:K$302,5,FALSE))","v":""},{"$f":"IF(A50=\"\",\"\",VLOOKUP(A50,Data!G$2:K$302,2,FALSE))","v":""},{"$f":"IF(A50=\"\",\"\",VLOOKUP(A50,Data!G$2:K$302,3,FALSE))","v":""},{"$f":"IF(A50=\"\",\"\",VLOOKUP(A50,Data!G$2:K$302,4,FALSE))","v":""},null,null,null,null,null,null,null,null,null,null,null,null,null,null,null,null,null,null,null,null,null,null,null,null,0,null,{"$f":"MATCH(\"*\"&AC$1&\"*\",OFFSET(Inscriptions!U$4:U$303,SUM('U3 RSR'!AF$6:'U3 RSR'!AF49),0),0)","v":{"$error":"#N/A"}}]
[{"$f":"IF(ISNA(INDEX(Inscriptions!A$4:A$303,SUM('U3 RSR'!AF$7:'U3 RSR'!AF51))),\"\",INDEX(Inscriptions!A$4:A$303,SUM('U3 RSR'!AF$7:'U3 RSR'!AF51)))","v":""},{"$f":"IF(A51=\"\",\"\",VLOOKUP(A51,Data!G$2:K$302,5,FALSE))","v":""},{"$f":"IF(A51=\"\",\"\",VLOOKUP(A51,Data!G$2:K$302,2,FALSE))","v":""},{"$f":"IF(A51=\"\",\"\",VLOOKUP(A51,Data!G$2:K$302,3,FALSE))","v":""},{"$f":"IF(A51=\"\",\"\",VLOOKUP(A51,Data!G$2:K$302,4,FALSE))","v":""},null,null,null,null,null,null,null,null,null,null,null,null,null,null,null,null,null,null,null,null,null,null,null,null,0,null,{"$f":"MATCH(\"*\"&AC$1&\"*\",OFFSET(Inscriptions!U$4:U$303,SUM('U3 RSR'!AF$6:'U3 RSR'!AF50),0),0)","v":{"$error":"#N/A"}}]
[{"$f":"IF(ISNA(INDEX(Inscriptions!A$4:A$303,SUM('U3 RSR'!AF$7:'U3 RSR'!AF52))),\"\",INDEX(Inscriptions!A$4:A$303,SUM('U3 RSR'!AF$7:'U3 RSR'!AF52)))","v":""},{"$f":"IF(A52=\"\",\"\",VLOOKUP(A52,Data!G$2:K$302,5,FALSE))","v":""},{"$f":"IF(A52=\"\",\"\",VLOOKUP(A52,Data!G$2:K$302,2,FALSE))","v":""},{"$f":"IF(A52=\"\",\"\",VLOOKUP(A52,Data!G$2:K$302,3,FALSE))","v":""},{"$f":"IF(A52=\"\",\"\",VLOOKUP(A52,Data!G$2:K$302,4,FALSE))","v":""},null,null,null,null,null,null,null,null,null,null,null,null,null,null,null,null,null,null,null,null,null,null,null,null,0,null,{"$f":"MATCH(\"*\"&AC$1&\"*\",OFFSET(Inscriptions!U$4:U$303,SUM('U3 RSR'!AF$6:'U3 RSR'!AF51),0),0)","v":{"$error":"#N/A"}}]
[{"$f":"IF(ISNA(INDEX(Inscriptions!A$4:A$303,SUM('U3 RSR'!AF$7:'U3 RSR'!AF53))),\"\",INDEX(Inscriptions!A$4:A$303,SUM('U3 RSR'!AF$7:'U3 RSR'!AF53)))","v":""},{"$f":"IF(A53=\"\",\"\",VLOOKUP(A53,Data!G$2:K$302,5,FALSE))","v":""},{"$f":"IF(A53=\"\",\"\",VLOOKUP(A53,Data!G$2:K$302,2,FALSE))","v":""},{"$f":"IF(A53=\"\",\"\",VLOOKUP(A53,Data!G$2:K$302,3,FALSE))","v":""},{"$f":"IF(A53=\"\",\"\",VLOOKUP(A53,Data!G$2:K$302,4,FALSE))","v":""},null,null,null,null,null,null,null,null,null,null,null,null,null,null,null,null,null,null,null,null,null,null,null,null,0,null,{"$f":"MATCH(\"*\"&AC$1&\"*\",OFFSET(Inscriptions!U$4:U$303,SUM('U3 RSR'!AF$6:'U3 RSR'!AF52),0),0)","v":{"$error":"#N/A"}}]
[{"$f":"IF(ISNA(INDEX(Inscriptions!A$4:A$303,SUM('U3 RSR'!AF$7:'U3 RSR'!AF54))),\"\",INDEX(Inscriptions!A$4:A$303,SUM('U3 RSR'!AF$7:'U3 RSR'!AF54)))","v":""},{"$f":"IF(A54=\"\",\"\",VLOOKUP(A54,Data!G$2:K$302,5,FALSE))","v":""},{"$f":"IF(A54=\"\",\"\",VLOOKUP(A54,Data!G$2:K$302,2,FALSE))","v":""},{"$f":"IF(A54=\"\",\"\",VLOOKUP(A54,Data!G$2:K$302,3,FALSE))","v":""},{"$f":"IF(A54=\"\",\"\",VLOOKUP(A54,Data!G$2:K$302,4,FALSE))","v":""},null,null,null,null,null,null,null,null,null,null,null,null,null,null,null,null,null,null,null,null,null,null,null,null,0,null,{"$f":"MATCH(\"*\"&AC$1&\"*\",OFFSET(Inscriptions!U$4:U$303,SUM('U3 RSR'!AF$6:'U3 RSR'!AF53),0),0)","v":{"$error":"#N/A"}}]
[{"$f":"IF(ISNA(INDEX(Inscriptions!A$4:A$303,SUM('U3 RSR'!AF$7:'U3 RSR'!AF55))),\"\",INDEX(Inscriptions!A$4:A$303,SUM('U3 RSR'!AF$7:'U3 RSR'!AF55)))","v":""},{"$f":"IF(A55=\"\",\"\",VLOOKUP(A55,Data!G$2:K$302,5,FALSE))","v":""},{"$f":"IF(A55=\"\",\"\",VLOOKUP(A55,Data!G$2:K$302,2,FALSE))","v":""},{"$f":"IF(A55=\"\",\"\",VLOOKUP(A55,Data!G$2:K$302,3,FALSE))","v":""},{"$f":"IF(A55=\"\",\"\",VLOOKUP(A55,Data!G$2:K$302,4,FALSE))","v":""},null,null,null,null,null,null,null,null,null,null,null,null,null,null,null,null,null,null,null,null,null,null,null,null,0,null,{"$f":"MATCH(\"*\"&AC$1&\"*\",OFFSET(Inscriptions!U$4:U$303,SUM('U3 RSR'!AF$6:'U3 RSR'!AF54),0),0)","v":{"$error":"#N/A"}}]
[{"$f":"CONCATENATE(IF(ChoixLangue=Languages!$B$1,Languages!$B105,IF(ChoixLangue=Languages!$C$1,Languages!$C105,IF(ChoixLangue=Languages!$D$1,Languages!$D105,Languages!$E105))),SUM(AD7:AD55))","v":"Nbe nageuses : 0"},"-","-","-",null,"-","-","-","-"]

{"sheet":"U15","index":15,"n_rows":56,"n_cols":33,"rows_kept":56,"cut":false,"hidden":true,"merged":[[3,0,3,9]]}
[{"$f":"IF('Cover Page'!B5=\"\",\"\",'Cover Page'!B5)","v":""},null,null,null,null,null,null,null,null,null,null,null,null,null,null,null,null,null,null,null,null,null,null,null,null,null,null,null,null,"x",null,null,{"$f":"MID(CELL(\"filename\",A1),FIND(\"]\",CELL(\"filename\",A1),1)+1,20)","v":"U15"}]
[{"$f":"IF('Cover Page'!B6=\"\",\"\",'Cover Page'!B6)","v":""},null,null,null,null,null,null,null,null,{"$f":"IF(ChoixLangue=Languages!$B$1,Languages!$B$97 & \" \" & AG1,IF(ChoixLangue=Languages!$C$1,Languages!$C$97 & \" \" & AG1,IF(ChoixLangue=Languages!$D$1,Languages!$D$97 & \" \" & AG1,Languages!$E$97 & \" \" & AG1)))","v":"Catégorie U15"}]
[{"$f":"IF('Cover Page'!B7=\"\",\"\",'Cover Page'!B7)","v":""}]
[{"$f":"IF('Cover Page'!B10=\"\",\"\",CONCATENATE(IF(ChoixLangue=Languages!$B$1,Languages!$B98,IF(ChoixLangue=Languages!$C$1,Languages!$C98,IF(ChoixLangue=Languages!$D$1,Languages!$D98,Languages!$E98))),'Cover Page'!B10))","v":""}]
[{"$f":"A56","v":"Nbe nageuses : 0"}]
[{"$f":"IF(ChoixLangue=Languages!$B$1,Languages!$B99,IF(ChoixLangue=Languages!$C$1,Languages!$C99,IF(ChoixLangue=Languages!$D$1,Languages!$D99,Languages!$E99)))","v":"NOM Prénom"},{"$f":"IF(ChoixLangue=Languages!$B$1,Languages!$B100,IF(ChoixLangue=Languages!$C$1,Languages!$C100,IF(ChoixLangue=Languages!$D$1,Languages!$D100,Languages!$E100)))","v":"Club"},{"$f":"IF(ChoixLangue=Languages!$B$1,Languages!$B101,IF(ChoixLangue=Languages!$C$1,Languages!$C101,IF(ChoixLangue=Languages!$D$1,Languages!$D101,Languages!$E101)))","v":"Licence"},{"$f":"IF(ChoixLangue=Languages!$B$1,Languages!$B102,IF(ChoixLangue=Languages!$C$1,Languages!$C102,IF(ChoixLangue=Languages!$D$1,Languages!$D102,Languages!$E102)))","v":"An. Nais."},{"$f":"IF(ChoixLangue=Languages!$B$1,Languages!$B103,IF(ChoixLangue=Languages!$C$1,Languages!$C103,IF(ChoixLangue=Languages!$D$1,Languages!$D103,Languages!$E103)))","v":"N° Test"},{"$f":"IF(ChoixLangue=Languages!$B$1,Languages!$B104,IF(ChoixLangue=Languages!$C$1,Languages!$C104,IF(ChoixLangue=Languages!$D$1,Languages!$D104,Languages!$E104)))","v":"Figures"},"Solo Free","Duo Free","Mix. Duet Free","Team Free"]
[{"$f":"IF(ISNA(INDEX(Inscriptions!A$4:A$303,SUM('U15'!AG$7:'U15'!AG7))),\"\",INDEX(Inscriptions!A$4:A$303,SUM('U15'!AG$7:'U15'!AG7)))","v":""},{"$f":"IF(A7=\"\",\"\",VLOOKUP(A7,Data!G$2:K$302,5,FALSE))","v":""},{"$f":"IF(A7=\"\",\"\",VLOOKUP(A7,Data!G$2:K$302,2,FALSE))","v":""},{"$f":"IF(A7=\"\",\"\",VLOOKUP(A7,Data!G$2:K$302,3,FALSE))","v":""},{"$f":"IF(A7=\"\",\"\",VLOOKUP(A7,Data!G$2:K$302,4,FALSE))","v":""},null,null,null,null,null,null,null,null,null,null,null,null,null,null,null,null,null,null,null,null,null,null,null,null,null,{"$f":"IF(A7<>\"\",1,0)","v":0},null,{"$f":"MATCH(\"*\"&AD$1&\"*\",OFFSET(Inscriptions!O$4:O$303,SUM('U15'!AG$6:'U15'!AG6),0),0)","v":{"$error":"#N/A"}}]
[{"$f":"IF(ISNA(INDEX(Inscriptions!A$4:A$303,SUM('U15'!AG$7:'U15'!AG8))),\"\",INDEX(Inscriptions!A$4:A$303,SUM('U15'!AG$7:'U15'!AG8)))","v":""},{"$f":"IF(A8=\"\",\"\",VLOOKUP(A8,Data!G$2:K$302,5,FALSE))","v":""},{"$f":"IF(A8=\"\",\"\",VLOOKUP(A8,Data!G$2:K$302,2,FALSE))","v":""},{"$f":"IF(A8=\"\",\"\",VLOOKUP(A8,Data!G$2:K$302,3,FALSE))","v":""},{"$f":"IF(A8=\"\",\"\",VLOOKUP(A8,Data!G$2:K$302,4,FALSE))","v":""},null,null,null,null,null,null,null,null,null,null,null,null,null,null,null,null,null,null,null,null,null,null,null,null,null,0,null,{"$f":"MATCH(\"*\"&AD$1&\"*\",OFFSET(Inscriptions!O$4:O$303,SUM('U15'!AG$6:'U15'!AG7),0),0)","v":{"$error":"#N/A"}}]
[{"$f":"IF(ISNA(INDEX(Inscriptions!A$4:A$303,SUM('U15'!AG$7:'U15'!AG9))),\"\",INDEX(Inscriptions!A$4:A$303,SUM('U15'!AG$7:'U15'!AG9)))","v":""},{"$f":"IF(A9=\"\",\"\",VLOOKUP(A9,Data!G$2:K$302,5,FALSE))","v":""},{"$f":"IF(A9=\"\",\"\",VLOOKUP(A9,Data!G$2:K$302,2,FALSE))","v":""},{"$f":"IF(A9=\"\",\"\",VLOOKUP(A9,Data!G$2:K$302,3,FALSE))","v":""},{"$f":"IF(A9=\"\",\"\",VLOOKUP(A9,Data!G$2:K$302,4,FALSE))","v":""},null,null,null,null,null,null,null,null,null,null,null,null,null,null,null,null,null,null,null,null,null,null,null,null,null,0,null,{"$f":"MATCH(\"*\"&AD$1&\"*\",OFFSET(Inscriptions!O$4:O$303,SUM('U15'!AG$6:'U15'!AG8),0),0)","v":{"$error":"#N/A"}}]
[{"$f":"IF(ISNA(INDEX(Inscriptions!A$4:A$303,SUM('U15'!AG$7:'U15'!AG10))),\"\",INDEX(Inscriptions!A$4:A$303,SUM('U15'!AG$7:'U15'!AG10)))","v":""},{"$f":"IF(A10=\"\",\"\",VLOOKUP(A10,Data!G$2:K$302,5,FALSE))","v":""},{"$f":"IF(A10=\"\",\"\",VLOOKUP(A10,Data!G$2:K$302,2,FALSE))","v":""},{"$f":"IF(A10=\"\",\"\",VLOOKUP(A10,Data!G$2:K$302,3,FALSE))","v":""},{"$f":"IF(A10=\"\",\"\",VLOOKUP(A10,Data!G$2:K$302,4,FALSE))","v":""},null,null,null,null,null,null,null,null,null,null,null,null,null,null,null,null,null,null,null,null,null,null,null,null,null,0,null,{"$f":"MATCH(\"*\"&AD$1&\"*\",OFFSET(Inscriptions!O$4:O$303,SUM('U15'!AG$6:'U15'!AG9),0),0)","v":{"$error":"#N/A"}}]
[{"$f":"IF(ISNA(INDEX(Inscriptions!A$4:A$303,SUM('U15'!AG$7:'U15'!AG11))),\"\",INDEX(Inscriptions!A$4:A$303,SUM('U15'!AG$7:'U15'!AG11)))","v":""},{"$f":"IF(A11=\"\",\"\",VLOOKUP(A11,Data!G$2:K$302,5,FALSE))","v":""},{"$f":"IF(A11=\"\",\"\",VLOOKUP(A11,Data!G$2:K$302,2,FALSE))","v":""},{"$f":"IF(A11=\"\",\"\",VLOOKUP(A11,Data!G$2:K$302,3,FALSE))","v":""},{"$f":"IF(A11=\"\",\"\",VLOOKUP(A11,Data!G$2:K$302,4,FALSE))","v":""},null,null,null,null,null,null,null,null,null,null,null,null,null,null,null,null,null,null,null,null,null,null,null,null,null,0,null,{"$f":"MATCH(\"*\"&AD$1&\"*\",OFFSET(Inscriptions!O$4:O$303,SUM('U15'!AG$6:'U15'!AG10),0),0)","v":{"$error":"#N/A"}}]
[{"$f":"IF(ISNA(INDEX(Inscriptions!A$4:A$303,SUM('U15'!AG$7:'U15'!AG12))),\"\",INDEX(Inscriptions!A$4:A$303,SUM('U15'!AG$7:'U15'!AG12)))","v":""},{"$f":"IF(A12=\"\",\"\",VLOOKUP(A12,Data!G$2:K$302,5,FALSE))","v":""},{"$f":"IF(A12=\"\",\"\",VLOOKUP(A12,Data!G$2:K$302,2,FALSE))","v":""},{"$f":"IF(A12=\"\",\"\",VLOOKUP(A12,Data!G$2:K$302,3,FALSE))","v":""},{"$f":"IF(A12=\"\",\"\",VLOOKUP(A12,Data!G$2:K$302,4,FALSE))","v":""},null,null,null,null,null,null,null,null,null,null,null,null,null,null,null,null,null,null,null,null,null,null,null,null,null,0,null,{"$f":"MATCH(\"*\"&AD$1&\"*\",OFFSET(Inscriptions!O$4:O$303,SUM('U15'!AG$6:'U15'!AG11),0),0)","v":{"$error":"#N/A"}}]
[{"$f":"IF(ISNA(INDEX(Inscriptions!A$4:A$303,SUM('U15'!AG$7:'U15'!AG13))),\"\",INDEX(Inscriptions!A$4:A$303,SUM('U15'!AG$7:'U15'!AG13)))","v":""},{"$f":"IF(A13=\"\",\"\",VLOOKUP(A13,Data!G$2:K$302,5,FALSE))","v":""},{"$f":"IF(A13=\"\",\"\",VLOOKUP(A13,Data!G$2:K$302,2,FALSE))","v":""},{"$f":"IF(A13=\"\",\"\",VLOOKUP(A13,Data!G$2:K$302,3,FALSE))","v":""},{"$f":"IF(A13=\"\",\"\",VLOOKUP(A13,Data!G$2:K$302,4,FALSE))","v":""},null,null,null,null,null,null,null,null,null,null,null,null,null,null,null,null,null,null,null,null,null,null,null,null,null,0,null,{"$f":"MATCH(\"*\"&AD$1&\"*\",OFFSET(Inscriptions!O$4:O$303,SUM('U15'!AG$6:'U15'!AG12),0),0)","v":{"$error":"#N/A"}}]
[{"$f":"IF(ISNA(INDEX(Inscriptions!A$4:A$303,SUM('U15'!AG$7:'U15'!AG14))),\"\",INDEX(Inscriptions!A$4:A$303,SUM('U15'!AG$7:'U15'!AG14)))","v":""},{"$f":"IF(A14=\"\",\"\",VLOOKUP(A14,Data!G$2:K$302,5,FALSE))","v":""},{"$f":"IF(A14=\"\",\"\",VLOOKUP(A14,Data!G$2:K$302,2,FALSE))","v":""},{"$f":"IF(A14=\"\",\"\",VLOOKUP(A14,Data!G$2:K$302,3,FALSE))","v":""},{"$f":"IF(A14=\"\",\"\",VLOOKUP(A14,Data!G$2:K$302,4,FALSE))","v":""},null,null,null,null,null,null,null,null,null,null,null,null,null,null,null,null,null,null,null,null,null,null,null,null,null,0,null,{"$f":"MATCH(\"*\"&AD$1&\"*\",OFFSET(Inscriptions!O$4:O$303,SUM('U15'!AG$6:'U15'!AG13),0),0)","v":{"$error":"#N/A"}}]
[{"$f":"IF(ISNA(INDEX(Inscriptions!A$4:A$303,SUM('U15'!AG$7:'U15'!AG15))),\"\",INDEX(Inscriptions!A$4:A$303,SUM('U15'!AG$7:'U15'!AG15)))","v":""},{"$f":"IF(A15=\"\",\"\",VLOOKUP(A15,Data!G$2:K$302,5,FALSE))","v":""},{"$f":"IF(A15=\"\",\"\",VLOOKUP(A15,Data!G$2:K$302,2,FALSE))","v":""},{"$f":"IF(A15=\"\",\"\",VLOOKUP(A15,Data!G$2:K$302,3,FALSE))","v":""},{"$f":"IF(A15=\"\",\"\",VLOOKUP(A15,Data!G$2:K$302,4,FALSE))","v":""},null,null,null,null,null,null,null,null,null,null,null,null,null,null,null,null,null,null,null,null,null,null,null,null,null,0,null,{"$f":"MATCH(\"*\"&AD$1&\"*\",OFFSET(Inscriptions!O$4:O$303,SUM('U15'!AG$6:'U15'!AG14),0),0)","v":{"$error":"#N/A"}}]
[{"$f":"IF(ISNA(INDEX(Inscriptions!A$4:A$303,SUM('U15'!AG$7:'U15'!AG16))),\"\",INDEX(Inscriptions!A$4:A$303,SUM('U15'!AG$7:'U15'!AG16)))","v":""},{"$f":"IF(A16=\"\",\"\",VLOOKUP(A16,Data!G$2:K$302,5,FALSE))","v":""},{"$f":"IF(A16=\"\",\"\",VLOOKUP(A16,Data!G$2:K$302,2,FALSE))","v":""},{"$f":"IF(A16=\"\",\"\",VLOOKUP(A16,Data!G$2:K$302,3,FALSE))","v":""},{"$f":"IF(A16=\"\",\"\",VLOOKUP(A16,Data!G$2:K$302,4,FALSE))","v":""},null,null,null,null,null,null,null,null,null,null,null,null,null,null,null,null,null,null,null,null,null,null,null,null,null,0,null,{"$f":"MATCH(\"*\"&AD$1&\"*\",OFFSET(Inscriptions!O$4:O$303,SUM('U15'!AG$6:'U15'!AG15),0),0)","v":{"$error":"#N/A"}}]
[{"$f":"IF(ISNA(INDEX(Inscriptions!A$4:A$303,SUM('U15'!AG$7:'U15'!AG17))),\"\",INDEX(Inscriptions!A$4:A$303,SUM('U15'!AG$7:'U15'!AG17)))","v":""},{"$f":"IF(A17=\"\",\"\",VLOOKUP(A17,Data!G$2:K$302,5,FALSE))","v":""},{"$f":"IF(A17=\"\",\"\",VLOOKUP(A17,Data!G$2:K$302,2,FALSE))","v":""},{"$f":"IF(A17=\"\",\"\",VLOOKUP(A17,Data!G$2:K$302,3,FALSE))","v":""},{"$f":"IF(A17=\"\",\"\",VLOOKUP(A17,Data!G$2:K$302,4,FALSE))","v":""},null,null,null,null,null,null,null,null,null,null,null,null,null,null,null,null,null,null,null,null,null,null,null,null,null,0,null,{"$f":"MATCH(\"*\"&AD$1&\"*\",OFFSET(Inscriptions!O$4:O$303,SUM('U15'!AG$6:'U15'!AG16),0),0)","v":{"$error":"#N/A"}}]
[{"$f":"IF(ISNA(INDEX(Inscriptions!A$4:A$303,SUM('U15'!AG$7:'U15'!AG18))),\"\",INDEX(Inscriptions!A$4:A$303,SUM('U15'!AG$7:'U15'!AG18)))","v":""},{"$f":"IF(A18=\"\",\"\",VLOOKUP(A18,Data!G$2:K$302,5,FALSE))","v":""},{"$f":"IF(A18=\"\",\"\",VLOOKUP(A18,Data!G$2:K$302,2,FALSE))","v":""},{"$f":"IF(A18=\"\",\"\",VLOOKUP(A18,Data!G$2:K$302,3,FALSE))","v":""},{"$f":"IF(A18=\"\",\"\",VLOOKUP(A18,Data!G$2:K$302,4,FALSE))","v":""},null,null,null,null,null,null,null,null,null,null,null,null,null,null,null,null,null,null,null,null,null,null,null,null,null,0,null,{"$f":"MATCH(\"*\"&AD$1&\"*\",OFFSET(Inscriptions!O$4:O$303,SUM('U15'!AG$6:'U15'!AG17),0),0)","v":{"$error":"#N/A"}}]
[{"$f":"IF(ISNA(INDEX(Inscriptions!A$4:A$303,SUM('U15'!AG$7:'U15'!AG19))),\"\",INDEX(Inscriptions!A$4:A$303,SUM('U15'!AG$7:'U15'!AG19)))","v":""},{"$f":"IF(A19=\"\",\"\",VLOOKUP(A19,Data!G$2:K$302,5,FALSE))","v":""},{"$f":"IF(A19=\"\",\"\",VLOOKUP(A19,Data!G$2:K$302,2,FALSE))","v":""},{"$f":"IF(A19=\"\",\"\",VLOOKUP(A19,Data!G$2:K$302,3,FALSE))","v":""},{"$f":"IF(A19=\"\",\"\",VLOOKUP(A19,Data!G$2:K$302,4,FALSE))","v":""},null,null,null,null,null,null,null,null,null,null,null,null,null,null,null,null,null,null,null,null,null,null,null,null,null,0,null,{"$f":"MATCH(\"*\"&AD$1&\"*\",OFFSET(Inscriptions!O$4:O$303,SUM('U15'!AG$6:'U15'!AG18),0),0)","v":{"$error":"#N/A"}}]
[{"$f":"IF(ISNA(INDEX(Inscriptions!A$4:A$303,SUM('U15'!AG$7:'U15'!AG20))),\"\",INDEX(Inscriptions!A$4:A$303,SUM('U15'!AG$7:'U15'!AG20)))","v":""},{"$f":"IF(A20=\"\",\"\",VLOOKUP(A20,Data!G$2:K$302,5,FALSE))","v":""},{"$f":"IF(A20=\"\",\"\",VLOOKUP(A20,Data!G$2:K$302,2,FALSE))","v":""},{"$f":"IF(A20=\"\",\"\",VLOOKUP(A20,Data!G$2:K$302,3,FALSE))","v":""},{"$f":"IF(A20=\"\",\"\",VLOOKUP(A20,Data!G$2:K$302,4,FALSE))","v":""},null,null,null,null,null,null,null,null,null,null,null,null,null,null,null,null,null,null,null,null,null,null,null,null,null,0,null,{"$f":"MATCH(\"*\"&AD$1&\"*\",OFFSET(Inscriptions!O$4:O$303,SUM('U15'!AG$6:'U15'!AG19),0),0)","v":{"$error":"#N/A"}}]
[{"$f":"IF(ISNA(INDEX(Inscriptions!A$4:A$303,SUM('U15'!AG$7:'U15'!AG21))),\"\",INDEX(Inscriptions!A$4:A$303,SUM('U15'!AG$7:'U15'!AG21)))","v":""},{"$f":"IF(A21=\"\",\"\",VLOOKUP(A21,Data!G$2:K$302,5,FALSE))","v":""},{"$f":"IF(A21=\"\",\"\",VLOOKUP(A21,Data!G$2:K$302,2,FALSE))","v":""},{"$f":"IF(A21=\"\",\"\",VLOOKUP(A21,Data!G$2:K$302,3,FALSE))","v":""},{"$f":"IF(A21=\"\",\"\",VLOOKUP(A21,Data!G$2:K$302,4,FALSE))","v":""},null,null,null,null,null,null,null,null,null,null,null,null,null,null,null,null,null,null,null,null,null,null,null,null,null,0,null,{"$f":"MATCH(\"*\"&AD$1&\"*\",OFFSET(Inscriptions!O$4:O$303,SUM('U15'!AG$6:'U15'!AG20),0),0)","v":{"$error":"#N/A"}}]
[{"$f":"IF(ISNA(INDEX(Inscriptions!A$4:A$303,SUM('U15'!AG$7:'U15'!AG22))),\"\",INDEX(Inscriptions!A$4:A$303,SUM('U15'!AG$7:'U15'!AG22)))","v":""},{"$f":"IF(A22=\"\",\"\",VLOOKUP(A22,Data!G$2:K$302,5,FALSE))","v":""},{"$f":"IF(A22=\"\",\"\",VLOOKUP(A22,Data!G$2:K$302,2,FALSE))","v":""},{"$f":"IF(A22=\"\",\"\",VLOOKUP(A22,Data!G$2:K$302,3,FALSE))","v":""},{"$f":"IF(A22=\"\",\"\",VLOOKUP(A22,Data!G$2:K$302,4,FALSE))","v":""},null,null,null,null,null,null,null,null,null,null,null,null,null,null,null,null,null,null,null,null,null,null,null,null,null,0,null,{"$f":"MATCH(\"*\"&AD$1&\"*\",OFFSET(Inscriptions!O$4:O$303,SUM('U15'!AG$6:'U15'!AG21),0),0)","v":{"$error":"#N/A"}}]
[{"$f":"IF(ISNA(INDEX(Inscriptions!A$4:A$303,SUM('U15'!AG$7:'U15'!AG23))),\"\",INDEX(Inscriptions!A$4:A$303,SUM('U15'!AG$7:'U15'!AG23)))","v":""},{"$f":"IF(A23=\"\",\"\",VLOOKUP(A23,Data!G$2:K$302,5,FALSE))","v":""},{"$f":"IF(A23=\"\",\"\",VLOOKUP(A23,Data!G$2:K$302,2,FALSE))","v":""},{"$f":"IF(A23=\"\",\"\",VLOOKUP(A23,Data!G$2:K$302,3,FALSE))","v":""},{"$f":"IF(A23=\"\",\"\",VLOOKUP(A23,Data!G$2:K$302,4,FALSE))","v":""},null,null,null,null,null,null,null,null,null,null,null,null,null,null,null,null,null,null,null,null,null,null,null,null,null,0,null,{"$f":"MATCH(\"*\"&AD$1&\"*\",OFFSET(Inscriptions!O$4:O$303,SUM('U15'!AG$6:'U15'!AG22),0),0)","v":{"$error":"#N/A"}}]
[{"$f":"IF(ISNA(INDEX(Inscriptions!A$4:A$303,SUM('U15'!AG$7:'U15'!AG24))),\"\",INDEX(Inscriptions!A$4:A$303,SUM('U15'!AG$7:'U15'!AG24)))","v":""},{"$f":"IF(A24=\"\",\"\",VLOOKUP(A24,Data!G$2:K$302,5,FALSE))","v":""},{"$f":"IF(A24=\"\",\"\",VLOOKUP(A24,Data!G$2:K$302,2,FALSE))","v":""},{"$f":"IF(A24=\"\",\"\",VLOOKUP(A24,Data!G$2:K$302,3,FALSE))","v":""},{"$f":"IF(A24=\"\",\"\",VLOOKUP(A24,Data!G$2:K$302,4,FALSE))","v":""},null,null,null,null,null,null,null,null,null,null,null,null,null,null,null,null,null,null,null,null,null,null,null,null,null,0,null,{"$f":"MATCH(\"*\"&AD$1&\"*\",OFFSET(Inscriptions!O$4:O$303,SUM('U15'!AG$6:'U15'!AG23),0),0)","v":{"$error":"#N/A"}}]
[{"$f":"IF(ISNA(INDEX(Inscriptions!A$4:A$303,SUM('U15'!AG$7:'U15'!AG25))),\"\",INDEX(Inscriptions!A$4:A$303,SUM('U15'!AG$7:'U15'!AG25)))","v":""},{"$f":"IF(A25=\"\",\"\",VLOOKUP(A25,Data!G$2:K$302,5,FALSE))","v":""},{"$f":"IF(A25=\"\",\"\",VLOOKUP(A25,Data!G$2:K$302,2,FALSE))","v":""},{"$f":"IF(A25=\"\",\"\",VLOOKUP(A25,Data!G$2:K$302,3,FALSE))","v":""},{"$f":"IF(A25=\"\",\"\",VLOOKUP(A25,Data!G$2:K$302,4,FALSE))","v":""},null,null,null,null,null,null,null,null,null,null,null,null,null,null,null,null,null,null,null,null,null,null,null,null,null,0,null,{"$f":"MATCH(\"*\"&AD$1&\"*\",OFFSET(Inscriptions!O$4:O$303,SUM('U15'!AG$6:'U15'!AG24),0),0)","v":{"$error":"#N/A"}}]
[{"$f":"IF(ISNA(INDEX(Inscriptions!A$4:A$303,SUM('U15'!AG$7:'U15'!AG26))),\"\",INDEX(Inscriptions!A$4:A$303,SUM('U15'!AG$7:'U15'!AG26)))","v":""},{"$f":"IF(A26=\"\",\"\",VLOOKUP(A26,Data!G$2:K$302,5,FALSE))","v":""},{"$f":"IF(A26=\"\",\"\",VLOOKUP(A26,Data!G$2:K$302,2,FALSE))","v":""},{"$f":"IF(A26=\"\",\"\",VLOOKUP(A26,Data!G$2:K$302,3,FALSE))","v":""},{"$f":"IF(A26=\"\",\"\",VLOOKUP(A26,Data!G$2:K$302,4,FALSE))","v":""},null,null,null,null,null,null,null,null,null,null,null,null,null,null,null,null,null,null,null,null,null,null,null,null,null,0,null,{"$f":"MATCH(\"*\"&AD$1&\"*\",OFFSET(Inscriptions!O$4:O$303,SUM('U15'!AG$6:'U15'!AG25),0),0)","v":{"$error":"#N/A"}}]
[{"$f":"IF(ISNA(INDEX(Inscriptions!A$4:A$303,SUM('U15'!AG$7:'U15'!AG27))),\"\",INDEX(Inscriptions!A$4:A$303,SUM('U15'!AG$7:'U15'!AG27)))","v":""},{"$f":"IF(A27=\"\",\"\",VLOOKUP(A27,Data!G$2:K$302,5,FALSE))","v":""},{"$f":"IF(A27=\"\",\"\",VLOOKUP(A27,Data!G$2:K$302,2,FALSE))","v":""},{"$f":"IF(A27=\"\",\"\",VLOOKUP(A27,Data!G$2:K$302,3,FALSE))","v":""},{"$f":"IF(A27=\"\",\"\",VLOOKUP(A27,Data!G$2:K$302,4,FALSE))","v":""},null,null,null,null,null,null,null,null,null,null,null,null,null,null,null,null,null,null,null,null,null,null,null,null,null,0,null,{"$f":"MATCH(\"*\"&AD$1&\"*\",OFFSET(Inscriptions!O$4:O$303,SUM('U15'!AG$6:'U15'!AG26),0),0)","v":{"$error":"#N/A"}}]
[{"$f":"IF(ISNA(INDEX(Inscriptions!A$4:A$303,SUM('U15'!AG$7:'U15'!AG28))),\"\",INDEX(Inscriptions!A$4:A$303,SUM('U15'!AG$7:'U15'!AG28)))","v":""},{"$f":"IF(A28=\"\",\"\",VLOOKUP(A28,Data!G$2:K$302,5,FALSE))","v":""},{"$f":"IF(A28=\"\",\"\",VLOOKUP(A28,Data!G$2:K$302,2,FALSE))","v":""},{"$f":"IF(A28=\"\",\"\",VLOOKUP(A28,Data!G$2:K$302,3,FALSE))","v":""},{"$f":"IF(A28=\"\",\"\",VLOOKUP(A28,Data!G$2:K$302,4,FALSE))","v":""},null,null,null,null,null,null,null,null,null,null,null,null,null,null,null,null,null,null,null,null,null,null,null,null,null,0,null,{"$f":"MATCH(\"*\"&AD$1&\"*\",OFFSET(Inscriptions!O$4:O$303,SUM('U15'!AG$6:'U15'!AG27),0),0)","v":{"$error":"#N/A"}}]
[{"$f":"IF(ISNA(INDEX(Inscriptions!A$4:A$303,SUM('U15'!AG$7:'U15'!AG29))),\"\",INDEX(Inscriptions!A$4:A$303,SUM('U15'!AG$7:'U15'!AG29)))","v":""},{"$f":"IF(A29=\"\",\"\",VLOOKUP(A29,Data!G$2:K$302,5,FALSE))","v":""},{"$f":"IF(A29=\"\",\"\",VLOOKUP(A29,Data!G$2:K$302,2,FALSE))","v":""},{"$f":"IF(A29=\"\",\"\",VLOOKUP(A29,Data!G$2:K$302,3,FALSE))","v":""},{"$f":"IF(A29=\"\",\"\",VLOOKUP(A29,Data!G$2:K$302,4,FALSE))","v":""},null,null,null,null,null,null,null,null,null,null,null,null,null,null,null,null,null,null,null,null,null,null,null,null,null,0,null,{"$f":"MATCH(\"*\"&AD$1&\"*\",OFFSET(Inscriptions!O$4:O$303,SUM('U15'!AG$6:'U15'!AG28),0),0)","v":{"$error":"#N/A"}}]
[{"$f":"IF(ISNA(INDEX(Inscriptions!A$4:A$303,SUM('U15'!AG$7:'U15'!AG30))),\"\",INDEX(Inscriptions!A$4:A$303,SUM('U15'!AG$7:'U15'!AG30)))","v":""},{"$f":"IF(A30=\"\",\"\",VLOOKUP(A30,Data!G$2:K$302,5,FALSE))","v":""},{"$f":"IF(A30=\"\",\"\",VLOOKUP(A30,Data!G$2:K$302,2,FALSE))","v":""},{"$f":"IF(A30=\"\",\"\",VLOOKUP(A30,Data!G$2:K$302,3,FALSE))","v":""},{"$f":"IF(A30=\"\",\"\",VLOOKUP(A30,Data!G$2:K$302,4,FALSE))","v":""},null,null,null,null,null,null,null,null,null,null,null,null,null,null,null,null,null,null,null,null,null,null,null,null,null,0,null,{"$f":"MATCH(\"*\"&AD$1&\"*\",OFFSET(Inscriptions!O$4:O$303,SUM('U15'!AG$6:'U15'!AG29),0),0)","v":{"$error":"#N/A"}}]
[{"$f":"IF(ISNA(INDEX(Inscriptions!A$4:A$303,SUM('U15'!AG$7:'U15'!AG31))),\"\",INDEX(Inscriptions!A$4:A$303,SUM('U15'!AG$7:'U15'!AG31)))","v":""},{"$f":"IF(A31=\"\",\"\",VLOOKUP(A31,Data!G$2:K$302,5,FALSE))","v":""},{"$f":"IF(A31=\"\",\"\",VLOOKUP(A31,Data!G$2:K$302,2,FALSE))","v":""},{"$f":"IF(A31=\"\",\"\",VLOOKUP(A31,Data!G$2:K$302,3,FALSE))","v":""},{"$f":"IF(A31=\"\",\"\",VLOOKUP(A31,Data!G$2:K$302,4,FALSE))","v":""},null,null,null,null,null,null,null,null,null,null,null,null,null,null,null,null,null,null,null,null,null,null,null,null,null,0,null,{"$f":"MATCH(\"*\"&AD$1&\"*\",OFFSET(Inscriptions!O$4:O$303,SUM('U15'!AG$6:'U15'!AG30),0),0)","v":{"$error":"#N/A"}}]
[{"$f":"IF(ISNA(INDEX(Inscriptions!A$4:A$303,SUM('U15'!AG$7:'U15'!AG32))),\"\",INDEX(Inscriptions!A$4:A$303,SUM('U15'!AG$7:'U15'!AG32)))","v":""},{"$f":"IF(A32=\"\",\"\",VLOOKUP(A32,Data!G$2:K$302,5,FALSE))","v":""},{"$f":"IF(A32=\"\",\"\",VLOOKUP(A32,Data!G$2:K$302,2,FALSE))","v":""},{"$f":"IF(A32=\"\",\"\",VLOOKUP(A32,Data!G$2:K$302,3,FALSE))","v":""},{"$f":"IF(A32=\"\",\"\",VLOOKUP(A32,Data!G$2:K$302,4,FALSE))","v":""},null,null,null,null,null,null,null,null,null,null,null,null,null,null,null,null,null,null,null,null,null,null,null,null,null,0,null,{"$f":"MATCH(\"*\"&AD$1&\"*\",OFFSET(Inscriptions!O$4:O$303,SUM('U15'!AG$6:'U15'!AG31),0),0)","v":{"$error":"#N/A"}}]
[{"$f":"IF(ISNA(INDEX(Inscriptions!A$4:A$303,SUM('U15'!AG$7:'U15'!AG33))),\"\",INDEX(Inscriptions!A$4:A$303,SUM('U15'!AG$7:'U15'!AG33)))","v":""},{"$f":"IF(A33=\"\",\"\",VLOOKUP(A33,Data!G$2:K$302,5,FALSE))","v":""},{"$f":"IF(A33=\"\",\"\",VLOOKUP(A33,Data!G$2:K$302,2,FALSE))","v":""},{"$f":"IF(A33=\"\",\"\",VLOOKUP(A33,Data!G$2:K$302,3,FALSE))","v":""},{"$f":"IF(A33=\"\",\"\",VLOOKUP(A33,Data!G$2:K$302,4,FALSE))","v":""},null,null,null,null,null,null,null,null,null,null,null,null,null,null,null,null,null,null,null,null,null,null,null,null,null,0,null,{"$f":"MATCH(\"*\"&AD$1&\"*\",OFFSET(Inscriptions!O$4:O$303,SUM('U15'!AG$6:'U15'!AG32),0),0)","v":{"$error":"#N/A"}}]
[{"$f":"IF(ISNA(INDEX(Inscriptions!A$4:A$303,SUM('U15'!AG$7:'U15'!AG34))),\"\",INDEX(Inscriptions!A$4:A$303,SUM('U15'!AG$7:'U15'!AG34)))","v":""},{"$f":"IF(A34=\"\",\"\",VLOOKUP(A34,Data!G$2:K$302,5,FALSE))","v":""},{"$f":"IF(A34=\"\",\"\",VLOOKUP(A34,Data!G$2:K$302,2,FALSE))","v":""},{"$f":"IF(A34=\"\",\"\",VLOOKUP(A34,Data!G$2:K$302,3,FALSE))","v":""},{"$f":"IF(A34=\"\",\"\",VLOOKUP(A34,Data!G$2:K$302,4,FALSE))","v":""},null,null,null,null,null,null,null,null,null,null,null,null,null,null,null,null,null,null,null,null,null,null,null,null,null,0,null,{"$f":"MATCH(\"*\"&AD$1&\"*\",OFFSET(Inscriptions!O$4:O$303,SUM('U15'!AG$6:'U15'!AG33),0),0)","v":{"$error":"#N/A"}}]
[{"$f":"IF(ISNA(INDEX(Inscriptions!A$4:A$303,SUM('U15'!AG$7:'U15'!AG35))),\"\",INDEX(Inscriptions!A$4:A$303,SUM('U15'!AG$7:'U15'!AG35)))","v":""},{"$f":"IF(A35=\"\",\"\",VLOOKUP(A35,Data!G$2:K$302,5,FALSE))","v":""},{"$f":"IF(A35=\"\",\"\",VLOOKUP(A35,Data!G$2:K$302,2,FALSE))","v":""},{"$f":"IF(A35=\"\",\"\",VLOOKUP(A35,Data!G$2:K$302,3,FALSE))","v":""},{"$f":"IF(A35=\"\",\"\",VLOOKUP(A35,Data!G$2:K$302,4,FALSE))","v":""},null,null,null,null,null,null,null,null,null,null,null,null,null,null,null,null,null,null,null,null,null,null,null,null,null,0,null,{"$f":"MATCH(\"*\"&AD$1&\"*\",OFFSET(Inscriptions!O$4:O$303,SUM('U15'!AG$6:'U15'!AG34),0),0)","v":{"$error":"#N/A"}}]
[{"$f":"IF(ISNA(INDEX(Inscriptions!A$4:A$303,SUM('U15'!AG$7:'U15'!AG36))),\"\",INDEX(Inscriptions!A$4:A$303,SUM('U15'!AG$7:'U15'!AG36)))","v":""},{"$f":"IF(A36=\"\",\"\",VLOOKUP(A36,Data!G$2:K$302,5,FALSE))","v":""},{"$f":"IF(A36=\"\",\"\",VLOOKUP(A36,Data!G$2:K$302,2,FALSE))","v":""},{"$f":"IF(A36=\"\",\"\",VLOOKUP(A36,Data!G$2:K$302,3,FALSE))","v":""},{"$f":"IF(A36=\"\",\"\",VLOOKUP(A36,Data!G$2:K$302,4,FALSE))","v":""},null,null,null,null,null,null,null,null,null,null,null,null,null,null,null,null,null,null,null,null,null,null,null,null,null,0,null,{"$f":"MATCH(\"*\"&AD$1&\"*\",OFFSET(Inscriptions!O$4:O$303,SUM('U15'!AG$6:'U15'!AG35),0),0)","v":{"$error":"#N/A"}}]
[{"$f":"IF(ISNA(INDEX(Inscriptions!A$4:A$303,SUM('U15'!AG$7:'U15'!AG37))),\"\",INDEX(Inscriptions!A$4:A$303,SUM('U15'!AG$7:'U15'!AG37)))","v":""},{"$f":"IF(A37=\"\",\"\",VLOOKUP(A37,Data!G$2:K$302,5,FALSE))","v":""},{"$f":"IF(A37=\"\",\"\",VLOOKUP(A37,Data!G$2:K$302,2,FALSE))","v":""},{"$f":"IF(A37=\"\",\"\",VLOOKUP(A37,Data!G$2:K$302,3,FALSE))","v":""},{"$f":"IF(A37=\"\",\"\",VLOOKUP(A37,Data!G$2:K$302,4,FALSE))","v":""},null,null,null,null,null,null,null,null,null,null,null,null,null,null,null,null,null,null,null,null,null,null,null,null,null,0,null,{"$f":"MATCH(\"*\"&AD$1&\"*\",OFFSET(Inscriptions!O$4:O$303,SUM('U15'!AG$6:'U15'!AG36),0),0)","v":{"$error":"#N/A"}}]
[{"$f":"IF(ISNA(INDEX(Inscriptions!A$4:A$303,SUM('U15'!AG$7:'U15'!AG38))),\"\",INDEX(Inscriptions!A$4:A$303,SUM('U15'!AG$7:'U15'!AG38)))","v":""},{"$f":"IF(A38=\"\",\"\",VLOOKUP(A38,Data!G$2:K$302,5,FALSE))","v":""},{"$f":"IF(A38=\"\",\"\",VLOOKUP(A38,Data!G$2:K$302,2,FALSE))","v":""},{"$f":"IF(A38=\"\",\"\",VLOOKUP(A38,Data!G$2:K$302,3,FALSE))","v":""},{"$f":"IF(A38=\"\",\"\",VLOOKUP(A38,Data!G$2:K$302,4,FALSE))","v":""},null,null,null,null,null,null,null,null,null,null,null,null,null,null,null,null,null,null,null,null,null,null,null,null,null,0,null,{"$f":"MATCH(\"*\"&AD$1&\"*\",OFFSET(Inscriptions!O$4:O$303,SUM('U15'!AG$6:'U15'!AG37),0),0)","v":{"$error":"#N/A"}}]
[{"$f":"IF(ISNA(INDEX(Inscriptions!A$4:A$303,SUM('U15'!AG$7:'U15'!AG39))),\"\",INDEX(Inscriptions!A$4:A$303,SUM('U15'!AG$7:'U15'!AG39)))","v":""},{"$f":"IF(A39=\"\",\"\",VLOOKUP(A39,Data!G$2:K$302,5,FALSE))","v":""},{"$f":"IF(A39=\"\",\"\",VLOOKUP(A39,Data!G$2:K$302,2,FALSE))","v":""},{"$f":"IF(A39=\"\",\"\",VLOOKUP(A39,Data!G$2:K$302,3,FALSE))","v":""},{"$f":"IF(A39=\"\",\"\",VLOOKUP(A39,Data!G$2:K$302,4,FALSE))","v":""},null,null,null,null,null,null,null,null,null,null,null,null,null,null,null,null,null,null,null,null,null,null,null,null,null,0,null,{"$f":"MATCH(\"*\"&AD$1&\"*\",OFFSET(Inscriptions!O$4:O$303,SUM('U15'!AG$6:'U15'!AG38),0),0)","v":{"$error":"#N/A"}}]
[{"$f":"IF(ISNA(INDEX(Inscriptions!A$4:A$303,SUM('U15'!AG$7:'U15'!AG40))),\"\",INDEX(Inscriptions!A$4:A$303,SUM('U15'!AG$7:'U15'!AG40)))","v":""},{"$f":"IF(A40=\"\",\"\",VLOOKUP(A40,Data!G$2:K$302,5,FALSE))","v":""},{"$f":"IF(A40=\"\",\"\",VLOOKUP(A40,Data!G$2:K$302,2,FALSE))","v":""},{"$f":"IF(A40=\"\",\"\",VLOOKUP(A40,Data!G$2:K$302,3,FALSE))","v":""},{"$f":"IF(A40=\"\",\"\",VLOOKUP(A40,Data!G$2:K$302,4,FALSE))","v":""},null,null,null,null,null,null,null,null,null,null,null,null,null,null,null,null,null,null,null,null,null,null,null,null,null,0,null,{"$f":"MATCH(\"*\"&AD$1&\"*\",OFFSET(Inscriptions!O$4:O$303,SUM('U15'!AG$6:'U15'!AG39),0),0)","v":{"$error":"#N/A"}}]
[{"$f":"IF(ISNA(INDEX(Inscriptions!A$4:A$303,SUM('U15'!AG$7:'U15'!AG41))),\"\",INDEX(Inscriptions!A$4:A$303,SUM('U15'!AG$7:'U15'!AG41)))","v":""},{"$f":"IF(A41=\"\",\"\",VLOOKUP(A41,Data!G$2:K$302,5,FALSE))","v":""},{"$f":"IF(A41=\"\",\"\",VLOOKUP(A41,Data!G$2:K$302,2,FALSE))","v":""},{"$f":"IF(A41=\"\",\"\",VLOOKUP(A41,Data!G$2:K$302,3,FALSE))","v":""},{"$f":"IF(A41=\"\",\"\",VLOOKUP(A41,Data!G$2:K$302,4,FALSE))","v":""},null,null,null,null,null,null,null,null,null,null,null,null,null,null,null,null,null,null,null,null,null,null,null,null,null,0,null,{"$f":"MATCH(\"*\"&AD$1&\"*\",OFFSET(Inscriptions!O$4:O$303,SUM('U15'!AG$6:'U15'!AG40),0),0)","v":{"$error":"#N/A"}}]
[{"$f":"IF(ISNA(INDEX(Inscriptions!A$4:A$303,SUM('U15'!AG$7:'U15'!AG42))),\"\",INDEX(Inscriptions!A$4:A$303,SUM('U15'!AG$7:'U15'!AG42)))","v":""},{"$f":"IF(A42=\"\",\"\",VLOOKUP(A42,Data!G$2:K$302,5,FALSE))","v":""},{"$f":"IF(A42=\"\",\"\",VLOOKUP(A42,Data!G$2:K$302,2,FALSE))","v":""},{"$f":"IF(A42=\"\",\"\",VLOOKUP(A42,Data!G$2:K$302,3,FALSE))","v":""},{"$f":"IF(A42=\"\",\"\",VLOOKUP(A42,Data!G$2:K$302,4,FALSE))","v":""},null,null,null,null,null,null,null,null,null,null,null,null,null,null,null,null,null,null,null,null,null,null,null,null,null,0,null,{"$f":"MATCH(\"*\"&AD$1&\"*\",OFFSET(Inscriptions!O$4:O$303,SUM('U15'!AG$6:'U15'!AG41),0),0)","v":{"$error":"#N/A"}}]
[{"$f":"IF(ISNA(INDEX(Inscriptions!A$4:A$303,SUM('U15'!AG$7:'U15'!AG43))),\"\",INDEX(Inscriptions!A$4:A$303,SUM('U15'!AG$7:'U15'!AG43)))","v":""},{"$f":"IF(A43=\"\",\"\",VLOOKUP(A43,Data!G$2:K$302,5,FALSE))","v":""},{"$f":"IF(A43=\"\",\"\",VLOOKUP(A43,Data!G$2:K$302,2,FALSE))","v":""},{"$f":"IF(A43=\"\",\"\",VLOOKUP(A43,Data!G$2:K$302,3,FALSE))","v":""},{"$f":"IF(A43=\"\",\"\",VLOOKUP(A43,Data!G$2:K$302,4,FALSE))","v":""},null,null,null,null,null,null,null,null,null,null,null,null,null,null,null,null,null,null,null,null,null,null,null,null,null,0,null,{"$f":"MATCH(\"*\"&AD$1&\"*\",OFFSET(Inscriptions!O$4:O$303,SUM('U15'!AG$6:'U15'!AG42),0),0)","v":{"$error":"#N/A"}}]
[{"$f":"IF(ISNA(INDEX(Inscriptions!A$4:A$303,SUM('U15'!AG$7:'U15'!AG44))),\"\",INDEX(Inscriptions!A$4:A$303,SUM('U15'!AG$7:'U15'!AG44)))","v":""},{"$f":"IF(A44=\"\",\"\",VLOOKUP(A44,Data!G$2:K$302,5,FALSE))","v":""},{"$f":"IF(A44=\"\",\"\",VLOOKUP(A44,Data!G$2:K$302,2,FALSE))","v":""},{"$f":"IF(A44=\"\",\"\",VLOOKUP(A44,Data!G$2:K$302,3,FALSE))","v":""},{"$f":"IF(A44=\"\",\"\",VLOOKUP(A44,Data!G$2:K$302,4,FALSE))","v":""},null,null,null,null,null,null,null,null,null,null,null,null,null,null,null,null,null,null,null,null,null,null,null,null,null,0,null,{"$f":"MATCH(\"*\"&AD$1&\"*\",OFFSET(Inscriptions!O$4:O$303,SUM('U15'!AG$6:'U15'!AG43),0),0)","v":{"$error":"#N/A"}}]
[{"$f":"IF(ISNA(INDEX(Inscriptions!A$4:A$303,SUM('U15'!AG$7:'U15'!AG45))),\"\",INDEX(Inscriptions!A$4:A$303,SUM('U15'!AG$7:'U15'!AG45)))","v":""},{"$f":"IF(A45=\"\",\"\",VLOOKUP(A45,Data!G$2:K$302,5,FALSE))","v":""},{"$f":"IF(A45=\"\",\"\",VLOOKUP(A45,Data!G$2:K$302,2,FALSE))","v":""},{"$f":"IF(A45=\"\",\"\",VLOOKUP(A45,Data!G$2:K$302,3,FALSE))","v":""},{"$f":"IF(A45=\"\",\"\",VLOOKUP(A45,Data!G$2:K$302,4,FALSE))","v":""},null,null,null,null,null,null,null,null,null,null,null,null,null,null,null,null,null,null,null,null,null,null,null,null,null,0,null,{"$f":"MATCH(\"*\"&AD$1&\"*\",OFFSET(Inscriptions!O$4:O$303,SUM('U15'!AG$6:'U15'!AG44),0),0)","v":{"$error":"#N/A"}}]
[{"$f":"IF(ISNA(INDEX(Inscriptions!A$4:A$303,SUM('U15'!AG$7:'U15'!AG46))),\"\",INDEX(Inscriptions!A$4:A$303,SUM('U15'!AG$7:'U15'!AG46)))","v":""},{"$f":"IF(A46=\"\",\"\",VLOOKUP(A46,Data!G$2:K$302,5,FALSE))","v":""},{"$f":"IF(A46=\"\",\"\",VLOOKUP(A46,Data!G$2:K$302,2,FALSE))","v":""},{"$f":"IF(A46=\"\",\"\",VLOOKUP(A46,Data!G$2:K$302,3,FALSE))","v":""},{"$f":"IF(A46=\"\",\"\",VLOOKUP(A46,Data!G$2:K$302,4,FALSE))","v":""},null,null,null,null,null,null,null,null,null,null,null,null,null,null,null,null,null,null,null,null,null,null,null,null,null,0,null,{"$f":"MATCH(\"*\"&AD$1&\"*\",OFFSET(Inscriptions!O$4:O$303,SUM('U15'!AG$6:'U15'!AG45),0),0)","v":{"$error":"#N/A"}}]
[{"$f":"IF(ISNA(INDEX(Inscriptions!A$4:A$303,SUM('U15'!AG$7:'U15'!AG47))),\"\",INDEX(Inscriptions!A$4:A$303,SUM('U15'!AG$7:'U15'!AG47)))","v":""},{"$f":"IF(A47=\"\",\"\",VLOOKUP(A47,Data!G$2:K$302,5,FALSE))","v":""},{"$f":"IF(A47=\"\",\"\",VLOOKUP(A47,Data!G$2:K$302,2,FALSE))","v":""},{"$f":"IF(A47=\"\",\"\",VLOOKUP(A47,Data!G$2:K$302,3,FALSE))","v":""},{"$f":"IF(A47=\"\",\"\",VLOOKUP(A47,Data!G$2:K$302,4,FALSE))","v":""},null,null,null,null,null,null,null,null,null,null,null,null,null,null,null,null,null,null,null,null,null,null,null,null,null,0,null,{"$f":"MATCH(\"*\"&AD$1&\"*\",OFFSET(Inscriptions!O$4:O$303,SUM('U15'!AG$6:'U15'!AG46),0),0)","v":{"$error":"#N/A"}}]
[{"$f":"IF(ISNA(INDEX(Inscriptions!A$4:A$303,SUM('U15'!AG$7:'U15'!AG48))),\"\",INDEX(Inscriptions!A$4:A$303,SUM('U15'!AG$7:'U15'!AG48)))","v":""},{"$f":"IF(A48=\"\",\"\",VLOOKUP(A48,Data!G$2:K$302,5,FALSE))","v":""},{"$f":"IF(A48=\"\",\"\",VLOOKUP(A48,Data!G$2:K$302,2,FALSE))","v":""},{"$f":"IF(A48=\"\",\"\",VLOOKUP(A48,Data!G$2:K$302,3,FALSE))","v":""},{"$f":"IF(A48=\"\",\"\",VLOOKUP(A48,Data!G$2:K$302,4,FALSE))","v":""},null,null,null,null,null,null,null,null,null,null,null,null,null,null,null,null,null,null,null,null,null,null,null,null,null,0,null,{"$f":"MATCH(\"*\"&AD$1&\"*\",OFFSET(Inscriptions!O$4:O$303,SUM('U15'!AG$6:'U15'!AG47),0),0)","v":{"$error":"#N/A"}}]
[{"$f":"IF(ISNA(INDEX(Inscriptions!A$4:A$303,SUM('U15'!AG$7:'U15'!AG49))),\"\",INDEX(Inscriptions!A$4:A$303,SUM('U15'!AG$7:'U15'!AG49)))","v":""},{"$f":"IF(A49=\"\",\"\",VLOOKUP(A49,Data!G$2:K$302,5,FALSE))","v":""},{"$f":"IF(A49=\"\",\"\",VLOOKUP(A49,Data!G$2:K$302,2,FALSE))","v":""},{"$f":"IF(A49=\"\",\"\",VLOOKUP(A49,Data!G$2:K$302,3,FALSE))","v":""},{"$f":"IF(A49=\"\",\"\",VLOOKUP(A49,Data!G$2:K$302,4,FALSE))","v":""},null,null,null,null,null,null,null,null,null,null,null,null,null,null,null,null,null,null,null,null,null,null,null,null,null,0,null,{"$f":"MATCH(\"*\"&AD$1&\"*\",OFFSET(Inscriptions!O$4:O$303,SUM('U15'!AG$6:'U15'!AG48),0),0)","v":{"$error":"#N/A"}}]
[{"$f":"IF(ISNA(INDEX(Inscriptions!A$4:A$303,SUM('U15'!AG$7:'U15'!AG50))),\"\",INDEX(Inscriptions!A$4:A$303,SUM('U15'!AG$7:'U15'!AG50)))","v":""},{"$f":"IF(A50=\"\",\"\",VLOOKUP(A50,Data!G$2:K$302,5,FALSE))","v":""},{"$f":"IF(A50=\"\",\"\",VLOOKUP(A50,Data!G$2:K$302,2,FALSE))","v":""},{"$f":"IF(A50=\"\",\"\",VLOOKUP(A50,Data!G$2:K$302,3,FALSE))","v":""},{"$f":"IF(A50=\"\",\"\",VLOOKUP(A50,Data!G$2:K$302,4,FALSE))","v":""},null,null,null,null,null,null,null,null,null,null,null,null,null,null,null,null,null,null,null,null,null,null,null,null,null,0,null,{"$f":"MATCH(\"*\"&AD$1&\"*\",OFFSET(Inscriptions!O$4:O$303,SUM('U15'!AG$6:'U15'!AG49),0),0)","v":{"$error":"#N/A"}}]
[{"$f":"IF(ISNA(INDEX(Inscriptions!A$4:A$303,SUM('U15'!AG$7:'U15'!AG51))),\"\",INDEX(Inscriptions!A$4:A$303,SUM('U15'!AG$7:'U15'!AG51)))","v":""},{"$f":"IF(A51=\"\",\"\",VLOOKUP(A51,Data!G$2:K$302,5,FALSE))","v":""},{"$f":"IF(A51=\"\",\"\",VLOOKUP(A51,Data!G$2:K$302,2,FALSE))","v":""},{"$f":"IF(A51=\"\",\"\",VLOOKUP(A51,Data!G$2:K$302,3,FALSE))","v":""},{"$f":"IF(A51=\"\",\"\",VLOOKUP(A51,Data!G$2:K$302,4,FALSE))","v":""},null,null,null,null,null,null,null,null,null,null,null,null,null,null,null,null,null,null,null,null,null,null,null,null,null,0,null,{"$f":"MATCH(\"*\"&AD$1&\"*\",OFFSET(Inscriptions!O$4:O$303,SUM('U15'!AG$6:'U15'!AG50),0),0)","v":{"$error":"#N/A"}}]
[{"$f":"IF(ISNA(INDEX(Inscriptions!A$4:A$303,SUM('U15'!AG$7:'U15'!AG52))),\"\",INDEX(Inscriptions!A$4:A$303,SUM('U15'!AG$7:'U15'!AG52)))","v":""},{"$f":"IF(A52=\"\",\"\",VLOOKUP(A52,Data!G$2:K$302,5,FALSE))","v":""},{"$f":"IF(A52=\"\",\"\",VLOOKUP(A52,Data!G$2:K$302,2,FALSE))","v":""},{"$f":"IF(A52=\"\",\"\",VLOOKUP(A52,Data!G$2:K$302,3,FALSE))","v":""},{"$f":"IF(A52=\"\",\"\",VLOOKUP(A52,Data!G$2:K$302,4,FALSE))","v":""},null,null,null,null,null,null,null,null,null,null,null,null,null,null,null,null,null,null,null,null,null,null,null,null,null,0,null,{"$f":"MATCH(\"*\"&AD$1&\"*\",OFFSET(Inscriptions!O$4:O$303,SUM('U15'!AG$6:'U15'!AG51),0),0)","v":{"$error":"#N/A"}}]
[{"$f":"IF(ISNA(INDEX(Inscriptions!A$4:A$303,SUM('U15'!AG$7:'U15'!AG53))),\"\",INDEX(Inscriptions!A$4:A$303,SUM('U15'!AG$7:'U15'!AG53)))","v":""},{"$f":"IF(A53=\"\",\"\",VLOOKUP(A53,Data!G$2:K$302,5,FALSE))","v":""},{"$f":"IF(A53=\"\",\"\",VLOOKUP(A53,Data!G$2:K$302,2,FALSE))","v":""},{"$f":"IF(A53=\"\",\"\",VLOOKUP(A53,Data!G$2:K$302,3,FALSE))","v":""},{"$f":"IF(A53=\"\",\"\",VLOOKUP(A53,Data!G$2:K$302,4,FALSE))","v":""},null,null,null,null,null,null,null,null,null,null,null,null,null,null,null,null,null,null,null,null,null,null,null,null,null,0,null,{"$f":"MATCH(\"*\"&AD$1&\"*\",OFFSET(Inscriptions!O$4:O$303,SUM('U15'!AG$6:'U15'!AG52),0),0)","v":{"$error":"#N/A"}}]
[{"$f":"IF(ISNA(INDEX(Inscriptions!A$4:A$303,SUM('U15'!AG$7:'U15'!AG54))),\"\",INDEX(Inscriptions!A$4:A$303,SUM('U15'!AG$7:'U15'!AG54)))","v":""},{"$f":"IF(A54=\"\",\"\",VLOOKUP(A54,Data!G$2:K$302,5,FALSE))","v":""},{"$f":"IF(A54=\"\",\"\",VLOOKUP(A54,Data!G$2:K$302,2,FALSE))","v":""},{"$f":"IF(A54=\"\",\"\",VLOOKUP(A54,Data!G$2:K$302,3,FALSE))","v":""},{"$f":"IF(A54=\"\",\"\",VLOOKUP(A54,Data!G$2:K$302,4,FALSE))","v":""},null,null,null,null,null,null,null,null,null,null,null,null,null,null,null,null,null,null,null,null,null,null,null,null,null,0,null,{"$f":"MATCH(\"*\"&AD$1&\"*\",OFFSET(Inscriptions!O$4:O$303,SUM('U15'!AG$6:'U15'!AG53),0),0)","v":{"$error":"#N/A"}}]
[{"$f":"IF(ISNA(INDEX(Inscriptions!A$4:A$303,SUM('U15'!AG$7:'U15'!AG55))),\"\",INDEX(Inscriptions!A$4:A$303,SUM('U15'!AG$7:'U15'!AG55)))","v":""},{"$f":"IF(A55=\"\",\"\",VLOOKUP(A55,Data!G$2:K$302,5,FALSE))","v":""},{"$f":"IF(A55=\"\",\"\",VLOOKUP(A55,Data!G$2:K$302,2,FALSE))","v":""},{"$f":"IF(A55=\"\",\"\",VLOOKUP(A55,Data!G$2:K$302,3,FALSE))","v":""},{"$f":"IF(A55=\"\",\"\",VLOOKUP(A55,Data!G$2:K$302,4,FALSE))","v":""},null,null,null,null,null,null,null,null,null,null,null,null,null,null,null,null,null,null,null,null,null,null,null,null,null,0,null,{"$f":"MATCH(\"*\"&AD$1&\"*\",OFFSET(Inscriptions!O$4:O$303,SUM('U15'!AG$6:'U15'!AG54),0),0)","v":{"$error":"#N/A"}}]
[{"$f":"CONCATENATE(IF(ChoixLangue=Languages!$B$1,Languages!$B105,IF(ChoixLangue=Languages!$C$1,Languages!$C105,IF(ChoixLangue=Languages!$D$1,Languages!$D105,Languages!$E105))),SUM(AE7:AE55))","v":"Nbe nageuses : 0"},"-","-","-",null,"-","-","-",null,"-"]

{"sheet":"U18","index":16,"n_rows":56,"n_cols":37,"rows_kept":56,"cut":false,"hidden":true,"merged":[[3,0,3,13]]}
[{"$f":"IF('Cover Page'!B5=\"\",\"\",'Cover Page'!B5)","v":""},null,null,null,null,null,null,null,null,null,null,null,null,null,null,null,null,null,null,null,null,null,null,null,null,null,null,null,null,null,null,null,null,"x",null,null,{"$f":"MID(CELL(\"filename\",A1),FIND(\"]\",CELL(\"filename\",A1),1)+1,20)","v":"U18"}]
[{"$f":"IF('Cover Page'!B6=\"\",\"\",'Cover Page'!B6)","v":""},null,null,null,null,null,null,null,null,null,null,null,null,{"$f":"IF(ChoixLangue=Languages!$B$1,Languages!$B$97 & \" \" & AK1,IF(ChoixLangue=Languages!$C$1,Languages!$C$97 & \" \" & AK1,IF(ChoixLangue=Languages!$D$1,Languages!$D$97 & \" \" & AK1,Languages!$E$97 & \" \" & AK1)))","v":"Catégorie U18"}]
[{"$f":"IF('Cover Page'!B7=\"\",\"\",'Cover Page'!B7)","v":""}]
[{"$f":"IF('Cover Page'!B10=\"\",\"\",CONCATENATE(IF(ChoixLangue=Languages!$B$1,Languages!$B98,IF(ChoixLangue=Languages!$C$1,Languages!$C98,IF(ChoixLangue=Languages!$D$1,Languages!$D98,Languages!$E98))),'Cover Page'!B10))","v":""}]
[{"$f":"A56","v":"Nbe nageuses : 0"}]
[{"$f":"IF(ChoixLangue=Languages!$B$1,Languages!$B99,IF(ChoixLangue=Languages!$C$1,Languages!$C99,IF(ChoixLangue=Languages!$D$1,Languages!$D99,Languages!$E99)))","v":"NOM Prénom"},{"$f":"IF(ChoixLangue=Languages!$B$1,Languages!$B100,IF(ChoixLangue=Languages!$C$1,Languages!$C100,IF(ChoixLangue=Languages!$D$1,Languages!$D100,Languages!$E100)))","v":"Club"},{"$f":"IF(ChoixLangue=Languages!$B$1,Languages!$B101,IF(ChoixLangue=Languages!$C$1,Languages!$C101,IF(ChoixLangue=Languages!$D$1,Languages!$D101,Languages!$E101)))","v":"Licence"},{"$f":"IF(ChoixLangue=Languages!$B$1,Languages!$B102,IF(ChoixLangue=Languages!$C$1,Languages!$C102,IF(ChoixLangue=Languages!$D$1,Languages!$D102,Languages!$E102)))","v":"An. Nais."},{"$f":"IF(ChoixLangue=Languages!$B$1,Languages!$B103,IF(ChoixLangue=Languages!$C$1,Languages!$C103,IF(ChoixLangue=Languages!$D$1,Languages!$D103,Languages!$E103)))","v":"N° Test"},{"$f":"IF(ChoixLangue=Languages!$B$1,Languages!$B104,IF(ChoixLangue=Languages!$C$1,Languages!$C104,IF(ChoixLangue=Languages!$D$1,Languages!$D104,Languages!$E104)))","v":"Figures"},"Solo Tech","Solo Free","Duet Tech","Duet Free","Mix. Duet Tech","Mix. Duet Free","Team Tech","Team Free"]
[{"$f":"IF(ISNA(INDEX(Inscriptions!A$4:A$303,SUM('U18'!AK$7:'U18'!AK7))),\"\",INDEX(Inscriptions!A$4:A$303,SUM('U18'!AK$7:'U18'!AK7)))","v":""},{"$f":"IF(A7=\"\",\"\",VLOOKUP(A7,Data!G$2:K$302,5,FALSE))","v":""},{"$f":"IF(A7=\"\",\"\",VLOOKUP(A7,Data!G$2:K$302,2,FALSE))","v":""},{"$f":"IF(A7=\"\",\"\",VLOOKUP(A7,Data!G$2:K$302,3,FALSE))","v":""},{"$f":"IF(A7=\"\",\"\",VLOOKUP(A7,Data!G$2:K$302,4,FALSE))","v":""},null,null,null,null,null,null,null,null,null,null,null,null,null,null,null,null,null,null,null,null,null,null,null,null,null,null,null,null,null,{"$f":"IF(A7<>\"\",1,0)","v":0},null,{"$f":"MATCH(\"*\"&AH$1&\"*\",OFFSET(Inscriptions!P$4:P$303,SUM('U18'!AK$6:'U18'!AK6),0),0)","v":{"$error":"#N/A"}}]
[{"$f":"IF(ISNA(INDEX(Inscriptions!A$4:A$303,SUM('U18'!AK$7:'U18'!AK8))),\"\",INDEX(Inscriptions!A$4:A$303,SUM('U18'!AK$7:'U18'!AK8)))","v":""},{"$f":"IF(A8=\"\",\"\",VLOOKUP(A8,Data!G$2:K$302,5,FALSE))","v":""},{"$f":"IF(A8=\"\",\"\",VLOOKUP(A8,Data!G$2:K$302,2,FALSE))","v":""},{"$f":"IF(A8=\"\",\"\",VLOOKUP(A8,Data!G$2:K$302,3,FALSE))","v":""},{"$f":"IF(A8=\"\",\"\",VLOOKUP(A8,Data!G$2:K$302,4,FALSE))","v":""},null,null,null,null,null,null,null,null,null,null,null,null,null,null,null,null,null,null,null,null,null,null,null,null,null,null,null,null,null,0,null,{"$f":"MATCH(\"*\"&AH$1&\"*\",OFFSET(Inscriptions!P$4:P$303,SUM('U18'!AK$6:'U18'!AK7),0),0)","v":{"$error":"#N/A"}}]
[{"$f":"IF(ISNA(INDEX(Inscriptions!A$4:A$303,SUM('U18'!AK$7:'U18'!AK9))),\"\",INDEX(Inscriptions!A$4:A$303,SUM('U18'!AK$7:'U18'!AK9)))","v":""},{"$f":"IF(A9=\"\",\"\",VLOOKUP(A9,Data!G$2:K$302,5,FALSE))","v":""},{"$f":"IF(A9=\"\",\"\",VLOOKUP(A9,Data!G$2:K$302,2,FALSE))","v":""},{"$f":"IF(A9=\"\",\"\",VLOOKUP(A9,Data!G$2:K$302,3,FALSE))","v":""},{"$f":"IF(A9=\"\",\"\",VLOOKUP(A9,Data!G$2:K$302,4,FALSE))","v":""},null,null,null,null,null,null,null,null,null,null,null,null,null,null,null,null,null,null,null,null,null,null,null,null,null,null,null,null,null,0,null,{"$f":"MATCH(\"*\"&AH$1&\"*\",OFFSET(Inscriptions!P$4:P$303,SUM('U18'!AK$6:'U18'!AK8),0),0)","v":{"$error":"#N/A"}}]
[{"$f":"IF(ISNA(INDEX(Inscriptions!A$4:A$303,SUM('U18'!AK$7:'U18'!AK10))),\"\",INDEX(Inscriptions!A$4:A$303,SUM('U18'!AK$7:'U18'!AK10)))","v":""},{"$f":"IF(A10=\"\",\"\",VLOOKUP(A10,Data!G$2:K$302,5,FALSE))","v":""},{"$f":"IF(A10=\"\",\"\",VLOOKUP(A10,Data!G$2:K$302,2,FALSE))","v":""},{"$f":"IF(A10=\"\",\"\",VLOOKUP(A10,Data!G$2:K$302,3,FALSE))","v":""},{"$f":"IF(A10=\"\",\"\",VLOOKUP(A10,Data!G$2:K$302,4,FALSE))","v":""},null,null,null,null,null,null,null,null,null,null,null,null,null,null,null,null,null,null,null,null,null,null,null,null,null,null,null,null,null,0,null,{"$f":"MATCH(\"*\"&AH$1&\"*\",OFFSET(Inscriptions!P$4:P$303,SUM('U18'!AK$6:'U18'!AK9),0),0)","v":{"$error":"#N/A"}}]
[{"$f":"IF(ISNA(INDEX(Inscriptions!A$4:A$303,SUM('U18'!AK$7:'U18'!AK11))),\"\",INDEX(Inscriptions!A$4:A$303,SUM('U18'!AK$7:'U18'!AK11)))","v":""},{"$f":"IF(A11=\"\",\"\",VLOOKUP(A11,Data!G$2:K$302,5,FALSE))","v":""},{"$f":"IF(A11=\"\",\"\",VLOOKUP(A11,Data!G$2:K$302,2,FALSE))","v":""},{"$f":"IF(A11=\"\",\"\",VLOOKUP(A11,Data!G$2:K$302,3,FALSE))","v":""},{"$f":"IF(A11=\"\",\"\",VLOOKUP(A11,Data!G$2:K$302,4,FALSE))","v":""},null,null,null,null,null,null,null,null,null,null,null,null,null,null,null,null,null,null,null,null,null,null,null,null,null,null,null,null,null,0,null,{"$f":"MATCH(\"*\"&AH$1&\"*\",OFFSET(Inscriptions!P$4:P$303,SUM('U18'!AK$6:'U18'!AK10),0),0)","v":{"$error":"#N/A"}}]
[{"$f":"IF(ISNA(INDEX(Inscriptions!A$4:A$303,SUM('U18'!AK$7:'U18'!AK12))),\"\",INDEX(Inscriptions!A$4:A$303,SUM('U18'!AK$7:'U18'!AK12)))","v":""},{"$f":"IF(A12=\"\",\"\",VLOOKUP(A12,Data!G$2:K$302,5,FALSE))","v":""},{"$f":"IF(A12=\"\",\"\",VLOOKUP(A12,Data!G$2:K$302,2,FALSE))","v":""},{"$f":"IF(A12=\"\",\"\",VLOOKUP(A12,Data!G$2:K$302,3,FALSE))","v":""},{"$f":"IF(A12=\"\",\"\",VLOOKUP(A12,Data!G$2:K$302,4,FALSE))","v":""},null,null,null,null,null,null,null,null,null,null,null,null,null,null,null,null,null,null,null,null,null,null,null,null,null,null,null,null,null,0,null,{"$f":"MATCH(\"*\"&AH$1&\"*\",OFFSET(Inscriptions!P$4:P$303,SUM('U18'!AK$6:'U18'!AK11),0),0)","v":{"$error":"#N/A"}}]
[{"$f":"IF(ISNA(INDEX(Inscriptions!A$4:A$303,SUM('U18'!AK$7:'U18'!AK13))),\"\",INDEX(Inscriptions!A$4:A$303,SUM('U18'!AK$7:'U18'!AK13)))","v":""},{"$f":"IF(A13=\"\",\"\",VLOOKUP(A13,Data!G$2:K$302,5,FALSE))","v":""},{"$f":"IF(A13=\"\",\"\",VLOOKUP(A13,Data!G$2:K$302,2,FALSE))","v":""},{"$f":"IF(A13=\"\",\"\",VLOOKUP(A13,Data!G$2:K$302,3,FALSE))","v":""},{"$f":"IF(A13=\"\",\"\",VLOOKUP(A13,Data!G$2:K$302,4,FALSE))","v":""},null,null,null,null,null,null,null,null,null,null,null,null,null,null,null,null,null,null,null,null,null,null,null,null,null,null,null,null,null,0,null,{"$f":"MATCH(\"*\"&AH$1&\"*\",OFFSET(Inscriptions!P$4:P$303,SUM('U18'!AK$6:'U18'!AK12),0),0)","v":{"$error":"#N/A"}}]
[{"$f":"IF(ISNA(INDEX(Inscriptions!A$4:A$303,SUM('U18'!AK$7:'U18'!AK14))),\"\",INDEX(Inscriptions!A$4:A$303,SUM('U18'!AK$7:'U18'!AK14)))","v":""},{"$f":"IF(A14=\"\",\"\",VLOOKUP(A14,Data!G$2:K$302,5,FALSE))","v":""},{"$f":"IF(A14=\"\",\"\",VLOOKUP(A14,Data!G$2:K$302,2,FALSE))","v":""},{"$f":"IF(A14=\"\",\"\",VLOOKUP(A14,Data!G$2:K$302,3,FALSE))","v":""},{"$f":"IF(A14=\"\",\"\",VLOOKUP(A14,Data!G$2:K$302,4,FALSE))","v":""},null,null,null,null,null,null,null,null,null,null,null,null,null,null,null,null,null,null,null,null,null,null,null,null,null,null,null,null,null,0,null,{"$f":"MATCH(\"*\"&AH$1&\"*\",OFFSET(Inscriptions!P$4:P$303,SUM('U18'!AK$6:'U18'!AK13),0),0)","v":{"$error":"#N/A"}}]
[{"$f":"IF(ISNA(INDEX(Inscriptions!A$4:A$303,SUM('U18'!AK$7:'U18'!AK15))),\"\",INDEX(Inscriptions!A$4:A$303,SUM('U18'!AK$7:'U18'!AK15)))","v":""},{"$f":"IF(A15=\"\",\"\",VLOOKUP(A15,Data!G$2:K$302,5,FALSE))","v":""},{"$f":"IF(A15=\"\",\"\",VLOOKUP(A15,Data!G$2:K$302,2,FALSE))","v":""},{"$f":"IF(A15=\"\",\"\",VLOOKUP(A15,Data!G$2:K$302,3,FALSE))","v":""},{"$f":"IF(A15=\"\",\"\",VLOOKUP(A15,Data!G$2:K$302,4,FALSE))","v":""},null,null,null,null,null,null,null,null,null,null,null,null,null,null,null,null,null,null,null,null,null,null,null,null,null,null,null,null,null,0,null,{"$f":"MATCH(\"*\"&AH$1&\"*\",OFFSET(Inscriptions!P$4:P$303,SUM('U18'!AK$6:'U18'!AK14),0),0)","v":{"$error":"#N/A"}}]
[{"$f":"IF(ISNA(INDEX(Inscriptions!A$4:A$303,SUM('U18'!AK$7:'U18'!AK16))),\"\",INDEX(Inscriptions!A$4:A$303,SUM('U18'!AK$7:'U18'!AK16)))","v":""},{"$f":"IF(A16=\"\",\"\",VLOOKUP(A16,Data!G$2:K$302,5,FALSE))","v":""},{"$f":"IF(A16=\"\",\"\",VLOOKUP(A16,Data!G$2:K$302,2,FALSE))","v":""},{"$f":"IF(A16=\"\",\"\",VLOOKUP(A16,Data!G$2:K$302,3,FALSE))","v":""},{"$f":"IF(A16=\"\",\"\",VLOOKUP(A16,Data!G$2:K$302,4,FALSE))","v":""},null,null,null,null,null,null,null,null,null,null,null,null,null,null,null,null,null,null,null,null,null,null,null,null,null,null,null,null,null,0,null,{"$f":"MATCH(\"*\"&AH$1&\"*\",OFFSET(Inscriptions!P$4:P$303,SUM('U18'!AK$6:'U18'!AK15),0),0)","v":{"$error":"#N/A"}}]
[{"$f":"IF(ISNA(INDEX(Inscriptions!A$4:A$303,SUM('U18'!AK$7:'U18'!AK17))),\"\",INDEX(Inscriptions!A$4:A$303,SUM('U18'!AK$7:'U18'!AK17)))","v":""},{"$f":"IF(A17=\"\",\"\",VLOOKUP(A17,Data!G$2:K$302,5,FALSE))","v":""},{"$f":"IF(A17=\"\",\"\",VLOOKUP(A17,Data!G$2:K$302,2,FALSE))","v":""},{"$f":"IF(A17=\"\",\"\",VLOOKUP(A17,Data!G$2:K$302,3,FALSE))","v":""},{"$f":"IF(A17=\"\",\"\",VLOOKUP(A17,Data!G$2:K$302,4,FALSE))","v":""},null,null,null,null,null,null,null,null,null,null,null,null,null,null,null,null,null,null,null,null,null,null,null,null,null,null,null,null,null,0,null,{"$f":"MATCH(\"*\"&AH$1&\"*\",OFFSET(Inscriptions!P$4:P$303,SUM('U18'!AK$6:'U18'!AK16),0),0)","v":{"$error":"#N/A"}}]
[{"$f":"IF(ISNA(INDEX(Inscriptions!A$4:A$303,SUM('U18'!AK$7:'U18'!AK18))),\"\",INDEX(Inscriptions!A$4:A$303,SUM('U18'!AK$7:'U18'!AK18)))","v":""},{"$f":"IF(A18=\"\",\"\",VLOOKUP(A18,Data!G$2:K$302,5,FALSE))","v":""},{"$f":"IF(A18=\"\",\"\",VLOOKUP(A18,Data!G$2:K$302,2,FALSE))","v":""},{"$f":"IF(A18=\"\",\"\",VLOOKUP(A18,Data!G$2:K$302,3,FALSE))","v":""},{"$f":"IF(A18=\"\",\"\",VLOOKUP(A18,Data!G$2:K$302,4,FALSE))","v":""},null,null,null,null,null,null,null,null,null,null,null,null,null,null,null,null,null,null,null,null,null,null,null,null,null,null,null,null,null,0,null,{"$f":"MATCH(\"*\"&AH$1&\"*\",OFFSET(Inscriptions!P$4:P$303,SUM('U18'!AK$6:'U18'!AK17),0),0)","v":{"$error":"#N/A"}}]
[{"$f":"IF(ISNA(INDEX(Inscriptions!A$4:A$303,SUM('U18'!AK$7:'U18'!AK19))),\"\",INDEX(Inscriptions!A$4:A$303,SUM('U18'!AK$7:'U18'!AK19)))","v":""},{"$f":"IF(A19=\"\",\"\",VLOOKUP(A19,Data!G$2:K$302,5,FALSE))","v":""},{"$f":"IF(A19=\"\",\"\",VLOOKUP(A19,Data!G$2:K$302,2,FALSE))","v":""},{"$f":"IF(A19=\"\",\"\",VLOOKUP(A19,Data!G$2:K$302,3,FALSE))","v":""},{"$f":"IF(A19=\"\",\"\",VLOOKUP(A19,Data!G$2:K$302,4,FALSE))","v":""},null,null,null,null,null,null,null,null,null,null,null,null,null,null,null,null,null,null,null,null,null,null,null,null,null,null,null,null,null,0,null,{"$f":"MATCH(\"*\"&AH$1&\"*\",OFFSET(Inscriptions!P$4:P$303,SUM('U18'!AK$6:'U18'!AK18),0),0)","v":{"$error":"#N/A"}}]
[{"$f":"IF(ISNA(INDEX(Inscriptions!A$4:A$303,SUM('U18'!AK$7:'U18'!AK20))),\"\",INDEX(Inscriptions!A$4:A$303,SUM('U18'!AK$7:'U18'!AK20)))","v":""},{"$f":"IF(A20=\"\",\"\",VLOOKUP(A20,Data!G$2:K$302,5,FALSE))","v":""},{"$f":"IF(A20=\"\",\"\",VLOOKUP(A20,Data!G$2:K$302,2,FALSE))","v":""},{"$f":"IF(A20=\"\",\"\",VLOOKUP(A20,Data!G$2:K$302,3,FALSE))","v":""},{"$f":"IF(A20=\"\",\"\",VLOOKUP(A20,Data!G$2:K$302,4,FALSE))","v":""},null,null,null,null,null,null,null,null,null,null,null,null,null,null,null,null,null,null,null,null,null,null,null,null,null,null,null,null,null,0,null,{"$f":"MATCH(\"*\"&AH$1&\"*\",OFFSET(Inscriptions!P$4:P$303,SUM('U18'!AK$6:'U18'!AK19),0),0)","v":{"$error":"#N/A"}}]
[{"$f":"IF(ISNA(INDEX(Inscriptions!A$4:A$303,SUM('U18'!AK$7:'U18'!AK21))),\"\",INDEX(Inscriptions!A$4:A$303,SUM('U18'!AK$7:'U18'!AK21)))","v":""},{"$f":"IF(A21=\"\",\"\",VLOOKUP(A21,Data!G$2:K$302,5,FALSE))","v":""},{"$f":"IF(A21=\"\",\"\",VLOOKUP(A21,Data!G$2:K$302,2,FALSE))","v":""},{"$f":"IF(A21=\"\",\"\",VLOOKUP(A21,Data!G$2:K$302,3,FALSE))","v":""},{"$f":"IF(A21=\"\",\"\",VLOOKUP(A21,Data!G$2:K$302,4,FALSE))","v":""},null,null,null,null,null,null,null,null,null,null,null,null,null,null,null,null,null,null,null,null,null,null,null,null,null,null,null,null,null,0,null,{"$f":"MATCH(\"*\"&AH$1&\"*\",OFFSET(Inscriptions!P$4:P$303,SUM('U18'!AK$6:'U18'!AK20),0),0)","v":{"$error":"#N/A"}}]
[{"$f":"IF(ISNA(INDEX(Inscriptions!A$4:A$303,SUM('U18'!AK$7:'U18'!AK22))),\"\",INDEX(Inscriptions!A$4:A$303,SUM('U18'!AK$7:'U18'!AK22)))","v":""},{"$f":"IF(A22=\"\",\"\",VLOOKUP(A22,Data!G$2:K$302,5,FALSE))","v":""},{"$f":"IF(A22=\"\",\"\",VLOOKUP(A22,Data!G$2:K$302,2,FALSE))","v":""},{"$f":"IF(A22=\"\",\"\",VLOOKUP(A22,Data!G$2:K$302,3,FALSE))","v":""},{"$f":"IF(A22=\"\",\"\",VLOOKUP(A22,Data!G$2:K$302,4,FALSE))","v":""},null,null,null,null,null,null,null,null,null,null,null,null,null,null,null,null,null,null,null,null,null,null,null,null,null,null,null,null,null,0,null,{"$f":"MATCH(\"*\"&AH$1&\"*\",OFFSET(Inscriptions!P$4:P$303,SUM('U18'!AK$6:'U18'!AK21),0),0)","v":{"$error":"#N/A"}}]
[{"$f":"IF(ISNA(INDEX(Inscriptions!A$4:A$303,SUM('U18'!AK$7:'U18'!AK23))),\"\",INDEX(Inscriptions!A$4:A$303,SUM('U18'!AK$7:'U18'!AK23)))","v":""},{"$f":"IF(A23=\"\",\"\",VLOOKUP(A23,Data!G$2:K$302,5,FALSE))","v":""},{"$f":"IF(A23=\"\",\"\",VLOOKUP(A23,Data!G$2:K$302,2,FALSE))","v":""},{"$f":"IF(A23=\"\",\"\",VLOOKUP(A23,Data!G$2:K$302,3,FALSE))","v":""},{"$f":"IF(A23=\"\",\"\",VLOOKUP(A23,Data!G$2:K$302,4,FALSE))","v":""},null,null,null,null,null,null,null,null,null,null,null,null,null,null,null,null,null,null,null,null,null,null,null,null,null,null,null,null,null,0,null,{"$f":"MATCH(\"*\"&AH$1&\"*\",OFFSET(Inscriptions!P$4:P$303,SUM('U18'!AK$6:'U18'!AK22),0),0)","v":{"$error":"#N/A"}}]
[{"$f":"IF(ISNA(INDEX(Inscriptions!A$4:A$303,SUM('U18'!AK$7:'U18'!AK24))),\"\",INDEX(Inscriptions!A$4:A$303,SUM('U18'!AK$7:'U18'!AK24)))","v":""},{"$f":"IF(A24=\"\",\"\",VLOOKUP(A24,Data!G$2:K$302,5,FALSE))","v":""},{"$f":"IF(A24=\"\",\"\",VLOOKUP(A24,Data!G$2:K$302,2,FALSE))","v":""},{"$f":"IF(A24=\"\",\"\",VLOOKUP(A24,Data!G$2:K$302,3,FALSE))","v":""},{"$f":"IF(A24=\"\",\"\",VLOOKUP(A24,Data!G$2:K$302,4,FALSE))","v":""},null,null,null,null,null,null,null,null,null,null,null,null,null,null,null,null,null,null,null,null,null,null,null,null,null,null,null,null,null,0,null,{"$f":"MATCH(\"*\"&AH$1&\"*\",OFFSET(Inscriptions!P$4:P$303,SUM('U18'!AK$6:'U18'!AK23),0),0)","v":{"$error":"#N/A"}}]
[{"$f":"IF(ISNA(INDEX(Inscriptions!A$4:A$303,SUM('U18'!AK$7:'U18'!AK25))),\"\",INDEX(Inscriptions!A$4:A$303,SUM('U18'!AK$7:'U18'!AK25)))","v":""},{"$f":"IF(A25=\"\",\"\",VLOOKUP(A25,Data!G$2:K$302,5,FALSE))","v":""},{"$f":"IF(A25=\"\",\"\",VLOOKUP(A25,Data!G$2:K$302,2,FALSE))","v":""},{"$f":"IF(A25=\"\",\"\",VLOOKUP(A25,Data!G$2:K$302,3,FALSE))","v":""},{"$f":"IF(A25=\"\",\"\",VLOOKUP(A25,Data!G$2:K$302,4,FALSE))","v":""},null,null,null,null,null,null,null,null,null,null,null,null,null,null,null,null,null,null,null,null,null,null,null,null,null,null,null,null,null,0,null,{"$f":"MATCH(\"*\"&AH$1&\"*\",OFFSET(Inscriptions!P$4:P$303,SUM('U18'!AK$6:'U18'!AK24),0),0)","v":{"$error":"#N/A"}}]
[{"$f":"IF(ISNA(INDEX(Inscriptions!A$4:A$303,SUM('U18'!AK$7:'U18'!AK26))),\"\",INDEX(Inscriptions!A$4:A$303,SUM('U18'!AK$7:'U18'!AK26)))","v":""},{"$f":"IF(A26=\"\",\"\",VLOOKUP(A26,Data!G$2:K$302,5,FALSE))","v":""},{"$f":"IF(A26=\"\",\"\",VLOOKUP(A26,Data!G$2:K$302,2,FALSE))","v":""},{"$f":"IF(A26=\"\",\"\",VLOOKUP(A26,Data!G$2:K$302,3,FALSE))","v":""},{"$f":"IF(A26=\"\",\"\",VLOOKUP(A26,Data!G$2:K$302,4,FALSE))","v":""},null,null,null,null,null,null,null,null,null,null,null,null,null,null,null,null,null,null,null,null,null,null,null,null,null,null,null,null,null,0,null,{"$f":"MATCH(\"*\"&AH$1&\"*\",OFFSET(Inscriptions!P$4:P$303,SUM('U18'!AK$6:'U18'!AK25),0),0)","v":{"$error":"#N/A"}}]
[{"$f":"IF(ISNA(INDEX(Inscriptions!A$4:A$303,SUM('U18'!AK$7:'U18'!AK27))),\"\",INDEX(Inscriptions!A$4:A$303,SUM('U18'!AK$7:'U18'!AK27)))","v":""},{"$f":"IF(A27=\"\",\"\",VLOOKUP(A27,Data!G$2:K$302,5,FALSE))","v":""},{"$f":"IF(A27=\"\",\"\",VLOOKUP(A27,Data!G$2:K$302,2,FALSE))","v":""},{"$f":"IF(A27=\"\",\"\",VLOOKUP(A27,Data!G$2:K$302,3,FALSE))","v":""},{"$f":"IF(A27=\"\",\"\",VLOOKUP(A27,Data!G$2:K$302,4,FALSE))","v":""},null,null,null,null,null,null,null,null,null,null,null,null,null,null,null,null,null,null,null,null,null,null,null,null,null,null,null,null,null,0,null,{"$f":"MATCH(\"*\"&AH$1&\"*\",OFFSET(Inscriptions!P$4:P$303,SUM('U18'!AK$6:'U18'!AK26),0),0)","v":{"$error":"#N/A"}}]
[{"$f":"IF(ISNA(INDEX(Inscriptions!A$4:A$303,SUM('U18'!AK$7:'U18'!AK28))),\"\",INDEX(Inscriptions!A$4:A$303,SUM('U18'!AK$7:'U18'!AK28)))","v":""},{"$f":"IF(A28=\"\",\"\",VLOOKUP(A28,Data!G$2:K$302,5,FALSE))","v":""},{"$f":"IF(A28=\"\",\"\",VLOOKUP(A28,Data!G$2:K$302,2,FALSE))","v":""},{"$f":"IF(A28=\"\",\"\",VLOOKUP(A28,Data!G$2:K$302,3,FALSE))","v":""},{"$f":"IF(A28=\"\",\"\",VLOOKUP(A28,Data!G$2:K$302,4,FALSE))","v":""},null,null,null,null,null,null,null,null,null,null,null,null,null,null,null,null,null,null,null,null,null,null,null,null,null,null,null,null,null,0,null,{"$f":"MATCH(\"*\"&AH$1&\"*\",OFFSET(Inscriptions!P$4:P$303,SUM('U18'!AK$6:'U18'!AK27),0),0)","v":{"$error":"#N/A"}}]
[{"$f":"IF(ISNA(INDEX(Inscriptions!A$4:A$303,SUM('U18'!AK$7:'U18'!AK29))),\"\",INDEX(Inscriptions!A$4:A$303,SUM('U18'!AK$7:'U18'!AK29)))","v":""},{"$f":"IF(A29=\"\",\"\",VLOOKUP(A29,Data!G$2:K$302,5,FALSE))","v":""},{"$f":"IF(A29=\"\",\"\",VLOOKUP(A29,Data!G$2:K$302,2,FALSE))","v":""},{"$f":"IF(A29=\"\",\"\",VLOOKUP(A29,Data!G$2:K$302,3,FALSE))","v":""},{"$f":"IF(A29=\"\",\"\",VLOOKUP(A29,Data!G$2:K$302,4,FALSE))","v":""},null,null,null,null,null,null,null,null,null,null,null,null,null,null,null,null,null,null,null,null,null,null,null,null,null,null,null,null,null,0,null,{"$f":"MATCH(\"*\"&AH$1&\"*\",OFFSET(Inscriptions!P$4:P$303,SUM('U18'!AK$6:'U18'!AK28),0),0)","v":{"$error":"#N/A"}}]
[{"$f":"IF(ISNA(INDEX(Inscriptions!A$4:A$303,SUM('U18'!AK$7:'U18'!AK30))),\"\",INDEX(Inscriptions!A$4:A$303,SUM('U18'!AK$7:'U18'!AK30)))","v":""},{"$f":"IF(A30=\"\",\"\",VLOOKUP(A30,Data!G$2:K$302,5,FALSE))","v":""},{"$f":"IF(A30=\"\",\"\",VLOOKUP(A30,Data!G$2:K$302,2,FALSE))","v":""},{"$f":"IF(A30=\"\",\"\",VLOOKUP(A30,Data!G$2:K$302,3,FALSE))","v":""},{"$f":"IF(A30=\"\",\"\",VLOOKUP(A30,Data!G$2:K$302,4,FALSE))","v":""},null,null,null,null,null,null,null,null,null,null,null,null,null,null,null,null,null,null,null,null,null,null,null,null,null,null,null,null,null,0,null,{"$f":"MATCH(\"*\"&AH$1&\"*\",OFFSET(Inscriptions!P$4:P$303,SUM('U18'!AK$6:'U18'!AK29),0),0)","v":{"$error":"#N/A"}}]
[{"$f":"IF(ISNA(INDEX(Inscriptions!A$4:A$303,SUM('U18'!AK$7:'U18'!AK31))),\"\",INDEX(Inscriptions!A$4:A$303,SUM('U18'!AK$7:'U18'!AK31)))","v":""},{"$f":"IF(A31=\"\",\"\",VLOOKUP(A31,Data!G$2:K$302,5,FALSE))","v":""},{"$f":"IF(A31=\"\",\"\",VLOOKUP(A31,Data!G$2:K$302,2,FALSE))","v":""},{"$f":"IF(A31=\"\",\"\",VLOOKUP(A31,Data!G$2:K$302,3,FALSE))","v":""},{"$f":"IF(A31=\"\",\"\",VLOOKUP(A31,Data!G$2:K$302,4,FALSE))","v":""},null,null,null,null,null,null,null,null,null,null,null,null,null,null,null,null,null,null,null,null,null,null,null,null,null,null,null,null,null,0,null,{"$f":"MATCH(\"*\"&AH$1&\"*\",OFFSET(Inscriptions!P$4:P$303,SUM('U18'!AK$6:'U18'!AK30),0),0)","v":{"$error":"#N/A"}}]
[{"$f":"IF(ISNA(INDEX(Inscriptions!A$4:A$303,SUM('U18'!AK$7:'U18'!AK32))),\"\",INDEX(Inscriptions!A$4:A$303,SUM('U18'!AK$7:'U18'!AK32)))","v":""},{"$f":"IF(A32=\"\",\"\",VLOOKUP(A32,Data!G$2:K$302,5,FALSE))","v":""},{"$f":"IF(A32=\"\",\"\",VLOOKUP(A32,Data!G$2:K$302,2,FALSE))","v":""},{"$f":"IF(A32=\"\",\"\",VLOOKUP(A32,Data!G$2:K$302,3,FALSE))","v":""},{"$f":"IF(A32=\"\",\"\",VLOOKUP(A32,Data!G$2:K$302,4,FALSE))","v":""},null,null,null,null,null,null,null,null,null,null,null,null,null,null,null,null,null,null,null,null,null,null,null,null,null,null,null,null,null,0,null,{"$f":"MATCH(\"*\"&AH$1&\"*\",OFFSET(Inscriptions!P$4:P$303,SUM('U18'!AK$6:'U18'!AK31),0),0)","v":{"$error":"#N/A"}}]
[{"$f":"IF(ISNA(INDEX(Inscriptions!A$4:A$303,SUM('U18'!AK$7:'U18'!AK33))),\"\",INDEX(Inscriptions!A$4:A$303,SUM('U18'!AK$7:'U18'!AK33)))","v":""},{"$f":"IF(A33=\"\",\"\",VLOOKUP(A33,Data!G$2:K$302,5,FALSE))","v":""},{"$f":"IF(A33=\"\",\"\",VLOOKUP(A33,Data!G$2:K$302,2,FALSE))","v":""},{"$f":"IF(A33=\"\",\"\",VLOOKUP(A33,Data!G$2:K$302,3,FALSE))","v":""},{"$f":"IF(A33=\"\",\"\",VLOOKUP(A33,Data!G$2:K$302,4,FALSE))","v":""},null,null,null,null,null,null,null,null,null,null,null,null,null,null,null,null,null,null,null,null,null,null,null,null,null,null,null,null,null,0,null,{"$f":"MATCH(\"*\"&AH$1&\"*\",OFFSET(Inscriptions!P$4:P$303,SUM('U18'!AK$6:'U18'!AK32),0),0)","v":{"$error":"#N/A"}}]
[{"$f":"IF(ISNA(INDEX(Inscriptions!A$4:A$303,SUM('U18'!AK$7:'U18'!AK34))),\"\",INDEX(Inscriptions!A$4:A$303,SUM('U18'!AK$7:'U18'!AK34)))","v":""},{"$f":"IF(A34=\"\",\"\",VLOOKUP(A34,Data!G$2:K$302,5,FALSE))","v":""},{"$f":"IF(A34=\"\",\"\",VLOOKUP(A34,Data!G$2:K$302,2,FALSE))","v":""},{"$f":"IF(A34=\"\",\"\",VLOOKUP(A34,Data!G$2:K$302,3,FALSE))","v":""},{"$f":"IF(A34=\"\",\"\",VLOOKUP(A34,Data!G$2:K$302,4,FALSE))","v":""},null,null,null,null,null,null,null,null,null,null,null,null,null,null,null,null,null,null,null,null,null,null,null,null,null,null,null,null,null,0,null,{"$f":"MATCH(\"*\"&AH$1&\"*\",OFFSET(Inscriptions!P$4:P$303,SUM('U18'!AK$6:'U18'!AK33),0),0)","v":{"$error":"#N/A"}}]
[{"$f":"IF(ISNA(INDEX(Inscriptions!A$4:A$303,SUM('U18'!AK$7:'U18'!AK35))),\"\",INDEX(Inscriptions!A$4:A$303,SUM('U18'!AK$7:'U18'!AK35)))","v":""},{"$f":"IF(A35=\"\",\"\",VLOOKUP(A35,Data!G$2:K$302,5,FALSE))","v":""},{"$f":"IF(A35=\"\",\"\",VLOOKUP(A35,Data!G$2:K$302,2,FALSE))","v":""},{"$f":"IF(A35=\"\",\"\",VLOOKUP(A35,Data!G$2:K$302,3,FALSE))","v":""},{"$f":"IF(A35=\"\",\"\",VLOOKUP(A35,Data!G$2:K$302,4,FALSE))","v":""},null,null,null,null,null,null,null,null,null,null,null,null,null,null,null,null,null,null,null,null,null,null,null,null,null,null,null,null,null,0,null,{"$f":"MATCH(\"*\"&AH$1&\"*\",OFFSET(Inscriptions!P$4:P$303,SUM('U18'!AK$6:'U18'!AK34),0),0)","v":{"$error":"#N/A"}}]
[{"$f":"IF(ISNA(INDEX(Inscriptions!A$4:A$303,SUM('U18'!AK$7:'U18'!AK36))),\"\",INDEX(Inscriptions!A$4:A$303,SUM('U18'!AK$7:'U18'!AK36)))","v":""},{"$f":"IF(A36=\"\",\"\",VLOOKUP(A36,Data!G$2:K$302,5,FALSE))","v":""},{"$f":"IF(A36=\"\",\"\",VLOOKUP(A36,Data!G$2:K$302,2,FALSE))","v":""},{"$f":"IF(A36=\"\",\"\",VLOOKUP(A36,Data!G$2:K$302,3,FALSE))","v":""},{"$f":"IF(A36=\"\",\"\",VLOOKUP(A36,Data!G$2:K$302,4,FALSE))","v":""},null,null,null,null,null,null,null,null,null,null,null,null,null,null,null,null,null,null,null,null,null,null,null,null,null,null,null,null,null,0,null,{"$f":"MATCH(\"*\"&AH$1&\"*\",OFFSET(Inscriptions!P$4:P$303,SUM('U18'!AK$6:'U18'!AK35),0),0)","v":{"$error":"#N/A"}}]
[{"$f":"IF(ISNA(INDEX(Inscriptions!A$4:A$303,SUM('U18'!AK$7:'U18'!AK37))),\"\",INDEX(Inscriptions!A$4:A$303,SUM('U18'!AK$7:'U18'!AK37)))","v":""},{"$f":"IF(A37=\"\",\"\",VLOOKUP(A37,Data!G$2:K$302,5,FALSE))","v":""},{"$f":"IF(A37=\"\",\"\",VLOOKUP(A37,Data!G$2:K$302,2,FALSE))","v":""},{"$f":"IF(A37=\"\",\"\",VLOOKUP(A37,Data!G$2:K$302,3,FALSE))","v":""},{"$f":"IF(A37=\"\",\"\",VLOOKUP(A37,Data!G$2:K$302,4,FALSE))","v":""},null,null,null,null,null,null,null,null,null,null,null,null,null,null,null,null,null,null,null,null,null,null,null,null,null,null,null,null,null,0,null,{"$f":"MATCH(\"*\"&AH$1&\"*\",OFFSET(Inscriptions!P$4:P$303,SUM('U18'!AK$6:'U18'!AK36),0),0)","v":{"$error":"#N/A"}}]
[{"$f":"IF(ISNA(INDEX(Inscriptions!A$4:A$303,SUM('U18'!AK$7:'U18'!AK38))),\"\",INDEX(Inscriptions!A$4:A$303,SUM('U18'!AK$7:'U18'!AK38)))","v":""},{"$f":"IF(A38=\"\",\"\",VLOOKUP(A38,Data!G$2:K$302,5,FALSE))","v":""},{"$f":"IF(A38=\"\",\"\",VLOOKUP(A38,Data!G$2:K$302,2,FALSE))","v":""},{"$f":"IF(A38=\"\",\"\",VLOOKUP(A38,Data!G$2:K$302,3,FALSE))","v":""},{"$f":"IF(A38=\"\",\"\",VLOOKUP(A38,Data!G$2:K$302,4,FALSE))","v":""},null,null,null,null,null,null,null,null,null,null,null,null,null,null,null,null,null,null,null,null,null,null,null,null,null,null,null,null,null,0,null,{"$f":"MATCH(\"*\"&AH$1&\"*\",OFFSET(Inscriptions!P$4:P$303,SUM('U18'!AK$6:'U18'!AK37),0),0)","v":{"$error":"#N/A"}}]
[{"$f":"IF(ISNA(INDEX(Inscriptions!A$4:A$303,SUM('U18'!AK$7:'U18'!AK39))),\"\",INDEX(Inscriptions!A$4:A$303,SUM('U18'!AK$7:'U18'!AK39)))","v":""},{"$f":"IF(A39=\"\",\"\",VLOOKUP(A39,Data!G$2:K$302,5,FALSE))","v":""},{"$f":"IF(A39=\"\",\"\",VLOOKUP(A39,Data!G$2:K$302,2,FALSE))","v":""},{"$f":"IF(A39=\"\",\"\",VLOOKUP(A39,Data!G$2:K$302,3,FALSE))","v":""},{"$f":"IF(A39=\"\",\"\",VLOOKUP(A39,Data!G$2:K$302,4,FALSE))","v":""},null,null,null,null,null,null,null,null,null,null,null,null,null,null,null,null,null,null,null,null,null,null,null,null,null,null,null,null,null,0,null,{"$f":"MATCH(\"*\"&AH$1&\"*\",OFFSET(Inscriptions!P$4:P$303,SUM('U18'!AK$6:'U18'!AK38),0),0)","v":{"$error":"#N/A"}}]
[{"$f":"IF(ISNA(INDEX(Inscriptions!A$4:A$303,SUM('U18'!AK$7:'U18'!AK40))),\"\",INDEX(Inscriptions!A$4:A$303,SUM('U18'!AK$7:'U18'!AK40)))","v":""},{"$f":"IF(A40=\"\",\"\",VLOOKUP(A40,Data!G$2:K$302,5,FALSE))","v":""},{"$f":"IF(A40=\"\",\"\",VLOOKUP(A40,Data!G$2:K$302,2,FALSE))","v":""},{"$f":"IF(A40=\"\",\"\",VLOOKUP(A40,Data!G$2:K$302,3,FALSE))","v":""},{"$f":"IF(A40=\"\",\"\",VLOOKUP(A40,Data!G$2:K$302,4,FALSE))","v":""},null,null,null,null,null,null,null,null,null,null,null,null,null,null,null,null,null,null,null,null,null,null,null,null,null,null,null,null,null,0,null,{"$f":"MATCH(\"*\"&AH$1&\"*\",OFFSET(Inscriptions!P$4:P$303,SUM('U18'!AK$6:'U18'!AK39),0),0)","v":{"$error":"#N/A"}}]
[{"$f":"IF(ISNA(INDEX(Inscriptions!A$4:A$303,SUM('U18'!AK$7:'U18'!AK41))),\"\",INDEX(Inscriptions!A$4:A$303,SUM('U18'!AK$7:'U18'!AK41)))","v":""},{"$f":"IF(A41=\"\",\"\",VLOOKUP(A41,Data!G$2:K$302,5,FALSE))","v":""},{"$f":"IF(A41=\"\",\"\",VLOOKUP(A41,Data!G$2:K$302,2,FALSE))","v":""},{"$f":"IF(A41=\"\",\"\",VLOOKUP(A41,Data!G$2:K$302,3,FALSE))","v":""},{"$f":"IF(A41=\"\",\"\",VLOOKUP(A41,Data!G$2:K$302,4,FALSE))","v":""},null,null,null,null,null,null,null,null,null,null,null,null,null,null,null,null,null,null,null,null,null,null,null,null,null,null,null,null,null,0,null,{"$f":"MATCH(\"*\"&AH$1&\"*\",OFFSET(Inscriptions!P$4:P$303,SUM('U18'!AK$6:'U18'!AK40),0),0)","v":{"$error":"#N/A"}}]
[{"$f":"IF(ISNA(INDEX(Inscriptions!A$4:A$303,SUM('U18'!AK$7:'U18'!AK42))),\"\",INDEX(Inscriptions!A$4:A$303,SUM('U18'!AK$7:'U18'!AK42)))","v":""},{"$f":"IF(A42=\"\",\"\",VLOOKUP(A42,Data!G$2:K$302,5,FALSE))","v":""},{"$f":"IF(A42=\"\",\"\",VLOOKUP(A42,Data!G$2:K$302,2,FALSE))","v":""},{"$f":"IF(A42=\"\",\"\",VLOOKUP(A42,Data!G$2:K$302,3,FALSE))","v":""},{"$f":"IF(A42=\"\",\"\",VLOOKUP(A42,Data!G$2:K$302,4,FALSE))","v":""},null,null,null,null,null,null,null,null,null,null,null,null,null,null,null,null,null,null,null,null,null,null,null,null,null,null,null,null,null,0,null,{"$f":"MATCH(\"*\"&AH$1&\"*\",OFFSET(Inscriptions!P$4:P$303,SUM('U18'!AK$6:'U18'!AK41),0),0)","v":{"$error":"#N/A"}}]
[{"$f":"IF(ISNA(INDEX(Inscriptions!A$4:A$303,SUM('U18'!AK$7:'U18'!AK43))),\"\",INDEX(Inscriptions!A$4:A$303,SUM('U18'!AK$7:'U18'!AK43)))","v":""},{"$f":"IF(A43=\"\",\"\",VLOOKUP(A43,Data!G$2:K$302,5,FALSE))","v":""},{"$f":"IF(A43=\"\",\"\",VLOOKUP(A43,Data!G$2:K$302,2,FALSE))","v":""},{"$f":"IF(A43=\"\",\"\",VLOOKUP(A43,Data!G$2:K$302,3,FALSE))","v":""},{"$f":"IF(A43=\"\",\"\",VLOOKUP(A43,Data!G$2:K$302,4,FALSE))","v":""},null,null,null,null,null,null,null,null,null,null,null,null,null,null,null,null,null,null,null,null,null,null,null,null,null,null,null,null,null,0,null,{"$f":"MATCH(\"*\"&AH$1&\"*\",OFFSET(Inscriptions!P$4:P$303,SUM('U18'!AK$6:'U18'!AK42),0),0)","v":{"$error":"#N/A"}}]
[{"$f":"IF(ISNA(INDEX(Inscriptions!A$4:A$303,SUM('U18'!AK$7:'U18'!AK44))),\"\",INDEX(Inscriptions!A$4:A$303,SUM('U18'!AK$7:'U18'!AK44)))","v":""},{"$f":"IF(A44=\"\",\"\",VLOOKUP(A44,Data!G$2:K$302,5,FALSE))","v":""},{"$f":"IF(A44=\"\",\"\",VLOOKUP(A44,Data!G$2:K$302,2,FALSE))","v":""},{"$f":"IF(A44=\"\",\"\",VLOOKUP(A44,Data!G$2:K$302,3,FALSE))","v":""},{"$f":"IF(A44=\"\",\"\",VLOOKUP(A44,Data!G$2:K$302,4,FALSE))","v":""},null,null,null,null,null,null,null,null,null,null,null,null,null,null,null,null,null,null,null,null,null,null,null,null,null,null,null,null,null,0,null,{"$f":"MATCH(\"*\"&AH$1&\"*\",OFFSET(Inscriptions!P$4:P$303,SUM('U18'!AK$6:'U18'!AK43),0),0)","v":{"$error":"#N/A"}}]
[{"$f":"IF(ISNA(INDEX(Inscriptions!A$4:A$303,SUM('U18'!AK$7:'U18'!AK45))),\"\",INDEX(Inscriptions!A$4:A$303,SUM('U18'!AK$7:'U18'!AK45)))","v":""},{"$f":"IF(A45=\"\",\"\",VLOOKUP(A45,Data!G$2:K$302,5,FALSE))","v":""},{"$f":"IF(A45=\"\",\"\",VLOOKUP(A45,Data!G$2:K$302,2,FALSE))","v":""},{"$f":"IF(A45=\"\",\"\",VLOOKUP(A45,Data!G$2:K$302,3,FALSE))","v":""},{"$f":"IF(A45=\"\",\"\",VLOOKUP(A45,Data!G$2:K$302,4,FALSE))","v":""},null,null,null,null,null,null,null,null,null,null,null,null,null,null,null,null,null,null,null,null,null,null,null,null,null,null,null,null,null,0,null,{"$f":"MATCH(\"*\"&AH$1&\"*\",OFFSET(Inscriptions!P$4:P$303,SUM('U18'!AK$6:'U18'!AK44),0),0)","v":{"$error":"#N/A"}}]
[{"$f":"IF(ISNA(INDEX(Inscriptions!A$4:A$303,SUM('U18'!AK$7:'U18'!AK46))),\"\",INDEX(Inscriptions!A$4:A$303,SUM('U18'!AK$7:'U18'!AK46)))","v":""},{"$f":"IF(A46=\"\",\"\",VLOOKUP(A46,Data!G$2:K$302,5,FALSE))","v":""},{"$f":"IF(A46=\"\",\"\",VLOOKUP(A46,Data!G$2:K$302,2,FALSE))","v":""},{"$f":"IF(A46=\"\",\"\",VLOOKUP(A46,Data!G$2:K$302,3,FALSE))","v":""},{"$f":"IF(A46=\"\",\"\",VLOOKUP(A46,Data!G$2:K$302,4,FALSE))","v":""},null,null,null,null,null,null,null,null,null,null,null,null,null,null,null,null,null,null,null,null,null,null,null,null,null,null,null,null,null,0,null,{"$f":"MATCH(\"*\"&AH$1&\"*\",OFFSET(Inscriptions!P$4:P$303,SUM('U18'!AK$6:'U18'!AK45),0),0)","v":{"$error":"#N/A"}}]
[{"$f":"IF(ISNA(INDEX(Inscriptions!A$4:A$303,SUM('U18'!AK$7:'U18'!AK47))),\"\",INDEX(Inscriptions!A$4:A$303,SUM('U18'!AK$7:'U18'!AK47)))","v":""},{"$f":"IF(A47=\"\",\"\",VLOOKUP(A47,Data!G$2:K$302,5,FALSE))","v":""},{"$f":"IF(A47=\"\",\"\",VLOOKUP(A47,Data!G$2:K$302,2,FALSE))","v":""},{"$f":"IF(A47=\"\",\"\",VLOOKUP(A47,Data!G$2:K$302,3,FALSE))","v":""},{"$f":"IF(A47=\"\",\"\",VLOOKUP(A47,Data!G$2:K$302,4,FALSE))","v":""},null,null,null,null,null,null,null,null,null,null,null,null,null,null,null,null,null,null,null,null,null,null,null,null,null,null,null,null,null,0,null,{"$f":"MATCH(\"*\"&AH$1&\"*\",OFFSET(Inscriptions!P$4:P$303,SUM('U18'!AK$6:'U18'!AK46),0),0)","v":{"$error":"#N/A"}}]
[{"$f":"IF(ISNA(INDEX(Inscriptions!A$4:A$303,SUM('U18'!AK$7:'U18'!AK48))),\"\",INDEX(Inscriptions!A$4:A$303,SUM('U18'!AK$7:'U18'!AK48)))","v":""},{"$f":"IF(A48=\"\",\"\",VLOOKUP(A48,Data!G$2:K$302,5,FALSE))","v":""},{"$f":"IF(A48=\"\",\"\",VLOOKUP(A48,Data!G$2:K$302,2,FALSE))","v":""},{"$f":"IF(A48=\"\",\"\",VLOOKUP(A48,Data!G$2:K$302,3,FALSE))","v":""},{"$f":"IF(A48=\"\",\"\",VLOOKUP(A48,Data!G$2:K$302,4,FALSE))","v":""},null,null,null,null,null,null,null,null,null,null,null,null,null,null,null,null,null,null,null,null,null,null,null,null,null,null,null,null,null,0,null,{"$f":"MATCH(\"*\"&AH$1&\"*\",OFFSET(Inscriptions!P$4:P$303,SUM('U18'!AK$6:'U18'!AK47),0),0)","v":{"$error":"#N/A"}}]
[{"$f":"IF(ISNA(INDEX(Inscriptions!A$4:A$303,SUM('U18'!AK$7:'U18'!AK49))),\"\",INDEX(Inscriptions!A$4:A$303,SUM('U18'!AK$7:'U18'!AK49)))","v":""},{"$f":"IF(A49=\"\",\"\",VLOOKUP(A49,Data!G$2:K$302,5,FALSE))","v":""},{"$f":"IF(A49=\"\",\"\",VLOOKUP(A49,Data!G$2:K$302,2,FALSE))","v":""},{"$f":"IF(A49=\"\",\"\",VLOOKUP(A49,Data!G$2:K$302,3,FALSE))","v":""},{"$f":"IF(A49=\"\",\"\",VLOOKUP(A49,Data!G$2:K$302,4,FALSE))","v":""},null,null,null,null,null,null,null,null,null,null,null,null,null,null,null,null,null,null,null,null,null,null,null,null,null,null,null,null,null,0,null,{"$f":"MATCH(\"*\"&AH$1&\"*\",OFFSET(Inscriptions!P$4:P$303,SUM('U18'!AK$6:'U18'!AK48),0),0)","v":{"$error":"#N/A"}}]
[{"$f":"IF(ISNA(INDEX(Inscriptions!A$4:A$303,SUM('U18'!AK$7:'U18'!AK50))),\"\",INDEX(Inscriptions!A$4:A$303,SUM('U18'!AK$7:'U18'!AK50)))","v":""},{"$f":"IF(A50=\"\",\"\",VLOOKUP(A50,Data!G$2:K$302,5,FALSE))","v":""},{"$f":"IF(A50=\"\",\"\",VLOOKUP(A50,Data!G$2:K$302,2,FALSE))","v":""},{"$f":"IF(A50=\"\",\"\",VLOOKUP(A50,Data!G$2:K$302,3,FALSE))","v":""},{"$f":"IF(A50=\"\",\"\",VLOOKUP(A50,Data!G$2:K$302,4,FALSE))","v":""},null,null,null,null,null,null,null,null,null,null,null,null,null,null,null,null,null,null,null,null,null,null,null,null,null,null,null,null,null,0,null,{"$f":"MATCH(\"*\"&AH$1&\"*\",OFFSET(Inscriptions!P$4:P$303,SUM('U18'!AK$6:'U18'!AK49),0),0)","v":{"$error":"#N/A"}}]
[{"$f":"IF(ISNA(INDEX(Inscriptions!A$4:A$303,SUM('U18'!AK$7:'U18'!AK51))),\"\",INDEX(Inscriptions!A$4:A$303,SUM('U18'!AK$7:'U18'!AK51)))","v":""},{"$f":"IF(A51=\"\",\"\",VLOOKUP(A51,Data!G$2:K$302,5,FALSE))","v":""},{"$f":"IF(A51=\"\",\"\",VLOOKUP(A51,Data!G$2:K$302,2,FALSE))","v":""},{"$f":"IF(A51=\"\",\"\",VLOOKUP(A51,Data!G$2:K$302,3,FALSE))","v":""},{"$f":"IF(A51=\"\",\"\",VLOOKUP(A51,Data!G$2:K$302,4,FALSE))","v":""},null,null,null,null,null,null,null,null,null,null,null,null,null,null,null,null,null,null,null,null,null,null,null,null,null,null,null,null,null,0,null,{"$f":"MATCH(\"*\"&AH$1&\"*\",OFFSET(Inscriptions!P$4:P$303,SUM('U18'!AK$6:'U18'!AK50),0),0)","v":{"$error":"#N/A"}}]
[{"$f":"IF(ISNA(INDEX(Inscriptions!A$4:A$303,SUM('U18'!AK$7:'U18'!AK52))),\"\",INDEX(Inscriptions!A$4:A$303,SUM('U18'!AK$7:'U18'!AK52)))","v":""},{"$f":"IF(A52=\"\",\"\",VLOOKUP(A52,Data!G$2:K$302,5,FALSE))","v":""},{"$f":"IF(A52=\"\",\"\",VLOOKUP(A52,Data!G$2:K$302,2,FALSE))","v":""},{"$f":"IF(A52=\"\",\"\",VLOOKUP(A52,Data!G$2:K$302,3,FALSE))","v":""},{"$f":"IF(A52=\"\",\"\",VLOOKUP(A52,Data!G$2:K$302,4,FALSE))","v":""},null,null,null,null,null,null,null,null,null,null,null,null,null,null,null,null,null,null,null,null,null,null,null,null,null,null,null,null,null,0,null,{"$f":"MATCH(\"*\"&AH$1&\"*\",OFFSET(Inscriptions!P$4:P$303,SUM('U18'!AK$6:'U18'!AK51),0),0)","v":{"$error":"#N/A"}}]
[{"$f":"IF(ISNA(INDEX(Inscriptions!A$4:A$303,SUM('U18'!AK$7:'U18'!AK53))),\"\",INDEX(Inscriptions!A$4:A$303,SUM('U18'!AK$7:'U18'!AK53)))","v":""},{"$f":"IF(A53=\"\",\"\",VLOOKUP(A53,Data!G$2:K$302,5,FALSE))","v":""},{"$f":"IF(A53=\"\",\"\",VLOOKUP(A53,Data!G$2:K$302,2,FALSE))","v":""},{"$f":"IF(A53=\"\",\"\",VLOOKUP(A53,Data!G$2:K$302,3,FALSE))","v":""},{"$f":"IF(A53=\"\",\"\",VLOOKUP(A53,Data!G$2:K$302,4,FALSE))","v":""},null,null,null,null,null,null,null,null,null,null,null,null,null,null,null,null,null,null,null,null,null,null,null,null,null,null,null,null,null,0,null,{"$f":"MATCH(\"*\"&AH$1&\"*\",OFFSET(Inscriptions!P$4:P$303,SUM('U18'!AK$6:'U18'!AK52),0),0)","v":{"$error":"#N/A"}}]
[{"$f":"IF(ISNA(INDEX(Inscriptions!A$4:A$303,SUM('U18'!AK$7:'U18'!AK54))),\"\",INDEX(Inscriptions!A$4:A$303,SUM('U18'!AK$7:'U18'!AK54)))","v":""},{"$f":"IF(A54=\"\",\"\",VLOOKUP(A54,Data!G$2:K$302,5,FALSE))","v":""},{"$f":"IF(A54=\"\",\"\",VLOOKUP(A54,Data!G$2:K$302,2,FALSE))","v":""},{"$f":"IF(A54=\"\",\"\",VLOOKUP(A54,Data!G$2:K$302,3,FALSE))","v":""},{"$f":"IF(A54=\"\",\"\",VLOOKUP(A54,Data!G$2:K$302,4,FALSE))","v":""},null,null,null,null,null,null,null,null,null,null,null,null,null,null,null,null,null,null,null,null,null,null,null,null,null,null,null,null,null,0,null,{"$f":"MATCH(\"*\"&AH$1&\"*\",OFFSET(Inscriptions!P$4:P$303,SUM('U18'!AK$6:'U18'!AK53),0),0)","v":{"$error":"#N/A"}}]
[{"$f":"IF(ISNA(INDEX(Inscriptions!A$4:A$303,SUM('U18'!AK$7:'U18'!AK55))),\"\",INDEX(Inscriptions!A$4:A$303,SUM('U18'!AK$7:'U18'!AK55)))","v":""},{"$f":"IF(A55=\"\",\"\",VLOOKUP(A55,Data!G$2:K$302,5,FALSE))","v":""},{"$f":"IF(A55=\"\",\"\",VLOOKUP(A55,Data!G$2:K$302,2,FALSE))","v":""},{"$f":"IF(A55=\"\",\"\",VLOOKUP(A55,Data!G$2:K$302,3,FALSE))","v":""},{"$f":"IF(A55=\"\",\"\",VLOOKUP(A55,Data!G$2:K$302,4,FALSE))","v":""},null,null,null,null,null,null,null,null,null,null,null,null,null,null,null,null,null,null,null,null,null,null,null,null,null,null,null,null,null,0,null,{"$f":"MATCH(\"*\"&AH$1&\"*\",OFFSET(Inscriptions!P$4:P$303,SUM('U18'!AK$6:'U18'!AK54),0),0)","v":{"$error":"#N/A"}}]
[{"$f":"CONCATENATE(IF(ChoixLangue=Languages!$B$1,Languages!$B105,IF(ChoixLangue=Languages!$C$1,Languages!$C105,IF(ChoixLangue=Languages!$D$1,Languages!$D105,Languages!$E105))),SUM(AI7:AI55))","v":"Nbe nageuses : 0"},"-","-","-",null,"-",null,"-",null,"-",null,null,null,"-"]

{"sheet":"1","index":17,"n_rows":56,"n_cols":32,"rows_kept":56,"cut":false,"hidden":true,"merged":[[3,0,3,8]]}
[{"$f":"IF('Cover Page'!B5=\"\",\"\",'Cover Page'!B5)","v":""},null,null,null,null,null,null,null,null,null,null,null,null,null,null,null,null,null,null,null,null,null,null,null,null,null,null,null,"x",null,null,{"$f":"MID(CELL(\"filename\",A1),FIND(\"]\",CELL(\"filename\",A1),1)+1,20)","v":"1"}]
[{"$f":"IF('Cover Page'!B6=\"\",\"\",'Cover Page'!B6)","v":""},null,null,null,null,null,null,null,{"$f":"IF(ChoixLangue=Languages!$B$1,Languages!$B$97 & \" \" & AF1,IF(ChoixLangue=Languages!$C$1,Languages!$C$97 & \" \" & AF1,IF(ChoixLangue=Languages!$D$1,Languages!$D$97 & \" \" & AF1,Languages!$E$97 & \" \" & AF1)))","v":"Catégorie 1"}]
[{"$f":"IF('Cover Page'!B7=\"\",\"\",'Cover Page'!B7)","v":""}]
[{"$f":"IF('Cover Page'!B10=\"\",\"\",CONCATENATE(IF(ChoixLangue=Languages!$B$1,Languages!$B98,IF(ChoixLangue=Languages!$C$1,Languages!$C98,IF(ChoixLangue=Languages!$D$1,Languages!$D98,Languages!$E98))),'Cover Page'!B10))","v":""}]
[{"$f":"A56","v":"Nbe nageuses : 0"}]
[{"$f":"IF(ChoixLangue=Languages!$B$1,Languages!$B99,IF(ChoixLangue=Languages!$C$1,Languages!$C99,IF(ChoixLangue=Languages!$D$1,Languages!$D99,Languages!$E99)))","v":"NOM Prénom"},{"$f":"IF(ChoixLangue=Languages!$B$1,Languages!$B100,IF(ChoixLangue=Languages!$C$1,Languages!$C100,IF(ChoixLangue=Languages!$D$1,Languages!$D100,Languages!$E100)))","v":"Club"},{"$f":"IF(ChoixLangue=Languages!$B$1,Languages!$B101,IF(ChoixLangue=Languages!$C$1,Languages!$C101,IF(ChoixLangue=Languages!$D$1,Languages!$D101,Languages!$E101)))","v":"Licence"},{"$f":"IF(ChoixLangue=Languages!$B$1,Languages!$B102,IF(ChoixLangue=Languages!$C$1,Languages!$C102,IF(ChoixLangue=Languages!$D$1,Languages!$D102,Languages!$E102)))","v":"An. Nais."},{"$f":"IF(ChoixLangue=Languages!$B$1,Languages!$B103,IF(ChoixLangue=Languages!$C$1,Languages!$C103,IF(ChoixLangue=Languages!$D$1,Languages!$D103,Languages!$E103)))","v":"N° Test"},{"$f":"IF(ChoixLangue=Languages!$B$1,Languages!$B104,IF(ChoixLangue=Languages!$C$1,Languages!$C104,IF(ChoixLangue=Languages!$D$1,Languages!$D104,Languages!$E104)))","v":"Figures"},"Solo Free","Duo Free","Team Free"]
[{"$f":"IF(ISNA(INDEX(Inscriptions!A$4:A$303,SUM('1'!AF$7:'1'!AF7))),\"\",INDEX(Inscriptions!A$4:A$303,SUM('1'!AF$7:'1'!AF7)))","v":""},{"$f":"IF(A7=\"\",\"\",VLOOKUP(A7,Data!G$2:K$302,5,FALSE))","v":""},{"$f":"IF(A7=\"\",\"\",VLOOKUP(A7,Data!G$2:K$302,2,FALSE))","v":""},{"$f":"IF(A7=\"\",\"\",VLOOKUP(A7,Data!G$2:K$302,3,FALSE))","v":""},{"$f":"IF(A7=\"\",\"\",VLOOKUP(A7,Data!G$2:K$302,4,FALSE))","v":""},null,null,null,null,null,null,null,null,null,null,null,null,null,null,null,null,null,null,null,null,null,null,null,null,{"$f":"IF(A7<>\"\",1,0)","v":0},null,{"$f":"MATCH(\"*\"&AC$1&\"*\",OFFSET(Inscriptions!X$4:X$303,SUM('1'!AF$6:'1'!AF6),0),0)","v":{"$error":"#N/A"}}]
[{"$f":"IF(ISNA(INDEX(Inscriptions!A$4:A$303,SUM('1'!AF$7:'1'!AF8))),\"\",INDEX(Inscriptions!A$4:A$303,SUM('1'!AF$7:'1'!AF8)))","v":""},{"$f":"IF(A8=\"\",\"\",VLOOKUP(A8,Data!G$2:K$302,5,FALSE))","v":""},{"$f":"IF(A8=\"\",\"\",VLOOKUP(A8,Data!G$2:K$302,2,FALSE))","v":""},{"$f":"IF(A8=\"\",\"\",VLOOKUP(A8,Data!G$2:K$302,3,FALSE))","v":""},{"$f":"IF(A8=\"\",\"\",VLOOKUP(A8,Data!G$2:K$302,4,FALSE))","v":""},null,null,null,null,null,null,null,null,null,null,null,null,null,null,null,null,null,null,null,null,null,null,null,null,{"$f":"IF(A8<>\"\",1,0)","v":0},null,{"$f":"MATCH(\"*\"&AC$1&\"*\",OFFSET(Inscriptions!X$4:X$303,SUM('1'!AF$6:'1'!AF7),0),0)","v":{"$error":"#N/A"}}]
[{"$f":"IF(ISNA(INDEX(Inscriptions!A$4:A$303,SUM('1'!AF$7:'1'!AF9))),\"\",INDEX(Inscriptions!A$4:A$303,SUM('1'!AF$7:'1'!AF9)))","v":""},{"$f":"IF(A9=\"\",\"\",VLOOKUP(A9,Data!G$2:K$302,5,FALSE))","v":""},{"$f":"IF(A9=\"\",\"\",VLOOKUP(A9,Data!G$2:K$302,2,FALSE))","v":""},{"$f":"IF(A9=\"\",\"\",VLOOKUP(A9,Data!G$2:K$302,3,FALSE))","v":""},{"$f":"IF(A9=\"\",\"\",VLOOKUP(A9,Data!G$2:K$302,4,FALSE))","v":""},null,null,null,null,null,null,null,null,null,null,null,null,null,null,null,null,null,null,null,null,null,null,null,null,{"$f":"IF(A9<>\"\",1,0)","v":0},null,{"$f":"MATCH(\"*\"&AC$1&\"*\",OFFSET(Inscriptions!X$4:X$303,SUM('1'!AF$6:'1'!AF8),0),0)","v":{"$error":"#N/A"}}]
[{"$f":"IF(ISNA(INDEX(Inscriptions!A$4:A$303,SUM('1'!AF$7:'1'!AF10))),\"\",INDEX(Inscriptions!A$4:A$303,SUM('1'!AF$7:'1'!AF10)))","v":""},{"$f":"IF(A10=\"\",\"\",VLOOKUP(A10,Data!G$2:K$302,5,FALSE))","v":""},{"$f":"IF(A10=\"\",\"\",VLOOKUP(A10,Data!G$2:K$302,2,FALSE))","v":""},{"$f":"IF(A10=\"\",\"\",VLOOKUP(A10,Data!G$2:K$302,3,FALSE))","v":""},{"$f":"IF(A10=\"\",\"\",VLOOKUP(A10,Data!G$2:K$302,4,FALSE))","v":""},null,null,null,null,null,null,null,null,null,null,null,null,null,null,null,null,null,null,null,null,null,null,null,null,0,null,{"$f":"MATCH(\"*\"&AC$1&\"*\",OFFSET(Inscriptions!X$4:X$303,SUM('1'!AF$6:'1'!AF9),0),0)","v":{"$error":"#N/A"}}]
[{"$f":"IF(ISNA(INDEX(Inscriptions!A$4:A$303,SUM('1'!AF$7:'1'!AF11))),\"\",INDEX(Inscriptions!A$4:A$303,SUM('1'!AF$7:'1'!AF11)))","v":""},{"$f":"IF(A11=\"\",\"\",VLOOKUP(A11,Data!G$2:K$302,5,FALSE))","v":""},{"$f":"IF(A11=\"\",\"\",VLOOKUP(A11,Data!G$2:K$302,2,FALSE))","v":""},{"$f":"IF(A11=\"\",\"\",VLOOKUP(A11,Data!G$2:K$302,3,FALSE))","v":""},{"$f":"IF(A11=\"\",\"\",VLOOKUP(A11,Data!G$2:K$302,4,FALSE))","v":""},null,null,null,null,null,null,null,null,null,null,null,null,null,null,null,null,null,null,null,null,null,null,null,null,0,null,{"$f":"MATCH(\"*\"&AC$1&\"*\",OFFSET(Inscriptions!X$4:X$303,SUM('1'!AF$6:'1'!AF10),0),0)","v":{"$error":"#N/A"}}]
[{"$f":"IF(ISNA(INDEX(Inscriptions!A$4:A$303,SUM('1'!AF$7:'1'!AF12))),\"\",INDEX(Inscriptions!A$4:A$303,SUM('1'!AF$7:'1'!AF12)))","v":""},{"$f":"IF(A12=\"\",\"\",VLOOKUP(A12,Data!G$2:K$302,5,FALSE))","v":""},{"$f":"IF(A12=\"\",\"\",VLOOKUP(A12,Data!G$2:K$302,2,FALSE))","v":""},{"$f":"IF(A12=\"\",\"\",VLOOKUP(A12,Data!G$2:K$302,3,FALSE))","v":""},{"$f":"IF(A12=\"\",\"\",VLOOKUP(A12,Data!G$2:K$302,4,FALSE))","v":""},null,null,null,null,null,null,null,null,null,null,null,null,null,null,null,null,null,null,null,null,null,null,null,null,0,null,{"$f":"MATCH(\"*\"&AC$1&\"*\",OFFSET(Inscriptions!X$4:X$303,SUM('1'!AF$6:'1'!AF11),0),0)","v":{"$error":"#N/A"}}]
[{"$f":"IF(ISNA(INDEX(Inscriptions!A$4:A$303,SUM('1'!AF$7:'1'!AF13))),\"\",INDEX(Inscriptions!A$4:A$303,SUM('1'!AF$7:'1'!AF13)))","v":""},{"$f":"IF(A13=\"\",\"\",VLOOKUP(A13,Data!G$2:K$302,5,FALSE))","v":""},{"$f":"IF(A13=\"\",\"\",VLOOKUP(A13,Data!G$2:K$302,2,FALSE))","v":""},{"$f":"IF(A13=\"\",\"\",VLOOKUP(A13,Data!G$2:K$302,3,FALSE))","v":""},{"$f":"IF(A13=\"\",\"\",VLOOKUP(A13,Data!G$2:K$302,4,FALSE))","v":""},null,null,null,null,null,null,null,null,null,null,null,null,null,null,null,null,null,null,null,null,null,null,null,null,0,null,{"$f":"MATCH(\"*\"&AC$1&\"*\",OFFSET(Inscriptions!X$4:X$303,SUM('1'!AF$6:'1'!AF12),0),0)","v":{"$error":"#N/A"}}]
[{"$f":"IF(ISNA(INDEX(Inscriptions!A$4:A$303,SUM('1'!AF$7:'1'!AF14))),\"\",INDEX(Inscriptions!A$4:A$303,SUM('1'!AF$7:'1'!AF14)))","v":""},{"$f":"IF(A14=\"\",\"\",VLOOKUP(A14,Data!G$2:K$302,5,FALSE))","v":""},{"$f":"IF(A14=\"\",\"\",VLOOKUP(A14,Data!G$2:K$302,2,FALSE))","v":""},{"$f":"IF(A14=\"\",\"\",VLOOKUP(A14,Data!G$2:K$302,3,FALSE))","v":""},{"$f":"IF(A14=\"\",\"\",VLOOKUP(A14,Data!G$2:K$302,4,FALSE))","v":""},null,null,null,null,null,null,null,null,null,null,null,null,null,null,null,null,null,null,null,null,null,null,null,null,0,null,{"$f":"MATCH(\"*\"&AC$1&\"*\",OFFSET(Inscriptions!X$4:X$303,SUM('1'!AF$6:'1'!AF13),0),0)","v":{"$error":"#N/A"}}]
[{"$f":"IF(ISNA(INDEX(Inscriptions!A$4:A$303,SUM('1'!AF$7:'1'!AF15))),\"\",INDEX(Inscriptions!A$4:A$303,SUM('1'!AF$7:'1'!AF15)))","v":""},{"$f":"IF(A15=\"\",\"\",VLOOKUP(A15,Data!G$2:K$302,5,FALSE))","v":""},{"$f":"IF(A15=\"\",\"\",VLOOKUP(A15,Data!G$2:K$302,2,FALSE))","v":""},{"$f":"IF(A15=\"\",\"\",VLOOKUP(A15,Data!G$2:K$302,3,FALSE))","v":""},{"$f":"IF(A15=\"\",\"\",VLOOKUP(A15,Data!G$2:K$302,4,FALSE))","v":""},null,null,null,null,null,null,null,null,null,null,null,null,null,null,null,null,null,null,null,null,null,null,null,null,0,null,{"$f":"MATCH(\"*\"&AC$1&\"*\",OFFSET(Inscriptions!X$4:X$303,SUM('1'!AF$6:'1'!AF14),0),0)","v":{"$error":"#N/A"}}]
[{"$f":"IF(ISNA(INDEX(Inscriptions!A$4:A$303,SUM('1'!AF$7:'1'!AF16))),\"\",INDEX(Inscriptions!A$4:A$303,SUM('1'!AF$7:'1'!AF16)))","v":""},{"$f":"IF(A16=\"\",\"\",VLOOKUP(A16,Data!G$2:K$302,5,FALSE))","v":""},{"$f":"IF(A16=\"\",\"\",VLOOKUP(A16,Data!G$2:K$302,2,FALSE))","v":""},{"$f":"IF(A16=\"\",\"\",VLOOKUP(A16,Data!G$2:K$302,3,FALSE))","v":""},{"$f":"IF(A16=\"\",\"\",VLOOKUP(A16,Data!G$2:K$302,4,FALSE))","v":""},null,null,null,null,null,null,null,null,null,null,null,null,null,null,null,null,null,null,null,null,null,null,null,null,0,null,{"$f":"MATCH(\"*\"&AC$1&\"*\",OFFSET(Inscriptions!X$4:X$303,SUM('1'!AF$6:'1'!AF15),0),0)","v":{"$error":"#N/A"}}]
[{"$f":"IF(ISNA(INDEX(Inscriptions!A$4:A$303,SUM('1'!AF$7:'1'!AF17))),\"\",INDEX(Inscriptions!A$4:A$303,SUM('1'!AF$7:'1'!AF17)))","v":""},{"$f":"IF(A17=\"\",\"\",VLOOKUP(A17,Data!G$2:K$302,5,FALSE))","v":""},{"$f":"IF(A17=\"\",\"\",VLOOKUP(A17,Data!G$2:K$302,2,FALSE))","v":""},{"$f":"IF(A17=\"\",\"\",VLOOKUP(A17,Data!G$2:K$302,3,FALSE))","v":""},{"$f":"IF(A17=\"\",\"\",VLOOKUP(A17,Data!G$2:K$302,4,FALSE))","v":""},null,null,null,null,null,null,null,null,null,null,null,null,null,null,null,null,null,null,null,null,null,null,null,null,0,null,{"$f":"MATCH(\"*\"&AC$1&\"*\",OFFSET(Inscriptions!X$4:X$303,SUM('1'!AF$6:'1'!AF16),0),0)","v":{"$error":"#N/A"}}]
[{"$f":"IF(ISNA(INDEX(Inscriptions!A$4:A$303,SUM('1'!AF$7:'1'!AF18))),\"\",INDEX(Inscriptions!A$4:A$303,SUM('1'!AF$7:'1'!AF18)))","v":""},{"$f":"IF(A18=\"\",\"\",VLOOKUP(A18,Data!G$2:K$302,5,FALSE))","v":""},{"$f":"IF(A18=\"\",\"\",VLOOKUP(A18,Data!G$2:K$302,2,FALSE))","v":""},{"$f":"IF(A18=\"\",\"\",VLOOKUP(A18,Data!G$2:K$302,3,FALSE))","v":""},{"$f":"IF(A18=\"\",\"\",VLOOKUP(A18,Data!G$2:K$302,4,FALSE))","v":""},null,null,null,null,null,null,null,null,null,null,null,null,null,null,null,null,null,null,null,null,null,null,null,null,0,null,{"$f":"MATCH(\"*\"&AC$1&\"*\",OFFSET(Inscriptions!X$4:X$303,SUM('1'!AF$6:'1'!AF17),0),0)","v":{"$error":"#N/A"}}]
[{"$f":"IF(ISNA(INDEX(Inscriptions!A$4:A$303,SUM('1'!AF$7:'1'!AF19))),\"\",INDEX(Inscriptions!A$4:A$303,SUM('1'!AF$7:'1'!AF19)))","v":""},{"$f":"IF(A19=\"\",\"\",VLOOKUP(A19,Data!G$2:K$302,5,FALSE))","v":""},{"$f":"IF(A19=\"\",\"\",VLOOKUP(A19,Data!G$2:K$302,2,FALSE))","v":""},{"$f":"IF(A19=\"\",\"\",VLOOKUP(A19,Data!G$2:K$302,3,FALSE))","v":""},{"$f":"IF(A19=\"\",\"\",VLOOKUP(A19,Data!G$2:K$302,4,FALSE))","v":""},null,null,null,null,null,null,null,null,null,null,null,null,null,null,null,null,null,null,null,null,null,null,null,null,0,null,{"$f":"MATCH(\"*\"&AC$1&\"*\",OFFSET(Inscriptions!X$4:X$303,SUM('1'!AF$6:'1'!AF18),0),0)","v":{"$error":"#N/A"}}]
[{"$f":"IF(ISNA(INDEX(Inscriptions!A$4:A$303,SUM('1'!AF$7:'1'!AF20))),\"\",INDEX(Inscriptions!A$4:A$303,SUM('1'!AF$7:'1'!AF20)))","v":""},{"$f":"IF(A20=\"\",\"\",VLOOKUP(A20,Data!G$2:K$302,5,FALSE))","v":""},{"$f":"IF(A20=\"\",\"\",VLOOKUP(A20,Data!G$2:K$302,2,FALSE))","v":""},{"$f":"IF(A20=\"\",\"\",VLOOKUP(A20,Data!G$2:K$302,3,FALSE))","v":""},{"$f":"IF(A20=\"\",\"\",VLOOKUP(A20,Data!G$2:K$302,4,FALSE))","v":""},null,null,null,null,null,null,null,null,null,null,null,null,null,null,null,null,null,null,null,null,null,null,null,null,0,null,{"$f":"MATCH(\"*\"&AC$1&\"*\",OFFSET(Inscriptions!X$4:X$303,SUM('1'!AF$6:'1'!AF19),0),0)","v":{"$error":"#N/A"}}]
[{"$f":"IF(ISNA(INDEX(Inscriptions!A$4:A$303,SUM('1'!AF$7:'1'!AF21))),\"\",INDEX(Inscriptions!A$4:A$303,SUM('1'!AF$7:'1'!AF21)))","v":""},{"$f":"IF(A21=\"\",\"\",VLOOKUP(A21,Data!G$2:K$302,5,FALSE))","v":""},{"$f":"IF(A21=\"\",\"\",VLOOKUP(A21,Data!G$2:K$302,2,FALSE))","v":""},{"$f":"IF(A21=\"\",\"\",VLOOKUP(A21,Data!G$2:K$302,3,FALSE))","v":""},{"$f":"IF(A21=\"\",\"\",VLOOKUP(A21,Data!G$2:K$302,4,FALSE))","v":""},null,null,null,null,null,null,null,null,null,null,null,null,null,null,null,null,null,null,null,null,null,null,null,null,0,null,{"$f":"MATCH(\"*\"&AC$1&\"*\",OFFSET(Inscriptions!X$4:X$303,SUM('1'!AF$6:'1'!AF20),0),0)","v":{"$error":"#N/A"}}]
[{"$f":"IF(ISNA(INDEX(Inscriptions!A$4:A$303,SUM('1'!AF$7:'1'!AF22))),\"\",INDEX(Inscriptions!A$4:A$303,SUM('1'!AF$7:'1'!AF22)))","v":""},{"$f":"IF(A22=\"\",\"\",VLOOKUP(A22,Data!G$2:K$302,5,FALSE))","v":""},{"$f":"IF(A22=\"\",\"\",VLOOKUP(A22,Data!G$2:K$302,2,FALSE))","v":""},{"$f":"IF(A22=\"\",\"\",VLOOKUP(A22,Data!G$2:K$302,3,FALSE))","v":""},{"$f":"IF(A22=\"\",\"\",VLOOKUP(A22,Data!G$2:K$302,4,FALSE))","v":""},null,null,null,null,null,null,null,null,null,null,null,null,null,null,null,null,null,null,null,null,null,null,null,null,0,null,{"$f":"MATCH(\"*\"&AC$1&\"*\",OFFSET(Inscriptions!X$4:X$303,SUM('1'!AF$6:'1'!AF21),0),0)","v":{"$error":"#N/A"}}]
[{"$f":"IF(ISNA(INDEX(Inscriptions!A$4:A$303,SUM('1'!AF$7:'1'!AF23))),\"\",INDEX(Inscriptions!A$4:A$303,SUM('1'!AF$7:'1'!AF23)))","v":""},{"$f":"IF(A23=\"\",\"\",VLOOKUP(A23,Data!G$2:K$302,5,FALSE))","v":""},{"$f":"IF(A23=\"\",\"\",VLOOKUP(A23,Data!G$2:K$302,2,FALSE))","v":""},{"$f":"IF(A23=\"\",\"\",VLOOKUP(A23,Data!G$2:K$302,3,FALSE))","v":""},{"$f":"IF(A23=\"\",\"\",VLOOKUP(A23,Data!G$2:K$302,4,FALSE))","v":""},null,null,null,null,null,null,null,null,null,null,null,null,null,null,null,null,null,null,null,null,null,null,null,null,0,null,{"$f":"MATCH(\"*\"&AC$1&\"*\",OFFSET(Inscriptions!X$4:X$303,SUM('1'!AF$6:'1'!AF22),0),0)","v":{"$error":"#N/A"}}]
[{"$f":"IF(ISNA(INDEX(Inscriptions!A$4:A$303,SUM('1'!AF$7:'1'!AF24))),\"\",INDEX(Inscriptions!A$4:A$303,SUM('1'!AF$7:'1'!AF24)))","v":""},{"$f":"IF(A24=\"\",\"\",VLOOKUP(A24,Data!G$2:K$302,5,FALSE))","v":""},{"$f":"IF(A24=\"\",\"\",VLOOKUP(A24,Data!G$2:K$302,2,FALSE))","v":""},{"$f":"IF(A24=\"\",\"\",VLOOKUP(A24,Data!G$2:K$302,3,FALSE))","v":""},{"$f":"IF(A24=\"\",\"\",VLOOKUP(A24,Data!G$2:K$302,4,FALSE))","v":""},null,null,null,null,null,null,null,null,null,null,null,null,null,null,null,null,null,null,null,null,null,null,null,null,0,null,{"$f":"MATCH(\"*\"&AC$1&\"*\",OFFSET(Inscriptions!X$4:X$303,SUM('1'!AF$6:'1'!AF23),0),0)","v":{"$error":"#N/A"}}]
[{"$f":"IF(ISNA(INDEX(Inscriptions!A$4:A$303,SUM('1'!AF$7:'1'!AF25))),\"\",INDEX(Inscriptions!A$4:A$303,SUM('1'!AF$7:'1'!AF25)))","v":""},{"$f":"IF(A25=\"\",\"\",VLOOKUP(A25,Data!G$2:K$302,5,FALSE))","v":""},{"$f":"IF(A25=\"\",\"\",VLOOKUP(A25,Data!G$2:K$302,2,FALSE))","v":""},{"$f":"IF(A25=\"\",\"\",VLOOKUP(A25,Data!G$2:K$302,3,FALSE))","v":""},{"$f":"IF(A25=\"\",\"\",VLOOKUP(A25,Data!G$2:K$302,4,FALSE))","v":""},null,null,null,null,null,null,null,null,null,null,null,null,null,null,null,null,null,null,null,null,null,null,null,null,0,null,{"$f":"MATCH(\"*\"&AC$1&\"*\",OFFSET(Inscriptions!X$4:X$303,SUM('1'!AF$6:'1'!AF24),0),0)","v":{"$error":"#N/A"}}]
[{"$f":"IF(ISNA(INDEX(Inscriptions!A$4:A$303,SUM('1'!AF$7:'1'!AF26))),\"\",INDEX(Inscriptions!A$4:A$303,SUM('1'!AF$7:'1'!AF26)))","v":""},{"$f":"IF(A26=\"\",\"\",VLOOKUP(A26,Data!G$2:K$302,5,FALSE))","v":""},{"$f":"IF(A26=\"\",\"\",VLOOKUP(A26,Data!G$2:K$302,2,FALSE))","v":""},{"$f":"IF(A26=\"\",\"\",VLOOKUP(A26,Data!G$2:K$302,3,FALSE))","v":""},{"$f":"IF(A26=\"\",\"\",VLOOKUP(A26,Data!G$2:K$302,4,FALSE))","v":""},null,null,null,null,null,null,null,null,null,null,null,null,null,null,null,null,null,null,null,null,null,null,null,null,0,null,{"$f":"MATCH(\"*\"&AC$1&\"*\",OFFSET(Inscriptions!X$4:X$303,SUM('1'!AF$6:'1'!AF25),0),0)","v":{"$error":"#N/A"}}]
[{"$f":"IF(ISNA(INDEX(Inscriptions!A$4:A$303,SUM('1'!AF$7:'1'!AF27))),\"\",INDEX(Inscriptions!A$4:A$303,SUM('1'!AF$7:'1'!AF27)))","v":""},{"$f":"IF(A27=\"\",\"\",VLOOKUP(A27,Data!G$2:K$302,5,FALSE))","v":""},{"$f":"IF(A27=\"\",\"\",VLOOKUP(A27,Data!G$2:K$302,2,FALSE))","v":""},{"$f":"IF(A27=\"\",\"\",VLOOKUP(A27,Data!G$2:K$302,3,FALSE))","v":""},{"$f":"IF(A27=\"\",\"\",VLOOKUP(A27,Data!G$2:K$302,4,FALSE))","v":""},null,null,null,null,null,null,null,null,null,null,null,null,null,null,null,null,null,null,null,null,null,null,null,null,0,null,{"$f":"MATCH(\"*\"&AC$1&\"*\",OFFSET(Inscriptions!X$4:X$303,SUM('1'!AF$6:'1'!AF26),0),0)","v":{"$error":"#N/A"}}]
[{"$f":"IF(ISNA(INDEX(Inscriptions!A$4:A$303,SUM('1'!AF$7:'1'!AF28))),\"\",INDEX(Inscriptions!A$4:A$303,SUM('1'!AF$7:'1'!AF28)))","v":""},{"$f":"IF(A28=\"\",\"\",VLOOKUP(A28,Data!G$2:K$302,5,FALSE))","v":""},{"$f":"IF(A28=\"\",\"\",VLOOKUP(A28,Data!G$2:K$302,2,FALSE))","v":""},{"$f":"IF(A28=\"\",\"\",VLOOKUP(A28,Data!G$2:K$302,3,FALSE))","v":""},{"$f":"IF(A28=\"\",\"\",VLOOKUP(A28,Data!G$2:K$302,4,FALSE))","v":""},null,null,null,null,null,null,null,null,null,null,null,null,null,null,null,null,null,null,null,null,null,null,null,null,0,null,{"$f":"MATCH(\"*\"&AC$1&\"*\",OFFSET(Inscriptions!X$4:X$303,SUM('1'!AF$6:'1'!AF27),0),0)","v":{"$error":"#N/A"}}]
[{"$f":"IF(ISNA(INDEX(Inscriptions!A$4:A$303,SUM('1'!AF$7:'1'!AF29))),\"\",INDEX(Inscriptions!A$4:A$303,SUM('1'!AF$7:'1'!AF29)))","v":""},{"$f":"IF(A29=\"\",\"\",VLOOKUP(A29,Data!G$2:K$302,5,FALSE))","v":""},{"$f":"IF(A29=\"\",\"\",VLOOKUP(A29,Data!G$2:K$302,2,FALSE))","v":""},{"$f":"IF(A29=\"\",\"\",VLOOKUP(A29,Data!G$2:K$302,3,FALSE))","v":""},{"$f":"IF(A29=\"\",\"\",VLOOKUP(A29,Data!G$2:K$302,4,FALSE))","v":""},null,null,null,null,null,null,null,null,null,null,null,null,null,null,null,null,null,null,null,null,null,null,null,null,0,null,{"$f":"MATCH(\"*\"&AC$1&\"*\",OFFSET(Inscriptions!X$4:X$303,SUM('1'!AF$6:'1'!AF28),0),0)","v":{"$error":"#N/A"}}]
[{"$f":"IF(ISNA(INDEX(Inscriptions!A$4:A$303,SUM('1'!AF$7:'1'!AF30))),\"\",INDEX(Inscriptions!A$4:A$303,SUM('1'!AF$7:'1'!AF30)))","v":""},{"$f":"IF(A30=\"\",\"\",VLOOKUP(A30,Data!G$2:K$302,5,FALSE))","v":""},{"$f":"IF(A30=\"\",\"\",VLOOKUP(A30,Data!G$2:K$302,2,FALSE))","v":""},{"$f":"IF(A30=\"\",\"\",VLOOKUP(A30,Data!G$2:K$302,3,FALSE))","v":""},{"$f":"IF(A30=\"\",\"\",VLOOKUP(A30,Data!G$2:K$302,4,FALSE))","v":""},null,null,null,null,null,null,null,null,null,null,null,null,null,null,null,null,null,null,null,null,null,null,null,null,0,null,{"$f":"MATCH(\"*\"&AC$1&\"*\",OFFSET(Inscriptions!X$4:X$303,SUM('1'!AF$6:'1'!AF29),0),0)","v":{"$error":"#N/A"}}]
[{"$f":"IF(ISNA(INDEX(Inscriptions!A$4:A$303,SUM('1'!AF$7:'1'!AF31))),\"\",INDEX(Inscriptions!A$4:A$303,SUM('1'!AF$7:'1'!AF31)))","v":""},{"$f":"IF(A31=\"\",\"\",VLOOKUP(A31,Data!G$2:K$302,5,FALSE))","v":""},{"$f":"IF(A31=\"\",\"\",VLOOKUP(A31,Data!G$2:K$302,2,FALSE))","v":""},{"$f":"IF(A31=\"\",\"\",VLOOKUP(A31,Data!G$2:K$302,3,FALSE))","v":""},{"$f":"IF(A31=\"\",\"\",VLOOKUP(A31,Data!G$2:K$302,4,FALSE))","v":""},null,null,null,null,null,null,null,null,null,null,null,null,null,null,null,null,null,null,null,null,null,null,null,null,0,null,{"$f":"MATCH(\"*\"&AC$1&\"*\",OFFSET(Inscriptions!X$4:X$303,SUM('1'!AF$6:'1'!AF30),0),0)","v":{"$error":"#N/A"}}]
[{"$f":"IF(ISNA(INDEX(Inscriptions!A$4:A$303,SUM('1'!AF$7:'1'!AF32))),\"\",INDEX(Inscriptions!A$4:A$303,SUM('1'!AF$7:'1'!AF32)))","v":""},{"$f":"IF(A32=\"\",\"\",VLOOKUP(A32,Data!G$2:K$302,5,FALSE))","v":""},{"$f":"IF(A32=\"\",\"\",VLOOKUP(A32,Data!G$2:K$302,2,FALSE))","v":""},{"$f":"IF(A32=\"\",\"\",VLOOKUP(A32,Data!G$2:K$302,3,FALSE))","v":""},{"$f":"IF(A32=\"\",\"\",VLOOKUP(A32,Data!G$2:K$302,4,FALSE))","v":""},null,null,null,null,null,null,null,null,null,null,null,null,null,null,null,null,null,null,null,null,null,null,null,null,0,null,{"$f":"MATCH(\"*\"&AC$1&\"*\",OFFSET(Inscriptions!X$4:X$303,SUM('1'!AF$6:'1'!AF31),0),0)","v":{"$error":"#N/A"}}]
[{"$f":"IF(ISNA(INDEX(Inscriptions!A$4:A$303,SUM('1'!AF$7:'1'!AF33))),\"\",INDEX(Inscriptions!A$4:A$303,SUM('1'!AF$7:'1'!AF33)))","v":""},{"$f":"IF(A33=\"\",\"\",VLOOKUP(A33,Data!G$2:K$302,5,FALSE))","v":""},{"$f":"IF(A33=\"\",\"\",VLOOKUP(A33,Data!G$2:K$302,2,FALSE))","v":""},{"$f":"IF(A33=\"\",\"\",VLOOKUP(A33,Data!G$2:K$302,3,FALSE))","v":""},{"$f":"IF(A33=\"\",\"\",VLOOKUP(A33,Data!G$2:K$302,4,FALSE))","v":""},null,null,null,null,null,null,null,null,null,null,null,null,null,null,null,null,null,null,null,null,null,null,null,null,0,null,{"$f":"MATCH(\"*\"&AC$1&\"*\",OFFSET(Inscriptions!X$4:X$303,SUM('1'!AF$6:'1'!AF32),0),0)","v":{"$error":"#N/A"}}]
[{"$f":"IF(ISNA(INDEX(Inscriptions!A$4:A$303,SUM('1'!AF$7:'1'!AF34))),\"\",INDEX(Inscriptions!A$4:A$303,SUM('1'!AF$7:'1'!AF34)))","v":""},{"$f":"IF(A34=\"\",\"\",VLOOKUP(A34,Data!G$2:K$302,5,FALSE))","v":""},{"$f":"IF(A34=\"\",\"\",VLOOKUP(A34,Data!G$2:K$302,2,FALSE))","v":""},{"$f":"IF(A34=\"\",\"\",VLOOKUP(A34,Data!G$2:K$302,3,FALSE))","v":""},{"$f":"IF(A34=\"\",\"\",VLOOKUP(A34,Data!G$2:K$302,4,FALSE))","v":""},null,null,null,null,null,null,null,null,null,null,null,null,null,null,null,null,null,null,null,null,null,null,null,null,0,null,{"$f":"MATCH(\"*\"&AC$1&\"*\",OFFSET(Inscriptions!X$4:X$303,SUM('1'!AF$6:'1'!AF33),0),0)","v":{"$error":"#N/A"}}]
[{"$f":"IF(ISNA(INDEX(Inscriptions!A$4:A$303,SUM('1'!AF$7:'1'!AF35))),\"\",INDEX(Inscriptions!A$4:A$303,SUM('1'!AF$7:'1'!AF35)))","v":""},{"$f":"IF(A35=\"\",\"\",VLOOKUP(A35,Data!G$2:K$302,5,FALSE))","v":""},{"$f":"IF(A35=\"\",\"\",VLOOKUP(A35,Data!G$2:K$302,2,FALSE))","v":""},{"$f":"IF(A35=\"\",\"\",VLOOKUP(A35,Data!G$2:K$302,3,FALSE))","v":""},{"$f":"IF(A35=\"\",\"\",VLOOKUP(A35,Data!G$2:K$302,4,FALSE))","v":""},null,null,null,null,null,null,null,null,null,null,null,null,null,null,null,null,null,null,null,null,null,null,null,null,0,null,{"$f":"MATCH(\"*\"&AC$1&\"*\",OFFSET(Inscriptions!X$4:X$303,SUM('1'!AF$6:'1'!AF34),0),0)","v":{"$error":"#N/A"}}]
[{"$f":"IF(ISNA(INDEX(Inscriptions!A$4:A$303,SUM('1'!AF$7:'1'!AF36))),\"\",INDEX(Inscriptions!A$4:A$303,SUM('1'!AF$7:'1'!AF36)))","v":""},{"$f":"IF(A36=\"\",\"\",VLOOKUP(A36,Data!G$2:K$302,5,FALSE))","v":""},{"$f":"IF(A36=\"\",\"\",VLOOKUP(A36,Data!G$2:K$302,2,FALSE))","v":""},{"$f":"IF(A36=\"\",\"\",VLOOKUP(A36,Data!G$2:K$302,3,FALSE))","v":""},{"$f":"IF(A36=\"\",\"\",VLOOKUP(A36,Data!G$2:K$302,4,FALSE))","v":""},null,null,null,null,null,null,null,null,null,null,null,null,null,null,null,null,null,null,null,null,null,null,null,null,0,null,{"$f":"MATCH(\"*\"&AC$1&\"*\",OFFSET(Inscriptions!X$4:X$303,SUM('1'!AF$6:'1'!AF35),0),0)","v":{"$error":"#N/A"}}]
[{"$f":"IF(ISNA(INDEX(Inscriptions!A$4:A$303,SUM('1'!AF$7:'1'!AF37))),\"\",INDEX(Inscriptions!A$4:A$303,SUM('1'!AF$7:'1'!AF37)))","v":""},{"$f":"IF(A37=\"\",\"\",VLOOKUP(A37,Data!G$2:K$302,5,FALSE))","v":""},{"$f":"IF(A37=\"\",\"\",VLOOKUP(A37,Data!G$2:K$302,2,FALSE))","v":""},{"$f":"IF(A37=\"\",\"\",VLOOKUP(A37,Data!G$2:K$302,3,FALSE))","v":""},{"$f":"IF(A37=\"\",\"\",VLOOKUP(A37,Data!G$2:K$302,4,FALSE))","v":""},null,null,null,null,null,null,null,null,null,null,null,null,null,null,null,null,null,null,null,null,null,null,null,null,0,null,{"$f":"MATCH(\"*\"&AC$1&\"*\",OFFSET(Inscriptions!X$4:X$303,SUM('1'!AF$6:'1'!AF36),0),0)","v":{"$error":"#N/A"}}]
[{"$f":"IF(ISNA(INDEX(Inscriptions!A$4:A$303,SUM('1'!AF$7:'1'!AF38))),\"\",INDEX(Inscriptions!A$4:A$303,SUM('1'!AF$7:'1'!AF38)))","v":""},{"$f":"IF(A38=\"\",\"\",VLOOKUP(A38,Data!G$2:K$302,5,FALSE))","v":""},{"$f":"IF(A38=\"\",\"\",VLOOKUP(A38,Data!G$2:K$302,2,FALSE))","v":""},{"$f":"IF(A38=\"\",\"\",VLOOKUP(A38,Data!G$2:K$302,3,FALSE))","v":""},{"$f":"IF(A38=\"\",\"\",VLOOKUP(A38,Data!G$2:K$302,4,FALSE))","v":""},null,null,null,null,null,null,null,null,null,null,null,null,null,null,null,null,null,null,null,null,null,null,null,null,0,null,{"$f":"MATCH(\"*\"&AC$1&\"*\",OFFSET(Inscriptions!X$4:X$303,SUM('1'!AF$6:'1'!AF37),0),0)","v":{"$error":"#N/A"}}]
[{"$f":"IF(ISNA(INDEX(Inscriptions!A$4:A$303,SUM('1'!AF$7:'1'!AF39))),\"\",INDEX(Inscriptions!A$4:A$303,SUM('1'!AF$7:'1'!AF39)))","v":""},{"$f":"IF(A39=\"\",\"\",VLOOKUP(A39,Data!G$2:K$302,5,FALSE))","v":""},{"$f":"IF(A39=\"\",\"\",VLOOKUP(A39,Data!G$2:K$302,2,FALSE))","v":""},{"$f":"IF(A39=\"\",\"\",VLOOKUP(A39,Data!G$2:K$302,3,FALSE))","v":""},{"$f":"IF(A39=\"\",\"\",VLOOKUP(A39,Data!G$2:K$302,4,FALSE))","v":""},null,null,null,null,null,null,null,null,null,null,null,null,null,null,null,null,null,null,null,null,null,null,null,null,0,null,{"$f":"MATCH(\"*\"&AC$1&\"*\",OFFSET(Inscriptions!X$4:X$303,SUM('1'!AF$6:'1'!AF38),0),0)","v":{"$error":"#N/A"}}]
[{"$f":"IF(ISNA(INDEX(Inscriptions!A$4:A$303,SUM('1'!AF$7:'1'!AF40))),\"\",INDEX(Inscriptions!A$4:A$303,SUM('1'!AF$7:'1'!AF40)))","v":""},{"$f":"IF(A40=\"\",\"\",VLOOKUP(A40,Data!G$2:K$302,5,FALSE))","v":""},{"$f":"IF(A40=\"\",\"\",VLOOKUP(A40,Data!G$2:K$302,2,FALSE))","v":""},{"$f":"IF(A40=\"\",\"\",VLOOKUP(A40,Data!G$2:K$302,3,FALSE))","v":""},{"$f":"IF(A40=\"\",\"\",VLOOKUP(A40,Data!G$2:K$302,4,FALSE))","v":""},null,null,null,null,null,null,null,null,null,null,null,null,null,null,null,null,null,null,null,null,null,null,null,null,0,null,{"$f":"MATCH(\"*\"&AC$1&\"*\",OFFSET(Inscriptions!X$4:X$303,SUM('1'!AF$6:'1'!AF39),0),0)","v":{"$error":"#N/A"}}]
[{"$f":"IF(ISNA(INDEX(Inscriptions!A$4:A$303,SUM('1'!AF$7:'1'!AF41))),\"\",INDEX(Inscriptions!A$4:A$303,SUM('1'!AF$7:'1'!AF41)))","v":""},{"$f":"IF(A41=\"\",\"\",VLOOKUP(A41,Data!G$2:K$302,5,FALSE))","v":""},{"$f":"IF(A41=\"\",\"\",VLOOKUP(A41,Data!G$2:K$302,2,FALSE))","v":""},{"$f":"IF(A41=\"\",\"\",VLOOKUP(A41,Data!G$2:K$302,3,FALSE))","v":""},{"$f":"IF(A41=\"\",\"\",VLOOKUP(A41,Data!G$2:K$302,4,FALSE))","v":""},null,null,null,null,null,null,null,null,null,null,null,null,null,null,null,null,null,null,null,null,null,null,null,null,0,null,{"$f":"MATCH(\"*\"&AC$1&\"*\",OFFSET(Inscriptions!X$4:X$303,SUM('1'!AF$6:'1'!AF40),0),0)","v":{"$error":"#N/A"}}]
[{"$f":"IF(ISNA(INDEX(Inscriptions!A$4:A$303,SUM('1'!AF$7:'1'!AF42))),\"\",INDEX(Inscriptions!A$4:A$303,SUM('1'!AF$7:'1'!AF42)))","v":""},{"$f":"IF(A42=\"\",\"\",VLOOKUP(A42,Data!G$2:K$302,5,FALSE))","v":""},{"$f":"IF(A42=\"\",\"\",VLOOKUP(A42,Data!G$2:K$302,2,FALSE))","v":""},{"$f":"IF(A42=\"\",\"\",VLOOKUP(A42,Data!G$2:K$302,3,FALSE))","v":""},{"$f":"IF(A42=\"\",\"\",VLOOKUP(A42,Data!G$2:K$302,4,FALSE))","v":""},null,null,null,null,null,null,null,null,null,null,null,null,null,null,null,null,null,null,null,null,null,null,null,null,0,null,{"$f":"MATCH(\"*\"&AC$1&\"*\",OFFSET(Inscriptions!X$4:X$303,SUM('1'!AF$6:'1'!AF41),0),0)","v":{"$error":"#N/A"}}]
[{"$f":"IF(ISNA(INDEX(Inscriptions!A$4:A$303,SUM('1'!AF$7:'1'!AF43))),\"\",INDEX(Inscriptions!A$4:A$303,SUM('1'!AF$7:'1'!AF43)))","v":""},{"$f":"IF(A43=\"\",\"\",VLOOKUP(A43,Data!G$2:K$302,5,FALSE))","v":""},{"$f":"IF(A43=\"\",\"\",VLOOKUP(A43,Data!G$2:K$302,2,FALSE))","v":""},{"$f":"IF(A43=\"\",\"\",VLOOKUP(A43,Data!G$2:K$302,3,FALSE))","v":""},{"$f":"IF(A43=\"\",\"\",VLOOKUP(A43,Data!G$2:K$302,4,FALSE))","v":""},null,null,null,null,null,null,null,null,null,null,null,null,null,null,null,null,null,null,null,null,null,null,null,null,0,null,{"$f":"MATCH(\"*\"&AC$1&\"*\",OFFSET(Inscriptions!X$4:X$303,SUM('1'!AF$6:'1'!AF42),0),0)","v":{"$error":"#N/A"}}]
[{"$f":"IF(ISNA(INDEX(Inscriptions!A$4:A$303,SUM('1'!AF$7:'1'!AF44))),\"\",INDEX(Inscriptions!A$4:A$303,SUM('1'!AF$7:'1'!AF44)))","v":""},{"$f":"IF(A44=\"\",\"\",VLOOKUP(A44,Data!G$2:K$302,5,FALSE))","v":""},{"$f":"IF(A44=\"\",\"\",VLOOKUP(A44,Data!G$2:K$302,2,FALSE))","v":""},{"$f":"IF(A44=\"\",\"\",VLOOKUP(A44,Data!G$2:K$302,3,FALSE))","v":""},{"$f":"IF(A44=\"\",\"\",VLOOKUP(A44,Data!G$2:K$302,4,FALSE))","v":""},null,null,null,null,null,null,null,null,null,null,null,null,null,null,null,null,null,null,null,null,null,null,null,null,0,null,{"$f":"MATCH(\"*\"&AC$1&\"*\",OFFSET(Inscriptions!X$4:X$303,SUM('1'!AF$6:'1'!AF43),0),0)","v":{"$error":"#N/A"}}]
[{"$f":"IF(ISNA(INDEX(Inscriptions!A$4:A$303,SUM('1'!AF$7:'1'!AF45))),\"\",INDEX(Inscriptions!A$4:A$303,SUM('1'!AF$7:'1'!AF45)))","v":""},{"$f":"IF(A45=\"\",\"\",VLOOKUP(A45,Data!G$2:K$302,5,FALSE))","v":""},{"$f":"IF(A45=\"\",\"\",VLOOKUP(A45,Data!G$2:K$302,2,FALSE))","v":""},{"$f":"IF(A45=\"\",\"\",VLOOKUP(A45,Data!G$2:K$302,3,FALSE))","v":""},{"$f":"IF(A45=\"\",\"\",VLOOKUP(A45,Data!G$2:K$302,4,FALSE))","v":""},null,null,null,null,null,null,null,null,null,null,null,null,null,null,null,null,null,null,null,null,null,null,null,null,0,null,{"$f":"MATCH(\"*\"&AC$1&\"*\",OFFSET(Inscriptions!X$4:X$303,SUM('1'!AF$6:'1'!AF44),0),0)","v":{"$error":"#N/A"}}]
[{"$f":"IF(ISNA(INDEX(Inscriptions!A$4:A$303,SUM('1'!AF$7:'1'!AF46))),\"\",INDEX(Inscriptions!A$4:A$303,SUM('1'!AF$7:'1'!AF46)))","v":""},{"$f":"IF(A46=\"\",\"\",VLOOKUP(A46,Data!G$2:K$302,5,FALSE))","v":""},{"$f":"IF(A46=\"\",\"\",VLOOKUP(A46,Data!G$2:K$302,2,FALSE))","v":""},{"$f":"IF(A46=\"\",\"\",VLOOKUP(A46,Data!G$2:K$302,3,FALSE))","v":""},{"$f":"IF(A46=\"\",\"\",VLOOKUP(A46,Data!G$2:K$302,4,FALSE))","v":""},null,null,null,null,null,null,null,null,null,null,null,null,null,null,null,null,null,null,null,null,null,null,null,null,0,null,{"$f":"MATCH(\"*\"&AC$1&\"*\",OFFSET(Inscriptions!X$4:X$303,SUM('1'!AF$6:'1'!AF45),0),0)","v":{"$error":"#N/A"}}]
[{"$f":"IF(ISNA(INDEX(Inscriptions!A$4:A$303,SUM('1'!AF$7:'1'!AF47))),\"\",INDEX(Inscriptions!A$4:A$303,SUM('1'!AF$7:'1'!AF47)))","v":""},{"$f":"IF(A47=\"\",\"\",VLOOKUP(A47,Data!G$2:K$302,5,FALSE))","v":""},{"$f":"IF(A47=\"\",\"\",VLOOKUP(A47,Data!G$2:K$302,2,FALSE))","v":""},{"$f":"IF(A47=\"\",\"\",VLOOKUP(A47,Data!G$2:K$302,3,FALSE))","v":""},{"$f":"IF(A47=\"\",\"\",VLOOKUP(A47,Data!G$2:K$302,4,FALSE))","v":""},null,null,null,null,null,null,null,null,null,null,null,null,null,null,null,null,null,null,null,null,null,null,null,null,0,null,{"$f":"MATCH(\"*\"&AC$1&\"*\",OFFSET(Inscriptions!X$4:X$303,SUM('1'!AF$6:'1'!AF46),0),0)","v":{"$error":"#N/A"}}]
[{"$f":"IF(ISNA(INDEX(Inscriptions!A$4:A$303,SUM('1'!AF$7:'1'!AF48))),\"\",INDEX(Inscriptions!A$4:A$303,SUM('1'!AF$7:'1'!AF48)))","v":""},{"$f":"IF(A48=\"\",\"\",VLOOKUP(A48,Data!G$2:K$302,5,FALSE))","v":""},{"$f":"IF(A48=\"\",\"\",VLOOKUP(A48,Data!G$2:K$302,2,FALSE))","v":""},{"$f":"IF(A48=\"\",\"\",VLOOKUP(A48,Data!G$2:K$302,3,FALSE))","v":""},{"$f":"IF(A48=\"\",\"\",VLOOKUP(A48,Data!G$2:K$302,4,FALSE))","v":""},null,null,null,null,null,null,null,null,null,null,null,null,null,null,null,null,null,null,null,null,null,null,null,null,0,null,{"$f":"MATCH(\"*\"&AC$1&\"*\",OFFSET(Inscriptions!X$4:X$303,SUM('1'!AF$6:'1'!AF47),0),0)","v":{"$error":"#N/A"}}]
[{"$f":"IF(ISNA(INDEX(Inscriptions!A$4:A$303,SUM('1'!AF$7:'1'!AF49))),\"\",INDEX(Inscriptions!A$4:A$303,SUM('1'!AF$7:'1'!AF49)))","v":""},{"$f":"IF(A49=\"\",\"\",VLOOKUP(A49,Data!G$2:K$302,5,FALSE))","v":""},{"$f":"IF(A49=\"\",\"\",VLOOKUP(A49,Data!G$2:K$302,2,FALSE))","v":""},{"$f":"IF(A49=\"\",\"\",VLOOKUP(A49,Data!G$2:K$302,3,FALSE))","v":""},{"$f":"IF(A49=\"\",\"\",VLOOKUP(A49,Data!G$2:K$302,4,FALSE))","v":""},null,null,null,null,null,null,null,null,null,null,null,null,null,null,null,null,null,null,null,null,null,null,null,null,0,null,{"$f":"MATCH(\"*\"&AC$1&\"*\",OFFSET(Inscriptions!X$4:X$303,SUM('1'!AF$6:'1'!AF48),0),0)","v":{"$error":"#N/A"}}]
[{"$f":"IF(ISNA(INDEX(Inscriptions!A$4:A$303,SUM('1'!AF$7:'1'!AF50))),\"\",INDEX(Inscriptions!A$4:A$303,SUM('1'!AF$7:'1'!AF50)))","v":""},{"$f":"IF(A50=\"\",\"\",VLOOKUP(A50,Data!G$2:K$302,5,FALSE))","v":""},{"$f":"IF(A50=\"\",\"\",VLOOKUP(A50,Data!G$2:K$302,2,FALSE))","v":""},{"$f":"IF(A50=\"\",\"\",VLOOKUP(A50,Data!G$2:K$302,3,FALSE))","v":""},{"$f":"IF(A50=\"\",\"\",VLOOKUP(A50,Data!G$2:K$302,4,FALSE))","v":""},null,null,null,null,null,null,null,null,null,null,null,null,null,null,null,null,null,null,null,null,null,null,null,null,0,null,{"$f":"MATCH(\"*\"&AC$1&\"*\",OFFSET(Inscriptions!X$4:X$303,SUM('1'!AF$6:'1'!AF49),0),0)","v":{"$error":"#N/A"}}]
[{"$f":"IF(ISNA(INDEX(Inscriptions!A$4:A$303,SUM('1'!AF$7:'1'!AF51))),\"\",INDEX(Inscriptions!A$4:A$303,SUM('1'!AF$7:'1'!AF51)))","v":""},{"$f":"IF(A51=\"\",\"\",VLOOKUP(A51,Data!G$2:K$302,5,FALSE))","v":""},{"$f":"IF(A51=\"\",\"\",VLOOKUP(A51,Data!G$2:K$302,2,FALSE))","v":""},{"$f":"IF(A51=\"\",\"\",VLOOKUP(A51,Data!G$2:K$302,3,FALSE))","v":""},{"$f":"IF(A51=\"\",\"\",VLOOKUP(A51,Data!G$2:K$302,4,FALSE))","v":""},null,null,null,null,null,null,null,null,null,null,null,null,null,null,null,null,null,null,null,null,null,null,null,null,0,null,{"$f":"MATCH(\"*\"&AC$1&\"*\",OFFSET(Inscriptions!X$4:X$303,SUM('1'!AF$6:'1'!AF50),0),0)","v":{"$error":"#N/A"}}]
[{"$f":"IF(ISNA(INDEX(Inscriptions!A$4:A$303,SUM('1'!AF$7:'1'!AF52))),\"\",INDEX(Inscriptions!A$4:A$303,SUM('1'!AF$7:'1'!AF52)))","v":""},{"$f":"IF(A52=\"\",\"\",VLOOKUP(A52,Data!G$2:K$302,5,FALSE))","v":""},{"$f":"IF(A52=\"\",\"\",VLOOKUP(A52,Data!G$2:K$302,2,FALSE))","v":""},{"$f":"IF(A52=\"\",\"\",VLOOKUP(A52,Data!G$2:K$302,3,FALSE))","v":""},{"$f":"IF(A52=\"\",\"\",VLOOKUP(A52,Data!G$2:K$302,4,FALSE))","v":""},null,null,null,null,null,null,null,null,null,null,null,null,null,null,null,null,null,null,null,null,null,null,null,null,0,null,{"$f":"MATCH(\"*\"&AC$1&\"*\",OFFSET(Inscriptions!X$4:X$303,SUM('1'!AF$6:'1'!AF51),0),0)","v":{"$error":"#N/A"}}]
[{"$f":"IF(ISNA(INDEX(Inscriptions!A$4:A$303,SUM('1'!AF$7:'1'!AF53))),\"\",INDEX(Inscriptions!A$4:A$303,SUM('1'!AF$7:'1'!AF53)))","v":""},{"$f":"IF(A53=\"\",\"\",VLOOKUP(A53,Data!G$2:K$302,5,FALSE))","v":""},{"$f":"IF(A53=\"\",\"\",VLOOKUP(A53,Data!G$2:K$302,2,FALSE))","v":""},{"$f":"IF(A53=\"\",\"\",VLOOKUP(A53,Data!G$2:K$302,3,FALSE))","v":""},{"$f":"IF(A53=\"\",\"\",VLOOKUP(A53,Data!G$2:K$302,4,FALSE))","v":""},null,null,null,null,null,null,null,null,null,null,null,null,null,null,null,null,null,null,null,null,null,null,null,null,0,null,{"$f":"MATCH(\"*\"&AC$1&\"*\",OFFSET(Inscriptions!X$4:X$303,SUM('1'!AF$6:'1'!AF52),0),0)","v":{"$error":"#N/A"}}]
[{"$f":"IF(ISNA(INDEX(Inscriptions!A$4:A$303,SUM('1'!AF$7:'1'!AF54))),\"\",INDEX(Inscriptions!A$4:A$303,SUM('1'!AF$7:'1'!AF54)))","v":""},{"$f":"IF(A54=\"\",\"\",VLOOKUP(A54,Data!G$2:K$302,5,FALSE))","v":""},{"$f":"IF(A54=\"\",\"\",VLOOKUP(A54,Data!G$2:K$302,2,FALSE))","v":""},{"$f":"IF(A54=\"\",\"\",VLOOKUP(A54,Data!G$2:K$302,3,FALSE))","v":""},{"$f":"IF(A54=\"\",\"\",VLOOKUP(A54,Data!G$2:K$302,4,FALSE))","v":""},null,null,null,null,null,null,null,null,null,null,null,null,null,null,null,null,null,null,null,null,null,null,null,null,0,null,{"$f":"MATCH(\"*\"&AC$1&\"*\",OFFSET(Inscriptions!X$4:X$303,SUM('1'!AF$6:'1'!AF53),0),0)","v":{"$error":"#N/A"}}]
[{"$f":"IF(ISNA(INDEX(Inscriptions!A$4:A$303,SUM('1'!AF$7:'1'!AF55))),\"\",INDEX(Inscriptions!A$4:A$303,SUM('1'!AF$7:'1'!AF55)))","v":""},{"$f":"IF(A55=\"\",\"\",VLOOKUP(A55,Data!G$2:K$302,5,FALSE))","v":""},{"$f":"IF(A55=\"\",\"\",VLOOKUP(A55,Data!G$2:K$302,2,FALSE))","v":""},{"$f":"IF(A55=\"\",\"\",VLOOKUP(A55,Data!G$2:K$302,3,FALSE))","v":""},{"$f":"IF(A55=\"\",\"\",VLOOKUP(A55,Data!G$2:K$302,4,FALSE))","v":""},null,null,null,null,null,null,null,null,null,null,null,null,null,null,null,null,null,null,null,null,null,null,null,null,0,null,{"$f":"MATCH(\"*\"&AC$1&\"*\",OFFSET(Inscriptions!X$4:X$303,SUM('1'!AF$6:'1'!AF54),0),0)","v":{"$error":"#N/A"}}]
[{"$f":"CONCATENATE(IF(ChoixLangue=Languages!$B$1,Languages!$B105,IF(ChoixLangue=Languages!$C$1,Languages!$C105,IF(ChoixLangue=Languages!$D$1,Languages!$D105,Languages!$E105))),SUM(AD7:AD55))","v":"Nbe nageuses : 0"},"-","-","-",null,"-","-","-","-"]

{"sheet":"2","index":18,"n_rows":56,"n_cols":32,"rows_kept":56,"cut":false,"hidden":true,"merged":[[3,0,3,8]]}
[{"$f":"IF('Cover Page'!B5=\"\",\"\",'Cover Page'!B5)","v":""},null,null,null,null,null,null,null,null,null,null,null,null,null,null,null,null,null,null,null,null,null,null,null,null,null,null,null,"x",null,null,{"$f":"MID(CELL(\"filename\",A1),FIND(\"]\",CELL(\"filename\",A1),1)+1,20)","v":"2"}]
[{"$f":"IF('Cover Page'!B6=\"\",\"\",'Cover Page'!B6)","v":""},null,null,null,null,null,null,null,{"$f":"IF(ChoixLangue=Languages!$B$1,Languages!$B$97 & \" \" & AF1,IF(ChoixLangue=Languages!$C$1,Languages!$C$97 & \" \" & AF1,IF(ChoixLangue=Languages!$D$1,Languages!$D$97 & \" \" & AF1,Languages!$E$97 & \" \" & AF1)))","v":"Catégorie 2"}]
[{"$f":"IF('Cover Page'!B7=\"\",\"\",'Cover Page'!B7)","v":""}]
[{"$f":"IF('Cover Page'!B10=\"\",\"\",CONCATENATE(IF(ChoixLangue=Languages!$B$1,Languages!$B98,IF(ChoixLangue=Languages!$C$1,Languages!$C98,IF(ChoixLangue=Languages!$D$1,Languages!$D98,Languages!$E98))),'Cover Page'!B10))","v":""}]
[{"$f":"A56","v":"Nbe nageuses : 0"}]
[{"$f":"IF(ChoixLangue=Languages!$B$1,Languages!$B99,IF(ChoixLangue=Languages!$C$1,Languages!$C99,IF(ChoixLangue=Languages!$D$1,Languages!$D99,Languages!$E99)))","v":"NOM Prénom"},{"$f":"IF(ChoixLangue=Languages!$B$1,Languages!$B100,IF(ChoixLangue=Languages!$C$1,Languages!$C100,IF(ChoixLangue=Languages!$D$1,Languages!$D100,Languages!$E100)))","v":"Club"},{"$f":"IF(ChoixLangue=Languages!$B$1,Languages!$B101,IF(ChoixLangue=Languages!$C$1,Languages!$C101,IF(ChoixLangue=Languages!$D$1,Languages!$D101,Languages!$E101)))","v":"Licence"},{"$f":"IF(ChoixLangue=Languages!$B$1,Languages!$B102,IF(ChoixLangue=Languages!$C$1,Languages!$C102,IF(ChoixLangue=Languages!$D$1,Languages!$D102,Languages!$E102)))","v":"An. Nais."},{"$f":"IF(ChoixLangue=Languages!$B$1,Languages!$B103,IF(ChoixLangue=Languages!$C$1,Languages!$C103,IF(ChoixLangue=Languages!$D$1,Languages!$D103,Languages!$E103)))","v":"N° Test"},{"$f":"IF(ChoixLangue=Languages!$B$1,Languages!$B104,IF(ChoixLangue=Languages!$C$1,Languages!$C104,IF(ChoixLangue=Languages!$D$1,Languages!$D104,Languages!$E104)))","v":"Figures"},"Solo Free","Duo Free","Team Free"]
[{"$f":"IF(ISNA(INDEX(Inscriptions!A$4:A$303,SUM('2'!AF$7:'2'!AF7))),\"\",INDEX(Inscriptions!A$4:A$303,SUM('2'!AF$7:'2'!AF7)))","v":""},{"$f":"IF(A7=\"\",\"\",VLOOKUP(A7,Data!G$2:K$302,5,FALSE))","v":""},{"$f":"IF(A7=\"\",\"\",VLOOKUP(A7,Data!G$2:K$302,2,FALSE))","v":""},{"$f":"IF(A7=\"\",\"\",VLOOKUP(A7,Data!G$2:K$302,3,FALSE))","v":""},{"$f":"IF(A7=\"\",\"\",VLOOKUP(A7,Data!G$2:K$302,4,FALSE))","v":""},null,null,null,null,null,null,null,null,null,null,null,null,null,null,null,null,null,null,null,null,null,null,null,null,{"$f":"IF(A7<>\"\",1,0)","v":0},null,{"$f":"MATCH(\"*\"&AC$1&\"*\",OFFSET(Inscriptions!Y$4:Y$303,SUM('2'!AF$6:'2'!AF6),0),0)","v":{"$error":"#N/A"}}]
[{"$f":"IF(ISNA(INDEX(Inscriptions!A$4:A$303,SUM('2'!AF$7:'2'!AF8))),\"\",INDEX(Inscriptions!A$4:A$303,SUM('2'!AF$7:'2'!AF8)))","v":""},{"$f":"IF(A8=\"\",\"\",VLOOKUP(A8,Data!G$2:K$302,5,FALSE))","v":""},{"$f":"IF(A8=\"\",\"\",VLOOKUP(A8,Data!G$2:K$302,2,FALSE))","v":""},{"$f":"IF(A8=\"\",\"\",VLOOKUP(A8,Data!G$2:K$302,3,FALSE))","v":""},{"$f":"IF(A8=\"\",\"\",VLOOKUP(A8,Data!G$2:K$302,4,FALSE))","v":""},null,null,null,null,null,null,null,null,null,null,null,null,null,null,null,null,null,null,null,null,null,null,null,null,{"$f":"IF(A8<>\"\",1,0)","v":0},null,{"$f":"MATCH(\"*\"&AC$1&\"*\",OFFSET(Inscriptions!Y$4:Y$303,SUM('2'!AF$6:'2'!AF7),0),0)","v":{"$error":"#N/A"}}]
[{"$f":"IF(ISNA(INDEX(Inscriptions!A$4:A$303,SUM('2'!AF$7:'2'!AF9))),\"\",INDEX(Inscriptions!A$4:A$303,SUM('2'!AF$7:'2'!AF9)))","v":""},{"$f":"IF(A9=\"\",\"\",VLOOKUP(A9,Data!G$2:K$302,5,FALSE))","v":""},{"$f":"IF(A9=\"\",\"\",VLOOKUP(A9,Data!G$2:K$302,2,FALSE))","v":""},{"$f":"IF(A9=\"\",\"\",VLOOKUP(A9,Data!G$2:K$302,3,FALSE))","v":""},{"$f":"IF(A9=\"\",\"\",VLOOKUP(A9,Data!G$2:K$302,4,FALSE))","v":""},null,null,null,null,null,null,null,null,null,null,null,null,null,null,null,null,null,null,null,null,null,null,null,null,{"$f":"IF(A9<>\"\",1,0)","v":0},null,{"$f":"MATCH(\"*\"&AC$1&\"*\",OFFSET(Inscriptions!Y$4:Y$303,SUM('2'!AF$6:'2'!AF8),0),0)","v":{"$error":"#N/A"}}]
[{"$f":"IF(ISNA(INDEX(Inscriptions!A$4:A$303,SUM('2'!AF$7:'2'!AF10))),\"\",INDEX(Inscriptions!A$4:A$303,SUM('2'!AF$7:'2'!AF10)))","v":""},{"$f":"IF(A10=\"\",\"\",VLOOKUP(A10,Data!G$2:K$302,5,FALSE))","v":""},{"$f":"IF(A10=\"\",\"\",VLOOKUP(A10,Data!G$2:K$302,2,FALSE))","v":""},{"$f":"IF(A10=\"\",\"\",VLOOKUP(A10,Data!G$2:K$302,3,FALSE))","v":""},{"$f":"IF(A10=\"\",\"\",VLOOKUP(A10,Data!G$2:K$302,4,FALSE))","v":""},null,null,null,null,null,null,null,null,null,null,null,null,null,null,null,null,null,null,null,null,null,null,null,null,0,null,{"$f":"MATCH(\"*\"&AC$1&\"*\",OFFSET(Inscriptions!Y$4:Y$303,SUM('2'!AF$6:'2'!AF9),0),0)","v":{"$error":"#N/A"}}]
[{"$f":"IF(ISNA(INDEX(Inscriptions!A$4:A$303,SUM('2'!AF$7:'2'!AF11))),\"\",INDEX(Inscriptions!A$4:A$303,SUM('2'!AF$7:'2'!AF11)))","v":""},{"$f":"IF(A11=\"\",\"\",VLOOKUP(A11,Data!G$2:K$302,5,FALSE))","v":""},{"$f":"IF(A11=\"\",\"\",VLOOKUP(A11,Data!G$2:K$302,2,FALSE))","v":""},{"$f":"IF(A11=\"\",\"\",VLOOKUP(A11,Data!G$2:K$302,3,FALSE))","v":""},{"$f":"IF(A11=\"\",\"\",VLOOKUP(A11,Data!G$2:K$302,4,FALSE))","v":""},null,null,null,null,null,null,null,null,null,null,null,null,null,null,null,null,null,null,null,null,null,null,null,null,0,null,{"$f":"MATCH(\"*\"&AC$1&\"*\",OFFSET(Inscriptions!Y$4:Y$303,SUM('2'!AF$6:'2'!AF10),0),0)","v":{"$error":"#N/A"}}]
[{"$f":"IF(ISNA(INDEX(Inscriptions!A$4:A$303,SUM('2'!AF$7:'2'!AF12))),\"\",INDEX(Inscriptions!A$4:A$303,SUM('2'!AF$7:'2'!AF12)))","v":""},{"$f":"IF(A12=\"\",\"\",VLOOKUP(A12,Data!G$2:K$302,5,FALSE))","v":""},{"$f":"IF(A12=\"\",\"\",VLOOKUP(A12,Data!G$2:K$302,2,FALSE))","v":""},{"$f":"IF(A12=\"\",\"\",VLOOKUP(A12,Data!G$2:K$302,3,FALSE))","v":""},{"$f":"IF(A12=\"\",\"\",VLOOKUP(A12,Data!G$2:K$302,4,FALSE))","v":""},null,null,null,null,null,null,null,null,null,null,null,null,null,null,null,null,null,null,null,null,null,null,null,null,0,null,{"$f":"MATCH(\"*\"&AC$1&\"*\",OFFSET(Inscriptions!Y$4:Y$303,SUM('2'!AF$6:'2'!AF11),0),0)","v":{"$error":"#N/A"}}]
[{"$f":"IF(ISNA(INDEX(Inscriptions!A$4:A$303,SUM('2'!AF$7:'2'!AF13))),\"\",INDEX(Inscriptions!A$4:A$303,SUM('2'!AF$7:'2'!AF13)))","v":""},{"$f":"IF(A13=\"\",\"\",VLOOKUP(A13,Data!G$2:K$302,5,FALSE))","v":""},{"$f":"IF(A13=\"\",\"\",VLOOKUP(A13,Data!G$2:K$302,2,FALSE))","v":""},{"$f":"IF(A13=\"\",\"\",VLOOKUP(A13,Data!G$2:K$302,3,FALSE))","v":""},{"$f":"IF(A13=\"\",\"\",VLOOKUP(A13,Data!G$2:K$302,4,FALSE))","v":""},null,null,null,null,null,null,null,null,null,null,null,null,null,null,null,null,null,null,null,null,null,null,null,null,0,null,{"$f":"MATCH(\"*\"&AC$1&\"*\",OFFSET(Inscriptions!Y$4:Y$303,SUM('2'!AF$6:'2'!AF12),0),0)","v":{"$error":"#N/A"}}]
[{"$f":"IF(ISNA(INDEX(Inscriptions!A$4:A$303,SUM('2'!AF$7:'2'!AF14))),\"\",INDEX(Inscriptions!A$4:A$303,SUM('2'!AF$7:'2'!AF14)))","v":""},{"$f":"IF(A14=\"\",\"\",VLOOKUP(A14,Data!G$2:K$302,5,FALSE))","v":""},{"$f":"IF(A14=\"\",\"\",VLOOKUP(A14,Data!G$2:K$302,2,FALSE))","v":""},{"$f":"IF(A14=\"\",\"\",VLOOKUP(A14,Data!G$2:K$302,3,FALSE))","v":""},{"$f":"IF(A14=\"\",\"\",VLOOKUP(A14,Data!G$2:K$302,4,FALSE))","v":""},null,null,null,null,null,null,null,null,null,null,null,null,null,null,null,null,null,null,null,null,null,null,null,null,0,null,{"$f":"MATCH(\"*\"&AC$1&\"*\",OFFSET(Inscriptions!Y$4:Y$303,SUM('2'!AF$6:'2'!AF13),0),0)","v":{"$error":"#N/A"}}]
[{"$f":"IF(ISNA(INDEX(Inscriptions!A$4:A$303,SUM('2'!AF$7:'2'!AF15))),\"\",INDEX(Inscriptions!A$4:A$303,SUM('2'!AF$7:'2'!AF15)))","v":""},{"$f":"IF(A15=\"\",\"\",VLOOKUP(A15,Data!G$2:K$302,5,FALSE))","v":""},{"$f":"IF(A15=\"\",\"\",VLOOKUP(A15,Data!G$2:K$302,2,FALSE))","v":""},{"$f":"IF(A15=\"\",\"\",VLOOKUP(A15,Data!G$2:K$302,3,FALSE))","v":""},{"$f":"IF(A15=\"\",\"\",VLOOKUP(A15,Data!G$2:K$302,4,FALSE))","v":""},null,null,null,null,null,null,null,null,null,null,null,null,null,null,null,null,null,null,null,null,null,null,null,null,0,null,{"$f":"MATCH(\"*\"&AC$1&\"*\",OFFSET(Inscriptions!Y$4:Y$303,SUM('2'!AF$6:'2'!AF14),0),0)","v":{"$error":"#N/A"}}]
[{"$f":"IF(ISNA(INDEX(Inscriptions!A$4:A$303,SUM('2'!AF$7:'2'!AF16))),\"\",INDEX(Inscriptions!A$4:A$303,SUM('2'!AF$7:'2'!AF16)))","v":""},{"$f":"IF(A16=\"\",\"\",VLOOKUP(A16,Data!G$2:K$302,5,FALSE))","v":""},{"$f":"IF(A16=\"\",\"\",VLOOKUP(A16,Data!G$2:K$302,2,FALSE))","v":""},{"$f":"IF(A16=\"\",\"\",VLOOKUP(A16,Data!G$2:K$302,3,FALSE))","v":""},{"$f":"IF(A16=\"\",\"\",VLOOKUP(A16,Data!G$2:K$302,4,FALSE))","v":""},null,null,null,null,null,null,null,null,null,null,null,null,null,null,null,null,null,null,null,null,null,null,null,null,0,null,{"$f":"MATCH(\"*\"&AC$1&\"*\",OFFSET(Inscriptions!Y$4:Y$303,SUM('2'!AF$6:'2'!AF15),0),0)","v":{"$error":"#N/A"}}]
[{"$f":"IF(ISNA(INDEX(Inscriptions!A$4:A$303,SUM('2'!AF$7:'2'!AF17))),\"\",INDEX(Inscriptions!A$4:A$303,SUM('2'!AF$7:'2'!AF17)))","v":""},{"$f":"IF(A17=\"\",\"\",VLOOKUP(A17,Data!G$2:K$302,5,FALSE))","v":""},{"$f":"IF(A17=\"\",\"\",VLOOKUP(A17,Data!G$2:K$302,2,FALSE))","v":""},{"$f":"IF(A17=\"\",\"\",VLOOKUP(A17,Data!G$2:K$302,3,FALSE))","v":""},{"$f":"IF(A17=\"\",\"\",VLOOKUP(A17,Data!G$2:K$302,4,FALSE))","v":""},null,null,null,null,null,null,null,null,null,null,null,null,null,null,null,null,null,null,null,null,null,null,null,null,0,null,{"$f":"MATCH(\"*\"&AC$1&\"*\",OFFSET(Inscriptions!Y$4:Y$303,SUM('2'!AF$6:'2'!AF16),0),0)","v":{"$error":"#N/A"}}]
[{"$f":"IF(ISNA(INDEX(Inscriptions!A$4:A$303,SUM('2'!AF$7:'2'!AF18))),\"\",INDEX(Inscriptions!A$4:A$303,SUM('2'!AF$7:'2'!AF18)))","v":""},{"$f":"IF(A18=\"\",\"\",VLOOKUP(A18,Data!G$2:K$302,5,FALSE))","v":""},{"$f":"IF(A18=\"\",\"\",VLOOKUP(A18,Data!G$2:K$302,2,FALSE))","v":""},{"$f":"IF(A18=\"\",\"\",VLOOKUP(A18,Data!G$2:K$302,3,FALSE))","v":""},{"$f":"IF(A18=\"\",\"\",VLOOKUP(A18,Data!G$2:K$302,4,FALSE))","v":""},null,null,null,null,null,null,null,null,null,null,null,null,null,null,null,null,null,null,null,null,null,null,null,null,0,null,{"$f":"MATCH(\"*\"&AC$1&\"*\",OFFSET(Inscriptions!Y$4:Y$303,SUM('2'!AF$6:'2'!AF17),0),0)","v":{"$error":"#N/A"}}]
[{"$f":"IF(ISNA(INDEX(Inscriptions!A$4:A$303,SUM('2'!AF$7:'2'!AF19))),\"\",INDEX(Inscriptions!A$4:A$303,SUM('2'!AF$7:'2'!AF19)))","v":""},{"$f":"IF(A19=\"\",\"\",VLOOKUP(A19,Data!G$2:K$302,5,FALSE))","v":""},{"$f":"IF(A19=\"\",\"\",VLOOKUP(A19,Data!G$2:K$302,2,FALSE))","v":""},{"$f":"IF(A19=\"\",\"\",VLOOKUP(A19,Data!G$2:K$302,3,FALSE))","v":""},{"$f":"IF(A19=\"\",\"\",VLOOKUP(A19,Data!G$2:K$302,4,FALSE))","v":""},null,null,null,null,null,null,null,null,null,null,null,null,null,null,null,null,null,null,null,null,null,null,null,null,0,null,{"$f":"MATCH(\"*\"&AC$1&\"*\",OFFSET(Inscriptions!Y$4:Y$303,SUM('2'!AF$6:'2'!AF18),0),0)","v":{"$error":"#N/A"}}]
[{"$f":"IF(ISNA(INDEX(Inscriptions!A$4:A$303,SUM('2'!AF$7:'2'!AF20))),\"\",INDEX(Inscriptions!A$4:A$303,SUM('2'!AF$7:'2'!AF20)))","v":""},{"$f":"IF(A20=\"\",\"\",VLOOKUP(A20,Data!G$2:K$302,5,FALSE))","v":""},{"$f":"IF(A20=\"\",\"\",VLOOKUP(A20,Data!G$2:K$302,2,FALSE))","v":""},{"$f":"IF(A20=\"\",\"\",VLOOKUP(A20,Data!G$2:K$302,3,FALSE))","v":""},{"$f":"IF(A20=\"\",\"\",VLOOKUP(A20,Data!G$2:K$302,4,FALSE))","v":""},null,null,null,null,null,null,null,null,null,null,null,null,null,null,null,null,null,null,null,null,null,null,null,null,0,null,{"$f":"MATCH(\"*\"&AC$1&\"*\",OFFSET(Inscriptions!Y$4:Y$303,SUM('2'!AF$6:'2'!AF19),0),0)","v":{"$error":"#N/A"}}]
[{"$f":"IF(ISNA(INDEX(Inscriptions!A$4:A$303,SUM('2'!AF$7:'2'!AF21))),\"\",INDEX(Inscriptions!A$4:A$303,SUM('2'!AF$7:'2'!AF21)))","v":""},{"$f":"IF(A21=\"\",\"\",VLOOKUP(A21,Data!G$2:K$302,5,FALSE))","v":""},{"$f":"IF(A21=\"\",\"\",VLOOKUP(A21,Data!G$2:K$302,2,FALSE))","v":""},{"$f":"IF(A21=\"\",\"\",VLOOKUP(A21,Data!G$2:K$302,3,FALSE))","v":""},{"$f":"IF(A21=\"\",\"\",VLOOKUP(A21,Data!G$2:K$302,4,FALSE))","v":""},null,null,null,null,null,null,null,null,null,null,null,null,null,null,null,null,null,null,null,null,null,null,null,null,0,null,{"$f":"MATCH(\"*\"&AC$1&\"*\",OFFSET(Inscriptions!Y$4:Y$303,SUM('2'!AF$6:'2'!AF20),0),0)","v":{"$error":"#N/A"}}]
[{"$f":"IF(ISNA(INDEX(Inscriptions!A$4:A$303,SUM('2'!AF$7:'2'!AF22))),\"\",INDEX(Inscriptions!A$4:A$303,SUM('2'!AF$7:'2'!AF22)))","v":""},{"$f":"IF(A22=\"\",\"\",VLOOKUP(A22,Data!G$2:K$302,5,FALSE))","v":""},{"$f":"IF(A22=\"\",\"\",VLOOKUP(A22,Data!G$2:K$302,2,FALSE))","v":""},{"$f":"IF(A22=\"\",\"\",VLOOKUP(A22,Data!G$2:K$302,3,FALSE))","v":""},{"$f":"IF(A22=\"\",\"\",VLOOKUP(A22,Data!G$2:K$302,4,FALSE))","v":""},null,null,null,null,null,null,null,null,null,null,null,null,null,null,null,null,null,null,null,null,null,null,null,null,0,null,{"$f":"MATCH(\"*\"&AC$1&\"*\",OFFSET(Inscriptions!Y$4:Y$303,SUM('2'!AF$6:'2'!AF21),0),0)","v":{"$error":"#N/A"}}]
[{"$f":"IF(ISNA(INDEX(Inscriptions!A$4:A$303,SUM('2'!AF$7:'2'!AF23))),\"\",INDEX(Inscriptions!A$4:A$303,SUM('2'!AF$7:'2'!AF23)))","v":""},{"$f":"IF(A23=\"\",\"\",VLOOKUP(A23,Data!G$2:K$302,5,FALSE))","v":""},{"$f":"IF(A23=\"\",\"\",VLOOKUP(A23,Data!G$2:K$302,2,FALSE))","v":""},{"$f":"IF(A23=\"\",\"\",VLOOKUP(A23,Data!G$2:K$302,3,FALSE))","v":""},{"$f":"IF(A23=\"\",\"\",VLOOKUP(A23,Data!G$2:K$302,4,FALSE))","v":""},null,null,null,null,null,null,null,null,null,null,null,null,null,null,null,null,null,null,null,null,null,null,null,null,0,null,{"$f":"MATCH(\"*\"&AC$1&\"*\",OFFSET(Inscriptions!Y$4:Y$303,SUM('2'!AF$6:'2'!AF22),0),0)","v":{"$error":"#N/A"}}]
[{"$f":"IF(ISNA(INDEX(Inscriptions!A$4:A$303,SUM('2'!AF$7:'2'!AF24))),\"\",INDEX(Inscriptions!A$4:A$303,SUM('2'!AF$7:'2'!AF24)))","v":""},{"$f":"IF(A24=\"\",\"\",VLOOKUP(A24,Data!G$2:K$302,5,FALSE))","v":""},{"$f":"IF(A24=\"\",\"\",VLOOKUP(A24,Data!G$2:K$302,2,FALSE))","v":""},{"$f":"IF(A24=\"\",\"\",VLOOKUP(A24,Data!G$2:K$302,3,FALSE))","v":""},{"$f":"IF(A24=\"\",\"\",VLOOKUP(A24,Data!G$2:K$302,4,FALSE))","v":""},null,null,null,null,null,null,null,null,null,null,null,null,null,null,null,null,null,null,null,null,null,null,null,null,0,null,{"$f":"MATCH(\"*\"&AC$1&\"*\",OFFSET(Inscriptions!Y$4:Y$303,SUM('2'!AF$6:'2'!AF23),0),0)","v":{"$error":"#N/A"}}]
[{"$f":"IF(ISNA(INDEX(Inscriptions!A$4:A$303,SUM('2'!AF$7:'2'!AF25))),\"\",INDEX(Inscriptions!A$4:A$303,SUM('2'!AF$7:'2'!AF25)))","v":""},{"$f":"IF(A25=\"\",\"\",VLOOKUP(A25,Data!G$2:K$302,5,FALSE))","v":""},{"$f":"IF(A25=\"\",\"\",VLOOKUP(A25,Data!G$2:K$302,2,FALSE))","v":""},{"$f":"IF(A25=\"\",\"\",VLOOKUP(A25,Data!G$2:K$302,3,FALSE))","v":""},{"$f":"IF(A25=\"\",\"\",VLOOKUP(A25,Data!G$2:K$302,4,FALSE))","v":""},null,null,null,null,null,null,null,null,null,null,null,null,null,null,null,null,null,null,null,null,null,null,null,null,0,null,{"$f":"MATCH(\"*\"&AC$1&\"*\",OFFSET(Inscriptions!Y$4:Y$303,SUM('2'!AF$6:'2'!AF24),0),0)","v":{"$error":"#N/A"}}]
[{"$f":"IF(ISNA(INDEX(Inscriptions!A$4:A$303,SUM('2'!AF$7:'2'!AF26))),\"\",INDEX(Inscriptions!A$4:A$303,SUM('2'!AF$7:'2'!AF26)))","v":""},{"$f":"IF(A26=\"\",\"\",VLOOKUP(A26,Data!G$2:K$302,5,FALSE))","v":""},{"$f":"IF(A26=\"\",\"\",VLOOKUP(A26,Data!G$2:K$302,2,FALSE))","v":""},{"$f":"IF(A26=\"\",\"\",VLOOKUP(A26,Data!G$2:K$302,3,FALSE))","v":""},{"$f":"IF(A26=\"\",\"\",VLOOKUP(A26,Data!G$2:K$302,4,FALSE))","v":""},null,null,null,null,null,null,null,null,null,null,null,null,null,null,null,null,null,null,null,null,null,null,null,null,0,null,{"$f":"MATCH(\"*\"&AC$1&\"*\",OFFSET(Inscriptions!Y$4:Y$303,SUM('2'!AF$6:'2'!AF25),0),0)","v":{"$error":"#N/A"}}]
[{"$f":"IF(ISNA(INDEX(Inscriptions!A$4:A$303,SUM('2'!AF$7:'2'!AF27))),\"\",INDEX(Inscriptions!A$4:A$303,SUM('2'!AF$7:'2'!AF27)))","v":""},{"$f":"IF(A27=\"\",\"\",VLOOKUP(A27,Data!G$2:K$302,5,FALSE))","v":""},{"$f":"IF(A27=\"\",\"\",VLOOKUP(A27,Data!G$2:K$302,2,FALSE))","v":""},{"$f":"IF(A27=\"\",\"\",VLOOKUP(A27,Data!G$2:K$302,3,FALSE))","v":""},{"$f":"IF(A27=\"\",\"\",VLOOKUP(A27,Data!G$2:K$302,4,FALSE))","v":""},null,null,null,null,null,null,null,null,null,null,null,null,null,null,null,null,null,null,null,null,null,null,null,null,0,null,{"$f":"MATCH(\"*\"&AC$1&\"*\",OFFSET(Inscriptions!Y$4:Y$303,SUM('2'!AF$6:'2'!AF26),0),0)","v":{"$error":"#N/A"}}]
[{"$f":"IF(ISNA(INDEX(Inscriptions!A$4:A$303,SUM('2'!AF$7:'2'!AF28))),\"\",INDEX(Inscriptions!A$4:A$303,SUM('2'!AF$7:'2'!AF28)))","v":""},{"$f":"IF(A28=\"\",\"\",VLOOKUP(A28,Data!G$2:K$302,5,FALSE))","v":""},{"$f":"IF(A28=\"\",\"\",VLOOKUP(A28,Data!G$2:K$302,2,FALSE))","v":""},{"$f":"IF(A28=\"\",\"\",VLOOKUP(A28,Data!G$2:K$302,3,FALSE))","v":""},{"$f":"IF(A28=\"\",\"\",VLOOKUP(A28,Data!G$2:K$302,4,FALSE))","v":""},null,null,null,null,null,null,null,null,null,null,null,null,null,null,null,null,null,null,null,null,null,null,null,null,0,null,{"$f":"MATCH(\"*\"&AC$1&\"*\",OFFSET(Inscriptions!Y$4:Y$303,SUM('2'!AF$6:'2'!AF27),0),0)","v":{"$error":"#N/A"}}]
[{"$f":"IF(ISNA(INDEX(Inscriptions!A$4:A$303,SUM('2'!AF$7:'2'!AF29))),\"\",INDEX(Inscriptions!A$4:A$303,SUM('2'!AF$7:'2'!AF29)))","v":""},{"$f":"IF(A29=\"\",\"\",VLOOKUP(A29,Data!G$2:K$302,5,FALSE))","v":""},{"$f":"IF(A29=\"\",\"\",VLOOKUP(A29,Data!G$2:K$302,2,FALSE))","v":""},{"$f":"IF(A29=\"\",\"\",VLOOKUP(A29,Data!G$2:K$302,3,FALSE))","v":""},{"$f":"IF(A29=\"\",\"\",VLOOKUP(A29,Data!G$2:K$302,4,FALSE))","v":""},null,null,null,null,null,null,null,null,null,null,null,null,null,null,null,null,null,null,null,null,null,null,null,null,0,null,{"$f":"MATCH(\"*\"&AC$1&\"*\",OFFSET(Inscriptions!Y$4:Y$303,SUM('2'!AF$6:'2'!AF28),0),0)","v":{"$error":"#N/A"}}]
[{"$f":"IF(ISNA(INDEX(Inscriptions!A$4:A$303,SUM('2'!AF$7:'2'!AF30))),\"\",INDEX(Inscriptions!A$4:A$303,SUM('2'!AF$7:'2'!AF30)))","v":""},{"$f":"IF(A30=\"\",\"\",VLOOKUP(A30,Data!G$2:K$302,5,FALSE))","v":""},{"$f":"IF(A30=\"\",\"\",VLOOKUP(A30,Data!G$2:K$302,2,FALSE))","v":""},{"$f":"IF(A30=\"\",\"\",VLOOKUP(A30,Data!G$2:K$302,3,FALSE))","v":""},{"$f":"IF(A30=\"\",\"\",VLOOKUP(A30,Data!G$2:K$302,4,FALSE))","v":""},null,null,null,null,null,null,null,null,null,null,null,null,null,null,null,null,null,null,null,null,null,null,null,null,0,null,{"$f":"MATCH(\"*\"&AC$1&\"*\",OFFSET(Inscriptions!Y$4:Y$303,SUM('2'!AF$6:'2'!AF29),0),0)","v":{"$error":"#N/A"}}]
[{"$f":"IF(ISNA(INDEX(Inscriptions!A$4:A$303,SUM('2'!AF$7:'2'!AF31))),\"\",INDEX(Inscriptions!A$4:A$303,SUM('2'!AF$7:'2'!AF31)))","v":""},{"$f":"IF(A31=\"\",\"\",VLOOKUP(A31,Data!G$2:K$302,5,FALSE))","v":""},{"$f":"IF(A31=\"\",\"\",VLOOKUP(A31,Data!G$2:K$302,2,FALSE))","v":""},{"$f":"IF(A31=\"\",\"\",VLOOKUP(A31,Data!G$2:K$302,3,FALSE))","v":""},{"$f":"IF(A31=\"\",\"\",VLOOKUP(A31,Data!G$2:K$302,4,FALSE))","v":""},null,null,null,null,null,null,null,null,null,null,null,null,null,null,null,null,null,null,null,null,null,null,null,null,0,null,{"$f":"MATCH(\"*\"&AC$1&\"*\",OFFSET(Inscriptions!Y$4:Y$303,SUM('2'!AF$6:'2'!AF30),0),0)","v":{"$error":"#N/A"}}]
[{"$f":"IF(ISNA(INDEX(Inscriptions!A$4:A$303,SUM('2'!AF$7:'2'!AF32))),\"\",INDEX(Inscriptions!A$4:A$303,SUM('2'!AF$7:'2'!AF32)))","v":""},{"$f":"IF(A32=\"\",\"\",VLOOKUP(A32,Data!G$2:K$302,5,FALSE))","v":""},{"$f":"IF(A32=\"\",\"\",VLOOKUP(A32,Data!G$2:K$302,2,FALSE))","v":""},{"$f":"IF(A32=\"\",\"\",VLOOKUP(A32,Data!G$2:K$302,3,FALSE))","v":""},{"$f":"IF(A32=\"\",\"\",VLOOKUP(A32,Data!G$2:K$302,4,FALSE))","v":""},null,null,null,null,null,null,null,null,null,null,null,null,null,null,null,null,null,null,null,null,null,null,null,null,0,null,{"$f":"MATCH(\"*\"&AC$1&\"*\",OFFSET(Inscriptions!Y$4:Y$303,SUM('2'!AF$6:'2'!AF31),0),0)","v":{"$error":"#N/A"}}]
[{"$f":"IF(ISNA(INDEX(Inscriptions!A$4:A$303,SUM('2'!AF$7:'2'!AF33))),\"\",INDEX(Inscriptions!A$4:A$303,SUM('2'!AF$7:'2'!AF33)))","v":""},{"$f":"IF(A33=\"\",\"\",VLOOKUP(A33,Data!G$2:K$302,5,FALSE))","v":""},{"$f":"IF(A33=\"\",\"\",VLOOKUP(A33,Data!G$2:K$302,2,FALSE))","v":""},{"$f":"IF(A33=\"\",\"\",VLOOKUP(A33,Data!G$2:K$302,3,FALSE))","v":""},{"$f":"IF(A33=\"\",\"\",VLOOKUP(A33,Data!G$2:K$302,4,FALSE))","v":""},null,null,null,null,null,null,null,null,null,null,null,null,null,null,null,null,null,null,null,null,null,null,null,null,0,null,{"$f":"MATCH(\"*\"&AC$1&\"*\",OFFSET(Inscriptions!Y$4:Y$303,SUM('2'!AF$6:'2'!AF32),0),0)","v":{"$error":"#N/A"}}]
[{"$f":"IF(ISNA(INDEX(Inscriptions!A$4:A$303,SUM('2'!AF$7:'2'!AF34))),\"\",INDEX(Inscriptions!A$4:A$303,SUM('2'!AF$7:'2'!AF34)))","v":""},{"$f":"IF(A34=\"\",\"\",VLOOKUP(A34,Data!G$2:K$302,5,FALSE))","v":""},{"$f":"IF(A34=\"\",\"\",VLOOKUP(A34,Data!G$2:K$302,2,FALSE))","v":""},{"$f":"IF(A34=\"\",\"\",VLOOKUP(A34,Data!G$2:K$302,3,FALSE))","v":""},{"$f":"IF(A34=\"\",\"\",VLOOKUP(A34,Data!G$2:K$302,4,FALSE))","v":""},null,null,null,null,null,null,null,null,null,null,null,null,null,null,null,null,null,null,null,null,null,null,null,null,0,null,{"$f":"MATCH(\"*\"&AC$1&\"*\",OFFSET(Inscriptions!Y$4:Y$303,SUM('2'!AF$6:'2'!AF33),0),0)","v":{"$error":"#N/A"}}]
[{"$f":"IF(ISNA(INDEX(Inscriptions!A$4:A$303,SUM('2'!AF$7:'2'!AF35))),\"\",INDEX(Inscriptions!A$4:A$303,SUM('2'!AF$7:'2'!AF35)))","v":""},{"$f":"IF(A35=\"\",\"\",VLOOKUP(A35,Data!G$2:K$302,5,FALSE))","v":""},{"$f":"IF(A35=\"\",\"\",VLOOKUP(A35,Data!G$2:K$302,2,FALSE))","v":""},{"$f":"IF(A35=\"\",\"\",VLOOKUP(A35,Data!G$2:K$302,3,FALSE))","v":""},{"$f":"IF(A35=\"\",\"\",VLOOKUP(A35,Data!G$2:K$302,4,FALSE))","v":""},null,null,null,null,null,null,null,null,null,null,null,null,null,null,null,null,null,null,null,null,null,null,null,null,0,null,{"$f":"MATCH(\"*\"&AC$1&\"*\",OFFSET(Inscriptions!Y$4:Y$303,SUM('2'!AF$6:'2'!AF34),0),0)","v":{"$error":"#N/A"}}]
[{"$f":"IF(ISNA(INDEX(Inscriptions!A$4:A$303,SUM('2'!AF$7:'2'!AF36))),\"\",INDEX(Inscriptions!A$4:A$303,SUM('2'!AF$7:'2'!AF36)))","v":""},{"$f":"IF(A36=\"\",\"\",VLOOKUP(A36,Data!G$2:K$302,5,FALSE))","v":""},{"$f":"IF(A36=\"\",\"\",VLOOKUP(A36,Data!G$2:K$302,2,FALSE))","v":""},{"$f":"IF(A36=\"\",\"\",VLOOKUP(A36,Data!G$2:K$302,3,FALSE))","v":""},{"$f":"IF(A36=\"\",\"\",VLOOKUP(A36,Data!G$2:K$302,4,FALSE))","v":""},null,null,null,null,null,null,null,null,null,null,null,null,null,null,null,null,null,null,null,null,null,null,null,null,0,null,{"$f":"MATCH(\"*\"&AC$1&\"*\",OFFSET(Inscriptions!Y$4:Y$303,SUM('2'!AF$6:'2'!AF35),0),0)","v":{"$error":"#N/A"}}]
[{"$f":"IF(ISNA(INDEX(Inscriptions!A$4:A$303,SUM('2'!AF$7:'2'!AF37))),\"\",INDEX(Inscriptions!A$4:A$303,SUM('2'!AF$7:'2'!AF37)))","v":""},{"$f":"IF(A37=\"\",\"\",VLOOKUP(A37,Data!G$2:K$302,5,FALSE))","v":""},{"$f":"IF(A37=\"\",\"\",VLOOKUP(A37,Data!G$2:K$302,2,FALSE))","v":""},{"$f":"IF(A37=\"\",\"\",VLOOKUP(A37,Data!G$2:K$302,3,FALSE))","v":""},{"$f":"IF(A37=\"\",\"\",VLOOKUP(A37,Data!G$2:K$302,4,FALSE))","v":""},null,null,null,null,null,null,null,null,null,null,null,null,null,null,null,null,null,null,null,null,null,null,null,null,0,null,{"$f":"MATCH(\"*\"&AC$1&\"*\",OFFSET(Inscriptions!Y$4:Y$303,SUM('2'!AF$6:'2'!AF36),0),0)","v":{"$error":"#N/A"}}]
[{"$f":"IF(ISNA(INDEX(Inscriptions!A$4:A$303,SUM('2'!AF$7:'2'!AF38))),\"\",INDEX(Inscriptions!A$4:A$303,SUM('2'!AF$7:'2'!AF38)))","v":""},{"$f":"IF(A38=\"\",\"\",VLOOKUP(A38,Data!G$2:K$302,5,FALSE))","v":""},{"$f":"IF(A38=\"\",\"\",VLOOKUP(A38,Data!G$2:K$302,2,FALSE))","v":""},{"$f":"IF(A38=\"\",\"\",VLOOKUP(A38,Data!G$2:K$302,3,FALSE))","v":""},{"$f":"IF(A38=\"\",\"\",VLOOKUP(A38,Data!G$2:K$302,4,FALSE))","v":""},null,null,null,null,null,null,null,null,null,null,null,null,null,null,null,null,null,null,null,null,null,null,null,null,0,null,{"$f":"MATCH(\"*\"&AC$1&\"*\",OFFSET(Inscriptions!Y$4:Y$303,SUM('2'!AF$6:'2'!AF37),0),0)","v":{"$error":"#N/A"}}]
[{"$f":"IF(ISNA(INDEX(Inscriptions!A$4:A$303,SUM('2'!AF$7:'2'!AF39))),\"\",INDEX(Inscriptions!A$4:A$303,SUM('2'!AF$7:'2'!AF39)))","v":""},{"$f":"IF(A39=\"\",\"\",VLOOKUP(A39,Data!G$2:K$302,5,FALSE))","v":""},{"$f":"IF(A39=\"\",\"\",VLOOKUP(A39,Data!G$2:K$302,2,FALSE))","v":""},{"$f":"IF(A39=\"\",\"\",VLOOKUP(A39,Data!G$2:K$302,3,FALSE))","v":""},{"$f":"IF(A39=\"\",\"\",VLOOKUP(A39,Data!G$2:K$302,4,FALSE))","v":""},null,null,null,null,null,null,null,null,null,null,null,null,null,null,null,null,null,null,null,null,null,null,null,null,0,null,{"$f":"MATCH(\"*\"&AC$1&\"*\",OFFSET(Inscriptions!Y$4:Y$303,SUM('2'!AF$6:'2'!AF38),0),0)","v":{"$error":"#N/A"}}]
[{"$f":"IF(ISNA(INDEX(Inscriptions!A$4:A$303,SUM('2'!AF$7:'2'!AF40))),\"\",INDEX(Inscriptions!A$4:A$303,SUM('2'!AF$7:'2'!AF40)))","v":""},{"$f":"IF(A40=\"\",\"\",VLOOKUP(A40,Data!G$2:K$302,5,FALSE))","v":""},{"$f":"IF(A40=\"\",\"\",VLOOKUP(A40,Data!G$2:K$302,2,FALSE))","v":""},{"$f":"IF(A40=\"\",\"\",VLOOKUP(A40,Data!G$2:K$302,3,FALSE))","v":""},{"$f":"IF(A40=\"\",\"\",VLOOKUP(A40,Data!G$2:K$302,4,FALSE))","v":""},null,null,null,null,null,null,null,null,null,null,null,null,null,null,null,null,null,null,null,null,null,null,null,null,0,null,{"$f":"MATCH(\"*\"&AC$1&\"*\",OFFSET(Inscriptions!Y$4:Y$303,SUM('2'!AF$6:'2'!AF39),0),0)","v":{"$error":"#N/A"}}]
[{"$f":"IF(ISNA(INDEX(Inscriptions!A$4:A$303,SUM('2'!AF$7:'2'!AF41))),\"\",INDEX(Inscriptions!A$4:A$303,SUM('2'!AF$7:'2'!AF41)))","v":""},{"$f":"IF(A41=\"\",\"\",VLOOKUP(A41,Data!G$2:K$302,5,FALSE))","v":""},{"$f":"IF(A41=\"\",\"\",VLOOKUP(A41,Data!G$2:K$302,2,FALSE))","v":""},{"$f":"IF(A41=\"\",\"\",VLOOKUP(A41,Data!G$2:K$302,3,FALSE))","v":""},{"$f":"IF(A41=\"\",\"\",VLOOKUP(A41,Data!G$2:K$302,4,FALSE))","v":""},null,null,null,null,null,null,null,null,null,null,null,null,null,null,null,null,null,null,null,null,null,null,null,null,0,null,{"$f":"MATCH(\"*\"&AC$1&\"*\",OFFSET(Inscriptions!Y$4:Y$303,SUM('2'!AF$6:'2'!AF40),0),0)","v":{"$error":"#N/A"}}]
[{"$f":"IF(ISNA(INDEX(Inscriptions!A$4:A$303,SUM('2'!AF$7:'2'!AF42))),\"\",INDEX(Inscriptions!A$4:A$303,SUM('2'!AF$7:'2'!AF42)))","v":""},{"$f":"IF(A42=\"\",\"\",VLOOKUP(A42,Data!G$2:K$302,5,FALSE))","v":""},{"$f":"IF(A42=\"\",\"\",VLOOKUP(A42,Data!G$2:K$302,2,FALSE))","v":""},{"$f":"IF(A42=\"\",\"\",VLOOKUP(A42,Data!G$2:K$302,3,FALSE))","v":""},{"$f":"IF(A42=\"\",\"\",VLOOKUP(A42,Data!G$2:K$302,4,FALSE))","v":""},null,null,null,null,null,null,null,null,null,null,null,null,null,null,null,null,null,null,null,null,null,null,null,null,0,null,{"$f":"MATCH(\"*\"&AC$1&\"*\",OFFSET(Inscriptions!Y$4:Y$303,SUM('2'!AF$6:'2'!AF41),0),0)","v":{"$error":"#N/A"}}]
[{"$f":"IF(ISNA(INDEX(Inscriptions!A$4:A$303,SUM('2'!AF$7:'2'!AF43))),\"\",INDEX(Inscriptions!A$4:A$303,SUM('2'!AF$7:'2'!AF43)))","v":""},{"$f":"IF(A43=\"\",\"\",VLOOKUP(A43,Data!G$2:K$302,5,FALSE))","v":""},{"$f":"IF(A43=\"\",\"\",VLOOKUP(A43,Data!G$2:K$302,2,FALSE))","v":""},{"$f":"IF(A43=\"\",\"\",VLOOKUP(A43,Data!G$2:K$302,3,FALSE))","v":""},{"$f":"IF(A43=\"\",\"\",VLOOKUP(A43,Data!G$2:K$302,4,FALSE))","v":""},null,null,null,null,null,null,null,null,null,null,null,null,null,null,null,null,null,null,null,null,null,null,null,null,0,null,{"$f":"MATCH(\"*\"&AC$1&\"*\",OFFSET(Inscriptions!Y$4:Y$303,SUM('2'!AF$6:'2'!AF42),0),0)","v":{"$error":"#N/A"}}]
[{"$f":"IF(ISNA(INDEX(Inscriptions!A$4:A$303,SUM('2'!AF$7:'2'!AF44))),\"\",INDEX(Inscriptions!A$4:A$303,SUM('2'!AF$7:'2'!AF44)))","v":""},{"$f":"IF(A44=\"\",\"\",VLOOKUP(A44,Data!G$2:K$302,5,FALSE))","v":""},{"$f":"IF(A44=\"\",\"\",VLOOKUP(A44,Data!G$2:K$302,2,FALSE))","v":""},{"$f":"IF(A44=\"\",\"\",VLOOKUP(A44,Data!G$2:K$302,3,FALSE))","v":""},{"$f":"IF(A44=\"\",\"\",VLOOKUP(A44,Data!G$2:K$302,4,FALSE))","v":""},null,null,null,null,null,null,null,null,null,null,null,null,null,null,null,null,null,null,null,null,null,null,null,null,0,null,{"$f":"MATCH(\"*\"&AC$1&\"*\",OFFSET(Inscriptions!Y$4:Y$303,SUM('2'!AF$6:'2'!AF43),0),0)","v":{"$error":"#N/A"}}]
[{"$f":"IF(ISNA(INDEX(Inscriptions!A$4:A$303,SUM('2'!AF$7:'2'!AF45))),\"\",INDEX(Inscriptions!A$4:A$303,SUM('2'!AF$7:'2'!AF45)))","v":""},{"$f":"IF(A45=\"\",\"\",VLOOKUP(A45,Data!G$2:K$302,5,FALSE))","v":""},{"$f":"IF(A45=\"\",\"\",VLOOKUP(A45,Data!G$2:K$302,2,FALSE))","v":""},{"$f":"IF(A45=\"\",\"\",VLOOKUP(A45,Data!G$2:K$302,3,FALSE))","v":""},{"$f":"IF(A45=\"\",\"\",VLOOKUP(A45,Data!G$2:K$302,4,FALSE))","v":""},null,null,null,null,null,null,null,null,null,null,null,null,null,null,null,null,null,null,null,null,null,null,null,null,0,null,{"$f":"MATCH(\"*\"&AC$1&\"*\",OFFSET(Inscriptions!Y$4:Y$303,SUM('2'!AF$6:'2'!AF44),0),0)","v":{"$error":"#N/A"}}]
[{"$f":"IF(ISNA(INDEX(Inscriptions!A$4:A$303,SUM('2'!AF$7:'2'!AF46))),\"\",INDEX(Inscriptions!A$4:A$303,SUM('2'!AF$7:'2'!AF46)))","v":""},{"$f":"IF(A46=\"\",\"\",VLOOKUP(A46,Data!G$2:K$302,5,FALSE))","v":""},{"$f":"IF(A46=\"\",\"\",VLOOKUP(A46,Data!G$2:K$302,2,FALSE))","v":""},{"$f":"IF(A46=\"\",\"\",VLOOKUP(A46,Data!G$2:K$302,3,FALSE))","v":""},{"$f":"IF(A46=\"\",\"\",VLOOKUP(A46,Data!G$2:K$302,4,FALSE))","v":""},null,null,null,null,null,null,null,null,null,null,null,null,null,null,null,null,null,null,null,null,null,null,null,null,0,null,{"$f":"MATCH(\"*\"&AC$1&\"*\",OFFSET(Inscriptions!Y$4:Y$303,SUM('2'!AF$6:'2'!AF45),0),0)","v":{"$error":"#N/A"}}]
[{"$f":"IF(ISNA(INDEX(Inscriptions!A$4:A$303,SUM('2'!AF$7:'2'!AF47))),\"\",INDEX(Inscriptions!A$4:A$303,SUM('2'!AF$7:'2'!AF47)))","v":""},{"$f":"IF(A47=\"\",\"\",VLOOKUP(A47,Data!G$2:K$302,5,FALSE))","v":""},{"$f":"IF(A47=\"\",\"\",VLOOKUP(A47,Data!G$2:K$302,2,FALSE))","v":""},{"$f":"IF(A47=\"\",\"\",VLOOKUP(A47,Data!G$2:K$302,3,FALSE))","v":""},{"$f":"IF(A47=\"\",\"\",VLOOKUP(A47,Data!G$2:K$302,4,FALSE))","v":""},null,null,null,null,null,null,null,null,null,null,null,null,null,null,null,null,null,null,null,null,null,null,null,null,0,null,{"$f":"MATCH(\"*\"&AC$1&\"*\",OFFSET(Inscriptions!Y$4:Y$303,SUM('2'!AF$6:'2'!AF46),0),0)","v":{"$error":"#N/A"}}]
[{"$f":"IF(ISNA(INDEX(Inscriptions!A$4:A$303,SUM('2'!AF$7:'2'!AF48))),\"\",INDEX(Inscriptions!A$4:A$303,SUM('2'!AF$7:'2'!AF48)))","v":""},{"$f":"IF(A48=\"\",\"\",VLOOKUP(A48,Data!G$2:K$302,5,FALSE))","v":""},{"$f":"IF(A48=\"\",\"\",VLOOKUP(A48,Data!G$2:K$302,2,FALSE))","v":""},{"$f":"IF(A48=\"\",\"\",VLOOKUP(A48,Data!G$2:K$302,3,FALSE))","v":""},{"$f":"IF(A48=\"\",\"\",VLOOKUP(A48,Data!G$2:K$302,4,FALSE))","v":""},null,null,null,null,null,null,null,null,null,null,null,null,null,null,null,null,null,null,null,null,null,null,null,null,0,null,{"$f":"MATCH(\"*\"&AC$1&\"*\",OFFSET(Inscriptions!Y$4:Y$303,SUM('2'!AF$6:'2'!AF47),0),0)","v":{"$error":"#N/A"}}]
[{"$f":"IF(ISNA(INDEX(Inscriptions!A$4:A$303,SUM('2'!AF$7:'2'!AF49))),\"\",INDEX(Inscriptions!A$4:A$303,SUM('2'!AF$7:'2'!AF49)))","v":""},{"$f":"IF(A49=\"\",\"\",VLOOKUP(A49,Data!G$2:K$302,5,FALSE))","v":""},{"$f":"IF(A49=\"\",\"\",VLOOKUP(A49,Data!G$2:K$302,2,FALSE))","v":""},{"$f":"IF(A49=\"\",\"\",VLOOKUP(A49,Data!G$2:K$302,3,FALSE))","v":""},{"$f":"IF(A49=\"\",\"\",VLOOKUP(A49,Data!G$2:K$302,4,FALSE))","v":""},null,null,null,null,null,null,null,null,null,null,null,null,null,null,null,null,null,null,null,null,null,null,null,null,0,null,{"$f":"MATCH(\"*\"&AC$1&\"*\",OFFSET(Inscriptions!Y$4:Y$303,SUM('2'!AF$6:'2'!AF48),0),0)","v":{"$error":"#N/A"}}]
[{"$f":"IF(ISNA(INDEX(Inscriptions!A$4:A$303,SUM('2'!AF$7:'2'!AF50))),\"\",INDEX(Inscriptions!A$4:A$303,SUM('2'!AF$7:'2'!AF50)))","v":""},{"$f":"IF(A50=\"\",\"\",VLOOKUP(A50,Data!G$2:K$302,5,FALSE))","v":""},{"$f":"IF(A50=\"\",\"\",VLOOKUP(A50,Data!G$2:K$302,2,FALSE))","v":""},{"$f":"IF(A50=\"\",\"\",VLOOKUP(A50,Data!G$2:K$302,3,FALSE))","v":""},{"$f":"IF(A50=\"\",\"\",VLOOKUP(A50,Data!G$2:K$302,4,FALSE))","v":""},null,null,null,null,null,null,null,null,null,null,null,null,null,null,null,null,null,null,null,null,null,null,null,null,0,null,{"$f":"MATCH(\"*\"&AC$1&\"*\",OFFSET(Inscriptions!Y$4:Y$303,SUM('2'!AF$6:'2'!AF49),0),0)","v":{"$error":"#N/A"}}]
[{"$f":"IF(ISNA(INDEX(Inscriptions!A$4:A$303,SUM('2'!AF$7:'2'!AF51))),\"\",INDEX(Inscriptions!A$4:A$303,SUM('2'!AF$7:'2'!AF51)))","v":""},{"$f":"IF(A51=\"\",\"\",VLOOKUP(A51,Data!G$2:K$302,5,FALSE))","v":""},{"$f":"IF(A51=\"\",\"\",VLOOKUP(A51,Data!G$2:K$302,2,FALSE))","v":""},{"$f":"IF(A51=\"\",\"\",VLOOKUP(A51,Data!G$2:K$302,3,FALSE))","v":""},{"$f":"IF(A51=\"\",\"\",VLOOKUP(A51,Data!G$2:K$302,4,FALSE))","v":""},null,null,null,null,null,null,null,null,null,null,null,null,null,null,null,null,null,null,null,null,null,null,null,null,0,null,{"$f":"MATCH(\"*\"&AC$1&\"*\",OFFSET(Inscriptions!Y$4:Y$303,SUM('2'!AF$6:'2'!AF50),0),0)","v":{"$error":"#N/A"}}]
[{"$f":"IF(ISNA(INDEX(Inscriptions!A$4:A$303,SUM('2'!AF$7:'2'!AF52))),\"\",INDEX(Inscriptions!A$4:A$303,SUM('2'!AF$7:'2'!AF52)))","v":""},{"$f":"IF(A52=\"\",\"\",VLOOKUP(A52,Data!G$2:K$302,5,FALSE))","v":""},{"$f":"IF(A52=\"\",\"\",VLOOKUP(A52,Data!G$2:K$302,2,FALSE))","v":""},{"$f":"IF(A52=\"\",\"\",VLOOKUP(A52,Data!G$2:K$302,3,FALSE))","v":""},{"$f":"IF(A52=\"\",\"\",VLOOKUP(A52,Data!G$2:K$302,4,FALSE))","v":""},null,null,null,null,null,null,null,null,null,null,null,null,null,null,null,null,null,null,null,null,null,null,null,null,0,null,{"$f":"MATCH(\"*\"&AC$1&\"*\",OFFSET(Inscriptions!Y$4:Y$303,SUM('2'!AF$6:'2'!AF51),0),0)","v":{"$error":"#N/A"}}]
[{"$f":"IF(ISNA(INDEX(Inscriptions!A$4:A$303,SUM('2'!AF$7:'2'!AF53))),\"\",INDEX(Inscriptions!A$4:A$303,SUM('2'!AF$7:'2'!AF53)))","v":""},{"$f":"IF(A53=\"\",\"\",VLOOKUP(A53,Data!G$2:K$302,5,FALSE))","v":""},{"$f":"IF(A53=\"\",\"\",VLOOKUP(A53,Data!G$2:K$302,2,FALSE))","v":""},{"$f":"IF(A53=\"\",\"\",VLOOKUP(A53,Data!G$2:K$302,3,FALSE))","v":""},{"$f":"IF(A53=\"\",\"\",VLOOKUP(A53,Data!G$2:K$302,4,FALSE))","v":""},null,null,null,null,null,null,null,null,null,null,null,null,null,null,null,null,null,null,null,null,null,null,null,null,0,null,{"$f":"MATCH(\"*\"&AC$1&\"*\",OFFSET(Inscriptions!Y$4:Y$303,SUM('2'!AF$6:'2'!AF52),0),0)","v":{"$error":"#N/A"}}]
[{"$f":"IF(ISNA(INDEX(Inscriptions!A$4:A$303,SUM('2'!AF$7:'2'!AF54))),\"\",INDEX(Inscriptions!A$4:A$303,SUM('2'!AF$7:'2'!AF54)))","v":""},{"$f":"IF(A54=\"\",\"\",VLOOKUP(A54,Data!G$2:K$302,5,FALSE))","v":""},{"$f":"IF(A54=\"\",\"\",VLOOKUP(A54,Data!G$2:K$302,2,FALSE))","v":""},{"$f":"IF(A54=\"\",\"\",VLOOKUP(A54,Data!G$2:K$302,3,FALSE))","v":""},{"$f":"IF(A54=\"\",\"\",VLOOKUP(A54,Data!G$2:K$302,4,FALSE))","v":""},null,null,null,null,null,null,null,null,null,null,null,null,null,null,null,null,null,null,null,null,null,null,null,null,0,null,{"$f":"MATCH(\"*\"&AC$1&\"*\",OFFSET(Inscriptions!Y$4:Y$303,SUM('2'!AF$6:'2'!AF53),0),0)","v":{"$error":"#N/A"}}]
[{"$f":"IF(ISNA(INDEX(Inscriptions!A$4:A$303,SUM('2'!AF$7:'2'!AF55))),\"\",INDEX(Inscriptions!A$4:A$303,SUM('2'!AF$7:'2'!AF55)))","v":""},{"$f":"IF(A55=\"\",\"\",VLOOKUP(A55,Data!G$2:K$302,5,FALSE))","v":""},{"$f":"IF(A55=\"\",\"\",VLOOKUP(A55,Data!G$2:K$302,2,FALSE))","v":""},{"$f":"IF(A55=\"\",\"\",VLOOKUP(A55,Data!G$2:K$302,3,FALSE))","v":""},{"$f":"IF(A55=\"\",\"\",VLOOKUP(A55,Data!G$2:K$302,4,FALSE))","v":""},null,null,null,null,null,null,null,null,null,null,null,null,null,null,null,null,null,null,null,null,null,null,null,null,0,null,{"$f":"MATCH(\"*\"&AC$1&\"*\",OFFSET(Inscriptions!Y$4:Y$303,SUM('2'!AF$6:'2'!AF54),0),0)","v":{"$error":"#N/A"}}]
[{"$f":"CONCATENATE(IF(ChoixLangue=Languages!$B$1,Languages!$B105,IF(ChoixLangue=Languages!$C$1,Languages!$C105,IF(ChoixLangue=Languages!$D$1,Languages!$D105,Languages!$E105))),SUM(AD7:AD55))","v":"Nbe nageuses : 0"},"-","-","-",null,"-","-","-","-"]

{"sheet":"Novizen","index":19,"n_rows":56,"n_cols":32,"rows_kept":56,"cut":false,"hidden":true,"merged":[[3,0,3,8]]}
[{"$f":"IF('Cover Page'!B5=\"\",\"\",'Cover Page'!B5)","v":""},null,null,null,null,null,null,null,null,null,null,null,null,null,null,null,null,null,null,null,null,null,null,null,null,null,null,null,"x",null,null,{"$f":"MID(CELL(\"filename\",A1),FIND(\"]\",CELL(\"filename\",A1),1)+1,20)","v":"Novizen"}]
[{"$f":"IF('Cover Page'!B6=\"\",\"\",'Cover Page'!B6)","v":""},null,null,null,null,null,null,null,{"$f":"IF(ChoixLangue=Languages!$B$1,Languages!$B$97 & \" \" & AF1,IF(ChoixLangue=Languages!$C$1,Languages!$C$97 & \" \" & AF1,IF(ChoixLangue=Languages!$D$1,Languages!$D$97 & \" \" & AF1,Languages!$E$97 & \" \" & AF1)))","v":"Catégorie Novizen"}]
[{"$f":"IF('Cover Page'!B7=\"\",\"\",'Cover Page'!B7)","v":""}]
[{"$f":"IF('Cover Page'!B10=\"\",\"\",CONCATENATE(IF(ChoixLangue=Languages!$B$1,Languages!$B98,IF(ChoixLangue=Languages!$C$1,Languages!$C98,IF(ChoixLangue=Languages!$D$1,Languages!$D98,Languages!$E98))),'Cover Page'!B10))","v":""}]
[{"$f":"A56","v":"Nbe nageuses : 0"}]
[{"$f":"IF(ChoixLangue=Languages!$B$1,Languages!$B99,IF(ChoixLangue=Languages!$C$1,Languages!$C99,IF(ChoixLangue=Languages!$D$1,Languages!$D99,Languages!$E99)))","v":"NOM Prénom"},{"$f":"IF(ChoixLangue=Languages!$B$1,Languages!$B100,IF(ChoixLangue=Languages!$C$1,Languages!$C100,IF(ChoixLangue=Languages!$D$1,Languages!$D100,Languages!$E100)))","v":"Club"},{"$f":"IF(ChoixLangue=Languages!$B$1,Languages!$B101,IF(ChoixLangue=Languages!$C$1,Languages!$C101,IF(ChoixLangue=Languages!$D$1,Languages!$D101,Languages!$E101)))","v":"Licence"},{"$f":"IF(ChoixLangue=Languages!$B$1,Languages!$B102,IF(ChoixLangue=Languages!$C$1,Languages!$C102,IF(ChoixLangue=Languages!$D$1,Languages!$D102,Languages!$E102)))","v":"An. Nais."},{"$f":"IF(ChoixLangue=Languages!$B$1,Languages!$B103,IF(ChoixLangue=Languages!$C$1,Languages!$C103,IF(ChoixLangue=Languages!$D$1,Languages!$D103,Languages!$E103)))","v":"N° Test"},{"$f":"IF(ChoixLangue=Languages!$B$1,Languages!$B104,IF(ChoixLangue=Languages!$C$1,Languages!$C104,IF(ChoixLangue=Languages!$D$1,Languages!$D104,Languages!$E104)))","v":"Figures"},"Solo Free","Duo Free","Team Free"]
[{"$f":"IF(ISNA(INDEX(Inscriptions!A$4:A$303,SUM(Novizen!AF$7:'Novizen'!AF7))),\"\",INDEX(Inscriptions!A$4:A$303,SUM(Novizen!AF$7:'Novizen'!AF7)))","v":""},{"$f":"IF(A7=\"\",\"\",VLOOKUP(A7,Data!G$2:K$302,5,FALSE))","v":""},{"$f":"IF(A7=\"\",\"\",VLOOKUP(A7,Data!G$2:K$302,2,FALSE))","v":""},{"$f":"IF(A7=\"\",\"\",VLOOKUP(A7,Data!G$2:K$302,3,FALSE))","v":""},{"$f":"IF(A7=\"\",\"\",VLOOKUP(A7,Data!G$2:K$302,4,FALSE))","v":""},null,null,null,null,null,null,null,null,null,null,null,null,null,null,null,null,null,null,null,null,null,null,null,null,{"$f":"IF(A7<>\"\",1,0)","v":0},null,{"$f":"MATCH(\"*\"&AC$1&\"*\",OFFSET(Inscriptions!Q$4:Q$303,SUM(Novizen!AF$6:'Novizen'!AF6),0),0)","v":{"$error":"#N/A"}}]
[{"$f":"IF(ISNA(INDEX(Inscriptions!A$4:A$303,SUM(Novizen!AF$7:'Novizen'!AF8))),\"\",INDEX(Inscriptions!A$4:A$303,SUM(Novizen!AF$7:'Novizen'!AF8)))","v":""},{"$f":"IF(A8=\"\",\"\",VLOOKUP(A8,Data!G$2:K$302,5,FALSE))","v":""},{"$f":"IF(A8=\"\",\"\",VLOOKUP(A8,Data!G$2:K$302,2,FALSE))","v":""},{"$f":"IF(A8=\"\",\"\",VLOOKUP(A8,Data!G$2:K$302,3,FALSE))","v":""},{"$f":"IF(A8=\"\",\"\",VLOOKUP(A8,Data!G$2:K$302,4,FALSE))","v":""},null,null,null,null,null,null,null,null,null,null,null,null,null,null,null,null,null,null,null,null,null,null,null,null,0,null,{"$f":"MATCH(\"*\"&AC$1&\"*\",OFFSET(Inscriptions!Q$4:Q$303,SUM(Novizen!AF$6:'Novizen'!AF7),0),0)","v":{"$error":"#N/A"}}]
[{"$f":"IF(ISNA(INDEX(Inscriptions!A$4:A$303,SUM(Novizen!AF$7:'Novizen'!AF9))),\"\",INDEX(Inscriptions!A$4:A$303,SUM(Novizen!AF$7:'Novizen'!AF9)))","v":""},{"$f":"IF(A9=\"\",\"\",VLOOKUP(A9,Data!G$2:K$302,5,FALSE))","v":""},{"$f":"IF(A9=\"\",\"\",VLOOKUP(A9,Data!G$2:K$302,2,FALSE))","v":""},{"$f":"IF(A9=\"\",\"\",VLOOKUP(A9,Data!G$2:K$302,3,FALSE))","v":""},{"$f":"IF(A9=\"\",\"\",VLOOKUP(A9,Data!G$2:K$302,4,FALSE))","v":""},null,null,null,null,null,null,null,null,null,null,null,null,null,null,null,null,null,null,null,null,null,null,null,null,0,null,{"$f":"MATCH(\"*\"&AC$1&\"*\",OFFSET(Inscriptions!Q$4:Q$303,SUM(Novizen!AF$6:'Novizen'!AF8),0),0)","v":{"$error":"#N/A"}}]
[{"$f":"IF(ISNA(INDEX(Inscriptions!A$4:A$303,SUM(Novizen!AF$7:'Novizen'!AF10))),\"\",INDEX(Inscriptions!A$4:A$303,SUM(Novizen!AF$7:'Novizen'!AF10)))","v":""},{"$f":"IF(A10=\"\",\"\",VLOOKUP(A10,Data!G$2:K$302,5,FALSE))","v":""},{"$f":"IF(A10=\"\",\"\",VLOOKUP(A10,Data!G$2:K$302,2,FALSE))","v":""},{"$f":"IF(A10=\"\",\"\",VLOOKUP(A10,Data!G$2:K$302,3,FALSE))","v":""},{"$f":"IF(A10=\"\",\"\",VLOOKUP(A10,Data!G$2:K$302,4,FALSE))","v":""},null,null,null,null,null,null,null,null,null,null,null,null,null,null,null,null,null,null,null,null,null,null,null,null,0,null,{"$f":"MATCH(\"*\"&AC$1&\"*\",OFFSET(Inscriptions!Q$4:Q$303,SUM(Novizen!AF$6:'Novizen'!AF9),0),0)","v":{"$error":"#N/A"}}]
[{"$f":"IF(ISNA(INDEX(Inscriptions!A$4:A$303,SUM(Novizen!AF$7:'Novizen'!AF11))),\"\",INDEX(Inscriptions!A$4:A$303,SUM(Novizen!AF$7:'Novizen'!AF11)))","v":""},{"$f":"IF(A11=\"\",\"\",VLOOKUP(A11,Data!G$2:K$302,5,FALSE))","v":""},{"$f":"IF(A11=\"\",\"\",VLOOKUP(A11,Data!G$2:K$302,2,FALSE))","v":""},{"$f":"IF(A11=\"\",\"\",VLOOKUP(A11,Data!G$2:K$302,3,FALSE))","v":""},{"$f":"IF(A11=\"\",\"\",VLOOKUP(A11,Data!G$2:K$302,4,FALSE))","v":""},null,null,null,null,null,null,null,null,null,null,null,null,null,null,null,null,null,null,null,null,null,null,null,null,0,null,{"$f":"MATCH(\"*\"&AC$1&\"*\",OFFSET(Inscriptions!Q$4:Q$303,SUM(Novizen!AF$6:'Novizen'!AF10),0),0)","v":{"$error":"#N/A"}}]
[{"$f":"IF(ISNA(INDEX(Inscriptions!A$4:A$303,SUM(Novizen!AF$7:'Novizen'!AF12))),\"\",INDEX(Inscriptions!A$4:A$303,SUM(Novizen!AF$7:'Novizen'!AF12)))","v":""},{"$f":"IF(A12=\"\",\"\",VLOOKUP(A12,Data!G$2:K$302,5,FALSE))","v":""},{"$f":"IF(A12=\"\",\"\",VLOOKUP(A12,Data!G$2:K$302,2,FALSE))","v":""},{"$f":"IF(A12=\"\",\"\",VLOOKUP(A12,Data!G$2:K$302,3,FALSE))","v":""},{"$f":"IF(A12=\"\",\"\",VLOOKUP(A12,Data!G$2:K$302,4,FALSE))","v":""},null,null,null,null,null,null,null,null,null,null,null,null,null,null,null,null,null,null,null,null,null,null,null,null,0,null,{"$f":"MATCH(\"*\"&AC$1&\"*\",OFFSET(Inscriptions!Q$4:Q$303,SUM(Novizen!AF$6:'Novizen'!AF11),0),0)","v":{"$error":"#N/A"}}]
[{"$f":"IF(ISNA(INDEX(Inscriptions!A$4:A$303,SUM(Novizen!AF$7:'Novizen'!AF13))),\"\",INDEX(Inscriptions!A$4:A$303,SUM(Novizen!AF$7:'Novizen'!AF13)))","v":""},{"$f":"IF(A13=\"\",\"\",VLOOKUP(A13,Data!G$2:K$302,5,FALSE))","v":""},{"$f":"IF(A13=\"\",\"\",VLOOKUP(A13,Data!G$2:K$302,2,FALSE))","v":""},{"$f":"IF(A13=\"\",\"\",VLOOKUP(A13,Data!G$2:K$302,3,FALSE))","v":""},{"$f":"IF(A13=\"\",\"\",VLOOKUP(A13,Data!G$2:K$302,4,FALSE))","v":""},null,null,null,null,null,null,null,null,null,null,null,null,null,null,null,null,null,null,null,null,null,null,null,null,0,null,{"$f":"MATCH(\"*\"&AC$1&\"*\",OFFSET(Inscriptions!Q$4:Q$303,SUM(Novizen!AF$6:'Novizen'!AF12),0),0)","v":{"$error":"#N/A"}}]
[{"$f":"IF(ISNA(INDEX(Inscriptions!A$4:A$303,SUM(Novizen!AF$7:'Novizen'!AF14))),\"\",INDEX(Inscriptions!A$4:A$303,SUM(Novizen!AF$7:'Novizen'!AF14)))","v":""},{"$f":"IF(A14=\"\",\"\",VLOOKUP(A14,Data!G$2:K$302,5,FALSE))","v":""},{"$f":"IF(A14=\"\",\"\",VLOOKUP(A14,Data!G$2:K$302,2,FALSE))","v":""},{"$f":"IF(A14=\"\",\"\",VLOOKUP(A14,Data!G$2:K$302,3,FALSE))","v":""},{"$f":"IF(A14=\"\",\"\",VLOOKUP(A14,Data!G$2:K$302,4,FALSE))","v":""},null,null,null,null,null,null,null,null,null,null,null,null,null,null,null,null,null,null,null,null,null,null,null,null,0,null,{"$f":"MATCH(\"*\"&AC$1&\"*\",OFFSET(Inscriptions!Q$4:Q$303,SUM(Novizen!AF$6:'Novizen'!AF13),0),0)","v":{"$error":"#N/A"}}]
[{"$f":"IF(ISNA(INDEX(Inscriptions!A$4:A$303,SUM(Novizen!AF$7:'Novizen'!AF15))),\"\",INDEX(Inscriptions!A$4:A$303,SUM(Novizen!AF$7:'Novizen'!AF15)))","v":""},{"$f":"IF(A15=\"\",\"\",VLOOKUP(A15,Data!G$2:K$302,5,FALSE))","v":""},{"$f":"IF(A15=\"\",\"\",VLOOKUP(A15,Data!G$2:K$302,2,FALSE))","v":""},{"$f":"IF(A15=\"\",\"\",VLOOKUP(A15,Data!G$2:K$302,3,FALSE))","v":""},{"$f":"IF(A15=\"\",\"\",VLOOKUP(A15,Data!G$2:K$302,4,FALSE))","v":""},null,null,null,null,null,null,null,null,null,null,null,null,null,null,null,null,null,null,null,null,null,null,null,null,0,null,{"$f":"MATCH(\"*\"&AC$1&\"*\",OFFSET(Inscriptions!Q$4:Q$303,SUM(Novizen!AF$6:'Novizen'!AF14),0),0)","v":{"$error":"#N/A"}}]
[{"$f":"IF(ISNA(INDEX(Inscriptions!A$4:A$303,SUM(Novizen!AF$7:'Novizen'!AF16))),\"\",INDEX(Inscriptions!A$4:A$303,SUM(Novizen!AF$7:'Novizen'!AF16)))","v":""},{"$f":"IF(A16=\"\",\"\",VLOOKUP(A16,Data!G$2:K$302,5,FALSE))","v":""},{"$f":"IF(A16=\"\",\"\",VLOOKUP(A16,Data!G$2:K$302,2,FALSE))","v":""},{"$f":"IF(A16=\"\",\"\",VLOOKUP(A16,Data!G$2:K$302,3,FALSE))","v":""},{"$f":"IF(A16=\"\",\"\",VLOOKUP(A16,Data!G$2:K$302,4,FALSE))","v":""},null,null,null,null,null,null,null,null,null,null,null,null,null,null,null,null,null,null,null,null,null,null,null,null,0,null,{"$f":"MATCH(\"*\"&AC$1&\"*\",OFFSET(Inscriptions!Q$4:Q$303,SUM(Novizen!AF$6:'Novizen'!AF15),0),0)","v":{"$error":"#N/A"}}]
[{"$f":"IF(ISNA(INDEX(Inscriptions!A$4:A$303,SUM(Novizen!AF$7:'Novizen'!AF17))),\"\",INDEX(Inscriptions!A$4:A$303,SUM(Novizen!AF$7:'Novizen'!AF17)))","v":""},{"$f":"IF(A17=\"\",\"\",VLOOKUP(A17,Data!G$2:K$302,5,FALSE))","v":""},{"$f":"IF(A17=\"\",\"\",VLOOKUP(A17,Data!G$2:K$302,2,FALSE))","v":""},{"$f":"IF(A17=\"\",\"\",VLOOKUP(A17,Data!G$2:K$302,3,FALSE))","v":""},{"$f":"IF(A17=\"\",\"\",VLOOKUP(A17,Data!G$2:K$302,4,FALSE))","v":""},null,null,null,null,null,null,null,null,null,null,null,null,null,null,null,null,null,null,null,null,null,null,null,null,0,null,{"$f":"MATCH(\"*\"&AC$1&\"*\",OFFSET(Inscriptions!Q$4:Q$303,SUM(Novizen!AF$6:'Novizen'!AF16),0),0)","v":{"$error":"#N/A"}}]
[{"$f":"IF(ISNA(INDEX(Inscriptions!A$4:A$303,SUM(Novizen!AF$7:'Novizen'!AF18))),\"\",INDEX(Inscriptions!A$4:A$303,SUM(Novizen!AF$7:'Novizen'!AF18)))","v":""},{"$f":"IF(A18=\"\",\"\",VLOOKUP(A18,Data!G$2:K$302,5,FALSE))","v":""},{"$f":"IF(A18=\"\",\"\",VLOOKUP(A18,Data!G$2:K$302,2,FALSE))","v":""},{"$f":"IF(A18=\"\",\"\",VLOOKUP(A18,Data!G$2:K$302,3,FALSE))","v":""},{"$f":"IF(A18=\"\",\"\",VLOOKUP(A18,Data!G$2:K$302,4,FALSE))","v":""},null,null,null,null,null,null,null,null,null,null,null,null,null,null,null,null,null,null,null,null,null,null,null,null,0,null,{"$f":"MATCH(\"*\"&AC$1&\"*\",OFFSET(Inscriptions!Q$4:Q$303,SUM(Novizen!AF$6:'Novizen'!AF17),0),0)","v":{"$error":"#N/A"}}]
[{"$f":"IF(ISNA(INDEX(Inscriptions!A$4:A$303,SUM(Novizen!AF$7:'Novizen'!AF19))),\"\",INDEX(Inscriptions!A$4:A$303,SUM(Novizen!AF$7:'Novizen'!AF19)))","v":""},{"$f":"IF(A19=\"\",\"\",VLOOKUP(A19,Data!G$2:K$302,5,FALSE))","v":""},{"$f":"IF(A19=\"\",\"\",VLOOKUP(A19,Data!G$2:K$302,2,FALSE))","v":""},{"$f":"IF(A19=\"\",\"\",VLOOKUP(A19,Data!G$2:K$302,3,FALSE))","v":""},{"$f":"IF(A19=\"\",\"\",VLOOKUP(A19,Data!G$2:K$302,4,FALSE))","v":""},null,null,null,null,null,null,null,null,null,null,null,null,null,null,null,null,null,null,null,null,null,null,null,null,0,null,{"$f":"MATCH(\"*\"&AC$1&\"*\",OFFSET(Inscriptions!Q$4:Q$303,SUM(Novizen!AF$6:'Novizen'!AF18),0),0)","v":{"$error":"#N/A"}}]
[{"$f":"IF(ISNA(INDEX(Inscriptions!A$4:A$303,SUM(Novizen!AF$7:'Novizen'!AF20))),\"\",INDEX(Inscriptions!A$4:A$303,SUM(Novizen!AF$7:'Novizen'!AF20)))","v":""},{"$f":"IF(A20=\"\",\"\",VLOOKUP(A20,Data!G$2:K$302,5,FALSE))","v":""},{"$f":"IF(A20=\"\",\"\",VLOOKUP(A20,Data!G$2:K$302,2,FALSE))","v":""},{"$f":"IF(A20=\"\",\"\",VLOOKUP(A20,Data!G$2:K$302,3,FALSE))","v":""},{"$f":"IF(A20=\"\",\"\",VLOOKUP(A20,Data!G$2:K$302,4,FALSE))","v":""},null,null,null,null,null,null,null,null,null,null,null,null,null,null,null,null,null,null,null,null,null,null,null,null,0,null,{"$f":"MATCH(\"*\"&AC$1&\"*\",OFFSET(Inscriptions!Q$4:Q$303,SUM(Novizen!AF$6:'Novizen'!AF19),0),0)","v":{"$error":"#N/A"}}]
[{"$f":"IF(ISNA(INDEX(Inscriptions!A$4:A$303,SUM(Novizen!AF$7:'Novizen'!AF21))),\"\",INDEX(Inscriptions!A$4:A$303,SUM(Novizen!AF$7:'Novizen'!AF21)))","v":""},{"$f":"IF(A21=\"\",\"\",VLOOKUP(A21,Data!G$2:K$302,5,FALSE))","v":""},{"$f":"IF(A21=\"\",\"\",VLOOKUP(A21,Data!G$2:K$302,2,FALSE))","v":""},{"$f":"IF(A21=\"\",\"\",VLOOKUP(A21,Data!G$2:K$302,3,FALSE))","v":""},{"$f":"IF(A21=\"\",\"\",VLOOKUP(A21,Data!G$2:K$302,4,FALSE))","v":""},null,null,null,null,null,null,null,null,null,null,null,null,null,null,null,null,null,null,null,null,null,null,null,null,0,null,{"$f":"MATCH(\"*\"&AC$1&\"*\",OFFSET(Inscriptions!Q$4:Q$303,SUM(Novizen!AF$6:'Novizen'!AF20),0),0)","v":{"$error":"#N/A"}}]
[{"$f":"IF(ISNA(INDEX(Inscriptions!A$4:A$303,SUM(Novizen!AF$7:'Novizen'!AF22))),\"\",INDEX(Inscriptions!A$4:A$303,SUM(Novizen!AF$7:'Novizen'!AF22)))","v":""},{"$f":"IF(A22=\"\",\"\",VLOOKUP(A22,Data!G$2:K$302,5,FALSE))","v":""},{"$f":"IF(A22=\"\",\"\",VLOOKUP(A22,Data!G$2:K$302,2,FALSE))","v":""},{"$f":"IF(A22=\"\",\"\",VLOOKUP(A22,Data!G$2:K$302,3,FALSE))","v":""},{"$f":"IF(A22=\"\",\"\",VLOOKUP(A22,Data!G$2:K$302,4,FALSE))","v":""},null,null,null,null,null,null,null,null,null,null,null,null,null,null,null,null,null,null,null,null,null,null,null,null,0,null,{"$f":"MATCH(\"*\"&AC$1&\"*\",OFFSET(Inscriptions!Q$4:Q$303,SUM(Novizen!AF$6:'Novizen'!AF21),0),0)","v":{"$error":"#N/A"}}]
[{"$f":"IF(ISNA(INDEX(Inscriptions!A$4:A$303,SUM(Novizen!AF$7:'Novizen'!AF23))),\"\",INDEX(Inscriptions!A$4:A$303,SUM(Novizen!AF$7:'Novizen'!AF23)))","v":""},{"$f":"IF(A23=\"\",\"\",VLOOKUP(A23,Data!G$2:K$302,5,FALSE))","v":""},{"$f":"IF(A23=\"\",\"\",VLOOKUP(A23,Data!G$2:K$302,2,FALSE))","v":""},{"$f":"IF(A23=\"\",\"\",VLOOKUP(A23,Data!G$2:K$302,3,FALSE))","v":""},{"$f":"IF(A23=\"\",\"\",VLOOKUP(A23,Data!G$2:K$302,4,FALSE))","v":""},null,null,null,null,null,null,null,null,null,null,null,null,null,null,null,null,null,null,null,null,null,null,null,null,0,null,{"$f":"MATCH(\"*\"&AC$1&\"*\",OFFSET(Inscriptions!Q$4:Q$303,SUM(Novizen!AF$6:'Novizen'!AF22),0),0)","v":{"$error":"#N/A"}}]
[{"$f":"IF(ISNA(INDEX(Inscriptions!A$4:A$303,SUM(Novizen!AF$7:'Novizen'!AF24))),\"\",INDEX(Inscriptions!A$4:A$303,SUM(Novizen!AF$7:'Novizen'!AF24)))","v":""},{"$f":"IF(A24=\"\",\"\",VLOOKUP(A24,Data!G$2:K$302,5,FALSE))","v":""},{"$f":"IF(A24=\"\",\"\",VLOOKUP(A24,Data!G$2:K$302,2,FALSE))","v":""},{"$f":"IF(A24=\"\",\"\",VLOOKUP(A24,Data!G$2:K$302,3,FALSE))","v":""},{"$f":"IF(A24=\"\",\"\",VLOOKUP(A24,Data!G$2:K$302,4,FALSE))","v":""},null,null,null,null,null,null,null,null,null,null,null,null,null,null,null,null,null,null,null,null,null,null,null,null,0,null,{"$f":"MATCH(\"*\"&AC$1&\"*\",OFFSET(Inscriptions!Q$4:Q$303,SUM(Novizen!AF$6:'Novizen'!AF23),0),0)","v":{"$error":"#N/A"}}]
[{"$f":"IF(ISNA(INDEX(Inscriptions!A$4:A$303,SUM(Novizen!AF$7:'Novizen'!AF25))),\"\",INDEX(Inscriptions!A$4:A$303,SUM(Novizen!AF$7:'Novizen'!AF25)))","v":""},{"$f":"IF(A25=\"\",\"\",VLOOKUP(A25,Data!G$2:K$302,5,FALSE))","v":""},{"$f":"IF(A25=\"\",\"\",VLOOKUP(A25,Data!G$2:K$302,2,FALSE))","v":""},{"$f":"IF(A25=\"\",\"\",VLOOKUP(A25,Data!G$2:K$302,3,FALSE))","v":""},{"$f":"IF(A25=\"\",\"\",VLOOKUP(A25,Data!G$2:K$302,4,FALSE))","v":""},null,null,null,null,null,null,null,null,null,null,null,null,null,null,null,null,null,null,null,null,null,null,null,null,0,null,{"$f":"MATCH(\"*\"&AC$1&\"*\",OFFSET(Inscriptions!Q$4:Q$303,SUM(Novizen!AF$6:'Novizen'!AF24),0),0)","v":{"$error":"#N/A"}}]
[{"$f":"IF(ISNA(INDEX(Inscriptions!A$4:A$303,SUM(Novizen!AF$7:'Novizen'!AF26))),\"\",INDEX(Inscriptions!A$4:A$303,SUM(Novizen!AF$7:'Novizen'!AF26)))","v":""},{"$f":"IF(A26=\"\",\"\",VLOOKUP(A26,Data!G$2:K$302,5,FALSE))","v":""},{"$f":"IF(A26=\"\",\"\",VLOOKUP(A26,Data!G$2:K$302,2,FALSE))","v":""},{"$f":"IF(A26=\"\",\"\",VLOOKUP(A26,Data!G$2:K$302,3,FALSE))","v":""},{"$f":"IF(A26=\"\",\"\",VLOOKUP(A26,Data!G$2:K$302,4,FALSE))","v":""},null,null,null,null,null,null,null,null,null,null,null,null,null,null,null,null,null,null,null,null,null,null,null,null,0,null,{"$f":"MATCH(\"*\"&AC$1&\"*\",OFFSET(Inscriptions!Q$4:Q$303,SUM(Novizen!AF$6:'Novizen'!AF25),0),0)","v":{"$error":"#N/A"}}]
[{"$f":"IF(ISNA(INDEX(Inscriptions!A$4:A$303,SUM(Novizen!AF$7:'Novizen'!AF27))),\"\",INDEX(Inscriptions!A$4:A$303,SUM(Novizen!AF$7:'Novizen'!AF27)))","v":""},{"$f":"IF(A27=\"\",\"\",VLOOKUP(A27,Data!G$2:K$302,5,FALSE))","v":""},{"$f":"IF(A27=\"\",\"\",VLOOKUP(A27,Data!G$2:K$302,2,FALSE))","v":""},{"$f":"IF(A27=\"\",\"\",VLOOKUP(A27,Data!G$2:K$302,3,FALSE))","v":""},{"$f":"IF(A27=\"\",\"\",VLOOKUP(A27,Data!G$2:K$302,4,FALSE))","v":""},null,null,null,null,null,null,null,null,null,null,null,null,null,null,null,null,null,null,null,null,null,null,null,null,0,null,{"$f":"MATCH(\"*\"&AC$1&\"*\",OFFSET(Inscriptions!Q$4:Q$303,SUM(Novizen!AF$6:'Novizen'!AF26),0),0)","v":{"$error":"#N/A"}}]
[{"$f":"IF(ISNA(INDEX(Inscriptions!A$4:A$303,SUM(Novizen!AF$7:'Novizen'!AF28))),\"\",INDEX(Inscriptions!A$4:A$303,SUM(Novizen!AF$7:'Novizen'!AF28)))","v":""},{"$f":"IF(A28=\"\",\"\",VLOOKUP(A28,Data!G$2:K$302,5,FALSE))","v":""},{"$f":"IF(A28=\"\",\"\",VLOOKUP(A28,Data!G$2:K$302,2,FALSE))","v":""},{"$f":"IF(A28=\"\",\"\",VLOOKUP(A28,Data!G$2:K$302,3,FALSE))","v":""},{"$f":"IF(A28=\"\",\"\",VLOOKUP(A28,Data!G$2:K$302,4,FALSE))","v":""},null,null,null,null,null,null,null,null,null,null,null,null,null,null,null,null,null,null,null,null,null,null,null,null,0,null,{"$f":"MATCH(\"*\"&AC$1&\"*\",OFFSET(Inscriptions!Q$4:Q$303,SUM(Novizen!AF$6:'Novizen'!AF27),0),0)","v":{"$error":"#N/A"}}]
[{"$f":"IF(ISNA(INDEX(Inscriptions!A$4:A$303,SUM(Novizen!AF$7:'Novizen'!AF29))),\"\",INDEX(Inscriptions!A$4:A$303,SUM(Novizen!AF$7:'Novizen'!AF29)))","v":""},{"$f":"IF(A29=\"\",\"\",VLOOKUP(A29,Data!G$2:K$302,5,FALSE))","v":""},{"$f":"IF(A29=\"\",\"\",VLOOKUP(A29,Data!G$2:K$302,2,FALSE))","v":""},{"$f":"IF(A29=\"\",\"\",VLOOKUP(A29,Data!G$2:K$302,3,FALSE))","v":""},{"$f":"IF(A29=\"\",\"\",VLOOKUP(A29,Data!G$2:K$302,4,FALSE))","v":""},null,null,null,null,null,null,null,null,null,null,null,null,null,null,null,null,null,null,null,null,null,null,null,null,0,null,{"$f":"MATCH(\"*\"&AC$1&\"*\",OFFSET(Inscriptions!Q$4:Q$303,SUM(Novizen!AF$6:'Novizen'!AF28),0),0)","v":{"$error":"#N/A"}}]
[{"$f":"IF(ISNA(INDEX(Inscriptions!A$4:A$303,SUM(Novizen!AF$7:'Novizen'!AF30))),\"\",INDEX(Inscriptions!A$4:A$303,SUM(Novizen!AF$7:'Novizen'!AF30)))","v":""},{"$f":"IF(A30=\"\",\"\",VLOOKUP(A30,Data!G$2:K$302,5,FALSE))","v":""},{"$f":"IF(A30=\"\",\"\",VLOOKUP(A30,Data!G$2:K$302,2,FALSE))","v":""},{"$f":"IF(A30=\"\",\"\",VLOOKUP(A30,Data!G$2:K$302,3,FALSE))","v":""},{"$f":"IF(A30=\"\",\"\",VLOOKUP(A30,Data!G$2:K$302,4,FALSE))","v":""},null,null,null,null,null,null,null,null,null,null,null,null,null,null,null,null,null,null,null,null,null,null,null,null,0,null,{"$f":"MATCH(\"*\"&AC$1&\"*\",OFFSET(Inscriptions!Q$4:Q$303,SUM(Novizen!AF$6:'Novizen'!AF29),0),0)","v":{"$error":"#N/A"}}]
[{"$f":"IF(ISNA(INDEX(Inscriptions!A$4:A$303,SUM(Novizen!AF$7:'Novizen'!AF31))),\"\",INDEX(Inscriptions!A$4:A$303,SUM(Novizen!AF$7:'Novizen'!AF31)))","v":""},{"$f":"IF(A31=\"\",\"\",VLOOKUP(A31,Data!G$2:K$302,5,FALSE))","v":""},{"$f":"IF(A31=\"\",\"\",VLOOKUP(A31,Data!G$2:K$302,2,FALSE))","v":""},{"$f":"IF(A31=\"\",\"\",VLOOKUP(A31,Data!G$2:K$302,3,FALSE))","v":""},{"$f":"IF(A31=\"\",\"\",VLOOKUP(A31,Data!G$2:K$302,4,FALSE))","v":""},null,null,null,null,null,null,null,null,null,null,null,null,null,null,null,null,null,null,null,null,null,null,null,null,0,null,{"$f":"MATCH(\"*\"&AC$1&\"*\",OFFSET(Inscriptions!Q$4:Q$303,SUM(Novizen!AF$6:'Novizen'!AF30),0),0)","v":{"$error":"#N/A"}}]
[{"$f":"IF(ISNA(INDEX(Inscriptions!A$4:A$303,SUM(Novizen!AF$7:'Novizen'!AF32))),\"\",INDEX(Inscriptions!A$4:A$303,SUM(Novizen!AF$7:'Novizen'!AF32)))","v":""},{"$f":"IF(A32=\"\",\"\",VLOOKUP(A32,Data!G$2:K$302,5,FALSE))","v":""},{"$f":"IF(A32=\"\",\"\",VLOOKUP(A32,Data!G$2:K$302,2,FALSE))","v":""},{"$f":"IF(A32=\"\",\"\",VLOOKUP(A32,Data!G$2:K$302,3,FALSE))","v":""},{"$f":"IF(A32=\"\",\"\",VLOOKUP(A32,Data!G$2:K$302,4,FALSE))","v":""},null,null,null,null,null,null,null,null,null,null,null,null,null,null,null,null,null,null,null,null,null,null,null,null,0,null,{"$f":"MATCH(\"*\"&AC$1&\"*\",OFFSET(Inscriptions!Q$4:Q$303,SUM(Novizen!AF$6:'Novizen'!AF31),0),0)","v":{"$error":"#N/A"}}]
[{"$f":"IF(ISNA(INDEX(Inscriptions!A$4:A$303,SUM(Novizen!AF$7:'Novizen'!AF33))),\"\",INDEX(Inscriptions!A$4:A$303,SUM(Novizen!AF$7:'Novizen'!AF33)))","v":""},{"$f":"IF(A33=\"\",\"\",VLOOKUP(A33,Data!G$2:K$302,5,FALSE))","v":""},{"$f":"IF(A33=\"\",\"\",VLOOKUP(A33,Data!G$2:K$302,2,FALSE))","v":""},{"$f":"IF(A33=\"\",\"\",VLOOKUP(A33,Data!G$2:K$302,3,FALSE))","v":""},{"$f":"IF(A33=\"\",\"\",VLOOKUP(A33,Data!G$2:K$302,4,FALSE))","v":""},null,null,null,null,null,null,null,null,null,null,null,null,null,null,null,null,null,null,null,null,null,null,null,null,0,null,{"$f":"MATCH(\"*\"&AC$1&\"*\",OFFSET(Inscriptions!Q$4:Q$303,SUM(Novizen!AF$6:'Novizen'!AF32),0),0)","v":{"$error":"#N/A"}}]
[{"$f":"IF(ISNA(INDEX(Inscriptions!A$4:A$303,SUM(Novizen!AF$7:'Novizen'!AF34))),\"\",INDEX(Inscriptions!A$4:A$303,SUM(Novizen!AF$7:'Novizen'!AF34)))","v":""},{"$f":"IF(A34=\"\",\"\",VLOOKUP(A34,Data!G$2:K$302,5,FALSE))","v":""},{"$f":"IF(A34=\"\",\"\",VLOOKUP(A34,Data!G$2:K$302,2,FALSE))","v":""},{"$f":"IF(A34=\"\",\"\",VLOOKUP(A34,Data!G$2:K$302,3,FALSE))","v":""},{"$f":"IF(A34=\"\",\"\",VLOOKUP(A34,Data!G$2:K$302,4,FALSE))","v":""},null,null,null,null,null,null,null,null,null,null,null,null,null,null,null,null,null,null,null,null,null,null,null,null,0,null,{"$f":"MATCH(\"*\"&AC$1&\"*\",OFFSET(Inscriptions!Q$4:Q$303,SUM(Novizen!AF$6:'Novizen'!AF33),0),0)","v":{"$error":"#N/A"}}]
[{"$f":"IF(ISNA(INDEX(Inscriptions!A$4:A$303,SUM(Novizen!AF$7:'Novizen'!AF35))),\"\",INDEX(Inscriptions!A$4:A$303,SUM(Novizen!AF$7:'Novizen'!AF35)))","v":""},{"$f":"IF(A35=\"\",\"\",VLOOKUP(A35,Data!G$2:K$302,5,FALSE))","v":""},{"$f":"IF(A35=\"\",\"\",VLOOKUP(A35,Data!G$2:K$302,2,FALSE))","v":""},{"$f":"IF(A35=\"\",\"\",VLOOKUP(A35,Data!G$2:K$302,3,FALSE))","v":""},{"$f":"IF(A35=\"\",\"\",VLOOKUP(A35,Data!G$2:K$302,4,FALSE))","v":""},null,null,null,null,null,null,null,null,null,null,null,null,null,null,null,null,null,null,null,null,null,null,null,null,0,null,{"$f":"MATCH(\"*\"&AC$1&\"*\",OFFSET(Inscriptions!Q$4:Q$303,SUM(Novizen!AF$6:'Novizen'!AF34),0),0)","v":{"$error":"#N/A"}}]
[{"$f":"IF(ISNA(INDEX(Inscriptions!A$4:A$303,SUM(Novizen!AF$7:'Novizen'!AF36))),\"\",INDEX(Inscriptions!A$4:A$303,SUM(Novizen!AF$7:'Novizen'!AF36)))","v":""},{"$f":"IF(A36=\"\",\"\",VLOOKUP(A36,Data!G$2:K$302,5,FALSE))","v":""},{"$f":"IF(A36=\"\",\"\",VLOOKUP(A36,Data!G$2:K$302,2,FALSE))","v":""},{"$f":"IF(A36=\"\",\"\",VLOOKUP(A36,Data!G$2:K$302,3,FALSE))","v":""},{"$f":"IF(A36=\"\",\"\",VLOOKUP(A36,Data!G$2:K$302,4,FALSE))","v":""},null,null,null,null,null,null,null,null,null,null,null,null,null,null,null,null,null,null,null,null,null,null,null,null,0,null,{"$f":"MATCH(\"*\"&AC$1&\"*\",OFFSET(Inscriptions!Q$4:Q$303,SUM(Novizen!AF$6:'Novizen'!AF35),0),0)","v":{"$error":"#N/A"}}]
[{"$f":"IF(ISNA(INDEX(Inscriptions!A$4:A$303,SUM(Novizen!AF$7:'Novizen'!AF37))),\"\",INDEX(Inscriptions!A$4:A$303,SUM(Novizen!AF$7:'Novizen'!AF37)))","v":""},{"$f":"IF(A37=\"\",\"\",VLOOKUP(A37,Data!G$2:K$302,5,FALSE))","v":""},{"$f":"IF(A37=\"\",\"\",VLOOKUP(A37,Data!G$2:K$302,2,FALSE))","v":""},{"$f":"IF(A37=\"\",\"\",VLOOKUP(A37,Data!G$2:K$302,3,FALSE))","v":""},{"$f":"IF(A37=\"\",\"\",VLOOKUP(A37,Data!G$2:K$302,4,FALSE))","v":""},null,null,null,null,null,null,null,null,null,null,null,null,null,null,null,null,null,null,null,null,null,null,null,null,0,null,{"$f":"MATCH(\"*\"&AC$1&\"*\",OFFSET(Inscriptions!Q$4:Q$303,SUM(Novizen!AF$6:'Novizen'!AF36),0),0)","v":{"$error":"#N/A"}}]
[{"$f":"IF(ISNA(INDEX(Inscriptions!A$4:A$303,SUM(Novizen!AF$7:'Novizen'!AF38))),\"\",INDEX(Inscriptions!A$4:A$303,SUM(Novizen!AF$7:'Novizen'!AF38)))","v":""},{"$f":"IF(A38=\"\",\"\",VLOOKUP(A38,Data!G$2:K$302,5,FALSE))","v":""},{"$f":"IF(A38=\"\",\"\",VLOOKUP(A38,Data!G$2:K$302,2,FALSE))","v":""},{"$f":"IF(A38=\"\",\"\",VLOOKUP(A38,Data!G$2:K$302,3,FALSE))","v":""},{"$f":"IF(A38=\"\",\"\",VLOOKUP(A38,Data!G$2:K$302,4,FALSE))","v":""},null,null,null,null,null,null,null,null,null,null,null,null,null,null,null,null,null,null,null,null,null,null,null,null,0,null,{"$f":"MATCH(\"*\"&AC$1&\"*\",OFFSET(Inscriptions!Q$4:Q$303,SUM(Novizen!AF$6:'Novizen'!AF37),0),0)","v":{"$error":"#N/A"}}]
[{"$f":"IF(ISNA(INDEX(Inscriptions!A$4:A$303,SUM(Novizen!AF$7:'Novizen'!AF39))),\"\",INDEX(Inscriptions!A$4:A$303,SUM(Novizen!AF$7:'Novizen'!AF39)))","v":""},{"$f":"IF(A39=\"\",\"\",VLOOKUP(A39,Data!G$2:K$302,5,FALSE))","v":""},{"$f":"IF(A39=\"\",\"\",VLOOKUP(A39,Data!G$2:K$302,2,FALSE))","v":""},{"$f":"IF(A39=\"\",\"\",VLOOKUP(A39,Data!G$2:K$302,3,FALSE))","v":""},{"$f":"IF(A39=\"\",\"\",VLOOKUP(A39,Data!G$2:K$302,4,FALSE))","v":""},null,null,null,null,null,null,null,null,null,null,null,null,null,null,null,null,null,null,null,null,null,null,null,null,0,null,{"$f":"MATCH(\"*\"&AC$1&\"*\",OFFSET(Inscriptions!Q$4:Q$303,SUM(Novizen!AF$6:'Novizen'!AF38),0),0)","v":{"$error":"#N/A"}}]
[{"$f":"IF(ISNA(INDEX(Inscriptions!A$4:A$303,SUM(Novizen!AF$7:'Novizen'!AF40))),\"\",INDEX(Inscriptions!A$4:A$303,SUM(Novizen!AF$7:'Novizen'!AF40)))","v":""},{"$f":"IF(A40=\"\",\"\",VLOOKUP(A40,Data!G$2:K$302,5,FALSE))","v":""},{"$f":"IF(A40=\"\",\"\",VLOOKUP(A40,Data!G$2:K$302,2,FALSE))","v":""},{"$f":"IF(A40=\"\",\"\",VLOOKUP(A40,Data!G$2:K$302,3,FALSE))","v":""},{"$f":"IF(A40=\"\",\"\",VLOOKUP(A40,Data!G$2:K$302,4,FALSE))","v":""},null,null,null,null,null,null,null,null,null,null,null,null,null,null,null,null,null,null,null,null,null,null,null,null,0,null,{"$f":"MATCH(\"*\"&AC$1&\"*\",OFFSET(Inscriptions!Q$4:Q$303,SUM(Novizen!AF$6:'Novizen'!AF39),0),0)","v":{"$error":"#N/A"}}]
[{"$f":"IF(ISNA(INDEX(Inscriptions!A$4:A$303,SUM(Novizen!AF$7:'Novizen'!AF41))),\"\",INDEX(Inscriptions!A$4:A$303,SUM(Novizen!AF$7:'Novizen'!AF41)))","v":""},{"$f":"IF(A41=\"\",\"\",VLOOKUP(A41,Data!G$2:K$302,5,FALSE))","v":""},{"$f":"IF(A41=\"\",\"\",VLOOKUP(A41,Data!G$2:K$302,2,FALSE))","v":""},{"$f":"IF(A41=\"\",\"\",VLOOKUP(A41,Data!G$2:K$302,3,FALSE))","v":""},{"$f":"IF(A41=\"\",\"\",VLOOKUP(A41,Data!G$2:K$302,4,FALSE))","v":""},null,null,null,null,null,null,null,null,null,null,null,null,null,null,null,null,null,null,null,null,null,null,null,null,0,null,{"$f":"MATCH(\"*\"&AC$1&\"*\",OFFSET(Inscriptions!Q$4:Q$303,SUM(Novizen!AF$6:'Novizen'!AF40),0),0)","v":{"$error":"#N/A"}}]
[{"$f":"IF(ISNA(INDEX(Inscriptions!A$4:A$303,SUM(Novizen!AF$7:'Novizen'!AF42))),\"\",INDEX(Inscriptions!A$4:A$303,SUM(Novizen!AF$7:'Novizen'!AF42)))","v":""},{"$f":"IF(A42=\"\",\"\",VLOOKUP(A42,Data!G$2:K$302,5,FALSE))","v":""},{"$f":"IF(A42=\"\",\"\",VLOOKUP(A42,Data!G$2:K$302,2,FALSE))","v":""},{"$f":"IF(A42=\"\",\"\",VLOOKUP(A42,Data!G$2:K$302,3,FALSE))","v":""},{"$f":"IF(A42=\"\",\"\",VLOOKUP(A42,Data!G$2:K$302,4,FALSE))","v":""},null,null,null,null,null,null,null,null,null,null,null,null,null,null,null,null,null,null,null,null,null,null,null,null,0,null,{"$f":"MATCH(\"*\"&AC$1&\"*\",OFFSET(Inscriptions!Q$4:Q$303,SUM(Novizen!AF$6:'Novizen'!AF41),0),0)","v":{"$error":"#N/A"}}]
[{"$f":"IF(ISNA(INDEX(Inscriptions!A$4:A$303,SUM(Novizen!AF$7:'Novizen'!AF43))),\"\",INDEX(Inscriptions!A$4:A$303,SUM(Novizen!AF$7:'Novizen'!AF43)))","v":""},{"$f":"IF(A43=\"\",\"\",VLOOKUP(A43,Data!G$2:K$302,5,FALSE))","v":""},{"$f":"IF(A43=\"\",\"\",VLOOKUP(A43,Data!G$2:K$302,2,FALSE))","v":""},{"$f":"IF(A43=\"\",\"\",VLOOKUP(A43,Data!G$2:K$302,3,FALSE))","v":""},{"$f":"IF(A43=\"\",\"\",VLOOKUP(A43,Data!G$2:K$302,4,FALSE))","v":""},null,null,null,null,null,null,null,null,null,null,null,null,null,null,null,null,null,null,null,null,null,null,null,null,0,null,{"$f":"MATCH(\"*\"&AC$1&\"*\",OFFSET(Inscriptions!Q$4:Q$303,SUM(Novizen!AF$6:'Novizen'!AF42),0),0)","v":{"$error":"#N/A"}}]
[{"$f":"IF(ISNA(INDEX(Inscriptions!A$4:A$303,SUM(Novizen!AF$7:'Novizen'!AF44))),\"\",INDEX(Inscriptions!A$4:A$303,SUM(Novizen!AF$7:'Novizen'!AF44)))","v":""},{"$f":"IF(A44=\"\",\"\",VLOOKUP(A44,Data!G$2:K$302,5,FALSE))","v":""},{"$f":"IF(A44=\"\",\"\",VLOOKUP(A44,Data!G$2:K$302,2,FALSE))","v":""},{"$f":"IF(A44=\"\",\"\",VLOOKUP(A44,Data!G$2:K$302,3,FALSE))","v":""},{"$f":"IF(A44=\"\",\"\",VLOOKUP(A44,Data!G$2:K$302,4,FALSE))","v":""},null,null,null,null,null,null,null,null,null,null,null,null,null,null,null,null,null,null,null,null,null,null,null,null,0,null,{"$f":"MATCH(\"*\"&AC$1&\"*\",OFFSET(Inscriptions!Q$4:Q$303,SUM(Novizen!AF$6:'Novizen'!AF43),0),0)","v":{"$error":"#N/A"}}]
[{"$f":"IF(ISNA(INDEX(Inscriptions!A$4:A$303,SUM(Novizen!AF$7:'Novizen'!AF45))),\"\",INDEX(Inscriptions!A$4:A$303,SUM(Novizen!AF$7:'Novizen'!AF45)))","v":""},{"$f":"IF(A45=\"\",\"\",VLOOKUP(A45,Data!G$2:K$302,5,FALSE))","v":""},{"$f":"IF(A45=\"\",\"\",VLOOKUP(A45,Data!G$2:K$302,2,FALSE))","v":""},{"$f":"IF(A45=\"\",\"\",VLOOKUP(A45,Data!G$2:K$302,3,FALSE))","v":""},{"$f":"IF(A45=\"\",\"\",VLOOKUP(A45,Data!G$2:K$302,4,FALSE))","v":""},null,null,null,null,null,null,null,null,null,null,null,null,null,null,null,null,null,null,null,null,null,null,null,null,0,null,{"$f":"MATCH(\"*\"&AC$1&\"*\",OFFSET(Inscriptions!Q$4:Q$303,SUM(Novizen!AF$6:'Novizen'!AF44),0),0)","v":{"$error":"#N/A"}}]
[{"$f":"IF(ISNA(INDEX(Inscriptions!A$4:A$303,SUM(Novizen!AF$7:'Novizen'!AF46))),\"\",INDEX(Inscriptions!A$4:A$303,SUM(Novizen!AF$7:'Novizen'!AF46)))","v":""},{"$f":"IF(A46=\"\",\"\",VLOOKUP(A46,Data!G$2:K$302,5,FALSE))","v":""},{"$f":"IF(A46=\"\",\"\",VLOOKUP(A46,Data!G$2:K$302,2,FALSE))","v":""},{"$f":"IF(A46=\"\",\"\",VLOOKUP(A46,Data!G$2:K$302,3,FALSE))","v":""},{"$f":"IF(A46=\"\",\"\",VLOOKUP(A46,Data!G$2:K$302,4,FALSE))","v":""},null,null,null,null,null,null,null,null,null,null,null,null,null,null,null,null,null,null,null,null,null,null,null,null,0,null,{"$f":"MATCH(\"*\"&AC$1&\"*\",OFFSET(Inscriptions!Q$4:Q$303,SUM(Novizen!AF$6:'Novizen'!AF45),0),0)","v":{"$error":"#N/A"}}]
[{"$f":"IF(ISNA(INDEX(Inscriptions!A$4:A$303,SUM(Novizen!AF$7:'Novizen'!AF47))),\"\",INDEX(Inscriptions!A$4:A$303,SUM(Novizen!AF$7:'Novizen'!AF47)))","v":""},{"$f":"IF(A47=\"\",\"\",VLOOKUP(A47,Data!G$2:K$302,5,FALSE))","v":""},{"$f":"IF(A47=\"\",\"\",VLOOKUP(A47,Data!G$2:K$302,2,FALSE))","v":""},{"$f":"IF(A47=\"\",\"\",VLOOKUP(A47,Data!G$2:K$302,3,FALSE))","v":""},{"$f":"IF(A47=\"\",\"\",VLOOKUP(A47,Data!G$2:K$302,4,FALSE))","v":""},null,null,null,null,null,null,null,null,null,null,null,null,null,null,null,null,null,null,null,null,null,null,null,null,0,null,{"$f":"MATCH(\"*\"&AC$1&\"*\",OFFSET(Inscriptions!Q$4:Q$303,SUM(Novizen!AF$6:'Novizen'!AF46),0),0)","v":{"$error":"#N/A"}}]
[{"$f":"IF(ISNA(INDEX(Inscriptions!A$4:A$303,SUM(Novizen!AF$7:'Novizen'!AF48))),\"\",INDEX(Inscriptions!A$4:A$303,SUM(Novizen!AF$7:'Novizen'!AF48)))","v":""},{"$f":"IF(A48=\"\",\"\",VLOOKUP(A48,Data!G$2:K$302,5,FALSE))","v":""},{"$f":"IF(A48=\"\",\"\",VLOOKUP(A48,Data!G$2:K$302,2,FALSE))","v":""},{"$f":"IF(A48=\"\",\"\",VLOOKUP(A48,Data!G$2:K$302,3,FALSE))","v":""},{"$f":"IF(A48=\"\",\"\",VLOOKUP(A48,Data!G$2:K$302,4,FALSE))","v":""},null,null,null,null,null,null,null,null,null,null,null,null,null,null,null,null,null,null,null,null,null,null,null,null,0,null,{"$f":"MATCH(\"*\"&AC$1&\"*\",OFFSET(Inscriptions!Q$4:Q$303,SUM(Novizen!AF$6:'Novizen'!AF47),0),0)","v":{"$error":"#N/A"}}]
[{"$f":"IF(ISNA(INDEX(Inscriptions!A$4:A$303,SUM(Novizen!AF$7:'Novizen'!AF49))),\"\",INDEX(Inscriptions!A$4:A$303,SUM(Novizen!AF$7:'Novizen'!AF49)))","v":""},{"$f":"IF(A49=\"\",\"\",VLOOKUP(A49,Data!G$2:K$302,5,FALSE))","v":""},{"$f":"IF(A49=\"\",\"\",VLOOKUP(A49,Data!G$2:K$302,2,FALSE))","v":""},{"$f":"IF(A49=\"\",\"\",VLOOKUP(A49,Data!G$2:K$302,3,FALSE))","v":""},{"$f":"IF(A49=\"\",\"\",VLOOKUP(A49,Data!G$2:K$302,4,FALSE))","v":""},null,null,null,null,null,null,null,null,null,null,null,null,null,null,null,null,null,null,null,null,null,null,null,null,0,null,{"$f":"MATCH(\"*\"&AC$1&\"*\",OFFSET(Inscriptions!Q$4:Q$303,SUM(Novizen!AF$6:'Novizen'!AF48),0),0)","v":{"$error":"#N/A"}}]
[{"$f":"IF(ISNA(INDEX(Inscriptions!A$4:A$303,SUM(Novizen!AF$7:'Novizen'!AF50))),\"\",INDEX(Inscriptions!A$4:A$303,SUM(Novizen!AF$7:'Novizen'!AF50)))","v":""},{"$f":"IF(A50=\"\",\"\",VLOOKUP(A50,Data!G$2:K$302,5,FALSE))","v":""},{"$f":"IF(A50=\"\",\"\",VLOOKUP(A50,Data!G$2:K$302,2,FALSE))","v":""},{"$f":"IF(A50=\"\",\"\",VLOOKUP(A50,Data!G$2:K$302,3,FALSE))","v":""},{"$f":"IF(A50=\"\",\"\",VLOOKUP(A50,Data!G$2:K$302,4,FALSE))","v":""},null,null,null,null,null,null,null,null,null,null,null,null,null,null,null,null,null,null,null,null,null,null,null,null,0,null,{"$f":"MATCH(\"*\"&AC$1&\"*\",OFFSET(Inscriptions!Q$4:Q$303,SUM(Novizen!AF$6:'Novizen'!AF49),0),0)","v":{"$error":"#N/A"}}]
[{"$f":"IF(ISNA(INDEX(Inscriptions!A$4:A$303,SUM(Novizen!AF$7:'Novizen'!AF51))),\"\",INDEX(Inscriptions!A$4:A$303,SUM(Novizen!AF$7:'Novizen'!AF51)))","v":""},{"$f":"IF(A51=\"\",\"\",VLOOKUP(A51,Data!G$2:K$302,5,FALSE))","v":""},{"$f":"IF(A51=\"\",\"\",VLOOKUP(A51,Data!G$2:K$302,2,FALSE))","v":""},{"$f":"IF(A51=\"\",\"\",VLOOKUP(A51,Data!G$2:K$302,3,FALSE))","v":""},{"$f":"IF(A51=\"\",\"\",VLOOKUP(A51,Data!G$2:K$302,4,FALSE))","v":""},null,null,null,null,null,null,null,null,null,null,null,null,null,null,null,null,null,null,null,null,null,null,null,null,0,null,{"$f":"MATCH(\"*\"&AC$1&\"*\",OFFSET(Inscriptions!Q$4:Q$303,SUM(Novizen!AF$6:'Novizen'!AF50),0),0)","v":{"$error":"#N/A"}}]
[{"$f":"IF(ISNA(INDEX(Inscriptions!A$4:A$303,SUM(Novizen!AF$7:'Novizen'!AF52))),\"\",INDEX(Inscriptions!A$4:A$303,SUM(Novizen!AF$7:'Novizen'!AF52)))","v":""},{"$f":"IF(A52=\"\",\"\",VLOOKUP(A52,Data!G$2:K$302,5,FALSE))","v":""},{"$f":"IF(A52=\"\",\"\",VLOOKUP(A52,Data!G$2:K$302,2,FALSE))","v":""},{"$f":"IF(A52=\"\",\"\",VLOOKUP(A52,Data!G$2:K$302,3,FALSE))","v":""},{"$f":"IF(A52=\"\",\"\",VLOOKUP(A52,Data!G$2:K$302,4,FALSE))","v":""},null,null,null,null,null,null,null,null,null,null,null,null,null,null,null,null,null,null,null,null,null,null,null,null,0,null,{"$f":"MATCH(\"*\"&AC$1&\"*\",OFFSET(Inscriptions!Q$4:Q$303,SUM(Novizen!AF$6:'Novizen'!AF51),0),0)","v":{"$error":"#N/A"}}]
[{"$f":"IF(ISNA(INDEX(Inscriptions!A$4:A$303,SUM(Novizen!AF$7:'Novizen'!AF53))),\"\",INDEX(Inscriptions!A$4:A$303,SUM(Novizen!AF$7:'Novizen'!AF53)))","v":""},{"$f":"IF(A53=\"\",\"\",VLOOKUP(A53,Data!G$2:K$302,5,FALSE))","v":""},{"$f":"IF(A53=\"\",\"\",VLOOKUP(A53,Data!G$2:K$302,2,FALSE))","v":""},{"$f":"IF(A53=\"\",\"\",VLOOKUP(A53,Data!G$2:K$302,3,FALSE))","v":""},{"$f":"IF(A53=\"\",\"\",VLOOKUP(A53,Data!G$2:K$302,4,FALSE))","v":""},null,null,null,null,null,null,null,null,null,null,null,null,null,null,null,null,null,null,null,null,null,null,null,null,0,null,{"$f":"MATCH(\"*\"&AC$1&\"*\",OFFSET(Inscriptions!Q$4:Q$303,SUM(Novizen!AF$6:'Novizen'!AF52),0),0)","v":{"$error":"#N/A"}}]
[{"$f":"IF(ISNA(INDEX(Inscriptions!A$4:A$303,SUM(Novizen!AF$7:'Novizen'!AF54))),\"\",INDEX(Inscriptions!A$4:A$303,SUM(Novizen!AF$7:'Novizen'!AF54)))","v":""},{"$f":"IF(A54=\"\",\"\",VLOOKUP(A54,Data!G$2:K$302,5,FALSE))","v":""},{"$f":"IF(A54=\"\",\"\",VLOOKUP(A54,Data!G$2:K$302,2,FALSE))","v":""},{"$f":"IF(A54=\"\",\"\",VLOOKUP(A54,Data!G$2:K$302,3,FALSE))","v":""},{"$f":"IF(A54=\"\",\"\",VLOOKUP(A54,Data!G$2:K$302,4,FALSE))","v":""},null,null,null,null,null,null,null,null,null,null,null,null,null,null,null,null,null,null,null,null,null,null,null,null,0,null,{"$f":"MATCH(\"*\"&AC$1&\"*\",OFFSET(Inscriptions!Q$4:Q$303,SUM(Novizen!AF$6:'Novizen'!AF53),0),0)","v":{"$error":"#N/A"}}]
[{"$f":"IF(ISNA(INDEX(Inscriptions!A$4:A$303,SUM(Novizen!AF$7:'Novizen'!AF55))),\"\",INDEX(Inscriptions!A$4:A$303,SUM(Novizen!AF$7:'Novizen'!AF55)))","v":""},{"$f":"IF(A55=\"\",\"\",VLOOKUP(A55,Data!G$2:K$302,5,FALSE))","v":""},{"$f":"IF(A55=\"\",\"\",VLOOKUP(A55,Data!G$2:K$302,2,FALSE))","v":""},{"$f":"IF(A55=\"\",\"\",VLOOKUP(A55,Data!G$2:K$302,3,FALSE))","v":""},{"$f":"IF(A55=\"\",\"\",VLOOKUP(A55,Data!G$2:K$302,4,FALSE))","v":""},null,null,null,null,null,null,null,null,null,null,null,null,null,null,null,null,null,null,null,null,null,null,null,null,0,null,{"$f":"MATCH(\"*\"&AC$1&\"*\",OFFSET(Inscriptions!Q$4:Q$303,SUM(Novizen!AF$6:'Novizen'!AF54),0),0)","v":{"$error":"#N/A"}}]
[{"$f":"CONCATENATE(IF(ChoixLangue=Languages!$B$1,Languages!$B105,IF(ChoixLangue=Languages!$C$1,Languages!$C105,IF(ChoixLangue=Languages!$D$1,Languages!$D105,Languages!$E105))),SUM(AD7:AD55))","v":"Nbe nageuses : 0"},"-","-","-",null,"-","-","-","-"]

{"sheet":"Nachwuchs","index":20,"n_rows":56,"n_cols":32,"rows_kept":56,"cut":false,"hidden":true,"merged":[[3,0,3,8]]}
[{"$f":"IF('Cover Page'!B5=\"\",\"\",'Cover Page'!B5)","v":""},null,null,null,null,null,null,null,null,null,null,null,null,null,null,null,null,null,null,null,null,null,null,null,null,null,null,null,"x",null,null,{"$f":"MID(CELL(\"filename\",A1),FIND(\"]\",CELL(\"filename\",A1),1)+1,20)","v":"Nachwuchs"}]
[{"$f":"IF('Cover Page'!B6=\"\",\"\",'Cover Page'!B6)","v":""},null,null,null,null,null,null,null,{"$f":"IF(ChoixLangue=Languages!$B$1,Languages!$B$97 & \" \" & AF1,IF(ChoixLangue=Languages!$C$1,Languages!$C$97 & \" \" & AF1,IF(ChoixLangue=Languages!$D$1,Languages!$D$97 & \" \" & AF1,Languages!$E$97 & \" \" & AF1)))","v":"Catégorie Nachwuchs"}]
[{"$f":"IF('Cover Page'!B7=\"\",\"\",'Cover Page'!B7)","v":""}]
[{"$f":"IF('Cover Page'!B10=\"\",\"\",CONCATENATE(IF(ChoixLangue=Languages!$B$1,Languages!$B98,IF(ChoixLangue=Languages!$C$1,Languages!$C98,IF(ChoixLangue=Languages!$D$1,Languages!$D98,Languages!$E98))),'Cover Page'!B10))","v":""}]
[{"$f":"A56","v":"Nbe nageuses : 0"}]
[{"$f":"IF(ChoixLangue=Languages!$B$1,Languages!$B99,IF(ChoixLangue=Languages!$C$1,Languages!$C99,IF(ChoixLangue=Languages!$D$1,Languages!$D99,Languages!$E99)))","v":"NOM Prénom"},{"$f":"IF(ChoixLangue=Languages!$B$1,Languages!$B100,IF(ChoixLangue=Languages!$C$1,Languages!$C100,IF(ChoixLangue=Languages!$D$1,Languages!$D100,Languages!$E100)))","v":"Club"},{"$f":"IF(ChoixLangue=Languages!$B$1,Languages!$B101,IF(ChoixLangue=Languages!$C$1,Languages!$C101,IF(ChoixLangue=Languages!$D$1,Languages!$D101,Languages!$E101)))","v":"Licence"},{"$f":"IF(ChoixLangue=Languages!$B$1,Languages!$B102,IF(ChoixLangue=Languages!$C$1,Languages!$C102,IF(ChoixLangue=Languages!$D$1,Languages!$D102,Languages!$E102)))","v":"An. Nais."},{"$f":"IF(ChoixLangue=Languages!$B$1,Languages!$B103,IF(ChoixLangue=Languages!$C$1,Languages!$C103,IF(ChoixLangue=Languages!$D$1,Languages!$D103,Languages!$E103)))","v":"N° Test"},{"$f":"IF(ChoixLangue=Languages!$B$1,Languages!$B104,IF(ChoixLangue=Languages!$C$1,Languages!$C104,IF(ChoixLangue=Languages!$D$1,Languages!$D104,Languages!$E104)))","v":"Figures"},"Solo Free","Duo Free","Team Free"]
[{"$f":"IF(ISNA(INDEX(Inscriptions!A$4:A$303,SUM(Nachwuchs!AF$7:'Nachwuchs'!AF7))),\"\",INDEX(Inscriptions!A$4:A$303,SUM(Nachwuchs!AF$7:'Nachwuchs'!AF7)))","v":""},{"$f":"IF(A7=\"\",\"\",VLOOKUP(A7,Data!G$2:K$302,5,FALSE))","v":""},{"$f":"IF(A7=\"\",\"\",VLOOKUP(A7,Data!G$2:K$302,2,FALSE))","v":""},{"$f":"IF(A7=\"\",\"\",VLOOKUP(A7,Data!G$2:K$302,3,FALSE))","v":""},{"$f":"IF(A7=\"\",\"\",VLOOKUP(A7,Data!G$2:K$302,4,FALSE))","v":""},null,null,null,null,null,null,null,null,null,null,null,null,null,null,null,null,null,null,null,null,null,null,null,null,{"$f":"IF(A7<>\"\",1,0)","v":0},null,{"$f":"MATCH(\"*\"&AC$1&\"*\",OFFSET(Inscriptions!R$4:R$303,SUM(Nachwuchs!AF$6:'Nachwuchs'!AF6),0),0)","v":{"$error":"#N/A"}}]
[{"$f":"IF(ISNA(INDEX(Inscriptions!A$4:A$303,SUM(Nachwuchs!AF$7:'Nachwuchs'!AF8))),\"\",INDEX(Inscriptions!A$4:A$303,SUM(Nachwuchs!AF$7:'Nachwuchs'!AF8)))","v":""},{"$f":"IF(A8=\"\",\"\",VLOOKUP(A8,Data!G$2:K$302,5,FALSE))","v":""},{"$f":"IF(A8=\"\",\"\",VLOOKUP(A8,Data!G$2:K$302,2,FALSE))","v":""},{"$f":"IF(A8=\"\",\"\",VLOOKUP(A8,Data!G$2:K$302,3,FALSE))","v":""},{"$f":"IF(A8=\"\",\"\",VLOOKUP(A8,Data!G$2:K$302,4,FALSE))","v":""},null,null,null,null,null,null,null,null,null,null,null,null,null,null,null,null,null,null,null,null,null,null,null,null,0,null,{"$f":"MATCH(\"*\"&AC$1&\"*\",OFFSET(Inscriptions!R$4:R$303,SUM(Nachwuchs!AF$6:'Nachwuchs'!AF7),0),0)","v":{"$error":"#N/A"}}]
[{"$f":"IF(ISNA(INDEX(Inscriptions!A$4:A$303,SUM(Nachwuchs!AF$7:'Nachwuchs'!AF9))),\"\",INDEX(Inscriptions!A$4:A$303,SUM(Nachwuchs!AF$7:'Nachwuchs'!AF9)))","v":""},{"$f":"IF(A9=\"\",\"\",VLOOKUP(A9,Data!G$2:K$302,5,FALSE))","v":""},{"$f":"IF(A9=\"\",\"\",VLOOKUP(A9,Data!G$2:K$302,2,FALSE))","v":""},{"$f":"IF(A9=\"\",\"\",VLOOKUP(A9,Data!G$2:K$302,3,FALSE))","v":""},{"$f":"IF(A9=\"\",\"\",VLOOKUP(A9,Data!G$2:K$302,4,FALSE))","v":""},null,null,null,null,null,null,null,null,null,null,null,null,null,null,null,null,null,null,null,null,null,null,null,null,0,null,{"$f":"MATCH(\"*\"&AC$1&\"*\",OFFSET(Inscriptions!R$4:R$303,SUM(Nachwuchs!AF$6:'Nachwuchs'!AF8),0),0)","v":{"$error":"#N/A"}}]
[{"$f":"IF(ISNA(INDEX(Inscriptions!A$4:A$303,SUM(Nachwuchs!AF$7:'Nachwuchs'!AF10))),\"\",INDEX(Inscriptions!A$4:A$303,SUM(Nachwuchs!AF$7:'Nachwuchs'!AF10)))","v":""},{"$f":"IF(A10=\"\",\"\",VLOOKUP(A10,Data!G$2:K$302,5,FALSE))","v":""},{"$f":"IF(A10=\"\",\"\",VLOOKUP(A10,Data!G$2:K$302,2,FALSE))","v":""},{"$f":"IF(A10=\"\",\"\",VLOOKUP(A10,Data!G$2:K$302,3,FALSE))","v":""},{"$f":"IF(A10=\"\",\"\",VLOOKUP(A10,Data!G$2:K$302,4,FALSE))","v":""},null,null,null,null,null,null,null,null,null,null,null,null,null,null,null,null,null,null,null,null,null,null,null,null,0,null,{"$f":"MATCH(\"*\"&AC$1&\"*\",OFFSET(Inscriptions!R$4:R$303,SUM(Nachwuchs!AF$6:'Nachwuchs'!AF9),0),0)","v":{"$error":"#N/A"}}]
[{"$f":"IF(ISNA(INDEX(Inscriptions!A$4:A$303,SUM(Nachwuchs!AF$7:'Nachwuchs'!AF11))),\"\",INDEX(Inscriptions!A$4:A$303,SUM(Nachwuchs!AF$7:'Nachwuchs'!AF11)))","v":""},{"$f":"IF(A11=\"\",\"\",VLOOKUP(A11,Data!G$2:K$302,5,FALSE))","v":""},{"$f":"IF(A11=\"\",\"\",VLOOKUP(A11,Data!G$2:K$302,2,FALSE))","v":""},{"$f":"IF(A11=\"\",\"\",VLOOKUP(A11,Data!G$2:K$302,3,FALSE))","v":""},{"$f":"IF(A11=\"\",\"\",VLOOKUP(A11,Data!G$2:K$302,4,FALSE))","v":""},null,null,null,null,null,null,null,null,null,null,null,null,null,null,null,null,null,null,null,null,null,null,null,null,0,null,{"$f":"MATCH(\"*\"&AC$1&\"*\",OFFSET(Inscriptions!R$4:R$303,SUM(Nachwuchs!AF$6:'Nachwuchs'!AF10),0),0)","v":{"$error":"#N/A"}}]
[{"$f":"IF(ISNA(INDEX(Inscriptions!A$4:A$303,SUM(Nachwuchs!AF$7:'Nachwuchs'!AF12))),\"\",INDEX(Inscriptions!A$4:A$303,SUM(Nachwuchs!AF$7:'Nachwuchs'!AF12)))","v":""},{"$f":"IF(A12=\"\",\"\",VLOOKUP(A12,Data!G$2:K$302,5,FALSE))","v":""},{"$f":"IF(A12=\"\",\"\",VLOOKUP(A12,Data!G$2:K$302,2,FALSE))","v":""},{"$f":"IF(A12=\"\",\"\",VLOOKUP(A12,Data!G$2:K$302,3,FALSE))","v":""},{"$f":"IF(A12=\"\",\"\",VLOOKUP(A12,Data!G$2:K$302,4,FALSE))","v":""},null,null,null,null,null,null,null,null,null,null,null,null,null,null,null,null,null,null,null,null,null,null,null,null,0,null,{"$f":"MATCH(\"*\"&AC$1&\"*\",OFFSET(Inscriptions!R$4:R$303,SUM(Nachwuchs!AF$6:'Nachwuchs'!AF11),0),0)","v":{"$error":"#N/A"}}]
[{"$f":"IF(ISNA(INDEX(Inscriptions!A$4:A$303,SUM(Nachwuchs!AF$7:'Nachwuchs'!AF13))),\"\",INDEX(Inscriptions!A$4:A$303,SUM(Nachwuchs!AF$7:'Nachwuchs'!AF13)))","v":""},{"$f":"IF(A13=\"\",\"\",VLOOKUP(A13,Data!G$2:K$302,5,FALSE))","v":""},{"$f":"IF(A13=\"\",\"\",VLOOKUP(A13,Data!G$2:K$302,2,FALSE))","v":""},{"$f":"IF(A13=\"\",\"\",VLOOKUP(A13,Data!G$2:K$302,3,FALSE))","v":""},{"$f":"IF(A13=\"\",\"\",VLOOKUP(A13,Data!G$2:K$302,4,FALSE))","v":""},null,null,null,null,null,null,null,null,null,null,null,null,null,null,null,null,null,null,null,null,null,null,null,null,0,null,{"$f":"MATCH(\"*\"&AC$1&\"*\",OFFSET(Inscriptions!R$4:R$303,SUM(Nachwuchs!AF$6:'Nachwuchs'!AF12),0),0)","v":{"$error":"#N/A"}}]
[{"$f":"IF(ISNA(INDEX(Inscriptions!A$4:A$303,SUM(Nachwuchs!AF$7:'Nachwuchs'!AF14))),\"\",INDEX(Inscriptions!A$4:A$303,SUM(Nachwuchs!AF$7:'Nachwuchs'!AF14)))","v":""},{"$f":"IF(A14=\"\",\"\",VLOOKUP(A14,Data!G$2:K$302,5,FALSE))","v":""},{"$f":"IF(A14=\"\",\"\",VLOOKUP(A14,Data!G$2:K$302,2,FALSE))","v":""},{"$f":"IF(A14=\"\",\"\",VLOOKUP(A14,Data!G$2:K$302,3,FALSE))","v":""},{"$f":"IF(A14=\"\",\"\",VLOOKUP(A14,Data!G$2:K$302,4,FALSE))","v":""},null,null,null,null,null,null,null,null,null,null,null,null,null,null,null,null,null,null,null,null,null,null,null,null,0,null,{"$f":"MATCH(\"*\"&AC$1&\"*\",OFFSET(Inscriptions!R$4:R$303,SUM(Nachwuchs!AF$6:'Nachwuchs'!AF13),0),0)","v":{"$error":"#N/A"}}]
[{"$f":"IF(ISNA(INDEX(Inscriptions!A$4:A$303,SUM(Nachwuchs!AF$7:'Nachwuchs'!AF15))),\"\",INDEX(Inscriptions!A$4:A$303,SUM(Nachwuchs!AF$7:'Nachwuchs'!AF15)))","v":""},{"$f":"IF(A15=\"\",\"\",VLOOKUP(A15,Data!G$2:K$302,5,FALSE))","v":""},{"$f":"IF(A15=\"\",\"\",VLOOKUP(A15,Data!G$2:K$302,2,FALSE))","v":""},{"$f":"IF(A15=\"\",\"\",VLOOKUP(A15,Data!G$2:K$302,3,FALSE))","v":""},{"$f":"IF(A15=\"\",\"\",VLOOKUP(A15,Data!G$2:K$302,4,FALSE))","v":""},null,null,null,null,null,null,null,null,null,null,null,null,null,null,null,null,null,null,null,null,null,null,null,null,0,null,{"$f":"MATCH(\"*\"&AC$1&\"*\",OFFSET(Inscriptions!R$4:R$303,SUM(Nachwuchs!AF$6:'Nachwuchs'!AF14),0),0)","v":{"$error":"#N/A"}}]
[{"$f":"IF(ISNA(INDEX(Inscriptions!A$4:A$303,SUM(Nachwuchs!AF$7:'Nachwuchs'!AF16))),\"\",INDEX(Inscriptions!A$4:A$303,SUM(Nachwuchs!AF$7:'Nachwuchs'!AF16)))","v":""},{"$f":"IF(A16=\"\",\"\",VLOOKUP(A16,Data!G$2:K$302,5,FALSE))","v":""},{"$f":"IF(A16=\"\",\"\",VLOOKUP(A16,Data!G$2:K$302,2,FALSE))","v":""},{"$f":"IF(A16=\"\",\"\",VLOOKUP(A16,Data!G$2:K$302,3,FALSE))","v":""},{"$f":"IF(A16=\"\",\"\",VLOOKUP(A16,Data!G$2:K$302,4,FALSE))","v":""},null,null,null,null,null,null,null,null,null,null,null,null,null,null,null,null,null,null,null,null,null,null,null,null,0,null,{"$f":"MATCH(\"*\"&AC$1&\"*\",OFFSET(Inscriptions!R$4:R$303,SUM(Nachwuchs!AF$6:'Nachwuchs'!AF15),0),0)","v":{"$error":"#N/A"}}]
[{"$f":"IF(ISNA(INDEX(Inscriptions!A$4:A$303,SUM(Nachwuchs!AF$7:'Nachwuchs'!AF17))),\"\",INDEX(Inscriptions!A$4:A$303,SUM(Nachwuchs!AF$7:'Nachwuchs'!AF17)))","v":""},{"$f":"IF(A17=\"\",\"\",VLOOKUP(A17,Data!G$2:K$302,5,FALSE))","v":""},{"$f":"IF(A17=\"\",\"\",VLOOKUP(A17,Data!G$2:K$302,2,FALSE))","v":""},{"$f":"IF(A17=\"\",\"\",VLOOKUP(A17,Data!G$2:K$302,3,FALSE))","v":""},{"$f":"IF(A17=\"\",\"\",VLOOKUP(A17,Data!G$2:K$302,4,FALSE))","v":""},null,null,null,null,null,null,null,null,null,null,null,null,null,null,null,null,null,null,null,null,null,null,null,null,0,null,{"$f":"MATCH(\"*\"&AC$1&\"*\",OFFSET(Inscriptions!R$4:R$303,SUM(Nachwuchs!AF$6:'Nachwuchs'!AF16),0),0)","v":{"$error":"#N/A"}}]
[{"$f":"IF(ISNA(INDEX(Inscriptions!A$4:A$303,SUM(Nachwuchs!AF$7:'Nachwuchs'!AF18))),\"\",INDEX(Inscriptions!A$4:A$303,SUM(Nachwuchs!AF$7:'Nachwuchs'!AF18)))","v":""},{"$f":"IF(A18=\"\",\"\",VLOOKUP(A18,Data!G$2:K$302,5,FALSE))","v":""},{"$f":"IF(A18=\"\",\"\",VLOOKUP(A18,Data!G$2:K$302,2,FALSE))","v":""},{"$f":"IF(A18=\"\",\"\",VLOOKUP(A18,Data!G$2:K$302,3,FALSE))","v":""},{"$f":"IF(A18=\"\",\"\",VLOOKUP(A18,Data!G$2:K$302,4,FALSE))","v":""},null,null,null,null,null,null,null,null,null,null,null,null,null,null,null,null,null,null,null,null,null,null,null,null,0,null,{"$f":"MATCH(\"*\"&AC$1&\"*\",OFFSET(Inscriptions!R$4:R$303,SUM(Nachwuchs!AF$6:'Nachwuchs'!AF17),0),0)","v":{"$error":"#N/A"}}]
[{"$f":"IF(ISNA(INDEX(Inscriptions!A$4:A$303,SUM(Nachwuchs!AF$7:'Nachwuchs'!AF19))),\"\",INDEX(Inscriptions!A$4:A$303,SUM(Nachwuchs!AF$7:'Nachwuchs'!AF19)))","v":""},{"$f":"IF(A19=\"\",\"\",VLOOKUP(A19,Data!G$2:K$302,5,FALSE))","v":""},{"$f":"IF(A19=\"\",\"\",VLOOKUP(A19,Data!G$2:K$302,2,FALSE))","v":""},{"$f":"IF(A19=\"\",\"\",VLOOKUP(A19,Data!G$2:K$302,3,FALSE))","v":""},{"$f":"IF(A19=\"\",\"\",VLOOKUP(A19,Data!G$2:K$302,4,FALSE))","v":""},null,null,null,null,null,null,null,null,null,null,null,null,null,null,null,null,null,null,null,null,null,null,null,null,0,null,{"$f":"MATCH(\"*\"&AC$1&\"*\",OFFSET(Inscriptions!R$4:R$303,SUM(Nachwuchs!AF$6:'Nachwuchs'!AF18),0),0)","v":{"$error":"#N/A"}}]
[{"$f":"IF(ISNA(INDEX(Inscriptions!A$4:A$303,SUM(Nachwuchs!AF$7:'Nachwuchs'!AF20))),\"\",INDEX(Inscriptions!A$4:A$303,SUM(Nachwuchs!AF$7:'Nachwuchs'!AF20)))","v":""},{"$f":"IF(A20=\"\",\"\",VLOOKUP(A20,Data!G$2:K$302,5,FALSE))","v":""},{"$f":"IF(A20=\"\",\"\",VLOOKUP(A20,Data!G$2:K$302,2,FALSE))","v":""},{"$f":"IF(A20=\"\",\"\",VLOOKUP(A20,Data!G$2:K$302,3,FALSE))","v":""},{"$f":"IF(A20=\"\",\"\",VLOOKUP(A20,Data!G$2:K$302,4,FALSE))","v":""},null,null,null,null,null,null,null,null,null,null,null,null,null,null,null,null,null,null,null,null,null,null,null,null,0,null,{"$f":"MATCH(\"*\"&AC$1&\"*\",OFFSET(Inscriptions!R$4:R$303,SUM(Nachwuchs!AF$6:'Nachwuchs'!AF19),0),0)","v":{"$error":"#N/A"}}]
[{"$f":"IF(ISNA(INDEX(Inscriptions!A$4:A$303,SUM(Nachwuchs!AF$7:'Nachwuchs'!AF21))),\"\",INDEX(Inscriptions!A$4:A$303,SUM(Nachwuchs!AF$7:'Nachwuchs'!AF21)))","v":""},{"$f":"IF(A21=\"\",\"\",VLOOKUP(A21,Data!G$2:K$302,5,FALSE))","v":""},{"$f":"IF(A21=\"\",\"\",VLOOKUP(A21,Data!G$2:K$302,2,FALSE))","v":""},{"$f":"IF(A21=\"\",\"\",VLOOKUP(A21,Data!G$2:K$302,3,FALSE))","v":""},{"$f":"IF(A21=\"\",\"\",VLOOKUP(A21,Data!G$2:K$302,4,FALSE))","v":""},null,null,null,null,null,null,null,null,null,null,null,null,null,null,null,null,null,null,null,null,null,null,null,null,0,null,{"$f":"MATCH(\"*\"&AC$1&\"*\",OFFSET(Inscriptions!R$4:R$303,SUM(Nachwuchs!AF$6:'Nachwuchs'!AF20),0),0)","v":{"$error":"#N/A"}}]
[{"$f":"IF(ISNA(INDEX(Inscriptions!A$4:A$303,SUM(Nachwuchs!AF$7:'Nachwuchs'!AF22))),\"\",INDEX(Inscriptions!A$4:A$303,SUM(Nachwuchs!AF$7:'Nachwuchs'!AF22)))","v":""},{"$f":"IF(A22=\"\",\"\",VLOOKUP(A22,Data!G$2:K$302,5,FALSE))","v":""},{"$f":"IF(A22=\"\",\"\",VLOOKUP(A22,Data!G$2:K$302,2,FALSE))","v":""},{"$f":"IF(A22=\"\",\"\",VLOOKUP(A22,Data!G$2:K$302,3,FALSE))","v":""},{"$f":"IF(A22=\"\",\"\",VLOOKUP(A22,Data!G$2:K$302,4,FALSE))","v":""},null,null,null,null,null,null,null,null,null,null,null,null,null,null,null,null,null,null,null,null,null,null,null,null,0,null,{"$f":"MATCH(\"*\"&AC$1&\"*\",OFFSET(Inscriptions!R$4:R$303,SUM(Nachwuchs!AF$6:'Nachwuchs'!AF21),0),0)","v":{"$error":"#N/A"}}]
[{"$f":"IF(ISNA(INDEX(Inscriptions!A$4:A$303,SUM(Nachwuchs!AF$7:'Nachwuchs'!AF23))),\"\",INDEX(Inscriptions!A$4:A$303,SUM(Nachwuchs!AF$7:'Nachwuchs'!AF23)))","v":""},{"$f":"IF(A23=\"\",\"\",VLOOKUP(A23,Data!G$2:K$302,5,FALSE))","v":""},{"$f":"IF(A23=\"\",\"\",VLOOKUP(A23,Data!G$2:K$302,2,FALSE))","v":""},{"$f":"IF(A23=\"\",\"\",VLOOKUP(A23,Data!G$2:K$302,3,FALSE))","v":""},{"$f":"IF(A23=\"\",\"\",VLOOKUP(A23,Data!G$2:K$302,4,FALSE))","v":""},null,null,null,null,null,null,null,null,null,null,null,null,null,null,null,null,null,null,null,null,null,null,null,null,0,null,{"$f":"MATCH(\"*\"&AC$1&\"*\",OFFSET(Inscriptions!R$4:R$303,SUM(Nachwuchs!AF$6:'Nachwuchs'!AF22),0),0)","v":{"$error":"#N/A"}}]
[{"$f":"IF(ISNA(INDEX(Inscriptions!A$4:A$303,SUM(Nachwuchs!AF$7:'Nachwuchs'!AF24))),\"\",INDEX(Inscriptions!A$4:A$303,SUM(Nachwuchs!AF$7:'Nachwuchs'!AF24)))","v":""},{"$f":"IF(A24=\"\",\"\",VLOOKUP(A24,Data!G$2:K$302,5,FALSE))","v":""},{"$f":"IF(A24=\"\",\"\",VLOOKUP(A24,Data!G$2:K$302,2,FALSE))","v":""},{"$f":"IF(A24=\"\",\"\",VLOOKUP(A24,Data!G$2:K$302,3,FALSE))","v":""},{"$f":"IF(A24=\"\",\"\",VLOOKUP(A24,Data!G$2:K$302,4,FALSE))","v":""},null,null,null,null,null,null,null,null,null,null,null,null,null,null,null,null,null,null,null,null,null,null,null,null,0,null,{"$f":"MATCH(\"*\"&AC$1&\"*\",OFFSET(Inscriptions!R$4:R$303,SUM(Nachwuchs!AF$6:'Nachwuchs'!AF23),0),0)","v":{"$error":"#N/A"}}]
[{"$f":"IF(ISNA(INDEX(Inscriptions!A$4:A$303,SUM(Nachwuchs!AF$7:'Nachwuchs'!AF25))),\"\",INDEX(Inscriptions!A$4:A$303,SUM(Nachwuchs!AF$7:'Nachwuchs'!AF25)))","v":""},{"$f":"IF(A25=\"\",\"\",VLOOKUP(A25,Data!G$2:K$302,5,FALSE))","v":""},{"$f":"IF(A25=\"\",\"\",VLOOKUP(A25,Data!G$2:K$302,2,FALSE))","v":""},{"$f":"IF(A25=\"\",\"\",VLOOKUP(A25,Data!G$2:K$302,3,FALSE))","v":""},{"$f":"IF(A25=\"\",\"\",VLOOKUP(A25,Data!G$2:K$302,4,FALSE))","v":""},null,null,null,null,null,null,null,null,null,null,null,null,null,null,null,null,null,null,null,null,null,null,null,null,0,null,{"$f":"MATCH(\"*\"&AC$1&\"*\",OFFSET(Inscriptions!R$4:R$303,SUM(Nachwuchs!AF$6:'Nachwuchs'!AF24),0),0)","v":{"$error":"#N/A"}}]
[{"$f":"IF(ISNA(INDEX(Inscriptions!A$4:A$303,SUM(Nachwuchs!AF$7:'Nachwuchs'!AF26))),\"\",INDEX(Inscriptions!A$4:A$303,SUM(Nachwuchs!AF$7:'Nachwuchs'!AF26)))","v":""},{"$f":"IF(A26=\"\",\"\",VLOOKUP(A26,Data!G$2:K$302,5,FALSE))","v":""},{"$f":"IF(A26=\"\",\"\",VLOOKUP(A26,Data!G$2:K$302,2,FALSE))","v":""},{"$f":"IF(A26=\"\",\"\",VLOOKUP(A26,Data!G$2:K$302,3,FALSE))","v":""},{"$f":"IF(A26=\"\",\"\",VLOOKUP(A26,Data!G$2:K$302,4,FALSE))","v":""},null,null,null,null,null,null,null,null,null,null,null,null,null,null,null,null,null,null,null,null,null,null,null,null,0,null,{"$f":"MATCH(\"*\"&AC$1&\"*\",OFFSET(Inscriptions!R$4:R$303,SUM(Nachwuchs!AF$6:'Nachwuchs'!AF25),0),0)","v":{"$error":"#N/A"}}]
[{"$f":"IF(ISNA(INDEX(Inscriptions!A$4:A$303,SUM(Nachwuchs!AF$7:'Nachwuchs'!AF27))),\"\",INDEX(Inscriptions!A$4:A$303,SUM(Nachwuchs!AF$7:'Nachwuchs'!AF27)))","v":""},{"$f":"IF(A27=\"\",\"\",VLOOKUP(A27,Data!G$2:K$302,5,FALSE))","v":""},{"$f":"IF(A27=\"\",\"\",VLOOKUP(A27,Data!G$2:K$302,2,FALSE))","v":""},{"$f":"IF(A27=\"\",\"\",VLOOKUP(A27,Data!G$2:K$302,3,FALSE))","v":""},{"$f":"IF(A27=\"\",\"\",VLOOKUP(A27,Data!G$2:K$302,4,FALSE))","v":""},null,null,null,null,null,null,null,null,null,null,null,null,null,null,null,null,null,null,null,null,null,null,null,null,0,null,{"$f":"MATCH(\"*\"&AC$1&\"*\",OFFSET(Inscriptions!R$4:R$303,SUM(Nachwuchs!AF$6:'Nachwuchs'!AF26),0),0)","v":{"$error":"#N/A"}}]
[{"$f":"IF(ISNA(INDEX(Inscriptions!A$4:A$303,SUM(Nachwuchs!AF$7:'Nachwuchs'!AF28))),\"\",INDEX(Inscriptions!A$4:A$303,SUM(Nachwuchs!AF$7:'Nachwuchs'!AF28)))","v":""},{"$f":"IF(A28=\"\",\"\",VLOOKUP(A28,Data!G$2:K$302,5,FALSE))","v":""},{"$f":"IF(A28=\"\",\"\",VLOOKUP(A28,Data!G$2:K$302,2,FALSE))","v":""},{"$f":"IF(A28=\"\",\"\",VLOOKUP(A28,Data!G$2:K$302,3,FALSE))","v":""},{"$f":"IF(A28=\"\",\"\",VLOOKUP(A28,Data!G$2:K$302,4,FALSE))","v":""},null,null,null,null,null,null,null,null,null,null,null,null,null,null,null,null,null,null,null,null,null,null,null,null,0,null,{"$f":"MATCH(\"*\"&AC$1&\"*\",OFFSET(Inscriptions!R$4:R$303,SUM(Nachwuchs!AF$6:'Nachwuchs'!AF27),0),0)","v":{"$error":"#N/A"}}]
[{"$f":"IF(ISNA(INDEX(Inscriptions!A$4:A$303,SUM(Nachwuchs!AF$7:'Nachwuchs'!AF29))),\"\",INDEX(Inscriptions!A$4:A$303,SUM(Nachwuchs!AF$7:'Nachwuchs'!AF29)))","v":""},{"$f":"IF(A29=\"\",\"\",VLOOKUP(A29,Data!G$2:K$302,5,FALSE))","v":""},{"$f":"IF(A29=\"\",\"\",VLOOKUP(A29,Data!G$2:K$302,2,FALSE))","v":""},{"$f":"IF(A29=\"\",\"\",VLOOKUP(A29,Data!G$2:K$302,3,FALSE))","v":""},{"$f":"IF(A29=\"\",\"\",VLOOKUP(A29,Data!G$2:K$302,4,FALSE))","v":""},null,null,null,null,null,null,null,null,null,null,null,null,null,null,null,null,null,null,null,null,null,null,null,null,0,null,{"$f":"MATCH(\"*\"&AC$1&\"*\",OFFSET(Inscriptions!R$4:R$303,SUM(Nachwuchs!AF$6:'Nachwuchs'!AF28),0),0)","v":{"$error":"#N/A"}}]
[{"$f":"IF(ISNA(INDEX(Inscriptions!A$4:A$303,SUM(Nachwuchs!AF$7:'Nachwuchs'!AF30))),\"\",INDEX(Inscriptions!A$4:A$303,SUM(Nachwuchs!AF$7:'Nachwuchs'!AF30)))","v":""},{"$f":"IF(A30=\"\",\"\",VLOOKUP(A30,Data!G$2:K$302,5,FALSE))","v":""},{"$f":"IF(A30=\"\",\"\",VLOOKUP(A30,Data!G$2:K$302,2,FALSE))","v":""},{"$f":"IF(A30=\"\",\"\",VLOOKUP(A30,Data!G$2:K$302,3,FALSE))","v":""},{"$f":"IF(A30=\"\",\"\",VLOOKUP(A30,Data!G$2:K$302,4,FALSE))","v":""},null,null,null,null,null,null,null,null,null,null,null,null,null,null,null,null,null,null,null,null,null,null,null,null,0,null,{"$f":"MATCH(\"*\"&AC$1&\"*\",OFFSET(Inscriptions!R$4:R$303,SUM(Nachwuchs!AF$6:'Nachwuchs'!AF29),0),0)","v":{"$error":"#N/A"}}]
[{"$f":"IF(ISNA(INDEX(Inscriptions!A$4:A$303,SUM(Nachwuchs!AF$7:'Nachwuchs'!AF31))),\"\",INDEX(Inscriptions!A$4:A$303,SUM(Nachwuchs!AF$7:'Nachwuchs'!AF31)))","v":""},{"$f":"IF(A31=\"\",\"\",VLOOKUP(A31,Data!G$2:K$302,5,FALSE))","v":""},{"$f":"IF(A31=\"\",\"\",VLOOKUP(A31,Data!G$2:K$302,2,FALSE))","v":""},{"$f":"IF(A31=\"\",\"\",VLOOKUP(A31,Data!G$2:K$302,3,FALSE))","v":""},{"$f":"IF(A31=\"\",\"\",VLOOKUP(A31,Data!G$2:K$302,4,FALSE))","v":""},null,null,null,null,null,null,null,null,null,null,null,null,null,null,null,null,null,null,null,null,null,null,null,null,0,null,{"$f":"MATCH(\"*\"&AC$1&\"*\",OFFSET(Inscriptions!R$4:R$303,SUM(Nachwuchs!AF$6:'Nachwuchs'!AF30),0),0)","v":{"$error":"#N/A"}}]
[{"$f":"IF(ISNA(INDEX(Inscriptions!A$4:A$303,SUM(Nachwuchs!AF$7:'Nachwuchs'!AF32))),\"\",INDEX(Inscriptions!A$4:A$303,SUM(Nachwuchs!AF$7:'Nachwuchs'!AF32)))","v":""},{"$f":"IF(A32=\"\",\"\",VLOOKUP(A32,Data!G$2:K$302,5,FALSE))","v":""},{"$f":"IF(A32=\"\",\"\",VLOOKUP(A32,Data!G$2:K$302,2,FALSE))","v":""},{"$f":"IF(A32=\"\",\"\",VLOOKUP(A32,Data!G$2:K$302,3,FALSE))","v":""},{"$f":"IF(A32=\"\",\"\",VLOOKUP(A32,Data!G$2:K$302,4,FALSE))","v":""},null,null,null,null,null,null,null,null,null,null,null,null,null,null,null,null,null,null,null,null,null,null,null,null,0,null,{"$f":"MATCH(\"*\"&AC$1&\"*\",OFFSET(Inscriptions!R$4:R$303,SUM(Nachwuchs!AF$6:'Nachwuchs'!AF31),0),0)","v":{"$error":"#N/A"}}]
[{"$f":"IF(ISNA(INDEX(Inscriptions!A$4:A$303,SUM(Nachwuchs!AF$7:'Nachwuchs'!AF33))),\"\",INDEX(Inscriptions!A$4:A$303,SUM(Nachwuchs!AF$7:'Nachwuchs'!AF33)))","v":""},{"$f":"IF(A33=\"\",\"\",VLOOKUP(A33,Data!G$2:K$302,5,FALSE))","v":""},{"$f":"IF(A33=\"\",\"\",VLOOKUP(A33,Data!G$2:K$302,2,FALSE))","v":""},{"$f":"IF(A33=\"\",\"\",VLOOKUP(A33,Data!G$2:K$302,3,FALSE))","v":""},{"$f":"IF(A33=\"\",\"\",VLOOKUP(A33,Data!G$2:K$302,4,FALSE))","v":""},null,null,null,null,null,null,null,null,null,null,null,null,null,null,null,null,null,null,null,null,null,null,null,null,0,null,{"$f":"MATCH(\"*\"&AC$1&\"*\",OFFSET(Inscriptions!R$4:R$303,SUM(Nachwuchs!AF$6:'Nachwuchs'!AF32),0),0)","v":{"$error":"#N/A"}}]
[{"$f":"IF(ISNA(INDEX(Inscriptions!A$4:A$303,SUM(Nachwuchs!AF$7:'Nachwuchs'!AF34))),\"\",INDEX(Inscriptions!A$4:A$303,SUM(Nachwuchs!AF$7:'Nachwuchs'!AF34)))","v":""},{"$f":"IF(A34=\"\",\"\",VLOOKUP(A34,Data!G$2:K$302,5,FALSE))","v":""},{"$f":"IF(A34=\"\",\"\",VLOOKUP(A34,Data!G$2:K$302,2,FALSE))","v":""},{"$f":"IF(A34=\"\",\"\",VLOOKUP(A34,Data!G$2:K$302,3,FALSE))","v":""},{"$f":"IF(A34=\"\",\"\",VLOOKUP(A34,Data!G$2:K$302,4,FALSE))","v":""},null,null,null,null,null,null,null,null,null,null,null,null,null,null,null,null,null,null,null,null,null,null,null,null,0,null,{"$f":"MATCH(\"*\"&AC$1&\"*\",OFFSET(Inscriptions!R$4:R$303,SUM(Nachwuchs!AF$6:'Nachwuchs'!AF33),0),0)","v":{"$error":"#N/A"}}]
[{"$f":"IF(ISNA(INDEX(Inscriptions!A$4:A$303,SUM(Nachwuchs!AF$7:'Nachwuchs'!AF35))),\"\",INDEX(Inscriptions!A$4:A$303,SUM(Nachwuchs!AF$7:'Nachwuchs'!AF35)))","v":""},{"$f":"IF(A35=\"\",\"\",VLOOKUP(A35,Data!G$2:K$302,5,FALSE))","v":""},{"$f":"IF(A35=\"\",\"\",VLOOKUP(A35,Data!G$2:K$302,2,FALSE))","v":""},{"$f":"IF(A35=\"\",\"\",VLOOKUP(A35,Data!G$2:K$302,3,FALSE))","v":""},{"$f":"IF(A35=\"\",\"\",VLOOKUP(A35,Data!G$2:K$302,4,FALSE))","v":""},null,null,null,null,null,null,null,null,null,null,null,null,null,null,null,null,null,null,null,null,null,null,null,null,0,null,{"$f":"MATCH(\"*\"&AC$1&\"*\",OFFSET(Inscriptions!R$4:R$303,SUM(Nachwuchs!AF$6:'Nachwuchs'!AF34),0),0)","v":{"$error":"#N/A"}}]
[{"$f":"IF(ISNA(INDEX(Inscriptions!A$4:A$303,SUM(Nachwuchs!AF$7:'Nachwuchs'!AF36))),\"\",INDEX(Inscriptions!A$4:A$303,SUM(Nachwuchs!AF$7:'Nachwuchs'!AF36)))","v":""},{"$f":"IF(A36=\"\",\"\",VLOOKUP(A36,Data!G$2:K$302,5,FALSE))","v":""},{"$f":"IF(A36=\"\",\"\",VLOOKUP(A36,Data!G$2:K$302,2,FALSE))","v":""},{"$f":"IF(A36=\"\",\"\",VLOOKUP(A36,Data!G$2:K$302,3,FALSE))","v":""},{"$f":"IF(A36=\"\",\"\",VLOOKUP(A36,Data!G$2:K$302,4,FALSE))","v":""},null,null,null,null,null,null,null,null,null,null,null,null,null,null,null,null,null,null,null,null,null,null,null,null,0,null,{"$f":"MATCH(\"*\"&AC$1&\"*\",OFFSET(Inscriptions!R$4:R$303,SUM(Nachwuchs!AF$6:'Nachwuchs'!AF35),0),0)","v":{"$error":"#N/A"}}]
[{"$f":"IF(ISNA(INDEX(Inscriptions!A$4:A$303,SUM(Nachwuchs!AF$7:'Nachwuchs'!AF37))),\"\",INDEX(Inscriptions!A$4:A$303,SUM(Nachwuchs!AF$7:'Nachwuchs'!AF37)))","v":""},{"$f":"IF(A37=\"\",\"\",VLOOKUP(A37,Data!G$2:K$302,5,FALSE))","v":""},{"$f":"IF(A37=\"\",\"\",VLOOKUP(A37,Data!G$2:K$302,2,FALSE))","v":""},{"$f":"IF(A37=\"\",\"\",VLOOKUP(A37,Data!G$2:K$302,3,FALSE))","v":""},{"$f":"IF(A37=\"\",\"\",VLOOKUP(A37,Data!G$2:K$302,4,FALSE))","v":""},null,null,null,null,null,null,null,null,null,null,null,null,null,null,null,null,null,null,null,null,null,null,null,null,0,null,{"$f":"MATCH(\"*\"&AC$1&\"*\",OFFSET(Inscriptions!R$4:R$303,SUM(Nachwuchs!AF$6:'Nachwuchs'!AF36),0),0)","v":{"$error":"#N/A"}}]
[{"$f":"IF(ISNA(INDEX(Inscriptions!A$4:A$303,SUM(Nachwuchs!AF$7:'Nachwuchs'!AF38))),\"\",INDEX(Inscriptions!A$4:A$303,SUM(Nachwuchs!AF$7:'Nachwuchs'!AF38)))","v":""},{"$f":"IF(A38=\"\",\"\",VLOOKUP(A38,Data!G$2:K$302,5,FALSE))","v":""},{"$f":"IF(A38=\"\",\"\",VLOOKUP(A38,Data!G$2:K$302,2,FALSE))","v":""},{"$f":"IF(A38=\"\",\"\",VLOOKUP(A38,Data!G$2:K$302,3,FALSE))","v":""},{"$f":"IF(A38=\"\",\"\",VLOOKUP(A38,Data!G$2:K$302,4,FALSE))","v":""},null,null,null,null,null,null,null,null,null,null,null,null,null,null,null,null,null,null,null,null,null,null,null,null,0,null,{"$f":"MATCH(\"*\"&AC$1&\"*\",OFFSET(Inscriptions!R$4:R$303,SUM(Nachwuchs!AF$6:'Nachwuchs'!AF37),0),0)","v":{"$error":"#N/A"}}]
[{"$f":"IF(ISNA(INDEX(Inscriptions!A$4:A$303,SUM(Nachwuchs!AF$7:'Nachwuchs'!AF39))),\"\",INDEX(Inscriptions!A$4:A$303,SUM(Nachwuchs!AF$7:'Nachwuchs'!AF39)))","v":""},{"$f":"IF(A39=\"\",\"\",VLOOKUP(A39,Data!G$2:K$302,5,FALSE))","v":""},{"$f":"IF(A39=\"\",\"\",VLOOKUP(A39,Data!G$2:K$302,2,FALSE))","v":""},{"$f":"IF(A39=\"\",\"\",VLOOKUP(A39,Data!G$2:K$302,3,FALSE))","v":""},{"$f":"IF(A39=\"\",\"\",VLOOKUP(A39,Data!G$2:K$302,4,FALSE))","v":""},null,null,null,null,null,null,null,null,null,null,null,null,null,null,null,null,null,null,null,null,null,null,null,null,0,null,{"$f":"MATCH(\"*\"&AC$1&\"*\",OFFSET(Inscriptions!R$4:R$303,SUM(Nachwuchs!AF$6:'Nachwuchs'!AF38),0),0)","v":{"$error":"#N/A"}}]
[{"$f":"IF(ISNA(INDEX(Inscriptions!A$4:A$303,SUM(Nachwuchs!AF$7:'Nachwuchs'!AF40))),\"\",INDEX(Inscriptions!A$4:A$303,SUM(Nachwuchs!AF$7:'Nachwuchs'!AF40)))","v":""},{"$f":"IF(A40=\"\",\"\",VLOOKUP(A40,Data!G$2:K$302,5,FALSE))","v":""},{"$f":"IF(A40=\"\",\"\",VLOOKUP(A40,Data!G$2:K$302,2,FALSE))","v":""},{"$f":"IF(A40=\"\",\"\",VLOOKUP(A40,Data!G$2:K$302,3,FALSE))","v":""},{"$f":"IF(A40=\"\",\"\",VLOOKUP(A40,Data!G$2:K$302,4,FALSE))","v":""},null,null,null,null,null,null,null,null,null,null,null,null,null,null,null,null,null,null,null,null,null,null,null,null,0,null,{"$f":"MATCH(\"*\"&AC$1&\"*\",OFFSET(Inscriptions!R$4:R$303,SUM(Nachwuchs!AF$6:'Nachwuchs'!AF39),0),0)","v":{"$error":"#N/A"}}]
[{"$f":"IF(ISNA(INDEX(Inscriptions!A$4:A$303,SUM(Nachwuchs!AF$7:'Nachwuchs'!AF41))),\"\",INDEX(Inscriptions!A$4:A$303,SUM(Nachwuchs!AF$7:'Nachwuchs'!AF41)))","v":""},{"$f":"IF(A41=\"\",\"\",VLOOKUP(A41,Data!G$2:K$302,5,FALSE))","v":""},{"$f":"IF(A41=\"\",\"\",VLOOKUP(A41,Data!G$2:K$302,2,FALSE))","v":""},{"$f":"IF(A41=\"\",\"\",VLOOKUP(A41,Data!G$2:K$302,3,FALSE))","v":""},{"$f":"IF(A41=\"\",\"\",VLOOKUP(A41,Data!G$2:K$302,4,FALSE))","v":""},null,null,null,null,null,null,null,null,null,null,null,null,null,null,null,null,null,null,null,null,null,null,null,null,0,null,{"$f":"MATCH(\"*\"&AC$1&\"*\",OFFSET(Inscriptions!R$4:R$303,SUM(Nachwuchs!AF$6:'Nachwuchs'!AF40),0),0)","v":{"$error":"#N/A"}}]
[{"$f":"IF(ISNA(INDEX(Inscriptions!A$4:A$303,SUM(Nachwuchs!AF$7:'Nachwuchs'!AF42))),\"\",INDEX(Inscriptions!A$4:A$303,SUM(Nachwuchs!AF$7:'Nachwuchs'!AF42)))","v":""},{"$f":"IF(A42=\"\",\"\",VLOOKUP(A42,Data!G$2:K$302,5,FALSE))","v":""},{"$f":"IF(A42=\"\",\"\",VLOOKUP(A42,Data!G$2:K$302,2,FALSE))","v":""},{"$f":"IF(A42=\"\",\"\",VLOOKUP(A42,Data!G$2:K$302,3,FALSE))","v":""},{"$f":"IF(A42=\"\",\"\",VLOOKUP(A42,Data!G$2:K$302,4,FALSE))","v":""},null,null,null,null,null,null,null,null,null,null,null,null,null,null,null,null,null,null,null,null,null,null,null,null,0,null,{"$f":"MATCH(\"*\"&AC$1&\"*\",OFFSET(Inscriptions!R$4:R$303,SUM(Nachwuchs!AF$6:'Nachwuchs'!AF41),0),0)","v":{"$error":"#N/A"}}]
[{"$f":"IF(ISNA(INDEX(Inscriptions!A$4:A$303,SUM(Nachwuchs!AF$7:'Nachwuchs'!AF43))),\"\",INDEX(Inscriptions!A$4:A$303,SUM(Nachwuchs!AF$7:'Nachwuchs'!AF43)))","v":""},{"$f":"IF(A43=\"\",\"\",VLOOKUP(A43,Data!G$2:K$302,5,FALSE))","v":""},{"$f":"IF(A43=\"\",\"\",VLOOKUP(A43,Data!G$2:K$302,2,FALSE))","v":""},{"$f":"IF(A43=\"\",\"\",VLOOKUP(A43,Data!G$2:K$302,3,FALSE))","v":""},{"$f":"IF(A43=\"\",\"\",VLOOKUP(A43,Data!G$2:K$302,4,FALSE))","v":""},null,null,null,null,null,null,null,null,null,null,null,null,null,null,null,null,null,null,null,null,null,null,null,null,0,null,{"$f":"MATCH(\"*\"&AC$1&\"*\",OFFSET(Inscriptions!R$4:R$303,SUM(Nachwuchs!AF$6:'Nachwuchs'!AF42),0),0)","v":{"$error":"#N/A"}}]
[{"$f":"IF(ISNA(INDEX(Inscriptions!A$4:A$303,SUM(Nachwuchs!AF$7:'Nachwuchs'!AF44))),\"\",INDEX(Inscriptions!A$4:A$303,SUM(Nachwuchs!AF$7:'Nachwuchs'!AF44)))","v":""},{"$f":"IF(A44=\"\",\"\",VLOOKUP(A44,Data!G$2:K$302,5,FALSE))","v":""},{"$f":"IF(A44=\"\",\"\",VLOOKUP(A44,Data!G$2:K$302,2,FALSE))","v":""},{"$f":"IF(A44=\"\",\"\",VLOOKUP(A44,Data!G$2:K$302,3,FALSE))","v":""},{"$f":"IF(A44=\"\",\"\",VLOOKUP(A44,Data!G$2:K$302,4,FALSE))","v":""},null,null,null,null,null,null,null,null,null,null,null,null,null,null,null,null,null,null,null,null,null,null,null,null,0,null,{"$f":"MATCH(\"*\"&AC$1&\"*\",OFFSET(Inscriptions!R$4:R$303,SUM(Nachwuchs!AF$6:'Nachwuchs'!AF43),0),0)","v":{"$error":"#N/A"}}]
[{"$f":"IF(ISNA(INDEX(Inscriptions!A$4:A$303,SUM(Nachwuchs!AF$7:'Nachwuchs'!AF45))),\"\",INDEX(Inscriptions!A$4:A$303,SUM(Nachwuchs!AF$7:'Nachwuchs'!AF45)))","v":""},{"$f":"IF(A45=\"\",\"\",VLOOKUP(A45,Data!G$2:K$302,5,FALSE))","v":""},{"$f":"IF(A45=\"\",\"\",VLOOKUP(A45,Data!G$2:K$302,2,FALSE))","v":""},{"$f":"IF(A45=\"\",\"\",VLOOKUP(A45,Data!G$2:K$302,3,FALSE))","v":""},{"$f":"IF(A45=\"\",\"\",VLOOKUP(A45,Data!G$2:K$302,4,FALSE))","v":""},null,null,null,null,null,null,null,null,null,null,null,null,null,null,null,null,null,null,null,null,null,null,null,null,0,null,{"$f":"MATCH(\"*\"&AC$1&\"*\",OFFSET(Inscriptions!R$4:R$303,SUM(Nachwuchs!AF$6:'Nachwuchs'!AF44),0),0)","v":{"$error":"#N/A"}}]
[{"$f":"IF(ISNA(INDEX(Inscriptions!A$4:A$303,SUM(Nachwuchs!AF$7:'Nachwuchs'!AF46))),\"\",INDEX(Inscriptions!A$4:A$303,SUM(Nachwuchs!AF$7:'Nachwuchs'!AF46)))","v":""},{"$f":"IF(A46=\"\",\"\",VLOOKUP(A46,Data!G$2:K$302,5,FALSE))","v":""},{"$f":"IF(A46=\"\",\"\",VLOOKUP(A46,Data!G$2:K$302,2,FALSE))","v":""},{"$f":"IF(A46=\"\",\"\",VLOOKUP(A46,Data!G$2:K$302,3,FALSE))","v":""},{"$f":"IF(A46=\"\",\"\",VLOOKUP(A46,Data!G$2:K$302,4,FALSE))","v":""},null,null,null,null,null,null,null,null,null,null,null,null,null,null,null,null,null,null,null,null,null,null,null,null,0,null,{"$f":"MATCH(\"*\"&AC$1&\"*\",OFFSET(Inscriptions!R$4:R$303,SUM(Nachwuchs!AF$6:'Nachwuchs'!AF45),0),0)","v":{"$error":"#N/A"}}]
[{"$f":"IF(ISNA(INDEX(Inscriptions!A$4:A$303,SUM(Nachwuchs!AF$7:'Nachwuchs'!AF47))),\"\",INDEX(Inscriptions!A$4:A$303,SUM(Nachwuchs!AF$7:'Nachwuchs'!AF47)))","v":""},{"$f":"IF(A47=\"\",\"\",VLOOKUP(A47,Data!G$2:K$302,5,FALSE))","v":""},{"$f":"IF(A47=\"\",\"\",VLOOKUP(A47,Data!G$2:K$302,2,FALSE))","v":""},{"$f":"IF(A47=\"\",\"\",VLOOKUP(A47,Data!G$2:K$302,3,FALSE))","v":""},{"$f":"IF(A47=\"\",\"\",VLOOKUP(A47,Data!G$2:K$302,4,FALSE))","v":""},null,null,null,null,null,null,null,null,null,null,null,null,null,null,null,null,null,null,null,null,null,null,null,null,0,null,{"$f":"MATCH(\"*\"&AC$1&\"*\",OFFSET(Inscriptions!R$4:R$303,SUM(Nachwuchs!AF$6:'Nachwuchs'!AF46),0),0)","v":{"$error":"#N/A"}}]
[{"$f":"IF(ISNA(INDEX(Inscriptions!A$4:A$303,SUM(Nachwuchs!AF$7:'Nachwuchs'!AF48))),\"\",INDEX(Inscriptions!A$4:A$303,SUM(Nachwuchs!AF$7:'Nachwuchs'!AF48)))","v":""},{"$f":"IF(A48=\"\",\"\",VLOOKUP(A48,Data!G$2:K$302,5,FALSE))","v":""},{"$f":"IF(A48=\"\",\"\",VLOOKUP(A48,Data!G$2:K$302,2,FALSE))","v":""},{"$f":"IF(A48=\"\",\"\",VLOOKUP(A48,Data!G$2:K$302,3,FALSE))","v":""},{"$f":"IF(A48=\"\",\"\",VLOOKUP(A48,Data!G$2:K$302,4,FALSE))","v":""},null,null,null,null,null,null,null,null,null,null,null,null,null,null,null,null,null,null,null,null,null,null,null,null,0,null,{"$f":"MATCH(\"*\"&AC$1&\"*\",OFFSET(Inscriptions!R$4:R$303,SUM(Nachwuchs!AF$6:'Nachwuchs'!AF47),0),0)","v":{"$error":"#N/A"}}]
[{"$f":"IF(ISNA(INDEX(Inscriptions!A$4:A$303,SUM(Nachwuchs!AF$7:'Nachwuchs'!AF49))),\"\",INDEX(Inscriptions!A$4:A$303,SUM(Nachwuchs!AF$7:'Nachwuchs'!AF49)))","v":""},{"$f":"IF(A49=\"\",\"\",VLOOKUP(A49,Data!G$2:K$302,5,FALSE))","v":""},{"$f":"IF(A49=\"\",\"\",VLOOKUP(A49,Data!G$2:K$302,2,FALSE))","v":""},{"$f":"IF(A49=\"\",\"\",VLOOKUP(A49,Data!G$2:K$302,3,FALSE))","v":""},{"$f":"IF(A49=\"\",\"\",VLOOKUP(A49,Data!G$2:K$302,4,FALSE))","v":""},null,null,null,null,null,null,null,null,null,null,null,null,null,null,null,null,null,null,null,null,null,null,null,null,0,null,{"$f":"MATCH(\"*\"&AC$1&\"*\",OFFSET(Inscriptions!R$4:R$303,SUM(Nachwuchs!AF$6:'Nachwuchs'!AF48),0),0)","v":{"$error":"#N/A"}}]
[{"$f":"IF(ISNA(INDEX(Inscriptions!A$4:A$303,SUM(Nachwuchs!AF$7:'Nachwuchs'!AF50))),\"\",INDEX(Inscriptions!A$4:A$303,SUM(Nachwuchs!AF$7:'Nachwuchs'!AF50)))","v":""},{"$f":"IF(A50=\"\",\"\",VLOOKUP(A50,Data!G$2:K$302,5,FALSE))","v":""},{"$f":"IF(A50=\"\",\"\",VLOOKUP(A50,Data!G$2:K$302,2,FALSE))","v":""},{"$f":"IF(A50=\"\",\"\",VLOOKUP(A50,Data!G$2:K$302,3,FALSE))","v":""},{"$f":"IF(A50=\"\",\"\",VLOOKUP(A50,Data!G$2:K$302,4,FALSE))","v":""},null,null,null,null,null,null,null,null,null,null,null,null,null,null,null,null,null,null,null,null,null,null,null,null,0,null,{"$f":"MATCH(\"*\"&AC$1&\"*\",OFFSET(Inscriptions!R$4:R$303,SUM(Nachwuchs!AF$6:'Nachwuchs'!AF49),0),0)","v":{"$error":"#N/A"}}]
[{"$f":"IF(ISNA(INDEX(Inscriptions!A$4:A$303,SUM(Nachwuchs!AF$7:'Nachwuchs'!AF51))),\"\",INDEX(Inscriptions!A$4:A$303,SUM(Nachwuchs!AF$7:'Nachwuchs'!AF51)))","v":""},{"$f":"IF(A51=\"\",\"\",VLOOKUP(A51,Data!G$2:K$302,5,FALSE))","v":""},{"$f":"IF(A51=\"\",\"\",VLOOKUP(A51,Data!G$2:K$302,2,FALSE))","v":""},{"$f":"IF(A51=\"\",\"\",VLOOKUP(A51,Data!G$2:K$302,3,FALSE))","v":""},{"$f":"IF(A51=\"\",\"\",VLOOKUP(A51,Data!G$2:K$302,4,FALSE))","v":""},null,null,null,null,null,null,null,null,null,null,null,null,null,null,null,null,null,null,null,null,null,null,null,null,0,null,{"$f":"MATCH(\"*\"&AC$1&\"*\",OFFSET(Inscriptions!R$4:R$303,SUM(Nachwuchs!AF$6:'Nachwuchs'!AF50),0),0)","v":{"$error":"#N/A"}}]
[{"$f":"IF(ISNA(INDEX(Inscriptions!A$4:A$303,SUM(Nachwuchs!AF$7:'Nachwuchs'!AF52))),\"\",INDEX(Inscriptions!A$4:A$303,SUM(Nachwuchs!AF$7:'Nachwuchs'!AF52)))","v":""},{"$f":"IF(A52=\"\",\"\",VLOOKUP(A52,Data!G$2:K$302,5,FALSE))","v":""},{"$f":"IF(A52=\"\",\"\",VLOOKUP(A52,Data!G$2:K$302,2,FALSE))","v":""},{"$f":"IF(A52=\"\",\"\",VLOOKUP(A52,Data!G$2:K$302,3,FALSE))","v":""},{"$f":"IF(A52=\"\",\"\",VLOOKUP(A52,Data!G$2:K$302,4,FALSE))","v":""},null,null,null,null,null,null,null,null,null,null,null,null,null,null,null,null,null,null,null,null,null,null,null,null,0,null,{"$f":"MATCH(\"*\"&AC$1&\"*\",OFFSET(Inscriptions!R$4:R$303,SUM(Nachwuchs!AF$6:'Nachwuchs'!AF51),0),0)","v":{"$error":"#N/A"}}]
[{"$f":"IF(ISNA(INDEX(Inscriptions!A$4:A$303,SUM(Nachwuchs!AF$7:'Nachwuchs'!AF53))),\"\",INDEX(Inscriptions!A$4:A$303,SUM(Nachwuchs!AF$7:'Nachwuchs'!AF53)))","v":""},{"$f":"IF(A53=\"\",\"\",VLOOKUP(A53,Data!G$2:K$302,5,FALSE))","v":""},{"$f":"IF(A53=\"\",\"\",VLOOKUP(A53,Data!G$2:K$302,2,FALSE))","v":""},{"$f":"IF(A53=\"\",\"\",VLOOKUP(A53,Data!G$2:K$302,3,FALSE))","v":""},{"$f":"IF(A53=\"\",\"\",VLOOKUP(A53,Data!G$2:K$302,4,FALSE))","v":""},null,null,null,null,null,null,null,null,null,null,null,null,null,null,null,null,null,null,null,null,null,null,null,null,0,null,{"$f":"MATCH(\"*\"&AC$1&\"*\",OFFSET(Inscriptions!R$4:R$303,SUM(Nachwuchs!AF$6:'Nachwuchs'!AF52),0),0)","v":{"$error":"#N/A"}}]
[{"$f":"IF(ISNA(INDEX(Inscriptions!A$4:A$303,SUM(Nachwuchs!AF$7:'Nachwuchs'!AF54))),\"\",INDEX(Inscriptions!A$4:A$303,SUM(Nachwuchs!AF$7:'Nachwuchs'!AF54)))","v":""},{"$f":"IF(A54=\"\",\"\",VLOOKUP(A54,Data!G$2:K$302,5,FALSE))","v":""},{"$f":"IF(A54=\"\",\"\",VLOOKUP(A54,Data!G$2:K$302,2,FALSE))","v":""},{"$f":"IF(A54=\"\",\"\",VLOOKUP(A54,Data!G$2:K$302,3,FALSE))","v":""},{"$f":"IF(A54=\"\",\"\",VLOOKUP(A54,Data!G$2:K$302,4,FALSE))","v":""},null,null,null,null,null,null,null,null,null,null,null,null,null,null,null,null,null,null,null,null,null,null,null,null,0,null,{"$f":"MATCH(\"*\"&AC$1&\"*\",OFFSET(Inscriptions!R$4:R$303,SUM(Nachwuchs!AF$6:'Nachwuchs'!AF53),0),0)","v":{"$error":"#N/A"}}]
[{"$f":"IF(ISNA(INDEX(Inscriptions!A$4:A$303,SUM(Nachwuchs!AF$7:'Nachwuchs'!AF55))),\"\",INDEX(Inscriptions!A$4:A$303,SUM(Nachwuchs!AF$7:'Nachwuchs'!AF55)))","v":""},{"$f":"IF(A55=\"\",\"\",VLOOKUP(A55,Data!G$2:K$302,5,FALSE))","v":""},{"$f":"IF(A55=\"\",\"\",VLOOKUP(A55,Data!G$2:K$302,2,FALSE))","v":""},{"$f":"IF(A55=\"\",\"\",VLOOKUP(A55,Data!G$2:K$302,3,FALSE))","v":""},{"$f":"IF(A55=\"\",\"\",VLOOKUP(A55,Data!G$2:K$302,4,FALSE))","v":""},null,null,null,null,null,null,null,null,null,null,null,null,null,null,null,null,null,null,null,null,null,null,null,null,0,null,{"$f":"MATCH(\"*\"&AC$1&\"*\",OFFSET(Inscriptions!R$4:R$303,SUM(Nachwuchs!AF$6:'Nachwuchs'!AF54),0),0)","v":{"$error":"#N/A"}}]
[{"$f":"CONCATENATE(IF(ChoixLangue=Languages!$B$1,Languages!$B105,IF(ChoixLangue=Languages!$C$1,Languages!$C105,IF(ChoixLangue=Languages!$D$1,Languages!$D105,Languages!$E105))),SUM(AD7:AD55))","v":"Nbe nageuses : 0"},"-","-","-",null,"-","-","-","-"]

{"sheet":"Juniors","index":21,"n_rows":56,"n_cols":37,"rows_kept":56,"cut":false,"hidden":true,"merged":[[3,0,3,13]]}
[{"$f":"IF('Cover Page'!B5=\"\",\"\",'Cover Page'!B5)","v":""},null,null,null,null,null,null,null,null,null,null,null,null,null,null,null,null,null,null,null,null,null,null,null,null,null,null,null,null,null,null,null,null,"x",null,null,{"$f":"MID(CELL(\"filename\",A1),FIND(\"]\",CELL(\"filename\",A1),1)+1,20)","v":"Juniors"}]
[{"$f":"IF('Cover Page'!B6=\"\",\"\",'Cover Page'!B6)","v":""},null,null,null,null,null,null,null,null,null,null,null,null,{"$f":"IF(ChoixLangue=Languages!$B$1,Languages!$B$97 & \" \" & AK1,IF(ChoixLangue=Languages!$C$1,Languages!$C$97 & \" \" & AK1,IF(ChoixLangue=Languages!$D$1,Languages!$D$97 & \" \" & AK1,Languages!$E$97 & \" \" & AK1)))","v":"Catégorie Juniors"}]
[{"$f":"IF('Cover Page'!B7=\"\",\"\",'Cover Page'!B7)","v":""}]
[{"$f":"IF('Cover Page'!B10=\"\",\"\",CONCATENATE(IF(ChoixLangue=Languages!$B$1,Languages!$B98,IF(ChoixLangue=Languages!$C$1,Languages!$C98,IF(ChoixLangue=Languages!$D$1,Languages!$D98,Languages!$E98))),'Cover Page'!B10))","v":""}]
[{"$f":"A56","v":"Nbe nageuses : 0"}]
[{"$f":"IF(ChoixLangue=Languages!$B$1,Languages!$B99,IF(ChoixLangue=Languages!$C$1,Languages!$C99,IF(ChoixLangue=Languages!$D$1,Languages!$D99,Languages!$E99)))","v":"NOM Prénom"},{"$f":"IF(ChoixLangue=Languages!$B$1,Languages!$B100,IF(ChoixLangue=Languages!$C$1,Languages!$C100,IF(ChoixLangue=Languages!$D$1,Languages!$D100,Languages!$E100)))","v":"Club"},{"$f":"IF(ChoixLangue=Languages!$B$1,Languages!$B101,IF(ChoixLangue=Languages!$C$1,Languages!$C101,IF(ChoixLangue=Languages!$D$1,Languages!$D101,Languages!$E101)))","v":"Licence"},{"$f":"IF(ChoixLangue=Languages!$B$1,Languages!$B102,IF(ChoixLangue=Languages!$C$1,Languages!$C102,IF(ChoixLangue=Languages!$D$1,Languages!$D102,Languages!$E102)))","v":"An. Nais."},{"$f":"IF(ChoixLangue=Languages!$B$1,Languages!$B103,IF(ChoixLangue=Languages!$C$1,Languages!$C103,IF(ChoixLangue=Languages!$D$1,Languages!$D103,Languages!$E103)))","v":"N° Test"},{"$f":"IF(ChoixLangue=Languages!$B$1,Languages!$B104,IF(ChoixLangue=Languages!$C$1,Languages!$C104,IF(ChoixLangue=Languages!$D$1,Languages!$D104,Languages!$E104)))","v":"Figures"},"Solo Tech","Solo Free","Duet Tech","Duet Free","Mix. Duet Tech","Mix. Duet Free","Team Tech","Team Free"]
[{"$f":"IF(ISNA(INDEX(Inscriptions!A$4:A$303,SUM(Juniors!AK$7:'Juniors'!AK7))),\"\",INDEX(Inscriptions!A$4:A$303,SUM(Juniors!AK$7:'Juniors'!AK7)))","v":""},{"$f":"IF(A7=\"\",\"\",VLOOKUP(A7,Data!G$2:K$302,5,FALSE))","v":""},{"$f":"IF(A7=\"\",\"\",VLOOKUP(A7,Data!G$2:K$302,2,FALSE))","v":""},{"$f":"IF(A7=\"\",\"\",VLOOKUP(A7,Data!G$2:K$302,3,FALSE))","v":""},{"$f":"IF(A7=\"\",\"\",VLOOKUP(A7,Data!G$2:K$302,4,FALSE))","v":""},null,null,null,null,null,null,null,null,null,null,null,null,null,null,null,null,null,null,null,null,null,null,null,null,null,null,null,null,null,{"$f":"IF(A7<>\"\",1,0)","v":0},null,{"$f":"MATCH(\"*\"&AH$1&\"*\",OFFSET(Inscriptions!S$4:S$303,SUM(Juniors!AK$6:'Juniors'!AK6),0),0)","v":{"$error":"#N/A"}}]
[{"$f":"IF(ISNA(INDEX(Inscriptions!A$4:A$303,SUM(Juniors!AK$7:'Juniors'!AK8))),\"\",INDEX(Inscriptions!A$4:A$303,SUM(Juniors!AK$7:'Juniors'!AK8)))","v":""},{"$f":"IF(A8=\"\",\"\",VLOOKUP(A8,Data!G$2:K$302,5,FALSE))","v":""},{"$f":"IF(A8=\"\",\"\",VLOOKUP(A8,Data!G$2:K$302,2,FALSE))","v":""},{"$f":"IF(A8=\"\",\"\",VLOOKUP(A8,Data!G$2:K$302,3,FALSE))","v":""},{"$f":"IF(A8=\"\",\"\",VLOOKUP(A8,Data!G$2:K$302,4,FALSE))","v":""},null,null,null,null,null,null,null,null,null,null,null,null,null,null,null,null,null,null,null,null,null,null,null,null,null,null,null,null,null,0,null,{"$f":"MATCH(\"*\"&AH$1&\"*\",OFFSET(Inscriptions!S$4:S$303,SUM(Juniors!AK$6:'Juniors'!AK7),0),0)","v":{"$error":"#N/A"}}]
[{"$f":"IF(ISNA(INDEX(Inscriptions!A$4:A$303,SUM(Juniors!AK$7:'Juniors'!AK9))),\"\",INDEX(Inscriptions!A$4:A$303,SUM(Juniors!AK$7:'Juniors'!AK9)))","v":""},{"$f":"IF(A9=\"\",\"\",VLOOKUP(A9,Data!G$2:K$302,5,FALSE))","v":""},{"$f":"IF(A9=\"\",\"\",VLOOKUP(A9,Data!G$2:K$302,2,FALSE))","v":""},{"$f":"IF(A9=\"\",\"\",VLOOKUP(A9,Data!G$2:K$302,3,FALSE))","v":""},{"$f":"IF(A9=\"\",\"\",VLOOKUP(A9,Data!G$2:K$302,4,FALSE))","v":""},null,null,null,null,null,null,null,null,null,null,null,null,null,null,null,null,null,null,null,null,null,null,null,null,null,null,null,null,null,0,null,{"$f":"MATCH(\"*\"&AH$1&\"*\",OFFSET(Inscriptions!S$4:S$303,SUM(Juniors!AK$6:'Juniors'!AK8),0),0)","v":{"$error":"#N/A"}}]
[{"$f":"IF(ISNA(INDEX(Inscriptions!A$4:A$303,SUM(Juniors!AK$7:'Juniors'!AK10))),\"\",INDEX(Inscriptions!A$4:A$303,SUM(Juniors!AK$7:'Juniors'!AK10)))","v":""},{"$f":"IF(A10=\"\",\"\",VLOOKUP(A10,Data!G$2:K$302,5,FALSE))","v":""},{"$f":"IF(A10=\"\",\"\",VLOOKUP(A10,Data!G$2:K$302,2,FALSE))","v":""},{"$f":"IF(A10=\"\",\"\",VLOOKUP(A10,Data!G$2:K$302,3,FALSE))","v":""},{"$f":"IF(A10=\"\",\"\",VLOOKUP(A10,Data!G$2:K$302,4,FALSE))","v":""},null,null,null,null,null,null,null,null,null,null,null,null,null,null,null,null,null,null,null,null,null,null,null,null,null,null,null,null,null,0,null,{"$f":"MATCH(\"*\"&AH$1&\"*\",OFFSET(Inscriptions!S$4:S$303,SUM(Juniors!AK$6:'Juniors'!AK9),0),0)","v":{"$error":"#N/A"}}]
[{"$f":"IF(ISNA(INDEX(Inscriptions!A$4:A$303,SUM(Juniors!AK$7:'Juniors'!AK11))),\"\",INDEX(Inscriptions!A$4:A$303,SUM(Juniors!AK$7:'Juniors'!AK11)))","v":""},{"$f":"IF(A11=\"\",\"\",VLOOKUP(A11,Data!G$2:K$302,5,FALSE))","v":""},{"$f":"IF(A11=\"\",\"\",VLOOKUP(A11,Data!G$2:K$302,2,FALSE))","v":""},{"$f":"IF(A11=\"\",\"\",VLOOKUP(A11,Data!G$2:K$302,3,FALSE))","v":""},{"$f":"IF(A11=\"\",\"\",VLOOKUP(A11,Data!G$2:K$302,4,FALSE))","v":""},null,null,null,null,null,null,null,null,null,null,null,null,null,null,null,null,null,null,null,null,null,null,null,null,null,null,null,null,null,0,null,{"$f":"MATCH(\"*\"&AH$1&\"*\",OFFSET(Inscriptions!S$4:S$303,SUM(Juniors!AK$6:'Juniors'!AK10),0),0)","v":{"$error":"#N/A"}}]
[{"$f":"IF(ISNA(INDEX(Inscriptions!A$4:A$303,SUM(Juniors!AK$7:'Juniors'!AK12))),\"\",INDEX(Inscriptions!A$4:A$303,SUM(Juniors!AK$7:'Juniors'!AK12)))","v":""},{"$f":"IF(A12=\"\",\"\",VLOOKUP(A12,Data!G$2:K$302,5,FALSE))","v":""},{"$f":"IF(A12=\"\",\"\",VLOOKUP(A12,Data!G$2:K$302,2,FALSE))","v":""},{"$f":"IF(A12=\"\",\"\",VLOOKUP(A12,Data!G$2:K$302,3,FALSE))","v":""},{"$f":"IF(A12=\"\",\"\",VLOOKUP(A12,Data!G$2:K$302,4,FALSE))","v":""},null,null,null,null,null,null,null,null,null,null,null,null,null,null,null,null,null,null,null,null,null,null,null,null,null,null,null,null,null,0,null,{"$f":"MATCH(\"*\"&AH$1&\"*\",OFFSET(Inscriptions!S$4:S$303,SUM(Juniors!AK$6:'Juniors'!AK11),0),0)","v":{"$error":"#N/A"}}]
[{"$f":"IF(ISNA(INDEX(Inscriptions!A$4:A$303,SUM(Juniors!AK$7:'Juniors'!AK13))),\"\",INDEX(Inscriptions!A$4:A$303,SUM(Juniors!AK$7:'Juniors'!AK13)))","v":""},{"$f":"IF(A13=\"\",\"\",VLOOKUP(A13,Data!G$2:K$302,5,FALSE))","v":""},{"$f":"IF(A13=\"\",\"\",VLOOKUP(A13,Data!G$2:K$302,2,FALSE))","v":""},{"$f":"IF(A13=\"\",\"\",VLOOKUP(A13,Data!G$2:K$302,3,FALSE))","v":""},{"$f":"IF(A13=\"\",\"\",VLOOKUP(A13,Data!G$2:K$302,4,FALSE))","v":""},null,null,null,null,null,null,null,null,null,null,null,null,null,null,null,null,null,null,null,null,null,null,null,null,null,null,null,null,null,0,null,{"$f":"MATCH(\"*\"&AH$1&\"*\",OFFSET(Inscriptions!S$4:S$303,SUM(Juniors!AK$6:'Juniors'!AK12),0),0)","v":{"$error":"#N/A"}}]
[{"$f":"IF(ISNA(INDEX(Inscriptions!A$4:A$303,SUM(Juniors!AK$7:'Juniors'!AK14))),\"\",INDEX(Inscriptions!A$4:A$303,SUM(Juniors!AK$7:'Juniors'!AK14)))","v":""},{"$f":"IF(A14=\"\",\"\",VLOOKUP(A14,Data!G$2:K$302,5,FALSE))","v":""},{"$f":"IF(A14=\"\",\"\",VLOOKUP(A14,Data!G$2:K$302,2,FALSE))","v":""},{"$f":"IF(A14=\"\",\"\",VLOOKUP(A14,Data!G$2:K$302,3,FALSE))","v":""},{"$f":"IF(A14=\"\",\"\",VLOOKUP(A14,Data!G$2:K$302,4,FALSE))","v":""},null,null,null,null,null,null,null,null,null,null,null,null,null,null,null,null,null,null,null,null,null,null,null,null,null,null,null,null,null,0,null,{"$f":"MATCH(\"*\"&AH$1&\"*\",OFFSET(Inscriptions!S$4:S$303,SUM(Juniors!AK$6:'Juniors'!AK13),0),0)","v":{"$error":"#N/A"}}]
[{"$f":"IF(ISNA(INDEX(Inscriptions!A$4:A$303,SUM(Juniors!AK$7:'Juniors'!AK15))),\"\",INDEX(Inscriptions!A$4:A$303,SUM(Juniors!AK$7:'Juniors'!AK15)))","v":""},{"$f":"IF(A15=\"\",\"\",VLOOKUP(A15,Data!G$2:K$302,5,FALSE))","v":""},{"$f":"IF(A15=\"\",\"\",VLOOKUP(A15,Data!G$2:K$302,2,FALSE))","v":""},{"$f":"IF(A15=\"\",\"\",VLOOKUP(A15,Data!G$2:K$302,3,FALSE))","v":""},{"$f":"IF(A15=\"\",\"\",VLOOKUP(A15,Data!G$2:K$302,4,FALSE))","v":""},null,null,null,null,null,null,null,null,null,null,null,null,null,null,null,null,null,null,null,null,null,null,null,null,null,null,null,null,null,0,null,{"$f":"MATCH(\"*\"&AH$1&\"*\",OFFSET(Inscriptions!S$4:S$303,SUM(Juniors!AK$6:'Juniors'!AK14),0),0)","v":{"$error":"#N/A"}}]
[{"$f":"IF(ISNA(INDEX(Inscriptions!A$4:A$303,SUM(Juniors!AK$7:'Juniors'!AK16))),\"\",INDEX(Inscriptions!A$4:A$303,SUM(Juniors!AK$7:'Juniors'!AK16)))","v":""},{"$f":"IF(A16=\"\",\"\",VLOOKUP(A16,Data!G$2:K$302,5,FALSE))","v":""},{"$f":"IF(A16=\"\",\"\",VLOOKUP(A16,Data!G$2:K$302,2,FALSE))","v":""},{"$f":"IF(A16=\"\",\"\",VLOOKUP(A16,Data!G$2:K$302,3,FALSE))","v":""},{"$f":"IF(A16=\"\",\"\",VLOOKUP(A16,Data!G$2:K$302,4,FALSE))","v":""},null,null,null,null,null,null,null,null,null,null,null,null,null,null,null,null,null,null,null,null,null,null,null,null,null,null,null,null,null,0,null,{"$f":"MATCH(\"*\"&AH$1&\"*\",OFFSET(Inscriptions!S$4:S$303,SUM(Juniors!AK$6:'Juniors'!AK15),0),0)","v":{"$error":"#N/A"}}]
[{"$f":"IF(ISNA(INDEX(Inscriptions!A$4:A$303,SUM(Juniors!AK$7:'Juniors'!AK17))),\"\",INDEX(Inscriptions!A$4:A$303,SUM(Juniors!AK$7:'Juniors'!AK17)))","v":""},{"$f":"IF(A17=\"\",\"\",VLOOKUP(A17,Data!G$2:K$302,5,FALSE))","v":""},{"$f":"IF(A17=\"\",\"\",VLOOKUP(A17,Data!G$2:K$302,2,FALSE))","v":""},{"$f":"IF(A17=\"\",\"\",VLOOKUP(A17,Data!G$2:K$302,3,FALSE))","v":""},{"$f":"IF(A17=\"\",\"\",VLOOKUP(A17,Data!G$2:K$302,4,FALSE))","v":""},null,null,null,null,null,null,null,null,null,null,null,null,null,null,null,null,null,null,null,null,null,null,null,null,null,null,null,null,null,0,null,{"$f":"MATCH(\"*\"&AH$1&\"*\",OFFSET(Inscriptions!S$4:S$303,SUM(Juniors!AK$6:'Juniors'!AK16),0),0)","v":{"$error":"#N/A"}}]
[{"$f":"IF(ISNA(INDEX(Inscriptions!A$4:A$303,SUM(Juniors!AK$7:'Juniors'!AK18))),\"\",INDEX(Inscriptions!A$4:A$303,SUM(Juniors!AK$7:'Juniors'!AK18)))","v":""},{"$f":"IF(A18=\"\",\"\",VLOOKUP(A18,Data!G$2:K$302,5,FALSE))","v":""},{"$f":"IF(A18=\"\",\"\",VLOOKUP(A18,Data!G$2:K$302,2,FALSE))","v":""},{"$f":"IF(A18=\"\",\"\",VLOOKUP(A18,Data!G$2:K$302,3,FALSE))","v":""},{"$f":"IF(A18=\"\",\"\",VLOOKUP(A18,Data!G$2:K$302,4,FALSE))","v":""},null,null,null,null,null,null,null,null,null,null,null,null,null,null,null,null,null,null,null,null,null,null,null,null,null,null,null,null,null,0,null,{"$f":"MATCH(\"*\"&AH$1&\"*\",OFFSET(Inscriptions!S$4:S$303,SUM(Juniors!AK$6:'Juniors'!AK17),0),0)","v":{"$error":"#N/A"}}]
[{"$f":"IF(ISNA(INDEX(Inscriptions!A$4:A$303,SUM(Juniors!AK$7:'Juniors'!AK19))),\"\",INDEX(Inscriptions!A$4:A$303,SUM(Juniors!AK$7:'Juniors'!AK19)))","v":""},{"$f":"IF(A19=\"\",\"\",VLOOKUP(A19,Data!G$2:K$302,5,FALSE))","v":""},{"$f":"IF(A19=\"\",\"\",VLOOKUP(A19,Data!G$2:K$302,2,FALSE))","v":""},{"$f":"IF(A19=\"\",\"\",VLOOKUP(A19,Data!G$2:K$302,3,FALSE))","v":""},{"$f":"IF(A19=\"\",\"\",VLOOKUP(A19,Data!G$2:K$302,4,FALSE))","v":""},null,null,null,null,null,null,null,null,null,null,null,null,null,null,null,null,null,null,null,null,null,null,null,null,null,null,null,null,null,0,null,{"$f":"MATCH(\"*\"&AH$1&\"*\",OFFSET(Inscriptions!S$4:S$303,SUM(Juniors!AK$6:'Juniors'!AK18),0),0)","v":{"$error":"#N/A"}}]
[{"$f":"IF(ISNA(INDEX(Inscriptions!A$4:A$303,SUM(Juniors!AK$7:'Juniors'!AK20))),\"\",INDEX(Inscriptions!A$4:A$303,SUM(Juniors!AK$7:'Juniors'!AK20)))","v":""},{"$f":"IF(A20=\"\",\"\",VLOOKUP(A20,Data!G$2:K$302,5,FALSE))","v":""},{"$f":"IF(A20=\"\",\"\",VLOOKUP(A20,Data!G$2:K$302,2,FALSE))","v":""},{"$f":"IF(A20=\"\",\"\",VLOOKUP(A20,Data!G$2:K$302,3,FALSE))","v":""},{"$f":"IF(A20=\"\",\"\",VLOOKUP(A20,Data!G$2:K$302,4,FALSE))","v":""},null,null,null,null,null,null,null,null,null,null,null,null,null,null,null,null,null,null,null,null,null,null,null,null,null,null,null,null,null,0,null,{"$f":"MATCH(\"*\"&AH$1&\"*\",OFFSET(Inscriptions!S$4:S$303,SUM(Juniors!AK$6:'Juniors'!AK19),0),0)","v":{"$error":"#N/A"}}]
[{"$f":"IF(ISNA(INDEX(Inscriptions!A$4:A$303,SUM(Juniors!AK$7:'Juniors'!AK21))),\"\",INDEX(Inscriptions!A$4:A$303,SUM(Juniors!AK$7:'Juniors'!AK21)))","v":""},{"$f":"IF(A21=\"\",\"\",VLOOKUP(A21,Data!G$2:K$302,5,FALSE))","v":""},{"$f":"IF(A21=\"\",\"\",VLOOKUP(A21,Data!G$2:K$302,2,FALSE))","v":""},{"$f":"IF(A21=\"\",\"\",VLOOKUP(A21,Data!G$2:K$302,3,FALSE))","v":""},{"$f":"IF(A21=\"\",\"\",VLOOKUP(A21,Data!G$2:K$302,4,FALSE))","v":""},null,null,null,null,null,null,null,null,null,null,null,null,null,null,null,null,null,null,null,null,null,null,null,null,null,null,null,null,null,0,null,{"$f":"MATCH(\"*\"&AH$1&\"*\",OFFSET(Inscriptions!S$4:S$303,SUM(Juniors!AK$6:'Juniors'!AK20),0),0)","v":{"$error":"#N/A"}}]
[{"$f":"IF(ISNA(INDEX(Inscriptions!A$4:A$303,SUM(Juniors!AK$7:'Juniors'!AK22))),\"\",INDEX(Inscriptions!A$4:A$303,SUM(Juniors!AK$7:'Juniors'!AK22)))","v":""},{"$f":"IF(A22=\"\",\"\",VLOOKUP(A22,Data!G$2:K$302,5,FALSE))","v":""},{"$f":"IF(A22=\"\",\"\",VLOOKUP(A22,Data!G$2:K$302,2,FALSE))","v":""},{"$f":"IF(A22=\"\",\"\",VLOOKUP(A22,Data!G$2:K$302,3,FALSE))","v":""},{"$f":"IF(A22=\"\",\"\",VLOOKUP(A22,Data!G$2:K$302,4,FALSE))","v":""},null,null,null,null,null,null,null,null,null,null,null,null,null,null,null,null,null,null,null,null,null,null,null,null,null,null,null,null,null,0,null,{"$f":"MATCH(\"*\"&AH$1&\"*\",OFFSET(Inscriptions!S$4:S$303,SUM(Juniors!AK$6:'Juniors'!AK21),0),0)","v":{"$error":"#N/A"}}]
[{"$f":"IF(ISNA(INDEX(Inscriptions!A$4:A$303,SUM(Juniors!AK$7:'Juniors'!AK23))),\"\",INDEX(Inscriptions!A$4:A$303,SUM(Juniors!AK$7:'Juniors'!AK23)))","v":""},{"$f":"IF(A23=\"\",\"\",VLOOKUP(A23,Data!G$2:K$302,5,FALSE))","v":""},{"$f":"IF(A23=\"\",\"\",VLOOKUP(A23,Data!G$2:K$302,2,FALSE))","v":""},{"$f":"IF(A23=\"\",\"\",VLOOKUP(A23,Data!G$2:K$302,3,FALSE))","v":""},{"$f":"IF(A23=\"\",\"\",VLOOKUP(A23,Data!G$2:K$302,4,FALSE))","v":""},null,null,null,null,null,null,null,null,null,null,null,null,null,null,null,null,null,null,null,null,null,null,null,null,null,null,null,null,null,0,null,{"$f":"MATCH(\"*\"&AH$1&\"*\",OFFSET(Inscriptions!S$4:S$303,SUM(Juniors!AK$6:'Juniors'!AK22),0),0)","v":{"$error":"#N/A"}}]
[{"$f":"IF(ISNA(INDEX(Inscriptions!A$4:A$303,SUM(Juniors!AK$7:'Juniors'!AK24))),\"\",INDEX(Inscriptions!A$4:A$303,SUM(Juniors!AK$7:'Juniors'!AK24)))","v":""},{"$f":"IF(A24=\"\",\"\",VLOOKUP(A24,Data!G$2:K$302,5,FALSE))","v":""},{"$f":"IF(A24=\"\",\"\",VLOOKUP(A24,Data!G$2:K$302,2,FALSE))","v":""},{"$f":"IF(A24=\"\",\"\",VLOOKUP(A24,Data!G$2:K$302,3,FALSE))","v":""},{"$f":"IF(A24=\"\",\"\",VLOOKUP(A24,Data!G$2:K$302,4,FALSE))","v":""},null,null,null,null,null,null,null,null,null,null,null,null,null,null,null,null,null,null,null,null,null,null,null,null,null,null,null,null,null,0,null,{"$f":"MATCH(\"*\"&AH$1&\"*\",OFFSET(Inscriptions!S$4:S$303,SUM(Juniors!AK$6:'Juniors'!AK23),0),0)","v":{"$error":"#N/A"}}]
[{"$f":"IF(ISNA(INDEX(Inscriptions!A$4:A$303,SUM(Juniors!AK$7:'Juniors'!AK25))),\"\",INDEX(Inscriptions!A$4:A$303,SUM(Juniors!AK$7:'Juniors'!AK25)))","v":""},{"$f":"IF(A25=\"\",\"\",VLOOKUP(A25,Data!G$2:K$302,5,FALSE))","v":""},{"$f":"IF(A25=\"\",\"\",VLOOKUP(A25,Data!G$2:K$302,2,FALSE))","v":""},{"$f":"IF(A25=\"\",\"\",VLOOKUP(A25,Data!G$2:K$302,3,FALSE))","v":""},{"$f":"IF(A25=\"\",\"\",VLOOKUP(A25,Data!G$2:K$302,4,FALSE))","v":""},null,null,null,null,null,null,null,null,null,null,null,null,null,null,null,null,null,null,null,null,null,null,null,null,null,null,null,null,null,0,null,{"$f":"MATCH(\"*\"&AH$1&\"*\",OFFSET(Inscriptions!S$4:S$303,SUM(Juniors!AK$6:'Juniors'!AK24),0),0)","v":{"$error":"#N/A"}}]
[{"$f":"IF(ISNA(INDEX(Inscriptions!A$4:A$303,SUM(Juniors!AK$7:'Juniors'!AK26))),\"\",INDEX(Inscriptions!A$4:A$303,SUM(Juniors!AK$7:'Juniors'!AK26)))","v":""},{"$f":"IF(A26=\"\",\"\",VLOOKUP(A26,Data!G$2:K$302,5,FALSE))","v":""},{"$f":"IF(A26=\"\",\"\",VLOOKUP(A26,Data!G$2:K$302,2,FALSE))","v":""},{"$f":"IF(A26=\"\",\"\",VLOOKUP(A26,Data!G$2:K$302,3,FALSE))","v":""},{"$f":"IF(A26=\"\",\"\",VLOOKUP(A26,Data!G$2:K$302,4,FALSE))","v":""},null,null,null,null,null,null,null,null,null,null,null,null,null,null,null,null,null,null,null,null,null,null,null,null,null,null,null,null,null,0,null,{"$f":"MATCH(\"*\"&AH$1&\"*\",OFFSET(Inscriptions!S$4:S$303,SUM(Juniors!AK$6:'Juniors'!AK25),0),0)","v":{"$error":"#N/A"}}]
[{"$f":"IF(ISNA(INDEX(Inscriptions!A$4:A$303,SUM(Juniors!AK$7:'Juniors'!AK27))),\"\",INDEX(Inscriptions!A$4:A$303,SUM(Juniors!AK$7:'Juniors'!AK27)))","v":""},{"$f":"IF(A27=\"\",\"\",VLOOKUP(A27,Data!G$2:K$302,5,FALSE))","v":""},{"$f":"IF(A27=\"\",\"\",VLOOKUP(A27,Data!G$2:K$302,2,FALSE))","v":""},{"$f":"IF(A27=\"\",\"\",VLOOKUP(A27,Data!G$2:K$302,3,FALSE))","v":""},{"$f":"IF(A27=\"\",\"\",VLOOKUP(A27,Data!G$2:K$302,4,FALSE))","v":""},null,null,null,null,null,null,null,null,null,null,null,null,null,null,null,null,null,null,null,null,null,null,null,null,null,null,null,null,null,0,null,{"$f":"MATCH(\"*\"&AH$1&\"*\",OFFSET(Inscriptions!S$4:S$303,SUM(Juniors!AK$6:'Juniors'!AK26),0),0)","v":{"$error":"#N/A"}}]
[{"$f":"IF(ISNA(INDEX(Inscriptions!A$4:A$303,SUM(Juniors!AK$7:'Juniors'!AK28))),\"\",INDEX(Inscriptions!A$4:A$303,SUM(Juniors!AK$7:'Juniors'!AK28)))","v":""},{"$f":"IF(A28=\"\",\"\",VLOOKUP(A28,Data!G$2:K$302,5,FALSE))","v":""},{"$f":"IF(A28=\"\",\"\",VLOOKUP(A28,Data!G$2:K$302,2,FALSE))","v":""},{"$f":"IF(A28=\"\",\"\",VLOOKUP(A28,Data!G$2:K$302,3,FALSE))","v":""},{"$f":"IF(A28=\"\",\"\",VLOOKUP(A28,Data!G$2:K$302,4,FALSE))","v":""},null,null,null,null,null,null,null,null,null,null,null,null,null,null,null,null,null,null,null,null,null,null,null,null,null,null,null,null,null,0,null,{"$f":"MATCH(\"*\"&AH$1&\"*\",OFFSET(Inscriptions!S$4:S$303,SUM(Juniors!AK$6:'Juniors'!AK27),0),0)","v":{"$error":"#N/A"}}]
[{"$f":"IF(ISNA(INDEX(Inscriptions!A$4:A$303,SUM(Juniors!AK$7:'Juniors'!AK29))),\"\",INDEX(Inscriptions!A$4:A$303,SUM(Juniors!AK$7:'Juniors'!AK29)))","v":""},{"$f":"IF(A29=\"\",\"\",VLOOKUP(A29,Data!G$2:K$302,5,FALSE))","v":""},{"$f":"IF(A29=\"\",\"\",VLOOKUP(A29,Data!G$2:K$302,2,FALSE))","v":""},{"$f":"IF(A29=\"\",\"\",VLOOKUP(A29,Data!G$2:K$302,3,FALSE))","v":""},{"$f":"IF(A29=\"\",\"\",VLOOKUP(A29,Data!G$2:K$302,4,FALSE))","v":""},null,null,null,null,null,null,null,null,null,null,null,null,null,null,null,null,null,null,null,null,null,null,null,null,null,null,null,null,null,0,null,{"$f":"MATCH(\"*\"&AH$1&\"*\",OFFSET(Inscriptions!S$4:S$303,SUM(Juniors!AK$6:'Juniors'!AK28),0),0)","v":{"$error":"#N/A"}}]
[{"$f":"IF(ISNA(INDEX(Inscriptions!A$4:A$303,SUM(Juniors!AK$7:'Juniors'!AK30))),\"\",INDEX(Inscriptions!A$4:A$303,SUM(Juniors!AK$7:'Juniors'!AK30)))","v":""},{"$f":"IF(A30=\"\",\"\",VLOOKUP(A30,Data!G$2:K$302,5,FALSE))","v":""},{"$f":"IF(A30=\"\",\"\",VLOOKUP(A30,Data!G$2:K$302,2,FALSE))","v":""},{"$f":"IF(A30=\"\",\"\",VLOOKUP(A30,Data!G$2:K$302,3,FALSE))","v":""},{"$f":"IF(A30=\"\",\"\",VLOOKUP(A30,Data!G$2:K$302,4,FALSE))","v":""},null,null,null,null,null,null,null,null,null,null,null,null,null,null,null,null,null,null,null,null,null,null,null,null,null,null,null,null,null,0,null,{"$f":"MATCH(\"*\"&AH$1&\"*\",OFFSET(Inscriptions!S$4:S$303,SUM(Juniors!AK$6:'Juniors'!AK29),0),0)","v":{"$error":"#N/A"}}]
[{"$f":"IF(ISNA(INDEX(Inscriptions!A$4:A$303,SUM(Juniors!AK$7:'Juniors'!AK31))),\"\",INDEX(Inscriptions!A$4:A$303,SUM(Juniors!AK$7:'Juniors'!AK31)))","v":""},{"$f":"IF(A31=\"\",\"\",VLOOKUP(A31,Data!G$2:K$302,5,FALSE))","v":""},{"$f":"IF(A31=\"\",\"\",VLOOKUP(A31,Data!G$2:K$302,2,FALSE))","v":""},{"$f":"IF(A31=\"\",\"\",VLOOKUP(A31,Data!G$2:K$302,3,FALSE))","v":""},{"$f":"IF(A31=\"\",\"\",VLOOKUP(A31,Data!G$2:K$302,4,FALSE))","v":""},null,null,null,null,null,null,null,null,null,null,null,null,null,null,null,null,null,null,null,null,null,null,null,null,null,null,null,null,null,0,null,{"$f":"MATCH(\"*\"&AH$1&\"*\",OFFSET(Inscriptions!S$4:S$303,SUM(Juniors!AK$6:'Juniors'!AK30),0),0)","v":{"$error":"#N/A"}}]
[{"$f":"IF(ISNA(INDEX(Inscriptions!A$4:A$303,SUM(Juniors!AK$7:'Juniors'!AK32))),\"\",INDEX(Inscriptions!A$4:A$303,SUM(Juniors!AK$7:'Juniors'!AK32)))","v":""},{"$f":"IF(A32=\"\",\"\",VLOOKUP(A32,Data!G$2:K$302,5,FALSE))","v":""},{"$f":"IF(A32=\"\",\"\",VLOOKUP(A32,Data!G$2:K$302,2,FALSE))","v":""},{"$f":"IF(A32=\"\",\"\",VLOOKUP(A32,Data!G$2:K$302,3,FALSE))","v":""},{"$f":"IF(A32=\"\",\"\",VLOOKUP(A32,Data!G$2:K$302,4,FALSE))","v":""},null,null,null,null,null,null,null,null,null,null,null,null,null,null,null,null,null,null,null,null,null,null,null,null,null,null,null,null,null,0,null,{"$f":"MATCH(\"*\"&AH$1&\"*\",OFFSET(Inscriptions!S$4:S$303,SUM(Juniors!AK$6:'Juniors'!AK31),0),0)","v":{"$error":"#N/A"}}]
[{"$f":"IF(ISNA(INDEX(Inscriptions!A$4:A$303,SUM(Juniors!AK$7:'Juniors'!AK33))),\"\",INDEX(Inscriptions!A$4:A$303,SUM(Juniors!AK$7:'Juniors'!AK33)))","v":""},{"$f":"IF(A33=\"\",\"\",VLOOKUP(A33,Data!G$2:K$302,5,FALSE))","v":""},{"$f":"IF(A33=\"\",\"\",VLOOKUP(A33,Data!G$2:K$302,2,FALSE))","v":""},{"$f":"IF(A33=\"\",\"\",VLOOKUP(A33,Data!G$2:K$302,3,FALSE))","v":""},{"$f":"IF(A33=\"\",\"\",VLOOKUP(A33,Data!G$2:K$302,4,FALSE))","v":""},null,null,null,null,null,null,null,null,null,null,null,null,null,null,null,null,null,null,null,null,null,null,null,null,null,null,null,null,null,0,null,{"$f":"MATCH(\"*\"&AH$1&\"*\",OFFSET(Inscriptions!S$4:S$303,SUM(Juniors!AK$6:'Juniors'!AK32),0),0)","v":{"$error":"#N/A"}}]
[{"$f":"IF(ISNA(INDEX(Inscriptions!A$4:A$303,SUM(Juniors!AK$7:'Juniors'!AK34))),\"\",INDEX(Inscriptions!A$4:A$303,SUM(Juniors!AK$7:'Juniors'!AK34)))","v":""},{"$f":"IF(A34=\"\",\"\",VLOOKUP(A34,Data!G$2:K$302,5,FALSE))","v":""},{"$f":"IF(A34=\"\",\"\",VLOOKUP(A34,Data!G$2:K$302,2,FALSE))","v":""},{"$f":"IF(A34=\"\",\"\",VLOOKUP(A34,Data!G$2:K$302,3,FALSE))","v":""},{"$f":"IF(A34=\"\",\"\",VLOOKUP(A34,Data!G$2:K$302,4,FALSE))","v":""},null,null,null,null,null,null,null,null,null,null,null,null,null,null,null,null,null,null,null,null,null,null,null,null,null,null,null,null,null,0,null,{"$f":"MATCH(\"*\"&AH$1&\"*\",OFFSET(Inscriptions!S$4:S$303,SUM(Juniors!AK$6:'Juniors'!AK33),0),0)","v":{"$error":"#N/A"}}]
[{"$f":"IF(ISNA(INDEX(Inscriptions!A$4:A$303,SUM(Juniors!AK$7:'Juniors'!AK35))),\"\",INDEX(Inscriptions!A$4:A$303,SUM(Juniors!AK$7:'Juniors'!AK35)))","v":""},{"$f":"IF(A35=\"\",\"\",VLOOKUP(A35,Data!G$2:K$302,5,FALSE))","v":""},{"$f":"IF(A35=\"\",\"\",VLOOKUP(A35,Data!G$2:K$302,2,FALSE))","v":""},{"$f":"IF(A35=\"\",\"\",VLOOKUP(A35,Data!G$2:K$302,3,FALSE))","v":""},{"$f":"IF(A35=\"\",\"\",VLOOKUP(A35,Data!G$2:K$302,4,FALSE))","v":""},null,null,null,null,null,null,null,null,null,null,null,null,null,null,null,null,null,null,null,null,null,null,null,null,null,null,null,null,null,0,null,{"$f":"MATCH(\"*\"&AH$1&\"*\",OFFSET(Inscriptions!S$4:S$303,SUM(Juniors!AK$6:'Juniors'!AK34),0),0)","v":{"$error":"#N/A"}}]
[{"$f":"IF(ISNA(INDEX(Inscriptions!A$4:A$303,SUM(Juniors!AK$7:'Juniors'!AK36))),\"\",INDEX(Inscriptions!A$4:A$303,SUM(Juniors!AK$7:'Juniors'!AK36)))","v":""},{"$f":"IF(A36=\"\",\"\",VLOOKUP(A36,Data!G$2:K$302,5,FALSE))","v":""},{"$f":"IF(A36=\"\",\"\",VLOOKUP(A36,Data!G$2:K$302,2,FALSE))","v":""},{"$f":"IF(A36=\"\",\"\",VLOOKUP(A36,Data!G$2:K$302,3,FALSE))","v":""},{"$f":"IF(A36=\"\",\"\",VLOOKUP(A36,Data!G$2:K$302,4,FALSE))","v":""},null,null,null,null,null,null,null,null,null,null,null,null,null,null,null,null,null,null,null,null,null,null,null,null,null,null,null,null,null,0,null,{"$f":"MATCH(\"*\"&AH$1&\"*\",OFFSET(Inscriptions!S$4:S$303,SUM(Juniors!AK$6:'Juniors'!AK35),0),0)","v":{"$error":"#N/A"}}]
[{"$f":"IF(ISNA(INDEX(Inscriptions!A$4:A$303,SUM(Juniors!AK$7:'Juniors'!AK37))),\"\",INDEX(Inscriptions!A$4:A$303,SUM(Juniors!AK$7:'Juniors'!AK37)))","v":""},{"$f":"IF(A37=\"\",\"\",VLOOKUP(A37,Data!G$2:K$302,5,FALSE))","v":""},{"$f":"IF(A37=\"\",\"\",VLOOKUP(A37,Data!G$2:K$302,2,FALSE))","v":""},{"$f":"IF(A37=\"\",\"\",VLOOKUP(A37,Data!G$2:K$302,3,FALSE))","v":""},{"$f":"IF(A37=\"\",\"\",VLOOKUP(A37,Data!G$2:K$302,4,FALSE))","v":""},null,null,null,null,null,null,null,null,null,null,null,null,null,null,null,null,null,null,null,null,null,null,null,null,null,null,null,null,null,0,null,{"$f":"MATCH(\"*\"&AH$1&\"*\",OFFSET(Inscriptions!S$4:S$303,SUM(Juniors!AK$6:'Juniors'!AK36),0),0)","v":{"$error":"#N/A"}}]
[{"$f":"IF(ISNA(INDEX(Inscriptions!A$4:A$303,SUM(Juniors!AK$7:'Juniors'!AK38))),\"\",INDEX(Inscriptions!A$4:A$303,SUM(Juniors!AK$7:'Juniors'!AK38)))","v":""},{"$f":"IF(A38=\"\",\"\",VLOOKUP(A38,Data!G$2:K$302,5,FALSE))","v":""},{"$f":"IF(A38=\"\",\"\",VLOOKUP(A38,Data!G$2:K$302,2,FALSE))","v":""},{"$f":"IF(A38=\"\",\"\",VLOOKUP(A38,Data!G$2:K$302,3,FALSE))","v":""},{"$f":"IF(A38=\"\",\"\",VLOOKUP(A38,Data!G$2:K$302,4,FALSE))","v":""},null,null,null,null,null,null,null,null,null,null,null,null,null,null,null,null,null,null,null,null,null,null,null,null,null,null,null,null,null,0,null,{"$f":"MATCH(\"*\"&AH$1&\"*\",OFFSET(Inscriptions!S$4:S$303,SUM(Juniors!AK$6:'Juniors'!AK37),0),0)","v":{"$error":"#N/A"}}]
[{"$f":"IF(ISNA(INDEX(Inscriptions!A$4:A$303,SUM(Juniors!AK$7:'Juniors'!AK39))),\"\",INDEX(Inscriptions!A$4:A$303,SUM(Juniors!AK$7:'Juniors'!AK39)))","v":""},{"$f":"IF(A39=\"\",\"\",VLOOKUP(A39,Data!G$2:K$302,5,FALSE))","v":""},{"$f":"IF(A39=\"\",\"\",VLOOKUP(A39,Data!G$2:K$302,2,FALSE))","v":""},{"$f":"IF(A39=\"\",\"\",VLOOKUP(A39,Data!G$2:K$302,3,FALSE))","v":""},{"$f":"IF(A39=\"\",\"\",VLOOKUP(A39,Data!G$2:K$302,4,FALSE))","v":""},null,null,null,null,null,null,null,null,null,null,null,null,null,null,null,null,null,null,null,null,null,null,null,null,null,null,null,null,null,0,null,{"$f":"MATCH(\"*\"&AH$1&\"*\",OFFSET(Inscriptions!S$4:S$303,SUM(Juniors!AK$6:'Juniors'!AK38),0),0)","v":{"$error":"#N/A"}}]
[{"$f":"IF(ISNA(INDEX(Inscriptions!A$4:A$303,SUM(Juniors!AK$7:'Juniors'!AK40))),\"\",INDEX(Inscriptions!A$4:A$303,SUM(Juniors!AK$7:'Juniors'!AK40)))","v":""},{"$f":"IF(A40=\"\",\"\",VLOOKUP(A40,Data!G$2:K$302,5,FALSE))","v":""},{"$f":"IF(A40=\"\",\"\",VLOOKUP(A40,Data!G$2:K$302,2,FALSE))","v":""},{"$f":"IF(A40=\"\",\"\",VLOOKUP(A40,Data!G$2:K$302,3,FALSE))","v":""},{"$f":"IF(A40=\"\",\"\",VLOOKUP(A40,Data!G$2:K$302,4,FALSE))","v":""},null,null,null,null,null,null,null,null,null,null,null,null,null,null,null,null,null,null,null,null,null,null,null,null,null,null,null,null,null,0,null,{"$f":"MATCH(\"*\"&AH$1&\"*\",OFFSET(Inscriptions!S$4:S$303,SUM(Juniors!AK$6:'Juniors'!AK39),0),0)","v":{"$error":"#N/A"}}]
[{"$f":"IF(ISNA(INDEX(Inscriptions!A$4:A$303,SUM(Juniors!AK$7:'Juniors'!AK41))),\"\",INDEX(Inscriptions!A$4:A$303,SUM(Juniors!AK$7:'Juniors'!AK41)))","v":""},{"$f":"IF(A41=\"\",\"\",VLOOKUP(A41,Data!G$2:K$302,5,FALSE))","v":""},{"$f":"IF(A41=\"\",\"\",VLOOKUP(A41,Data!G$2:K$302,2,FALSE))","v":""},{"$f":"IF(A41=\"\",\"\",VLOOKUP(A41,Data!G$2:K$302,3,FALSE))","v":""},{"$f":"IF(A41=\"\",\"\",VLOOKUP(A41,Data!G$2:K$302,4,FALSE))","v":""},null,null,null,null,null,null,null,null,null,null,null,null,null,null,null,null,null,null,null,null,null,null,null,null,null,null,null,null,null,0,null,{"$f":"MATCH(\"*\"&AH$1&\"*\",OFFSET(Inscriptions!S$4:S$303,SUM(Juniors!AK$6:'Juniors'!AK40),0),0)","v":{"$error":"#N/A"}}]
[{"$f":"IF(ISNA(INDEX(Inscriptions!A$4:A$303,SUM(Juniors!AK$7:'Juniors'!AK42))),\"\",INDEX(Inscriptions!A$4:A$303,SUM(Juniors!AK$7:'Juniors'!AK42)))","v":""},{"$f":"IF(A42=\"\",\"\",VLOOKUP(A42,Data!G$2:K$302,5,FALSE))","v":""},{"$f":"IF(A42=\"\",\"\",VLOOKUP(A42,Data!G$2:K$302,2,FALSE))","v":""},{"$f":"IF(A42=\"\",\"\",VLOOKUP(A42,Data!G$2:K$302,3,FALSE))","v":""},{"$f":"IF(A42=\"\",\"\",VLOOKUP(A42,Data!G$2:K$302,4,FALSE))","v":""},null,null,null,null,null,null,null,null,null,null,null,null,null,null,null,null,null,null,null,null,null,null,null,null,null,null,null,null,null,0,null,{"$f":"MATCH(\"*\"&AH$1&\"*\",OFFSET(Inscriptions!S$4:S$303,SUM(Juniors!AK$6:'Juniors'!AK41),0),0)","v":{"$error":"#N/A"}}]
[{"$f":"IF(ISNA(INDEX(Inscriptions!A$4:A$303,SUM(Juniors!AK$7:'Juniors'!AK43))),\"\",INDEX(Inscriptions!A$4:A$303,SUM(Juniors!AK$7:'Juniors'!AK43)))","v":""},{"$f":"IF(A43=\"\",\"\",VLOOKUP(A43,Data!G$2:K$302,5,FALSE))","v":""},{"$f":"IF(A43=\"\",\"\",VLOOKUP(A43,Data!G$2:K$302,2,FALSE))","v":""},{"$f":"IF(A43=\"\",\"\",VLOOKUP(A43,Data!G$2:K$302,3,FALSE))","v":""},{"$f":"IF(A43=\"\",\"\",VLOOKUP(A43,Data!G$2:K$302,4,FALSE))","v":""},null,null,null,null,null,null,null,null,null,null,null,null,null,null,null,null,null,null,null,null,null,null,null,null,null,null,null,null,null,0,null,{"$f":"MATCH(\"*\"&AH$1&\"*\",OFFSET(Inscriptions!S$4:S$303,SUM(Juniors!AK$6:'Juniors'!AK42),0),0)","v":{"$error":"#N/A"}}]
[{"$f":"IF(ISNA(INDEX(Inscriptions!A$4:A$303,SUM(Juniors!AK$7:'Juniors'!AK44))),\"\",INDEX(Inscriptions!A$4:A$303,SUM(Juniors!AK$7:'Juniors'!AK44)))","v":""},{"$f":"IF(A44=\"\",\"\",VLOOKUP(A44,Data!G$2:K$302,5,FALSE))","v":""},{"$f":"IF(A44=\"\",\"\",VLOOKUP(A44,Data!G$2:K$302,2,FALSE))","v":""},{"$f":"IF(A44=\"\",\"\",VLOOKUP(A44,Data!G$2:K$302,3,FALSE))","v":""},{"$f":"IF(A44=\"\",\"\",VLOOKUP(A44,Data!G$2:K$302,4,FALSE))","v":""},null,null,null,null,null,null,null,null,null,null,null,null,null,null,null,null,null,null,null,null,null,null,null,null,null,null,null,null,null,0,null,{"$f":"MATCH(\"*\"&AH$1&\"*\",OFFSET(Inscriptions!S$4:S$303,SUM(Juniors!AK$6:'Juniors'!AK43),0),0)","v":{"$error":"#N/A"}}]
[{"$f":"IF(ISNA(INDEX(Inscriptions!A$4:A$303,SUM(Juniors!AK$7:'Juniors'!AK45))),\"\",INDEX(Inscriptions!A$4:A$303,SUM(Juniors!AK$7:'Juniors'!AK45)))","v":""},{"$f":"IF(A45=\"\",\"\",VLOOKUP(A45,Data!G$2:K$302,5,FALSE))","v":""},{"$f":"IF(A45=\"\",\"\",VLOOKUP(A45,Data!G$2:K$302,2,FALSE))","v":""},{"$f":"IF(A45=\"\",\"\",VLOOKUP(A45,Data!G$2:K$302,3,FALSE))","v":""},{"$f":"IF(A45=\"\",\"\",VLOOKUP(A45,Data!G$2:K$302,4,FALSE))","v":""},null,null,null,null,null,null,null,null,null,null,null,null,null,null,null,null,null,null,null,null,null,null,null,null,null,null,null,null,null,0,null,{"$f":"MATCH(\"*\"&AH$1&\"*\",OFFSET(Inscriptions!S$4:S$303,SUM(Juniors!AK$6:'Juniors'!AK44),0),0)","v":{"$error":"#N/A"}}]
[{"$f":"IF(ISNA(INDEX(Inscriptions!A$4:A$303,SUM(Juniors!AK$7:'Juniors'!AK46))),\"\",INDEX(Inscriptions!A$4:A$303,SUM(Juniors!AK$7:'Juniors'!AK46)))","v":""},{"$f":"IF(A46=\"\",\"\",VLOOKUP(A46,Data!G$2:K$302,5,FALSE))","v":""},{"$f":"IF(A46=\"\",\"\",VLOOKUP(A46,Data!G$2:K$302,2,FALSE))","v":""},{"$f":"IF(A46=\"\",\"\",VLOOKUP(A46,Data!G$2:K$302,3,FALSE))","v":""},{"$f":"IF(A46=\"\",\"\",VLOOKUP(A46,Data!G$2:K$302,4,FALSE))","v":""},null,null,null,null,null,null,null,null,null,null,null,null,null,null,null,null,null,null,null,null,null,null,null,null,null,null,null,null,null,0,null,{"$f":"MATCH(\"*\"&AH$1&\"*\",OFFSET(Inscriptions!S$4:S$303,SUM(Juniors!AK$6:'Juniors'!AK45),0),0)","v":{"$error":"#N/A"}}]
[{"$f":"IF(ISNA(INDEX(Inscriptions!A$4:A$303,SUM(Juniors!AK$7:'Juniors'!AK47))),\"\",INDEX(Inscriptions!A$4:A$303,SUM(Juniors!AK$7:'Juniors'!AK47)))","v":""},{"$f":"IF(A47=\"\",\"\",VLOOKUP(A47,Data!G$2:K$302,5,FALSE))","v":""},{"$f":"IF(A47=\"\",\"\",VLOOKUP(A47,Data!G$2:K$302,2,FALSE))","v":""},{"$f":"IF(A47=\"\",\"\",VLOOKUP(A47,Data!G$2:K$302,3,FALSE))","v":""},{"$f":"IF(A47=\"\",\"\",VLOOKUP(A47,Data!G$2:K$302,4,FALSE))","v":""},null,null,null,null,null,null,null,null,null,null,null,null,null,null,null,null,null,null,null,null,null,null,null,null,null,null,null,null,null,0,null,{"$f":"MATCH(\"*\"&AH$1&\"*\",OFFSET(Inscriptions!S$4:S$303,SUM(Juniors!AK$6:'Juniors'!AK46),0),0)","v":{"$error":"#N/A"}}]
[{"$f":"IF(ISNA(INDEX(Inscriptions!A$4:A$303,SUM(Juniors!AK$7:'Juniors'!AK48))),\"\",INDEX(Inscriptions!A$4:A$303,SUM(Juniors!AK$7:'Juniors'!AK48)))","v":""},{"$f":"IF(A48=\"\",\"\",VLOOKUP(A48,Data!G$2:K$302,5,FALSE))","v":""},{"$f":"IF(A48=\"\",\"\",VLOOKUP(A48,Data!G$2:K$302,2,FALSE))","v":""},{"$f":"IF(A48=\"\",\"\",VLOOKUP(A48,Data!G$2:K$302,3,FALSE))","v":""},{"$f":"IF(A48=\"\",\"\",VLOOKUP(A48,Data!G$2:K$302,4,FALSE))","v":""},null,null,null,null,null,null,null,null,null,null,null,null,null,null,null,null,null,null,null,null,null,null,null,null,null,null,null,null,null,0,null,{"$f":"MATCH(\"*\"&AH$1&\"*\",OFFSET(Inscriptions!S$4:S$303,SUM(Juniors!AK$6:'Juniors'!AK47),0),0)","v":{"$error":"#N/A"}}]
[{"$f":"IF(ISNA(INDEX(Inscriptions!A$4:A$303,SUM(Juniors!AK$7:'Juniors'!AK49))),\"\",INDEX(Inscriptions!A$4:A$303,SUM(Juniors!AK$7:'Juniors'!AK49)))","v":""},{"$f":"IF(A49=\"\",\"\",VLOOKUP(A49,Data!G$2:K$302,5,FALSE))","v":""},{"$f":"IF(A49=\"\",\"\",VLOOKUP(A49,Data!G$2:K$302,2,FALSE))","v":""},{"$f":"IF(A49=\"\",\"\",VLOOKUP(A49,Data!G$2:K$302,3,FALSE))","v":""},{"$f":"IF(A49=\"\",\"\",VLOOKUP(A49,Data!G$2:K$302,4,FALSE))","v":""},null,null,null,null,null,null,null,null,null,null,null,null,null,null,null,null,null,null,null,null,null,null,null,null,null,null,null,null,null,0,null,{"$f":"MATCH(\"*\"&AH$1&\"*\",OFFSET(Inscriptions!S$4:S$303,SUM(Juniors!AK$6:'Juniors'!AK48),0),0)","v":{"$error":"#N/A"}}]
[{"$f":"IF(ISNA(INDEX(Inscriptions!A$4:A$303,SUM(Juniors!AK$7:'Juniors'!AK50))),\"\",INDEX(Inscriptions!A$4:A$303,SUM(Juniors!AK$7:'Juniors'!AK50)))","v":""},{"$f":"IF(A50=\"\",\"\",VLOOKUP(A50,Data!G$2:K$302,5,FALSE))","v":""},{"$f":"IF(A50=\"\",\"\",VLOOKUP(A50,Data!G$2:K$302,2,FALSE))","v":""},{"$f":"IF(A50=\"\",\"\",VLOOKUP(A50,Data!G$2:K$302,3,FALSE))","v":""},{"$f":"IF(A50=\"\",\"\",VLOOKUP(A50,Data!G$2:K$302,4,FALSE))","v":""},null,null,null,null,null,null,null,null,null,null,null,null,null,null,null,null,null,null,null,null,null,null,null,null,null,null,null,null,null,0,null,{"$f":"MATCH(\"*\"&AH$1&\"*\",OFFSET(Inscriptions!S$4:S$303,SUM(Juniors!AK$6:'Juniors'!AK49),0),0)","v":{"$error":"#N/A"}}]
[{"$f":"IF(ISNA(INDEX(Inscriptions!A$4:A$303,SUM(Juniors!AK$7:'Juniors'!AK51))),\"\",INDEX(Inscriptions!A$4:A$303,SUM(Juniors!AK$7:'Juniors'!AK51)))","v":""},{"$f":"IF(A51=\"\",\"\",VLOOKUP(A51,Data!G$2:K$302,5,FALSE))","v":""},{"$f":"IF(A51=\"\",\"\",VLOOKUP(A51,Data!G$2:K$302,2,FALSE))","v":""},{"$f":"IF(A51=\"\",\"\",VLOOKUP(A51,Data!G$2:K$302,3,FALSE))","v":""},{"$f":"IF(A51=\"\",\"\",VLOOKUP(A51,Data!G$2:K$302,4,FALSE))","v":""},null,null,null,null,null,null,null,null,null,null,null,null,null,null,null,null,null,null,null,null,null,null,null,null,null,null,null,null,null,0,null,{"$f":"MATCH(\"*\"&AH$1&\"*\",OFFSET(Inscriptions!S$4:S$303,SUM(Juniors!AK$6:'Juniors'!AK50),0),0)","v":{"$error":"#N/A"}}]
[{"$f":"IF(ISNA(INDEX(Inscriptions!A$4:A$303,SUM(Juniors!AK$7:'Juniors'!AK52))),\"\",INDEX(Inscriptions!A$4:A$303,SUM(Juniors!AK$7:'Juniors'!AK52)))","v":""},{"$f":"IF(A52=\"\",\"\",VLOOKUP(A52,Data!G$2:K$302,5,FALSE))","v":""},{"$f":"IF(A52=\"\",\"\",VLOOKUP(A52,Data!G$2:K$302,2,FALSE))","v":""},{"$f":"IF(A52=\"\",\"\",VLOOKUP(A52,Data!G$2:K$302,3,FALSE))","v":""},{"$f":"IF(A52=\"\",\"\",VLOOKUP(A52,Data!G$2:K$302,4,FALSE))","v":""},null,null,null,null,null,null,null,null,null,null,null,null,null,null,null,null,null,null,null,null,null,null,null,null,null,null,null,null,null,0,null,{"$f":"MATCH(\"*\"&AH$1&\"*\",OFFSET(Inscriptions!S$4:S$303,SUM(Juniors!AK$6:'Juniors'!AK51),0),0)","v":{"$error":"#N/A"}}]
[{"$f":"IF(ISNA(INDEX(Inscriptions!A$4:A$303,SUM(Juniors!AK$7:'Juniors'!AK53))),\"\",INDEX(Inscriptions!A$4:A$303,SUM(Juniors!AK$7:'Juniors'!AK53)))","v":""},{"$f":"IF(A53=\"\",\"\",VLOOKUP(A53,Data!G$2:K$302,5,FALSE))","v":""},{"$f":"IF(A53=\"\",\"\",VLOOKUP(A53,Data!G$2:K$302,2,FALSE))","v":""},{"$f":"IF(A53=\"\",\"\",VLOOKUP(A53,Data!G$2:K$302,3,FALSE))","v":""},{"$f":"IF(A53=\"\",\"\",VLOOKUP(A53,Data!G$2:K$302,4,FALSE))","v":""},null,null,null,null,null,null,null,null,null,null,null,null,null,null,null,null,null,null,null,null,null,null,null,null,null,null,null,null,null,0,null,{"$f":"MATCH(\"*\"&AH$1&\"*\",OFFSET(Inscriptions!S$4:S$303,SUM(Juniors!AK$6:'Juniors'!AK52),0),0)","v":{"$error":"#N/A"}}]
[{"$f":"IF(ISNA(INDEX(Inscriptions!A$4:A$303,SUM(Juniors!AK$7:'Juniors'!AK54))),\"\",INDEX(Inscriptions!A$4:A$303,SUM(Juniors!AK$7:'Juniors'!AK54)))","v":""},{"$f":"IF(A54=\"\",\"\",VLOOKUP(A54,Data!G$2:K$302,5,FALSE))","v":""},{"$f":"IF(A54=\"\",\"\",VLOOKUP(A54,Data!G$2:K$302,2,FALSE))","v":""},{"$f":"IF(A54=\"\",\"\",VLOOKUP(A54,Data!G$2:K$302,3,FALSE))","v":""},{"$f":"IF(A54=\"\",\"\",VLOOKUP(A54,Data!G$2:K$302,4,FALSE))","v":""},null,null,null,null,null,null,null,null,null,null,null,null,null,null,null,null,null,null,null,null,null,null,null,null,null,null,null,null,null,0,null,{"$f":"MATCH(\"*\"&AH$1&\"*\",OFFSET(Inscriptions!S$4:S$303,SUM(Juniors!AK$6:'Juniors'!AK53),0),0)","v":{"$error":"#N/A"}}]
[{"$f":"IF(ISNA(INDEX(Inscriptions!A$4:A$303,SUM(Juniors!AK$7:'Juniors'!AK55))),\"\",INDEX(Inscriptions!A$4:A$303,SUM(Juniors!AK$7:'Juniors'!AK55)))","v":""},{"$f":"IF(A55=\"\",\"\",VLOOKUP(A55,Data!G$2:K$302,5,FALSE))","v":""},{"$f":"IF(A55=\"\",\"\",VLOOKUP(A55,Data!G$2:K$302,2,FALSE))","v":""},{"$f":"IF(A55=\"\",\"\",VLOOKUP(A55,Data!G$2:K$302,3,FALSE))","v":""},{"$f":"IF(A55=\"\",\"\",VLOOKUP(A55,Data!G$2:K$302,4,FALSE))","v":""},null,null,null,null,null,null,null,null,null,null,null,null,null,null,null,null,null,null,null,null,null,null,null,null,null,null,null,null,null,0,null,{"$f":"MATCH(\"*\"&AH$1&\"*\",OFFSET(Inscriptions!S$4:S$303,SUM(Juniors!AK$6:'Juniors'!AK54),0),0)","v":{"$error":"#N/A"}}]
[{"$f":"CONCATENATE(IF(ChoixLangue=Languages!$B$1,Languages!$B105,IF(ChoixLangue=Languages!$C$1,Languages!$C105,IF(ChoixLangue=Languages!$D$1,Languages!$D105,Languages!$E105))),SUM(AI7:AI55))","v":"Nbe nageuses : 0"},"-","-","-",null,"-",null,"-",null,null,null,"-",null,"-"]

{"sheet":"RR","index":22,"n_rows":56,"n_cols":31,"rows_kept":56,"cut":false,"hidden":true,"merged":[[3,0,3,7]]}
[{"$f":"IF('Cover Page'!B5=\"\",\"\",'Cover Page'!B5)","v":""},null,null,null,null,null,null,null,null,null,null,null,null,null,null,null,null,null,null,null,null,null,null,null,null,null,null,"x",null,null,{"$f":"MID(CELL(\"filename\",A1),FIND(\"]\",CELL(\"filename\",A1),1)+1,20)","v":"RR"}]
[{"$f":"IF('Cover Page'!B6=\"\",\"\",'Cover Page'!B6)","v":""},null,null,null,null,null,null,{"$f":"IF(ChoixLangue=Languages!$B$1,Languages!$B$97 & \" \" & AE1,IF(ChoixLangue=Languages!$C$1,Languages!$C$97 & \" \" & AE1,IF(ChoixLangue=Languages!$D$1,Languages!$D$97 & \" \" & AE1,Languages!$E$97 & \" \" & AE1)))","v":"Catégorie RR"}]
[{"$f":"IF('Cover Page'!B7=\"\",\"\",'Cover Page'!B7)","v":""}]
[{"$f":"IF('Cover Page'!B10=\"\",\"\",CONCATENATE(IF(ChoixLangue=Languages!$B$1,Languages!$B98,IF(ChoixLangue=Languages!$C$1,Languages!$C98,IF(ChoixLangue=Languages!$D$1,Languages!$D98,Languages!$E98))),'Cover Page'!B10))","v":""}]
[{"$f":"A56","v":"Nbe nageuses : 0"}]
[{"$f":"IF(ChoixLangue=Languages!$B$1,Languages!$B99,IF(ChoixLangue=Languages!$C$1,Languages!$C99,IF(ChoixLangue=Languages!$D$1,Languages!$D99,Languages!$E99)))","v":"NOM Prénom"},{"$f":"IF(ChoixLangue=Languages!$B$1,Languages!$B100,IF(ChoixLangue=Languages!$C$1,Languages!$C100,IF(ChoixLangue=Languages!$D$1,Languages!$D100,Languages!$E100)))","v":"Club"},{"$f":"IF(ChoixLangue=Languages!$B$1,Languages!$B101,IF(ChoixLangue=Languages!$C$1,Languages!$C101,IF(ChoixLangue=Languages!$D$1,Languages!$D101,Languages!$E101)))","v":"Licence"},{"$f":"IF(ChoixLangue=Languages!$B$1,Languages!$B102,IF(ChoixLangue=Languages!$C$1,Languages!$C102,IF(ChoixLangue=Languages!$D$1,Languages!$D102,Languages!$E102)))","v":"An. Nais."},{"$f":"IF(ChoixLangue=Languages!$B$1,Languages!$B103,IF(ChoixLangue=Languages!$C$1,Languages!$C103,IF(ChoixLangue=Languages!$D$1,Languages!$D103,Languages!$E103)))","v":"N° Test"},"Solo Free","Duo Free","Team Free"]
[{"$f":"IF(ISNA(INDEX(Inscriptions!A$4:A$303,SUM(RR!AE$7:'RR'!AE7))),\"\",INDEX(Inscriptions!A$4:A$303,SUM(RR!AE$7:'RR'!AE7)))","v":""},{"$f":"IF(A7=\"\",\"\",VLOOKUP(A7,Data!G$2:K$302,5,FALSE))","v":""},{"$f":"IF(A7=\"\",\"\",VLOOKUP(A7,Data!G$2:K$302,2,FALSE))","v":""},{"$f":"IF(A7=\"\",\"\",VLOOKUP(A7,Data!G$2:K$302,3,FALSE))","v":""},{"$f":"IF(A7=\"\",\"\",VLOOKUP(A7,Data!G$2:K$302,4,FALSE))","v":""},null,null,null,null,null,null,null,null,null,null,null,null,null,null,null,null,null,null,null,null,null,null,null,{"$f":"IF(A7<>\"\",1,0)","v":0},null,{"$f":"MATCH(\"*\"&AB$1&\"*\",OFFSET(Inscriptions!Z$4:Z$303,SUM(RR!AE$6:'RR'!AE6),0),0)","v":{"$error":"#N/A"}}]
[{"$f":"IF(ISNA(INDEX(Inscriptions!A$4:A$303,SUM(RR!AE$7:'RR'!AE8))),\"\",INDEX(Inscriptions!A$4:A$303,SUM(RR!AE$7:'RR'!AE8)))","v":""},{"$f":"IF(A8=\"\",\"\",VLOOKUP(A8,Data!G$2:K$302,5,FALSE))","v":""},{"$f":"IF(A8=\"\",\"\",VLOOKUP(A8,Data!G$2:K$302,2,FALSE))","v":""},{"$f":"IF(A8=\"\",\"\",VLOOKUP(A8,Data!G$2:K$302,3,FALSE))","v":""},{"$f":"IF(A8=\"\",\"\",VLOOKUP(A8,Data!G$2:K$302,4,FALSE))","v":""},null,null,null,null,null,null,null,null,null,null,null,null,null,null,null,null,null,null,null,null,null,null,null,0,null,{"$f":"MATCH(\"*\"&AB$1&\"*\",OFFSET(Inscriptions!Z$4:Z$303,SUM(RR!AE$6:'RR'!AE7),0),0)","v":{"$error":"#N/A"}}]
[{"$f":"IF(ISNA(INDEX(Inscriptions!A$4:A$303,SUM(RR!AE$7:'RR'!AE9))),\"\",INDEX(Inscriptions!A$4:A$303,SUM(RR!AE$7:'RR'!AE9)))","v":""},{"$f":"IF(A9=\"\",\"\",VLOOKUP(A9,Data!G$2:K$302,5,FALSE))","v":""},{"$f":"IF(A9=\"\",\"\",VLOOKUP(A9,Data!G$2:K$302,2,FALSE))","v":""},{"$f":"IF(A9=\"\",\"\",VLOOKUP(A9,Data!G$2:K$302,3,FALSE))","v":""},{"$f":"IF(A9=\"\",\"\",VLOOKUP(A9,Data!G$2:K$302,4,FALSE))","v":""},null,null,null,null,null,null,null,null,null,null,null,null,null,null,null,null,null,null,null,null,null,null,null,0,null,{"$f":"MATCH(\"*\"&AB$1&\"*\",OFFSET(Inscriptions!Z$4:Z$303,SUM(RR!AE$6:'RR'!AE8),0),0)","v":{"$error":"#N/A"}}]
[{"$f":"IF(ISNA(INDEX(Inscriptions!A$4:A$303,SUM(RR!AE$7:'RR'!AE10))),\"\",INDEX(Inscriptions!A$4:A$303,SUM(RR!AE$7:'RR'!AE10)))","v":""},{"$f":"IF(A10=\"\",\"\",VLOOKUP(A10,Data!G$2:K$302,5,FALSE))","v":""},{"$f":"IF(A10=\"\",\"\",VLOOKUP(A10,Data!G$2:K$302,2,FALSE))","v":""},{"$f":"IF(A10=\"\",\"\",VLOOKUP(A10,Data!G$2:K$302,3,FALSE))","v":""},{"$f":"IF(A10=\"\",\"\",VLOOKUP(A10,Data!G$2:K$302,4,FALSE))","v":""},null,null,null,null,null,null,null,null,null,null,null,null,null,null,null,null,null,null,null,null,null,null,null,0,null,{"$f":"MATCH(\"*\"&AB$1&\"*\",OFFSET(Inscriptions!Z$4:Z$303,SUM(RR!AE$6:'RR'!AE9),0),0)","v":{"$error":"#N/A"}}]
[{"$f":"IF(ISNA(INDEX(Inscriptions!A$4:A$303,SUM(RR!AE$7:'RR'!AE11))),\"\",INDEX(Inscriptions!A$4:A$303,SUM(RR!AE$7:'RR'!AE11)))","v":""},{"$f":"IF(A11=\"\",\"\",VLOOKUP(A11,Data!G$2:K$302,5,FALSE))","v":""},{"$f":"IF(A11=\"\",\"\",VLOOKUP(A11,Data!G$2:K$302,2,FALSE))","v":""},{"$f":"IF(A11=\"\",\"\",VLOOKUP(A11,Data!G$2:K$302,3,FALSE))","v":""},{"$f":"IF(A11=\"\",\"\",VLOOKUP(A11,Data!G$2:K$302,4,FALSE))","v":""},null,null,null,null,null,null,null,null,null,null,null,null,null,null,null,null,null,null,null,null,null,null,null,0,null,{"$f":"MATCH(\"*\"&AB$1&\"*\",OFFSET(Inscriptions!Z$4:Z$303,SUM(RR!AE$6:'RR'!AE10),0),0)","v":{"$error":"#N/A"}}]
[{"$f":"IF(ISNA(INDEX(Inscriptions!A$4:A$303,SUM(RR!AE$7:'RR'!AE12))),\"\",INDEX(Inscriptions!A$4:A$303,SUM(RR!AE$7:'RR'!AE12)))","v":""},{"$f":"IF(A12=\"\",\"\",VLOOKUP(A12,Data!G$2:K$302,5,FALSE))","v":""},{"$f":"IF(A12=\"\",\"\",VLOOKUP(A12,Data!G$2:K$302,2,FALSE))","v":""},{"$f":"IF(A12=\"\",\"\",VLOOKUP(A12,Data!G$2:K$302,3,FALSE))","v":""},{"$f":"IF(A12=\"\",\"\",VLOOKUP(A12,Data!G$2:K$302,4,FALSE))","v":""},null,null,null,null,null,null,null,null,null,null,null,null,null,null,null,null,null,null,null,null,null,null,null,0,null,{"$f":"MATCH(\"*\"&AB$1&\"*\",OFFSET(Inscriptions!Z$4:Z$303,SUM(RR!AE$6:'RR'!AE11),0),0)","v":{"$error":"#N/A"}}]
[{"$f":"IF(ISNA(INDEX(Inscriptions!A$4:A$303,SUM(RR!AE$7:'RR'!AE13))),\"\",INDEX(Inscriptions!A$4:A$303,SUM(RR!AE$7:'RR'!AE13)))","v":""},{"$f":"IF(A13=\"\",\"\",VLOOKUP(A13,Data!G$2:K$302,5,FALSE))","v":""},{"$f":"IF(A13=\"\",\"\",VLOOKUP(A13,Data!G$2:K$302,2,FALSE))","v":""},{"$f":"IF(A13=\"\",\"\",VLOOKUP(A13,Data!G$2:K$302,3,FALSE))","v":""},{"$f":"IF(A13=\"\",\"\",VLOOKUP(A13,Data!G$2:K$302,4,FALSE))","v":""},null,null,null,null,null,null,null,null,null,null,null,null,null,null,null,null,null,null,null,null,null,null,null,0,null,{"$f":"MATCH(\"*\"&AB$1&\"*\",OFFSET(Inscriptions!Z$4:Z$303,SUM(RR!AE$6:'RR'!AE12),0),0)","v":{"$error":"#N/A"}}]
[{"$f":"IF(ISNA(INDEX(Inscriptions!A$4:A$303,SUM(RR!AE$7:'RR'!AE14))),\"\",INDEX(Inscriptions!A$4:A$303,SUM(RR!AE$7:'RR'!AE14)))","v":""},{"$f":"IF(A14=\"\",\"\",VLOOKUP(A14,Data!G$2:K$302,5,FALSE))","v":""},{"$f":"IF(A14=\"\",\"\",VLOOKUP(A14,Data!G$2:K$302,2,FALSE))","v":""},{"$f":"IF(A14=\"\",\"\",VLOOKUP(A14,Data!G$2:K$302,3,FALSE))","v":""},{"$f":"IF(A14=\"\",\"\",VLOOKUP(A14,Data!G$2:K$302,4,FALSE))","v":""},null,null,null,null,null,null,null,null,null,null,null,null,null,null,null,null,null,null,null,null,null,null,null,0,null,{"$f":"MATCH(\"*\"&AB$1&\"*\",OFFSET(Inscriptions!Z$4:Z$303,SUM(RR!AE$6:'RR'!AE13),0),0)","v":{"$error":"#N/A"}}]
[{"$f":"IF(ISNA(INDEX(Inscriptions!A$4:A$303,SUM(RR!AE$7:'RR'!AE15))),\"\",INDEX(Inscriptions!A$4:A$303,SUM(RR!AE$7:'RR'!AE15)))","v":""},{"$f":"IF(A15=\"\",\"\",VLOOKUP(A15,Data!G$2:K$302,5,FALSE))","v":""},{"$f":"IF(A15=\"\",\"\",VLOOKUP(A15,Data!G$2:K$302,2,FALSE))","v":""},{"$f":"IF(A15=\"\",\"\",VLOOKUP(A15,Data!G$2:K$302,3,FALSE))","v":""},{"$f":"IF(A15=\"\",\"\",VLOOKUP(A15,Data!G$2:K$302,4,FALSE))","v":""},null,null,null,null,null,null,null,null,null,null,null,null,null,null,null,null,null,null,null,null,null,null,null,0,null,{"$f":"MATCH(\"*\"&AB$1&\"*\",OFFSET(Inscriptions!Z$4:Z$303,SUM(RR!AE$6:'RR'!AE14),0),0)","v":{"$error":"#N/A"}}]
[{"$f":"IF(ISNA(INDEX(Inscriptions!A$4:A$303,SUM(RR!AE$7:'RR'!AE16))),\"\",INDEX(Inscriptions!A$4:A$303,SUM(RR!AE$7:'RR'!AE16)))","v":""},{"$f":"IF(A16=\"\",\"\",VLOOKUP(A16,Data!G$2:K$302,5,FALSE))","v":""},{"$f":"IF(A16=\"\",\"\",VLOOKUP(A16,Data!G$2:K$302,2,FALSE))","v":""},{"$f":"IF(A16=\"\",\"\",VLOOKUP(A16,Data!G$2:K$302,3,FALSE))","v":""},{"$f":"IF(A16=\"\",\"\",VLOOKUP(A16,Data!G$2:K$302,4,FALSE))","v":""},null,null,null,null,null,null,null,null,null,null,null,null,null,null,null,null,null,null,null,null,null,null,null,0,null,{"$f":"MATCH(\"*\"&AB$1&\"*\",OFFSET(Inscriptions!Z$4:Z$303,SUM(RR!AE$6:'RR'!AE15),0),0)","v":{"$error":"#N/A"}}]
[{"$f":"IF(ISNA(INDEX(Inscriptions!A$4:A$303,SUM(RR!AE$7:'RR'!AE17))),\"\",INDEX(Inscriptions!A$4:A$303,SUM(RR!AE$7:'RR'!AE17)))","v":""},{"$f":"IF(A17=\"\",\"\",VLOOKUP(A17,Data!G$2:K$302,5,FALSE))","v":""},{"$f":"IF(A17=\"\",\"\",VLOOKUP(A17,Data!G$2:K$302,2,FALSE))","v":""},{"$f":"IF(A17=\"\",\"\",VLOOKUP(A17,Data!G$2:K$302,3,FALSE))","v":""},{"$f":"IF(A17=\"\",\"\",VLOOKUP(A17,Data!G$2:K$302,4,FALSE))","v":""},null,null,null,null,null,null,null,null,null,null,null,null,null,null,null,null,null,null,null,null,null,null,null,0,null,{"$f":"MATCH(\"*\"&AB$1&\"*\",OFFSET(Inscriptions!Z$4:Z$303,SUM(RR!AE$6:'RR'!AE16),0),0)","v":{"$error":"#N/A"}}]
[{"$f":"IF(ISNA(INDEX(Inscriptions!A$4:A$303,SUM(RR!AE$7:'RR'!AE18))),\"\",INDEX(Inscriptions!A$4:A$303,SUM(RR!AE$7:'RR'!AE18)))","v":""},{"$f":"IF(A18=\"\",\"\",VLOOKUP(A18,Data!G$2:K$302,5,FALSE))","v":""},{"$f":"IF(A18=\"\",\"\",VLOOKUP(A18,Data!G$2:K$302,2,FALSE))","v":""},{"$f":"IF(A18=\"\",\"\",VLOOKUP(A18,Data!G$2:K$302,3,FALSE))","v":""},{"$f":"IF(A18=\"\",\"\",VLOOKUP(A18,Data!G$2:K$302,4,FALSE))","v":""},null,null,null,null,null,null,null,null,null,null,null,null,null,null,null,null,null,null,null,null,null,null,null,0,null,{"$f":"MATCH(\"*\"&AB$1&\"*\",OFFSET(Inscriptions!Z$4:Z$303,SUM(RR!AE$6:'RR'!AE17),0),0)","v":{"$error":"#N/A"}}]
[{"$f":"IF(ISNA(INDEX(Inscriptions!A$4:A$303,SUM(RR!AE$7:'RR'!AE19))),\"\",INDEX(Inscriptions!A$4:A$303,SUM(RR!AE$7:'RR'!AE19)))","v":""},{"$f":"IF(A19=\"\",\"\",VLOOKUP(A19,Data!G$2:K$302,5,FALSE))","v":""},{"$f":"IF(A19=\"\",\"\",VLOOKUP(A19,Data!G$2:K$302,2,FALSE))","v":""},{"$f":"IF(A19=\"\",\"\",VLOOKUP(A19,Data!G$2:K$302,3,FALSE))","v":""},{"$f":"IF(A19=\"\",\"\",VLOOKUP(A19,Data!G$2:K$302,4,FALSE))","v":""},null,null,null,null,null,null,null,null,null,null,null,null,null,null,null,null,null,null,null,null,null,null,null,0,null,{"$f":"MATCH(\"*\"&AB$1&\"*\",OFFSET(Inscriptions!Z$4:Z$303,SUM(RR!AE$6:'RR'!AE18),0),0)","v":{"$error":"#N/A"}}]
[{"$f":"IF(ISNA(INDEX(Inscriptions!A$4:A$303,SUM(RR!AE$7:'RR'!AE20))),\"\",INDEX(Inscriptions!A$4:A$303,SUM(RR!AE$7:'RR'!AE20)))","v":""},{"$f":"IF(A20=\"\",\"\",VLOOKUP(A20,Data!G$2:K$302,5,FALSE))","v":""},{"$f":"IF(A20=\"\",\"\",VLOOKUP(A20,Data!G$2:K$302,2,FALSE))","v":""},{"$f":"IF(A20=\"\",\"\",VLOOKUP(A20,Data!G$2:K$302,3,FALSE))","v":""},{"$f":"IF(A20=\"\",\"\",VLOOKUP(A20,Data!G$2:K$302,4,FALSE))","v":""},null,null,null,null,null,null,null,null,null,null,null,null,null,null,null,null,null,null,null,null,null,null,null,0,null,{"$f":"MATCH(\"*\"&AB$1&\"*\",OFFSET(Inscriptions!Z$4:Z$303,SUM(RR!AE$6:'RR'!AE19),0),0)","v":{"$error":"#N/A"}}]
[{"$f":"IF(ISNA(INDEX(Inscriptions!A$4:A$303,SUM(RR!AE$7:'RR'!AE21))),\"\",INDEX(Inscriptions!A$4:A$303,SUM(RR!AE$7:'RR'!AE21)))","v":""},{"$f":"IF(A21=\"\",\"\",VLOOKUP(A21,Data!G$2:K$302,5,FALSE))","v":""},{"$f":"IF(A21=\"\",\"\",VLOOKUP(A21,Data!G$2:K$302,2,FALSE))","v":""},{"$f":"IF(A21=\"\",\"\",VLOOKUP(A21,Data!G$2:K$302,3,FALSE))","v":""},{"$f":"IF(A21=\"\",\"\",VLOOKUP(A21,Data!G$2:K$302,4,FALSE))","v":""},null,null,null,null,null,null,null,null,null,null,null,null,null,null,null,null,null,null,null,null,null,null,null,0,null,{"$f":"MATCH(\"*\"&AB$1&\"*\",OFFSET(Inscriptions!Z$4:Z$303,SUM(RR!AE$6:'RR'!AE20),0),0)","v":{"$error":"#N/A"}}]
[{"$f":"IF(ISNA(INDEX(Inscriptions!A$4:A$303,SUM(RR!AE$7:'RR'!AE22))),\"\",INDEX(Inscriptions!A$4:A$303,SUM(RR!AE$7:'RR'!AE22)))","v":""},{"$f":"IF(A22=\"\",\"\",VLOOKUP(A22,Data!G$2:K$302,5,FALSE))","v":""},{"$f":"IF(A22=\"\",\"\",VLOOKUP(A22,Data!G$2:K$302,2,FALSE))","v":""},{"$f":"IF(A22=\"\",\"\",VLOOKUP(A22,Data!G$2:K$302,3,FALSE))","v":""},{"$f":"IF(A22=\"\",\"\",VLOOKUP(A22,Data!G$2:K$302,4,FALSE))","v":""},null,null,null,null,null,null,null,null,null,null,null,null,null,null,null,null,null,null,null,null,null,null,null,0,null,{"$f":"MATCH(\"*\"&AB$1&\"*\",OFFSET(Inscriptions!Z$4:Z$303,SUM(RR!AE$6:'RR'!AE21),0),0)","v":{"$error":"#N/A"}}]
[{"$f":"IF(ISNA(INDEX(Inscriptions!A$4:A$303,SUM(RR!AE$7:'RR'!AE23))),\"\",INDEX(Inscriptions!A$4:A$303,SUM(RR!AE$7:'RR'!AE23)))","v":""},{"$f":"IF(A23=\"\",\"\",VLOOKUP(A23,Data!G$2:K$302,5,FALSE))","v":""},{"$f":"IF(A23=\"\",\"\",VLOOKUP(A23,Data!G$2:K$302,2,FALSE))","v":""},{"$f":"IF(A23=\"\",\"\",VLOOKUP(A23,Data!G$2:K$302,3,FALSE))","v":""},{"$f":"IF(A23=\"\",\"\",VLOOKUP(A23,Data!G$2:K$302,4,FALSE))","v":""},null,null,null,null,null,null,null,null,null,null,null,null,null,null,null,null,null,null,null,null,null,null,null,0,null,{"$f":"MATCH(\"*\"&AB$1&\"*\",OFFSET(Inscriptions!Z$4:Z$303,SUM(RR!AE$6:'RR'!AE22),0),0)","v":{"$error":"#N/A"}}]
[{"$f":"IF(ISNA(INDEX(Inscriptions!A$4:A$303,SUM(RR!AE$7:'RR'!AE24))),\"\",INDEX(Inscriptions!A$4:A$303,SUM(RR!AE$7:'RR'!AE24)))","v":""},{"$f":"IF(A24=\"\",\"\",VLOOKUP(A24,Data!G$2:K$302,5,FALSE))","v":""},{"$f":"IF(A24=\"\",\"\",VLOOKUP(A24,Data!G$2:K$302,2,FALSE))","v":""},{"$f":"IF(A24=\"\",\"\",VLOOKUP(A24,Data!G$2:K$302,3,FALSE))","v":""},{"$f":"IF(A24=\"\",\"\",VLOOKUP(A24,Data!G$2:K$302,4,FALSE))","v":""},null,null,null,null,null,null,null,null,null,null,null,null,null,null,null,null,null,null,null,null,null,null,null,0,null,{"$f":"MATCH(\"*\"&AB$1&\"*\",OFFSET(Inscriptions!Z$4:Z$303,SUM(RR!AE$6:'RR'!AE23),0),0)","v":{"$error":"#N/A"}}]
[{"$f":"IF(ISNA(INDEX(Inscriptions!A$4:A$303,SUM(RR!AE$7:'RR'!AE25))),\"\",INDEX(Inscriptions!A$4:A$303,SUM(RR!AE$7:'RR'!AE25)))","v":""},{"$f":"IF(A25=\"\",\"\",VLOOKUP(A25,Data!G$2:K$302,5,FALSE))","v":""},{"$f":"IF(A25=\"\",\"\",VLOOKUP(A25,Data!G$2:K$302,2,FALSE))","v":""},{"$f":"IF(A25=\"\",\"\",VLOOKUP(A25,Data!G$2:K$302,3,FALSE))","v":""},{"$f":"IF(A25=\"\",\"\",VLOOKUP(A25,Data!G$2:K$302,4,FALSE))","v":""},null,null,null,null,null,null,null,null,null,null,null,null,null,null,null,null,null,null,null,null,null,null,null,0,null,{"$f":"MATCH(\"*\"&AB$1&\"*\",OFFSET(Inscriptions!Z$4:Z$303,SUM(RR!AE$6:'RR'!AE24),0),0)","v":{"$error":"#N/A"}}]
[{"$f":"IF(ISNA(INDEX(Inscriptions!A$4:A$303,SUM(RR!AE$7:'RR'!AE26))),\"\",INDEX(Inscriptions!A$4:A$303,SUM(RR!AE$7:'RR'!AE26)))","v":""},{"$f":"IF(A26=\"\",\"\",VLOOKUP(A26,Data!G$2:K$302,5,FALSE))","v":""},{"$f":"IF(A26=\"\",\"\",VLOOKUP(A26,Data!G$2:K$302,2,FALSE))","v":""},{"$f":"IF(A26=\"\",\"\",VLOOKUP(A26,Data!G$2:K$302,3,FALSE))","v":""},{"$f":"IF(A26=\"\",\"\",VLOOKUP(A26,Data!G$2:K$302,4,FALSE))","v":""},null,null,null,null,null,null,null,null,null,null,null,null,null,null,null,null,null,null,null,null,null,null,null,0,null,{"$f":"MATCH(\"*\"&AB$1&\"*\",OFFSET(Inscriptions!Z$4:Z$303,SUM(RR!AE$6:'RR'!AE25),0),0)","v":{"$error":"#N/A"}}]
[{"$f":"IF(ISNA(INDEX(Inscriptions!A$4:A$303,SUM(RR!AE$7:'RR'!AE27))),\"\",INDEX(Inscriptions!A$4:A$303,SUM(RR!AE$7:'RR'!AE27)))","v":""},{"$f":"IF(A27=\"\",\"\",VLOOKUP(A27,Data!G$2:K$302,5,FALSE))","v":""},{"$f":"IF(A27=\"\",\"\",VLOOKUP(A27,Data!G$2:K$302,2,FALSE))","v":""},{"$f":"IF(A27=\"\",\"\",VLOOKUP(A27,Data!G$2:K$302,3,FALSE))","v":""},{"$f":"IF(A27=\"\",\"\",VLOOKUP(A27,Data!G$2:K$302,4,FALSE))","v":""},null,null,null,null,null,null,null,null,null,null,null,null,null,null,null,null,null,null,null,null,null,null,null,0,null,{"$f":"MATCH(\"*\"&AB$1&\"*\",OFFSET(Inscriptions!Z$4:Z$303,SUM(RR!AE$6:'RR'!AE26),0),0)","v":{"$error":"#N/A"}}]
[{"$f":"IF(ISNA(INDEX(Inscriptions!A$4:A$303,SUM(RR!AE$7:'RR'!AE28))),\"\",INDEX(Inscriptions!A$4:A$303,SUM(RR!AE$7:'RR'!AE28)))","v":""},{"$f":"IF(A28=\"\",\"\",VLOOKUP(A28,Data!G$2:K$302,5,FALSE))","v":""},{"$f":"IF(A28=\"\",\"\",VLOOKUP(A28,Data!G$2:K$302,2,FALSE))","v":""},{"$f":"IF(A28=\"\",\"\",VLOOKUP(A28,Data!G$2:K$302,3,FALSE))","v":""},{"$f":"IF(A28=\"\",\"\",VLOOKUP(A28,Data!G$2:K$302,4,FALSE))","v":""},null,null,null,null,null,null,null,null,null,null,null,null,null,null,null,null,null,null,null,null,null,null,null,0,null,{"$f":"MATCH(\"*\"&AB$1&\"*\",OFFSET(Inscriptions!Z$4:Z$303,SUM(RR!AE$6:'RR'!AE27),0),0)","v":{"$error":"#N/A"}}]
[{"$f":"IF(ISNA(INDEX(Inscriptions!A$4:A$303,SUM(RR!AE$7:'RR'!AE29))),\"\",INDEX(Inscriptions!A$4:A$303,SUM(RR!AE$7:'RR'!AE29)))","v":""},{"$f":"IF(A29=\"\",\"\",VLOOKUP(A29,Data!G$2:K$302,5,FALSE))","v":""},{"$f":"IF(A29=\"\",\"\",VLOOKUP(A29,Data!G$2:K$302,2,FALSE))","v":""},{"$f":"IF(A29=\"\",\"\",VLOOKUP(A29,Data!G$2:K$302,3,FALSE))","v":""},{"$f":"IF(A29=\"\",\"\",VLOOKUP(A29,Data!G$2:K$302,4,FALSE))","v":""},null,null,null,null,null,null,null,null,null,null,null,null,null,null,null,null,null,null,null,null,null,null,null,0,null,{"$f":"MATCH(\"*\"&AB$1&\"*\",OFFSET(Inscriptions!Z$4:Z$303,SUM(RR!AE$6:'RR'!AE28),0),0)","v":{"$error":"#N/A"}}]
[{"$f":"IF(ISNA(INDEX(Inscriptions!A$4:A$303,SUM(RR!AE$7:'RR'!AE30))),\"\",INDEX(Inscriptions!A$4:A$303,SUM(RR!AE$7:'RR'!AE30)))","v":""},{"$f":"IF(A30=\"\",\"\",VLOOKUP(A30,Data!G$2:K$302,5,FALSE))","v":""},{"$f":"IF(A30=\"\",\"\",VLOOKUP(A30,Data!G$2:K$302,2,FALSE))","v":""},{"$f":"IF(A30=\"\",\"\",VLOOKUP(A30,Data!G$2:K$302,3,FALSE))","v":""},{"$f":"IF(A30=\"\",\"\",VLOOKUP(A30,Data!G$2:K$302,4,FALSE))","v":""},null,null,null,null,null,null,null,null,null,null,null,null,null,null,null,null,null,null,null,null,null,null,null,0,null,{"$f":"MATCH(\"*\"&AB$1&\"*\",OFFSET(Inscriptions!Z$4:Z$303,SUM(RR!AE$6:'RR'!AE29),0),0)","v":{"$error":"#N/A"}}]
[{"$f":"IF(ISNA(INDEX(Inscriptions!A$4:A$303,SUM(RR!AE$7:'RR'!AE31))),\"\",INDEX(Inscriptions!A$4:A$303,SUM(RR!AE$7:'RR'!AE31)))","v":""},{"$f":"IF(A31=\"\",\"\",VLOOKUP(A31,Data!G$2:K$302,5,FALSE))","v":""},{"$f":"IF(A31=\"\",\"\",VLOOKUP(A31,Data!G$2:K$302,2,FALSE))","v":""},{"$f":"IF(A31=\"\",\"\",VLOOKUP(A31,Data!G$2:K$302,3,FALSE))","v":""},{"$f":"IF(A31=\"\",\"\",VLOOKUP(A31,Data!G$2:K$302,4,FALSE))","v":""},null,null,null,null,null,null,null,null,null,null,null,null,null,null,null,null,null,null,null,null,null,null,null,0,null,{"$f":"MATCH(\"*\"&AB$1&\"*\",OFFSET(Inscriptions!Z$4:Z$303,SUM(RR!AE$6:'RR'!AE30),0),0)","v":{"$error":"#N/A"}}]
[{"$f":"IF(ISNA(INDEX(Inscriptions!A$4:A$303,SUM(RR!AE$7:'RR'!AE32))),\"\",INDEX(Inscriptions!A$4:A$303,SUM(RR!AE$7:'RR'!AE32)))","v":""},{"$f":"IF(A32=\"\",\"\",VLOOKUP(A32,Data!G$2:K$302,5,FALSE))","v":""},{"$f":"IF(A32=\"\",\"\",VLOOKUP(A32,Data!G$2:K$302,2,FALSE))","v":""},{"$f":"IF(A32=\"\",\"\",VLOOKUP(A32,Data!G$2:K$302,3,FALSE))","v":""},{"$f":"IF(A32=\"\",\"\",VLOOKUP(A32,Data!G$2:K$302,4,FALSE))","v":""},null,null,null,null,null,null,null,null,null,null,null,null,null,null,null,null,null,null,null,null,null,null,null,0,null,{"$f":"MATCH(\"*\"&AB$1&\"*\",OFFSET(Inscriptions!Z$4:Z$303,SUM(RR!AE$6:'RR'!AE31),0),0)","v":{"$error":"#N/A"}}]
[{"$f":"IF(ISNA(INDEX(Inscriptions!A$4:A$303,SUM(RR!AE$7:'RR'!AE33))),\"\",INDEX(Inscriptions!A$4:A$303,SUM(RR!AE$7:'RR'!AE33)))","v":""},{"$f":"IF(A33=\"\",\"\",VLOOKUP(A33,Data!G$2:K$302,5,FALSE))","v":""},{"$f":"IF(A33=\"\",\"\",VLOOKUP(A33,Data!G$2:K$302,2,FALSE))","v":""},{"$f":"IF(A33=\"\",\"\",VLOOKUP(A33,Data!G$2:K$302,3,FALSE))","v":""},{"$f":"IF(A33=\"\",\"\",VLOOKUP(A33,Data!G$2:K$302,4,FALSE))","v":""},null,null,null,null,null,null,null,null,null,null,null,null,null,null,null,null,null,null,null,null,null,null,null,0,null,{"$f":"MATCH(\"*\"&AB$1&\"*\",OFFSET(Inscriptions!Z$4:Z$303,SUM(RR!AE$6:'RR'!AE32),0),0)","v":{"$error":"#N/A"}}]
[{"$f":"IF(ISNA(INDEX(Inscriptions!A$4:A$303,SUM(RR!AE$7:'RR'!AE34))),\"\",INDEX(Inscriptions!A$4:A$303,SUM(RR!AE$7:'RR'!AE34)))","v":""},{"$f":"IF(A34=\"\",\"\",VLOOKUP(A34,Data!G$2:K$302,5,FALSE))","v":""},{"$f":"IF(A34=\"\",\"\",VLOOKUP(A34,Data!G$2:K$302,2,FALSE))","v":""},{"$f":"IF(A34=\"\",\"\",VLOOKUP(A34,Data!G$2:K$302,3,FALSE))","v":""},{"$f":"IF(A34=\"\",\"\",VLOOKUP(A34,Data!G$2:K$302,4,FALSE))","v":""},null,null,null,null,null,null,null,null,null,null,null,null,null,null,null,null,null,null,null,null,null,null,null,0,null,{"$f":"MATCH(\"*\"&AB$1&\"*\",OFFSET(Inscriptions!Z$4:Z$303,SUM(RR!AE$6:'RR'!AE33),0),0)","v":{"$error":"#N/A"}}]
[{"$f":"IF(ISNA(INDEX(Inscriptions!A$4:A$303,SUM(RR!AE$7:'RR'!AE35))),\"\",INDEX(Inscriptions!A$4:A$303,SUM(RR!AE$7:'RR'!AE35)))","v":""},{"$f":"IF(A35=\"\",\"\",VLOOKUP(A35,Data!G$2:K$302,5,FALSE))","v":""},{"$f":"IF(A35=\"\",\"\",VLOOKUP(A35,Data!G$2:K$302,2,FALSE))","v":""},{"$f":"IF(A35=\"\",\"\",VLOOKUP(A35,Data!G$2:K$302,3,FALSE))","v":""},{"$f":"IF(A35=\"\",\"\",VLOOKUP(A35,Data!G$2:K$302,4,FALSE))","v":""},null,null,null,null,null,null,null,null,null,null,null,null,null,null,null,null,null,null,null,null,null,null,null,0,null,{"$f":"MATCH(\"*\"&AB$1&\"*\",OFFSET(Inscriptions!Z$4:Z$303,SUM(RR!AE$6:'RR'!AE34),0),0)","v":{"$error":"#N/A"}}]
[{"$f":"IF(ISNA(INDEX(Inscriptions!A$4:A$303,SUM(RR!AE$7:'RR'!AE36))),\"\",INDEX(Inscriptions!A$4:A$303,SUM(RR!AE$7:'RR'!AE36)))","v":""},{"$f":"IF(A36=\"\",\"\",VLOOKUP(A36,Data!G$2:K$302,5,FALSE))","v":""},{"$f":"IF(A36=\"\",\"\",VLOOKUP(A36,Data!G$2:K$302,2,FALSE))","v":""},{"$f":"IF(A36=\"\",\"\",VLOOKUP(A36,Data!G$2:K$302,3,FALSE))","v":""},{"$f":"IF(A36=\"\",\"\",VLOOKUP(A36,Data!G$2:K$302,4,FALSE))","v":""},null,null,null,null,null,null,null,null,null,null,null,null,null,null,null,null,null,null,null,null,null,null,null,0,null,{"$f":"MATCH(\"*\"&AB$1&\"*\",OFFSET(Inscriptions!Z$4:Z$303,SUM(RR!AE$6:'RR'!AE35),0),0)","v":{"$error":"#N/A"}}]
[{"$f":"IF(ISNA(INDEX(Inscriptions!A$4:A$303,SUM(RR!AE$7:'RR'!AE37))),\"\",INDEX(Inscriptions!A$4:A$303,SUM(RR!AE$7:'RR'!AE37)))","v":""},{"$f":"IF(A37=\"\",\"\",VLOOKUP(A37,Data!G$2:K$302,5,FALSE))","v":""},{"$f":"IF(A37=\"\",\"\",VLOOKUP(A37,Data!G$2:K$302,2,FALSE))","v":""},{"$f":"IF(A37=\"\",\"\",VLOOKUP(A37,Data!G$2:K$302,3,FALSE))","v":""},{"$f":"IF(A37=\"\",\"\",VLOOKUP(A37,Data!G$2:K$302,4,FALSE))","v":""},null,null,null,null,null,null,null,null,null,null,null,null,null,null,null,null,null,null,null,null,null,null,null,0,null,{"$f":"MATCH(\"*\"&AB$1&\"*\",OFFSET(Inscriptions!Z$4:Z$303,SUM(RR!AE$6:'RR'!AE36),0),0)","v":{"$error":"#N/A"}}]
[{"$f":"IF(ISNA(INDEX(Inscriptions!A$4:A$303,SUM(RR!AE$7:'RR'!AE38))),\"\",INDEX(Inscriptions!A$4:A$303,SUM(RR!AE$7:'RR'!AE38)))","v":""},{"$f":"IF(A38=\"\",\"\",VLOOKUP(A38,Data!G$2:K$302,5,FALSE))","v":""},{"$f":"IF(A38=\"\",\"\",VLOOKUP(A38,Data!G$2:K$302,2,FALSE))","v":""},{"$f":"IF(A38=\"\",\"\",VLOOKUP(A38,Data!G$2:K$302,3,FALSE))","v":""},{"$f":"IF(A38=\"\",\"\",VLOOKUP(A38,Data!G$2:K$302,4,FALSE))","v":""},null,null,null,null,null,null,null,null,null,null,null,null,null,null,null,null,null,null,null,null,null,null,null,0,null,{"$f":"MATCH(\"*\"&AB$1&\"*\",OFFSET(Inscriptions!Z$4:Z$303,SUM(RR!AE$6:'RR'!AE37),0),0)","v":{"$error":"#N/A"}}]
[{"$f":"IF(ISNA(INDEX(Inscriptions!A$4:A$303,SUM(RR!AE$7:'RR'!AE39))),\"\",INDEX(Inscriptions!A$4:A$303,SUM(RR!AE$7:'RR'!AE39)))","v":""},{"$f":"IF(A39=\"\",\"\",VLOOKUP(A39,Data!G$2:K$302,5,FALSE))","v":""},{"$f":"IF(A39=\"\",\"\",VLOOKUP(A39,Data!G$2:K$302,2,FALSE))","v":""},{"$f":"IF(A39=\"\",\"\",VLOOKUP(A39,Data!G$2:K$302,3,FALSE))","v":""},{"$f":"IF(A39=\"\",\"\",VLOOKUP(A39,Data!G$2:K$302,4,FALSE))","v":""},null,null,null,null,null,null,null,null,null,null,null,null,null,null,null,null,null,null,null,null,null,null,null,0,null,{"$f":"MATCH(\"*\"&AB$1&\"*\",OFFSET(Inscriptions!Z$4:Z$303,SUM(RR!AE$6:'RR'!AE38),0),0)","v":{"$error":"#N/A"}}]
[{"$f":"IF(ISNA(INDEX(Inscriptions!A$4:A$303,SUM(RR!AE$7:'RR'!AE40))),\"\",INDEX(Inscriptions!A$4:A$303,SUM(RR!AE$7:'RR'!AE40)))","v":""},{"$f":"IF(A40=\"\",\"\",VLOOKUP(A40,Data!G$2:K$302,5,FALSE))","v":""},{"$f":"IF(A40=\"\",\"\",VLOOKUP(A40,Data!G$2:K$302,2,FALSE))","v":""},{"$f":"IF(A40=\"\",\"\",VLOOKUP(A40,Data!G$2:K$302,3,FALSE))","v":""},{"$f":"IF(A40=\"\",\"\",VLOOKUP(A40,Data!G$2:K$302,4,FALSE))","v":""},null,null,null,null,null,null,null,null,null,null,null,null,null,null,null,null,null,null,null,null,null,null,null,0,null,{"$f":"MATCH(\"*\"&AB$1&\"*\",OFFSET(Inscriptions!Z$4:Z$303,SUM(RR!AE$6:'RR'!AE39),0),0)","v":{"$error":"#N/A"}}]
[{"$f":"IF(ISNA(INDEX(Inscriptions!A$4:A$303,SUM(RR!AE$7:'RR'!AE41))),\"\",INDEX(Inscriptions!A$4:A$303,SUM(RR!AE$7:'RR'!AE41)))","v":""},{"$f":"IF(A41=\"\",\"\",VLOOKUP(A41,Data!G$2:K$302,5,FALSE))","v":""},{"$f":"IF(A41=\"\",\"\",VLOOKUP(A41,Data!G$2:K$302,2,FALSE))","v":""},{"$f":"IF(A41=\"\",\"\",VLOOKUP(A41,Data!G$2:K$302,3,FALSE))","v":""},{"$f":"IF(A41=\"\",\"\",VLOOKUP(A41,Data!G$2:K$302,4,FALSE))","v":""},null,null,null,null,null,null,null,null,null,null,null,null,null,null,null,null,null,null,null,null,null,null,null,0,null,{"$f":"MATCH(\"*\"&AB$1&\"*\",OFFSET(Inscriptions!Z$4:Z$303,SUM(RR!AE$6:'RR'!AE40),0),0)","v":{"$error":"#N/A"}}]
[{"$f":"IF(ISNA(INDEX(Inscriptions!A$4:A$303,SUM(RR!AE$7:'RR'!AE42))),\"\",INDEX(Inscriptions!A$4:A$303,SUM(RR!AE$7:'RR'!AE42)))","v":""},{"$f":"IF(A42=\"\",\"\",VLOOKUP(A42,Data!G$2:K$302,5,FALSE))","v":""},{"$f":"IF(A42=\"\",\"\",VLOOKUP(A42,Data!G$2:K$302,2,FALSE))","v":""},{"$f":"IF(A42=\"\",\"\",VLOOKUP(A42,Data!G$2:K$302,3,FALSE))","v":""},{"$f":"IF(A42=\"\",\"\",VLOOKUP(A42,Data!G$2:K$302,4,FALSE))","v":""},null,null,null,null,null,null,null,null,null,null,null,null,null,null,null,null,null,null,null,null,null,null,null,0,null,{"$f":"MATCH(\"*\"&AB$1&\"*\",OFFSET(Inscriptions!Z$4:Z$303,SUM(RR!AE$6:'RR'!AE41),0),0)","v":{"$error":"#N/A"}}]
[{"$f":"IF(ISNA(INDEX(Inscriptions!A$4:A$303,SUM(RR!AE$7:'RR'!AE43))),\"\",INDEX(Inscriptions!A$4:A$303,SUM(RR!AE$7:'RR'!AE43)))","v":""},{"$f":"IF(A43=\"\",\"\",VLOOKUP(A43,Data!G$2:K$302,5,FALSE))","v":""},{"$f":"IF(A43=\"\",\"\",VLOOKUP(A43,Data!G$2:K$302,2,FALSE))","v":""},{"$f":"IF(A43=\"\",\"\",VLOOKUP(A43,Data!G$2:K$302,3,FALSE))","v":""},{"$f":"IF(A43=\"\",\"\",VLOOKUP(A43,Data!G$2:K$302,4,FALSE))","v":""},null,null,null,null,null,null,null,null,null,null,null,null,null,null,null,null,null,null,null,null,null,null,null,0,null,{"$f":"MATCH(\"*\"&AB$1&\"*\",OFFSET(Inscriptions!Z$4:Z$303,SUM(RR!AE$6:'RR'!AE42),0),0)","v":{"$error":"#N/A"}}]
[{"$f":"IF(ISNA(INDEX(Inscriptions!A$4:A$303,SUM(RR!AE$7:'RR'!AE44))),\"\",INDEX(Inscriptions!A$4:A$303,SUM(RR!AE$7:'RR'!AE44)))","v":""},{"$f":"IF(A44=\"\",\"\",VLOOKUP(A44,Data!G$2:K$302,5,FALSE))","v":""},{"$f":"IF(A44=\"\",\"\",VLOOKUP(A44,Data!G$2:K$302,2,FALSE))","v":""},{"$f":"IF(A44=\"\",\"\",VLOOKUP(A44,Data!G$2:K$302,3,FALSE))","v":""},{"$f":"IF(A44=\"\",\"\",VLOOKUP(A44,Data!G$2:K$302,4,FALSE))","v":""},null,null,null,null,null,null,null,null,null,null,null,null,null,null,null,null,null,null,null,null,null,null,null,0,null,{"$f":"MATCH(\"*\"&AB$1&\"*\",OFFSET(Inscriptions!Z$4:Z$303,SUM(RR!AE$6:'RR'!AE43),0),0)","v":{"$error":"#N/A"}}]
[{"$f":"IF(ISNA(INDEX(Inscriptions!A$4:A$303,SUM(RR!AE$7:'RR'!AE45))),\"\",INDEX(Inscriptions!A$4:A$303,SUM(RR!AE$7:'RR'!AE45)))","v":""},{"$f":"IF(A45=\"\",\"\",VLOOKUP(A45,Data!G$2:K$302,5,FALSE))","v":""},{"$f":"IF(A45=\"\",\"\",VLOOKUP(A45,Data!G$2:K$302,2,FALSE))","v":""},{"$f":"IF(A45=\"\",\"\",VLOOKUP(A45,Data!G$2:K$302,3,FALSE))","v":""},{"$f":"IF(A45=\"\",\"\",VLOOKUP(A45,Data!G$2:K$302,4,FALSE))","v":""},null,null,null,null,null,null,null,null,null,null,null,null,null,null,null,null,null,null,null,null,null,null,null,0,null,{"$f":"MATCH(\"*\"&AB$1&\"*\",OFFSET(Inscriptions!Z$4:Z$303,SUM(RR!AE$6:'RR'!AE44),0),0)","v":{"$error":"#N/A"}}]
[{"$f":"IF(ISNA(INDEX(Inscriptions!A$4:A$303,SUM(RR!AE$7:'RR'!AE46))),\"\",INDEX(Inscriptions!A$4:A$303,SUM(RR!AE$7:'RR'!AE46)))","v":""},{"$f":"IF(A46=\"\",\"\",VLOOKUP(A46,Data!G$2:K$302,5,FALSE))","v":""},{"$f":"IF(A46=\"\",\"\",VLOOKUP(A46,Data!G$2:K$302,2,FALSE))","v":""},{"$f":"IF(A46=\"\",\"\",VLOOKUP(A46,Data!G$2:K$302,3,FALSE))","v":""},{"$f":"IF(A46=\"\",\"\",VLOOKUP(A46,Data!G$2:K$302,4,FALSE))","v":""},null,null,null,null,null,null,null,null,null,null,null,null,null,null,null,null,null,null,null,null,null,null,null,0,null,{"$f":"MATCH(\"*\"&AB$1&\"*\",OFFSET(Inscriptions!Z$4:Z$303,SUM(RR!AE$6:'RR'!AE45),0),0)","v":{"$error":"#N/A"}}]
[{"$f":"IF(ISNA(INDEX(Inscriptions!A$4:A$303,SUM(RR!AE$7:'RR'!AE47))),\"\",INDEX(Inscriptions!A$4:A$303,SUM(RR!AE$7:'RR'!AE47)))","v":""},{"$f":"IF(A47=\"\",\"\",VLOOKUP(A47,Data!G$2:K$302,5,FALSE))","v":""},{"$f":"IF(A47=\"\",\"\",VLOOKUP(A47,Data!G$2:K$302,2,FALSE))","v":""},{"$f":"IF(A47=\"\",\"\",VLOOKUP(A47,Data!G$2:K$302,3,FALSE))","v":""},{"$f":"IF(A47=\"\",\"\",VLOOKUP(A47,Data!G$2:K$302,4,FALSE))","v":""},null,null,null,null,null,null,null,null,null,null,null,null,null,null,null,null,null,null,null,null,null,null,null,0,null,{"$f":"MATCH(\"*\"&AB$1&\"*\",OFFSET(Inscriptions!Z$4:Z$303,SUM(RR!AE$6:'RR'!AE46),0),0)","v":{"$error":"#N/A"}}]
[{"$f":"IF(ISNA(INDEX(Inscriptions!A$4:A$303,SUM(RR!AE$7:'RR'!AE48))),\"\",INDEX(Inscriptions!A$4:A$303,SUM(RR!AE$7:'RR'!AE48)))","v":""},{"$f":"IF(A48=\"\",\"\",VLOOKUP(A48,Data!G$2:K$302,5,FALSE))","v":""},{"$f":"IF(A48=\"\",\"\",VLOOKUP(A48,Data!G$2:K$302,2,FALSE))","v":""},{"$f":"IF(A48=\"\",\"\",VLOOKUP(A48,Data!G$2:K$302,3,FALSE))","v":""},{"$f":"IF(A48=\"\",\"\",VLOOKUP(A48,Data!G$2:K$302,4,FALSE))","v":""},null,null,null,null,null,null,null,null,null,null,null,null,null,null,null,null,null,null,null,null,null,null,null,0,null,{"$f":"MATCH(\"*\"&AB$1&\"*\",OFFSET(Inscriptions!Z$4:Z$303,SUM(RR!AE$6:'RR'!AE47),0),0)","v":{"$error":"#N/A"}}]
[{"$f":"IF(ISNA(INDEX(Inscriptions!A$4:A$303,SUM(RR!AE$7:'RR'!AE49))),\"\",INDEX(Inscriptions!A$4:A$303,SUM(RR!AE$7:'RR'!AE49)))","v":""},{"$f":"IF(A49=\"\",\"\",VLOOKUP(A49,Data!G$2:K$302,5,FALSE))","v":""},{"$f":"IF(A49=\"\",\"\",VLOOKUP(A49,Data!G$2:K$302,2,FALSE))","v":""},{"$f":"IF(A49=\"\",\"\",VLOOKUP(A49,Data!G$2:K$302,3,FALSE))","v":""},{"$f":"IF(A49=\"\",\"\",VLOOKUP(A49,Data!G$2:K$302,4,FALSE))","v":""},null,null,null,null,null,null,null,null,null,null,null,null,null,null,null,null,null,null,null,null,null,null,null,0,null,{"$f":"MATCH(\"*\"&AB$1&\"*\",OFFSET(Inscriptions!Z$4:Z$303,SUM(RR!AE$6:'RR'!AE48),0),0)","v":{"$error":"#N/A"}}]
[{"$f":"IF(ISNA(INDEX(Inscriptions!A$4:A$303,SUM(RR!AE$7:'RR'!AE50))),\"\",INDEX(Inscriptions!A$4:A$303,SUM(RR!AE$7:'RR'!AE50)))","v":""},{"$f":"IF(A50=\"\",\"\",VLOOKUP(A50,Data!G$2:K$302,5,FALSE))","v":""},{"$f":"IF(A50=\"\",\"\",VLOOKUP(A50,Data!G$2:K$302,2,FALSE))","v":""},{"$f":"IF(A50=\"\",\"\",VLOOKUP(A50,Data!G$2:K$302,3,FALSE))","v":""},{"$f":"IF(A50=\"\",\"\",VLOOKUP(A50,Data!G$2:K$302,4,FALSE))","v":""},null,null,null,null,null,null,null,null,null,null,null,null,null,null,null,null,null,null,null,null,null,null,null,0,null,{"$f":"MATCH(\"*\"&AB$1&\"*\",OFFSET(Inscriptions!Z$4:Z$303,SUM(RR!AE$6:'RR'!AE49),0),0)","v":{"$error":"#N/A"}}]
[{"$f":"IF(ISNA(INDEX(Inscriptions!A$4:A$303,SUM(RR!AE$7:'RR'!AE51))),\"\",INDEX(Inscriptions!A$4:A$303,SUM(RR!AE$7:'RR'!AE51)))","v":""},{"$f":"IF(A51=\"\",\"\",VLOOKUP(A51,Data!G$2:K$302,5,FALSE))","v":""},{"$f":"IF(A51=\"\",\"\",VLOOKUP(A51,Data!G$2:K$302,2,FALSE))","v":""},{"$f":"IF(A51=\"\",\"\",VLOOKUP(A51,Data!G$2:K$302,3,FALSE))","v":""},{"$f":"IF(A51=\"\",\"\",VLOOKUP(A51,Data!G$2:K$302,4,FALSE))","v":""},null,null,null,null,null,null,null,null,null,null,null,null,null,null,null,null,null,null,null,null,null,null,null,0,null,{"$f":"MATCH(\"*\"&AB$1&\"*\",OFFSET(Inscriptions!Z$4:Z$303,SUM(RR!AE$6:'RR'!AE50),0),0)","v":{"$error":"#N/A"}}]
[{"$f":"IF(ISNA(INDEX(Inscriptions!A$4:A$303,SUM(RR!AE$7:'RR'!AE52))),\"\",INDEX(Inscriptions!A$4:A$303,SUM(RR!AE$7:'RR'!AE52)))","v":""},{"$f":"IF(A52=\"\",\"\",VLOOKUP(A52,Data!G$2:K$302,5,FALSE))","v":""},{"$f":"IF(A52=\"\",\"\",VLOOKUP(A52,Data!G$2:K$302,2,FALSE))","v":""},{"$f":"IF(A52=\"\",\"\",VLOOKUP(A52,Data!G$2:K$302,3,FALSE))","v":""},{"$f":"IF(A52=\"\",\"\",VLOOKUP(A52,Data!G$2:K$302,4,FALSE))","v":""},null,null,null,null,null,null,null,null,null,null,null,null,null,null,null,null,null,null,null,null,null,null,null,0,null,{"$f":"MATCH(\"*\"&AB$1&\"*\",OFFSET(Inscriptions!Z$4:Z$303,SUM(RR!AE$6:'RR'!AE51),0),0)","v":{"$error":"#N/A"}}]
[{"$f":"IF(ISNA(INDEX(Inscriptions!A$4:A$303,SUM(RR!AE$7:'RR'!AE53))),\"\",INDEX(Inscriptions!A$4:A$303,SUM(RR!AE$7:'RR'!AE53)))","v":""},{"$f":"IF(A53=\"\",\"\",VLOOKUP(A53,Data!G$2:K$302,5,FALSE))","v":""},{"$f":"IF(A53=\"\",\"\",VLOOKUP(A53,Data!G$2:K$302,2,FALSE))","v":""},{"$f":"IF(A53=\"\",\"\",VLOOKUP(A53,Data!G$2:K$302,3,FALSE))","v":""},{"$f":"IF(A53=\"\",\"\",VLOOKUP(A53,Data!G$2:K$302,4,FALSE))","v":""},null,null,null,null,null,null,null,null,null,null,null,null,null,null,null,null,null,null,null,null,null,null,null,0,null,{"$f":"MATCH(\"*\"&AB$1&\"*\",OFFSET(Inscriptions!Z$4:Z$303,SUM(RR!AE$6:'RR'!AE52),0),0)","v":{"$error":"#N/A"}}]
[{"$f":"IF(ISNA(INDEX(Inscriptions!A$4:A$303,SUM(RR!AE$7:'RR'!AE54))),\"\",INDEX(Inscriptions!A$4:A$303,SUM(RR!AE$7:'RR'!AE54)))","v":""},{"$f":"IF(A54=\"\",\"\",VLOOKUP(A54,Data!G$2:K$302,5,FALSE))","v":""},{"$f":"IF(A54=\"\",\"\",VLOOKUP(A54,Data!G$2:K$302,2,FALSE))","v":""},{"$f":"IF(A54=\"\",\"\",VLOOKUP(A54,Data!G$2:K$302,3,FALSE))","v":""},{"$f":"IF(A54=\"\",\"\",VLOOKUP(A54,Data!G$2:K$302,4,FALSE))","v":""},null,null,null,null,null,null,null,null,null,null,null,null,null,null,null,null,null,null,null,null,null,null,null,0,null,{"$f":"MATCH(\"*\"&AB$1&\"*\",OFFSET(Inscriptions!Z$4:Z$303,SUM(RR!AE$6:'RR'!AE53),0),0)","v":{"$error":"#N/A"}}]
[{"$f":"IF(ISNA(INDEX(Inscriptions!A$4:A$303,SUM(RR!AE$7:'RR'!AE55))),\"\",INDEX(Inscriptions!A$4:A$303,SUM(RR!AE$7:'RR'!AE55)))","v":""},{"$f":"IF(A55=\"\",\"\",VLOOKUP(A55,Data!G$2:K$302,5,FALSE))","v":""},{"$f":"IF(A55=\"\",\"\",VLOOKUP(A55,Data!G$2:K$302,2,FALSE))","v":""},{"$f":"IF(A55=\"\",\"\",VLOOKUP(A55,Data!G$2:K$302,3,FALSE))","v":""},{"$f":"IF(A55=\"\",\"\",VLOOKUP(A55,Data!G$2:K$302,4,FALSE))","v":""},null,null,null,null,null,null,null,null,null,null,null,null,null,null,null,null,null,null,null,null,null,null,null,0,null,{"$f":"MATCH(\"*\"&AB$1&\"*\",OFFSET(Inscriptions!Z$4:Z$303,SUM(RR!AE$6:'RR'!AE54),0),0)","v":{"$error":"#N/A"}}]
[{"$f":"CONCATENATE(IF(ChoixLangue=Languages!$B$1,Languages!$B105,IF(ChoixLangue=Languages!$C$1,Languages!$C105,IF(ChoixLangue=Languages!$D$1,Languages!$D105,Languages!$E105))),SUM(AC7:AC55))","v":"Nbe nageuses : 0"},"-","-","-",null,"-","-","-"]

{"sheet":"Masters","index":23,"n_rows":56,"n_cols":34,"rows_kept":56,"cut":false,"hidden":false,"merged":[[3,0,3,13]]}
[{"$f":"IF('Cover Page'!B5=\"\",\"\",'Cover Page'!B5)","v":""},null,null,null,null,null,null,null,null,null,null,null,null,null,null,null,null,null,null,null,null,null,null,null,null,null,null,null,null,null,"x",null,null,{"$f":"MID(CELL(\"filename\",A1),FIND(\"]\",CELL(\"filename\",A1),1)+1,20)","v":"Masters"}]
[{"$f":"IF('Cover Page'!B6=\"\",\"\",'Cover Page'!B6)","v":""},null,null,null,null,null,null,null,null,null,null,null,null,{"$f":"IF(ChoixLangue=Languages!$B$1,Languages!$B$97 & \" \" & AH1,IF(ChoixLangue=Languages!$C$1,Languages!$C$97 & \" \" & AH1,IF(ChoixLangue=Languages!$D$1,Languages!$D$97 & \" \" & AH1,Languages!$E$97 & \" \" & AH1)))","v":"Catégorie Masters"}]
[{"$f":"IF('Cover Page'!B7=\"\",\"\",'Cover Page'!B7)","v":""}]
[{"$f":"IF('Cover Page'!B10=\"\",\"\",CONCATENATE(IF(ChoixLangue=Languages!$B$1,Languages!$B98,IF(ChoixLangue=Languages!$C$1,Languages!$C98,IF(ChoixLangue=Languages!$D$1,Languages!$D98,Languages!$E98))),'Cover Page'!B10))","v":""}]
[{"$f":"A56","v":"Nbe nageuses : 0"}]
[{"$f":"IF(ChoixLangue=Languages!$B$1,Languages!$B99,IF(ChoixLangue=Languages!$C$1,Languages!$C99,IF(ChoixLangue=Languages!$D$1,Languages!$D99,Languages!$E99)))","v":"NOM Prénom"},{"$f":"IF(ChoixLangue=Languages!$B$1,Languages!$B100,IF(ChoixLangue=Languages!$C$1,Languages!$C100,IF(ChoixLangue=Languages!$D$1,Languages!$D100,Languages!$E100)))","v":"Club"},{"$f":"IF(ChoixLangue=Languages!$B$1,Languages!$B101,IF(ChoixLangue=Languages!$C$1,Languages!$C101,IF(ChoixLangue=Languages!$D$1,Languages!$D101,Languages!$E101)))","v":"Licence"},{"$f":"IF(ChoixLangue=Languages!$B$1,Languages!$B102,IF(ChoixLangue=Languages!$C$1,Languages!$C102,IF(ChoixLangue=Languages!$D$1,Languages!$D102,Languages!$E102)))","v":"An. Nais."},{"$f":"IF(ChoixLangue=Languages!$B$1,Languages!$B103,IF(ChoixLangue=Languages!$C$1,Languages!$C103,IF(ChoixLangue=Languages!$D$1,Languages!$D103,Languages!$E103)))","v":"N° Test"},"Figures","Solo Tech","Solo Free","Duet Tech","Duet Free","Mix. Duet Tech","Mix. Duet Free","Team Tech","Team Free"]
[{"$f":"IF(ISNA(INDEX(Inscriptions!A$4:A$303,SUM(Masters!AH$7:'Masters'!AH7))),\"\",INDEX(Inscriptions!A$4:A$303,SUM(Masters!AH$7:'Masters'!AH7)))","v":""},{"$f":"IF(A7=\"\",\"\",VLOOKUP(A7,Data!G$2:K$302,5,FALSE))","v":""},{"$f":"IF(A7=\"\",\"\",VLOOKUP(A7,Data!G$2:K$302,2,FALSE))","v":""},{"$f":"IF(A7=\"\",\"\",VLOOKUP(A7,Data!G$2:K$302,3,FALSE))","v":""},{"$f":"IF(A7=\"\",\"\",VLOOKUP(A7,Data!G$2:K$302,4,FALSE))","v":""},null,null,null,null,null,null,null,null,null,null,null,null,null,null,null,null,null,null,null,null,null,null,null,null,null,null,{"$f":"IF(A7<>\"\",1,0)","v":0},null,{"$f":"MATCH(\"*\"&AE$1&\"*\",OFFSET(Inscriptions!V$4:V$303,SUM(Masters!AH$6:'Masters'!AH6),0),0)","v":{"$error":"#N/A"}}]
[{"$f":"IF(ISNA(INDEX(Inscriptions!A$4:A$303,SUM(Masters!AH$7:'Masters'!AH8))),\"\",INDEX(Inscriptions!A$4:A$303,SUM(Masters!AH$7:'Masters'!AH8)))","v":""},{"$f":"IF(A8=\"\",\"\",VLOOKUP(A8,Data!G$2:K$302,5,FALSE))","v":""},{"$f":"IF(A8=\"\",\"\",VLOOKUP(A8,Data!G$2:K$302,2,FALSE))","v":""},{"$f":"IF(A8=\"\",\"\",VLOOKUP(A8,Data!G$2:K$302,3,FALSE))","v":""},{"$f":"IF(A8=\"\",\"\",VLOOKUP(A8,Data!G$2:K$302,4,FALSE))","v":""},null,null,null,null,null,null,null,null,null,null,null,null,null,null,null,null,null,null,null,null,null,null,null,null,null,null,{"$f":"IF(A8<>\"\",1,0)","v":0},null,{"$f":"MATCH(\"*\"&AE$1&\"*\",OFFSET(Inscriptions!V$4:V$303,SUM(Masters!AH$6:'Masters'!AH7),0),0)","v":{"$error":"#N/A"}}]
[{"$f":"IF(ISNA(INDEX(Inscriptions!A$4:A$303,SUM(Masters!AH$7:'Masters'!AH9))),\"\",INDEX(Inscriptions!A$4:A$303,SUM(Masters!AH$7:'Masters'!AH9)))","v":""},{"$f":"IF(A9=\"\",\"\",VLOOKUP(A9,Data!G$2:K$302,5,FALSE))","v":""},{"$f":"IF(A9=\"\",\"\",VLOOKUP(A9,Data!G$2:K$302,2,FALSE))","v":""},{"$f":"IF(A9=\"\",\"\",VLOOKUP(A9,Data!G$2:K$302,3,FALSE))","v":""},{"$f":"IF(A9=\"\",\"\",VLOOKUP(A9,Data!G$2:K$302,4,FALSE))","v":""},null,null,null,null,null,null,null,null,null,null,null,null,null,null,null,null,null,null,null,null,null,null,null,null,null,null,{"$f":"IF(A9<>\"\",1,0)","v":0},null,{"$f":"MATCH(\"*\"&AE$1&\"*\",OFFSET(Inscriptions!V$4:V$303,SUM(Masters!AH$6:'Masters'!AH8),0),0)","v":{"$error":"#N/A"}}]
[{"$f":"IF(ISNA(INDEX(Inscriptions!A$4:A$303,SUM(Masters!AH$7:'Masters'!AH10))),\"\",INDEX(Inscriptions!A$4:A$303,SUM(Masters!AH$7:'Masters'!AH10)))","v":""},{"$f":"IF(A10=\"\",\"\",VLOOKUP(A10,Data!G$2:K$302,5,FALSE))","v":""},{"$f":"IF(A10=\"\",\"\",VLOOKUP(A10,Data!G$2:K$302,2,FALSE))","v":""},{"$f":"IF(A10=\"\",\"\",VLOOKUP(A10,Data!G$2:K$302,3,FALSE))","v":""},{"$f":"IF(A10=\"\",\"\",VLOOKUP(A10,Data!G$2:K$302,4,FALSE))","v":""},null,null,null,null,null,null,null,null,null,null,null,null,null,null,null,null,null,null,null,null,null,null,null,null,null,null,0,null,{"$f":"MATCH(\"*\"&AE$1&\"*\",OFFSET(Inscriptions!V$4:V$303,SUM(Masters!AH$6:'Masters'!AH9),0),0)","v":{"$error":"#N/A"}}]
[{"$f":"IF(ISNA(INDEX(Inscriptions!A$4:A$303,SUM(Masters!AH$7:'Masters'!AH11))),\"\",INDEX(Inscriptions!A$4:A$303,SUM(Masters!AH$7:'Masters'!AH11)))","v":""},{"$f":"IF(A11=\"\",\"\",VLOOKUP(A11,Data!G$2:K$302,5,FALSE))","v":""},{"$f":"IF(A11=\"\",\"\",VLOOKUP(A11,Data!G$2:K$302,2,FALSE))","v":""},{"$f":"IF(A11=\"\",\"\",VLOOKUP(A11,Data!G$2:K$302,3,FALSE))","v":""},{"$f":"IF(A11=\"\",\"\",VLOOKUP(A11,Data!G$2:K$302,4,FALSE))","v":""},null,null,null,null,null,null,null,null,null,null,null,null,null,null,null,null,null,null,null,null,null,null,null,null,null,null,0,null,{"$f":"MATCH(\"*\"&AE$1&\"*\",OFFSET(Inscriptions!V$4:V$303,SUM(Masters!AH$6:'Masters'!AH10),0),0)","v":{"$error":"#N/A"}}]
[{"$f":"IF(ISNA(INDEX(Inscriptions!A$4:A$303,SUM(Masters!AH$7:'Masters'!AH12))),\"\",INDEX(Inscriptions!A$4:A$303,SUM(Masters!AH$7:'Masters'!AH12)))","v":""},{"$f":"IF(A12=\"\",\"\",VLOOKUP(A12,Data!G$2:K$302,5,FALSE))","v":""},{"$f":"IF(A12=\"\",\"\",VLOOKUP(A12,Data!G$2:K$302,2,FALSE))","v":""},{"$f":"IF(A12=\"\",\"\",VLOOKUP(A12,Data!G$2:K$302,3,FALSE))","v":""},{"$f":"IF(A12=\"\",\"\",VLOOKUP(A12,Data!G$2:K$302,4,FALSE))","v":""},null,null,null,null,null,null,null,null,null,null,null,null,null,null,null,null,null,null,null,null,null,null,null,null,null,null,0,null,{"$f":"MATCH(\"*\"&AE$1&\"*\",OFFSET(Inscriptions!V$4:V$303,SUM(Masters!AH$6:'Masters'!AH11),0),0)","v":{"$error":"#N/A"}}]
[{"$f":"IF(ISNA(INDEX(Inscriptions!A$4:A$303,SUM(Masters!AH$7:'Masters'!AH13))),\"\",INDEX(Inscriptions!A$4:A$303,SUM(Masters!AH$7:'Masters'!AH13)))","v":""},{"$f":"IF(A13=\"\",\"\",VLOOKUP(A13,Data!G$2:K$302,5,FALSE))","v":""},{"$f":"IF(A13=\"\",\"\",VLOOKUP(A13,Data!G$2:K$302,2,FALSE))","v":""},{"$f":"IF(A13=\"\",\"\",VLOOKUP(A13,Data!G$2:K$302,3,FALSE))","v":""},{"$f":"IF(A13=\"\",\"\",VLOOKUP(A13,Data!G$2:K$302,4,FALSE))","v":""},null,null,null,null,null,null,null,null,null,null,null,null,null,null,null,null,null,null,null,null,null,null,null,null,null,null,0,null,{"$f":"MATCH(\"*\"&AE$1&\"*\",OFFSET(Inscriptions!V$4:V$303,SUM(Masters!AH$6:'Masters'!AH12),0),0)","v":{"$error":"#N/A"}}]
[{"$f":"IF(ISNA(INDEX(Inscriptions!A$4:A$303,SUM(Masters!AH$7:'Masters'!AH14))),\"\",INDEX(Inscriptions!A$4:A$303,SUM(Masters!AH$7:'Masters'!AH14)))","v":""},{"$f":"IF(A14=\"\",\"\",VLOOKUP(A14,Data!G$2:K$302,5,FALSE))","v":""},{"$f":"IF(A14=\"\",\"\",VLOOKUP(A14,Data!G$2:K$302,2,FALSE))","v":""},{"$f":"IF(A14=\"\",\"\",VLOOKUP(A14,Data!G$2:K$302,3,FALSE))","v":""},{"$f":"IF(A14=\"\",\"\",VLOOKUP(A14,Data!G$2:K$302,4,FALSE))","v":""},null,null,null,null,null,null,null,null,null,null,null,null,null,null,null,null,null,null,null,null,null,null,null,null,null,null,0,null,{"$f":"MATCH(\"*\"&AE$1&\"*\",OFFSET(Inscriptions!V$4:V$303,SUM(Masters!AH$6:'Masters'!AH13),0),0)","v":{"$error":"#N/A"}}]
[{"$f":"IF(ISNA(INDEX(Inscriptions!A$4:A$303,SUM(Masters!AH$7:'Masters'!AH15))),\"\",INDEX(Inscriptions!A$4:A$303,SUM(Masters!AH$7:'Masters'!AH15)))","v":""},{"$f":"IF(A15=\"\",\"\",VLOOKUP(A15,Data!G$2:K$302,5,FALSE))","v":""},{"$f":"IF(A15=\"\",\"\",VLOOKUP(A15,Data!G$2:K$302,2,FALSE))","v":""},{"$f":"IF(A15=\"\",\"\",VLOOKUP(A15,Data!G$2:K$302,3,FALSE))","v":""},{"$f":"IF(A15=\"\",\"\",VLOOKUP(A15,Data!G$2:K$302,4,FALSE))","v":""},null,null,null,null,null,null,null,null,null,null,null,null,null,null,null,null,null,null,null,null,null,null,null,null,null,null,0,null,{"$f":"MATCH(\"*\"&AE$1&\"*\",OFFSET(Inscriptions!V$4:V$303,SUM(Masters!AH$6:'Masters'!AH14),0),0)","v":{"$error":"#N/A"}}]
[{"$f":"IF(ISNA(INDEX(Inscriptions!A$4:A$303,SUM(Masters!AH$7:'Masters'!AH16))),\"\",INDEX(Inscriptions!A$4:A$303,SUM(Masters!AH$7:'Masters'!AH16)))","v":""},{"$f":"IF(A16=\"\",\"\",VLOOKUP(A16,Data!G$2:K$302,5,FALSE))","v":""},{"$f":"IF(A16=\"\",\"\",VLOOKUP(A16,Data!G$2:K$302,2,FALSE))","v":""},{"$f":"IF(A16=\"\",\"\",VLOOKUP(A16,Data!G$2:K$302,3,FALSE))","v":""},{"$f":"IF(A16=\"\",\"\",VLOOKUP(A16,Data!G$2:K$302,4,FALSE))","v":""},null,null,null,null,null,null,null,null,null,null,null,null,null,null,null,null,null,null,null,null,null,null,null,null,null,null,0,null,{"$f":"MATCH(\"*\"&AE$1&\"*\",OFFSET(Inscriptions!V$4:V$303,SUM(Masters!AH$6:'Masters'!AH15),0),0)","v":{"$error":"#N/A"}}]
[{"$f":"IF(ISNA(INDEX(Inscriptions!A$4:A$303,SUM(Masters!AH$7:'Masters'!AH17))),\"\",INDEX(Inscriptions!A$4:A$303,SUM(Masters!AH$7:'Masters'!AH17)))","v":""},{"$f":"IF(A17=\"\",\"\",VLOOKUP(A17,Data!G$2:K$302,5,FALSE))","v":""},{"$f":"IF(A17=\"\",\"\",VLOOKUP(A17,Data!G$2:K$302,2,FALSE))","v":""},{"$f":"IF(A17=\"\",\"\",VLOOKUP(A17,Data!G$2:K$302,3,FALSE))","v":""},{"$f":"IF(A17=\"\",\"\",VLOOKUP(A17,Data!G$2:K$302,4,FALSE))","v":""},null,null,null,null,null,null,null,null,null,null,null,null,null,null,null,null,null,null,null,null,null,null,null,null,null,null,0,null,{"$f":"MATCH(\"*\"&AE$1&\"*\",OFFSET(Inscriptions!V$4:V$303,SUM(Masters!AH$6:'Masters'!AH16),0),0)","v":{"$error":"#N/A"}}]
[{"$f":"IF(ISNA(INDEX(Inscriptions!A$4:A$303,SUM(Masters!AH$7:'Masters'!AH18))),\"\",INDEX(Inscriptions!A$4:A$303,SUM(Masters!AH$7:'Masters'!AH18)))","v":""},{"$f":"IF(A18=\"\",\"\",VLOOKUP(A18,Data!G$2:K$302,5,FALSE))","v":""},{"$f":"IF(A18=\"\",\"\",VLOOKUP(A18,Data!G$2:K$302,2,FALSE))","v":""},{"$f":"IF(A18=\"\",\"\",VLOOKUP(A18,Data!G$2:K$302,3,FALSE))","v":""},{"$f":"IF(A18=\"\",\"\",VLOOKUP(A18,Data!G$2:K$302,4,FALSE))","v":""},null,null,null,null,null,null,null,null,null,null,null,null,null,null,null,null,null,null,null,null,null,null,null,null,null,null,0,null,{"$f":"MATCH(\"*\"&AE$1&\"*\",OFFSET(Inscriptions!V$4:V$303,SUM(Masters!AH$6:'Masters'!AH17),0),0)","v":{"$error":"#N/A"}}]
[{"$f":"IF(ISNA(INDEX(Inscriptions!A$4:A$303,SUM(Masters!AH$7:'Masters'!AH19))),\"\",INDEX(Inscriptions!A$4:A$303,SUM(Masters!AH$7:'Masters'!AH19)))","v":""},{"$f":"IF(A19=\"\",\"\",VLOOKUP(A19,Data!G$2:K$302,5,FALSE))","v":""},{"$f":"IF(A19=\"\",\"\",VLOOKUP(A19,Data!G$2:K$302,2,FALSE))","v":""},{"$f":"IF(A19=\"\",\"\",VLOOKUP(A19,Data!G$2:K$302,3,FALSE))","v":""},{"$f":"IF(A19=\"\",\"\",VLOOKUP(A19,Data!G$2:K$302,4,FALSE))","v":""},null,null,null,null,null,null,null,null,null,null,null,null,null,null,null,null,null,null,null,null,null,null,null,null,null,null,0,null,{"$f":"MATCH(\"*\"&AE$1&\"*\",OFFSET(Inscriptions!V$4:V$303,SUM(Masters!AH$6:'Masters'!AH18),0),0)","v":{"$error":"#N/A"}}]
[{"$f":"IF(ISNA(INDEX(Inscriptions!A$4:A$303,SUM(Masters!AH$7:'Masters'!AH20))),\"\",INDEX(Inscriptions!A$4:A$303,SUM(Masters!AH$7:'Masters'!AH20)))","v":""},{"$f":"IF(A20=\"\",\"\",VLOOKUP(A20,Data!G$2:K$302,5,FALSE))","v":""},{"$f":"IF(A20=\"\",\"\",VLOOKUP(A20,Data!G$2:K$302,2,FALSE))","v":""},{"$f":"IF(A20=\"\",\"\",VLOOKUP(A20,Data!G$2:K$302,3,FALSE))","v":""},{"$f":"IF(A20=\"\",\"\",VLOOKUP(A20,Data!G$2:K$302,4,FALSE))","v":""},null,null,null,null,null,null,null,null,null,null,null,null,null,null,null,null,null,null,null,null,null,null,null,null,null,null,0,null,{"$f":"MATCH(\"*\"&AE$1&\"*\",OFFSET(Inscriptions!V$4:V$303,SUM(Masters!AH$6:'Masters'!AH19),0),0)","v":{"$error":"#N/A"}}]
[{"$f":"IF(ISNA(INDEX(Inscriptions!A$4:A$303,SUM(Masters!AH$7:'Masters'!AH21))),\"\",INDEX(Inscriptions!A$4:A$303,SUM(Masters!AH$7:'Masters'!AH21)))","v":""},{"$f":"IF(A21=\"\",\"\",VLOOKUP(A21,Data!G$2:K$302,5,FALSE))","v":""},{"$f":"IF(A21=\"\",\"\",VLOOKUP(A21,Data!G$2:K$302,2,FALSE))","v":""},{"$f":"IF(A21=\"\",\"\",VLOOKUP(A21,Data!G$2:K$302,3,FALSE))","v":""},{"$f":"IF(A21=\"\",\"\",VLOOKUP(A21,Data!G$2:K$302,4,FALSE))","v":""},null,null,null,null,null,null,null,null,null,null,null,null,null,null,null,null,null,null,null,null,null,null,null,null,null,null,0,null,{"$f":"MATCH(\"*\"&AE$1&\"*\",OFFSET(Inscriptions!V$4:V$303,SUM(Masters!AH$6:'Masters'!AH20),0),0)","v":{"$error":"#N/A"}}]
[{"$f":"IF(ISNA(INDEX(Inscriptions!A$4:A$303,SUM(Masters!AH$7:'Masters'!AH22))),\"\",INDEX(Inscriptions!A$4:A$303,SUM(Masters!AH$7:'Masters'!AH22)))","v":""},{"$f":"IF(A22=\"\",\"\",VLOOKUP(A22,Data!G$2:K$302,5,FALSE))","v":""},{"$f":"IF(A22=\"\",\"\",VLOOKUP(A22,Data!G$2:K$302,2,FALSE))","v":""},{"$f":"IF(A22=\"\",\"\",VLOOKUP(A22,Data!G$2:K$302,3,FALSE))","v":""},{"$f":"IF(A22=\"\",\"\",VLOOKUP(A22,Data!G$2:K$302,4,FALSE))","v":""},null,null,null,null,null,null,null,null,null,null,null,null,null,null,null,null,null,null,null,null,null,null,null,null,null,null,0,null,{"$f":"MATCH(\"*\"&AE$1&\"*\",OFFSET(Inscriptions!V$4:V$303,SUM(Masters!AH$6:'Masters'!AH21),0),0)","v":{"$error":"#N/A"}}]
[{"$f":"IF(ISNA(INDEX(Inscriptions!A$4:A$303,SUM(Masters!AH$7:'Masters'!AH23))),\"\",INDEX(Inscriptions!A$4:A$303,SUM(Masters!AH$7:'Masters'!AH23)))","v":""},{"$f":"IF(A23=\"\",\"\",VLOOKUP(A23,Data!G$2:K$302,5,FALSE))","v":""},{"$f":"IF(A23=\"\",\"\",VLOOKUP(A23,Data!G$2:K$302,2,FALSE))","v":""},{"$f":"IF(A23=\"\",\"\",VLOOKUP(A23,Data!G$2:K$302,3,FALSE))","v":""},{"$f":"IF(A23=\"\",\"\",VLOOKUP(A23,Data!G$2:K$302,4,FALSE))","v":""},null,null,null,null,null,null,null,null,null,null,null,null,null,null,null,null,null,null,null,null,null,null,null,null,null,null,0,null,{"$f":"MATCH(\"*\"&AE$1&\"*\",OFFSET(Inscriptions!V$4:V$303,SUM(Masters!AH$6:'Masters'!AH22),0),0)","v":{"$error":"#N/A"}}]
[{"$f":"IF(ISNA(INDEX(Inscriptions!A$4:A$303,SUM(Masters!AH$7:'Masters'!AH24))),\"\",INDEX(Inscriptions!A$4:A$303,SUM(Masters!AH$7:'Masters'!AH24)))","v":""},{"$f":"IF(A24=\"\",\"\",VLOOKUP(A24,Data!G$2:K$302,5,FALSE))","v":""},{"$f":"IF(A24=\"\",\"\",VLOOKUP(A24,Data!G$2:K$302,2,FALSE))","v":""},{"$f":"IF(A24=\"\",\"\",VLOOKUP(A24,Data!G$2:K$302,3,FALSE))","v":""},{"$f":"IF(A24=\"\",\"\",VLOOKUP(A24,Data!G$2:K$302,4,FALSE))","v":""},null,null,null,null,null,null,null,null,null,null,null,null,null,null,null,null,null,null,null,null,null,null,null,null,null,null,0,null,{"$f":"MATCH(\"*\"&AE$1&\"*\",OFFSET(Inscriptions!V$4:V$303,SUM(Masters!AH$6:'Masters'!AH23),0),0)","v":{"$error":"#N/A"}}]
[{"$f":"IF(ISNA(INDEX(Inscriptions!A$4:A$303,SUM(Masters!AH$7:'Masters'!AH25))),\"\",INDEX(Inscriptions!A$4:A$303,SUM(Masters!AH$7:'Masters'!AH25)))","v":""},{"$f":"IF(A25=\"\",\"\",VLOOKUP(A25,Data!G$2:K$302,5,FALSE))","v":""},{"$f":"IF(A25=\"\",\"\",VLOOKUP(A25,Data!G$2:K$302,2,FALSE))","v":""},{"$f":"IF(A25=\"\",\"\",VLOOKUP(A25,Data!G$2:K$302,3,FALSE))","v":""},{"$f":"IF(A25=\"\",\"\",VLOOKUP(A25,Data!G$2:K$302,4,FALSE))","v":""},null,null,null,null,null,null,null,null,null,null,null,null,null,null,null,null,null,null,null,null,null,null,null,null,null,null,0,null,{"$f":"MATCH(\"*\"&AE$1&\"*\",OFFSET(Inscriptions!V$4:V$303,SUM(Masters!AH$6:'Masters'!AH24),0),0)","v":{"$error":"#N/A"}}]
[{"$f":"IF(ISNA(INDEX(Inscriptions!A$4:A$303,SUM(Masters!AH$7:'Masters'!AH26))),\"\",INDEX(Inscriptions!A$4:A$303,SUM(Masters!AH$7:'Masters'!AH26)))","v":""},{"$f":"IF(A26=\"\",\"\",VLOOKUP(A26,Data!G$2:K$302,5,FALSE))","v":""},{"$f":"IF(A26=\"\",\"\",VLOOKUP(A26,Data!G$2:K$302,2,FALSE))","v":""},{"$f":"IF(A26=\"\",\"\",VLOOKUP(A26,Data!G$2:K$302,3,FALSE))","v":""},{"$f":"IF(A26=\"\",\"\",VLOOKUP(A26,Data!G$2:K$302,4,FALSE))","v":""},null,null,null,null,null,null,null,null,null,null,null,null,null,null,null,null,null,null,null,null,null,null,null,null,null,null,0,null,{"$f":"MATCH(\"*\"&AE$1&\"*\",OFFSET(Inscriptions!V$4:V$303,SUM(Masters!AH$6:'Masters'!AH25),0),0)","v":{"$error":"#N/A"}}]
[{"$f":"IF(ISNA(INDEX(Inscriptions!A$4:A$303,SUM(Masters!AH$7:'Masters'!AH27))),\"\",INDEX(Inscriptions!A$4:A$303,SUM(Masters!AH$7:'Masters'!AH27)))","v":""},{"$f":"IF(A27=\"\",\"\",VLOOKUP(A27,Data!G$2:K$302,5,FALSE))","v":""},{"$f":"IF(A27=\"\",\"\",VLOOKUP(A27,Data!G$2:K$302,2,FALSE))","v":""},{"$f":"IF(A27=\"\",\"\",VLOOKUP(A27,Data!G$2:K$302,3,FALSE))","v":""},{"$f":"IF(A27=\"\",\"\",VLOOKUP(A27,Data!G$2:K$302,4,FALSE))","v":""},null,null,null,null,null,null,null,null,null,null,null,null,null,null,null,null,null,null,null,null,null,null,null,null,null,null,0,null,{"$f":"MATCH(\"*\"&AE$1&\"*\",OFFSET(Inscriptions!V$4:V$303,SUM(Masters!AH$6:'Masters'!AH26),0),0)","v":{"$error":"#N/A"}}]
[{"$f":"IF(ISNA(INDEX(Inscriptions!A$4:A$303,SUM(Masters!AH$7:'Masters'!AH28))),\"\",INDEX(Inscriptions!A$4:A$303,SUM(Masters!AH$7:'Masters'!AH28)))","v":""},{"$f":"IF(A28=\"\",\"\",VLOOKUP(A28,Data!G$2:K$302,5,FALSE))","v":""},{"$f":"IF(A28=\"\",\"\",VLOOKUP(A28,Data!G$2:K$302,2,FALSE))","v":""},{"$f":"IF(A28=\"\",\"\",VLOOKUP(A28,Data!G$2:K$302,3,FALSE))","v":""},{"$f":"IF(A28=\"\",\"\",VLOOKUP(A28,Data!G$2:K$302,4,FALSE))","v":""},null,null,null,null,null,null,null,null,null,null,null,null,null,null,null,null,null,null,null,null,null,null,null,null,null,null,0,null,{"$f":"MATCH(\"*\"&AE$1&\"*\",OFFSET(Inscriptions!V$4:V$303,SUM(Masters!AH$6:'Masters'!AH27),0),0)","v":{"$error":"#N/A"}}]
[{"$f":"IF(ISNA(INDEX(Inscriptions!A$4:A$303,SUM(Masters!AH$7:'Masters'!AH29))),\"\",INDEX(Inscriptions!A$4:A$303,SUM(Masters!AH$7:'Masters'!AH29)))","v":""},{"$f":"IF(A29=\"\",\"\",VLOOKUP(A29,Data!G$2:K$302,5,FALSE))","v":""},{"$f":"IF(A29=\"\",\"\",VLOOKUP(A29,Data!G$2:K$302,2,FALSE))","v":""},{"$f":"IF(A29=\"\",\"\",VLOOKUP(A29,Data!G$2:K$302,3,FALSE))","v":""},{"$f":"IF(A29=\"\",\"\",VLOOKUP(A29,Data!G$2:K$302,4,FALSE))","v":""},null,null,null,null,null,null,null,null,null,null,null,null,null,null,null,null,null,null,null,null,null,null,null,null,null,null,0,null,{"$f":"MATCH(\"*\"&AE$1&\"*\",OFFSET(Inscriptions!V$4:V$303,SUM(Masters!AH$6:'Masters'!AH28),0),0)","v":{"$error":"#N/A"}}]
[{"$f":"IF(ISNA(INDEX(Inscriptions!A$4:A$303,SUM(Masters!AH$7:'Masters'!AH30))),\"\",INDEX(Inscriptions!A$4:A$303,SUM(Masters!AH$7:'Masters'!AH30)))","v":""},{"$f":"IF(A30=\"\",\"\",VLOOKUP(A30,Data!G$2:K$302,5,FALSE))","v":""},{"$f":"IF(A30=\"\",\"\",VLOOKUP(A30,Data!G$2:K$302,2,FALSE))","v":""},{"$f":"IF(A30=\"\",\"\",VLOOKUP(A30,Data!G$2:K$302,3,FALSE))","v":""},{"$f":"IF(A30=\"\",\"\",VLOOKUP(A30,Data!G$2:K$302,4,FALSE))","v":""},null,null,null,null,null,null,null,null,null,null,null,null,null,null,null,null,null,null,null,null,null,null,null,null,null,null,0,null,{"$f":"MATCH(\"*\"&AE$1&\"*\",OFFSET(Inscriptions!V$4:V$303,SUM(Masters!AH$6:'Masters'!AH29),0),0)","v":{"$error":"#N/A"}}]
[{"$f":"IF(ISNA(INDEX(Inscriptions!A$4:A$303,SUM(Masters!AH$7:'Masters'!AH31))),\"\",INDEX(Inscriptions!A$4:A$303,SUM(Masters!AH$7:'Masters'!AH31)))","v":""},{"$f":"IF(A31=\"\",\"\",VLOOKUP(A31,Data!G$2:K$302,5,FALSE))","v":""},{"$f":"IF(A31=\"\",\"\",VLOOKUP(A31,Data!G$2:K$302,2,FALSE))","v":""},{"$f":"IF(A31=\"\",\"\",VLOOKUP(A31,Data!G$2:K$302,3,FALSE))","v":""},{"$f":"IF(A31=\"\",\"\",VLOOKUP(A31,Data!G$2:K$302,4,FALSE))","v":""},null,null,null,null,null,null,null,null,null,null,null,null,null,null,null,null,null,null,null,null,null,null,null,null,null,null,0,null,{"$f":"MATCH(\"*\"&AE$1&\"*\",OFFSET(Inscriptions!V$4:V$303,SUM(Masters!AH$6:'Masters'!AH30),0),0)","v":{"$error":"#N/A"}}]
[{"$f":"IF(ISNA(INDEX(Inscriptions!A$4:A$303,SUM(Masters!AH$7:'Masters'!AH32))),\"\",INDEX(Inscriptions!A$4:A$303,SUM(Masters!AH$7:'Masters'!AH32)))","v":""},{"$f":"IF(A32=\"\",\"\",VLOOKUP(A32,Data!G$2:K$302,5,FALSE))","v":""},{"$f":"IF(A32=\"\",\"\",VLOOKUP(A32,Data!G$2:K$302,2,FALSE))","v":""},{"$f":"IF(A32=\"\",\"\",VLOOKUP(A32,Data!G$2:K$302,3,FALSE))","v":""},{"$f":"IF(A32=\"\",\"\",VLOOKUP(A32,Data!G$2:K$302,4,FALSE))","v":""},null,null,null,null,null,null,null,null,null,null,null,null,null,null,null,null,null,null,null,null,null,null,null,null,null,null,0,null,{"$f":"MATCH(\"*\"&AE$1&\"*\",OFFSET(Inscriptions!V$4:V$303,SUM(Masters!AH$6:'Masters'!AH31),0),0)","v":{"$error":"#N/A"}}]
[{"$f":"IF(ISNA(INDEX(Inscriptions!A$4:A$303,SUM(Masters!AH$7:'Masters'!AH33))),\"\",INDEX(Inscriptions!A$4:A$303,SUM(Masters!AH$7:'Masters'!AH33)))","v":""},{"$f":"IF(A33=\"\",\"\",VLOOKUP(A33,Data!G$2:K$302,5,FALSE))","v":""},{"$f":"IF(A33=\"\",\"\",VLOOKUP(A33,Data!G$2:K$302,2,FALSE))","v":""},{"$f":"IF(A33=\"\",\"\",VLOOKUP(A33,Data!G$2:K$302,3,FALSE))","v":""},{"$f":"IF(A33=\"\",\"\",VLOOKUP(A33,Data!G$2:K$302,4,FALSE))","v":""},null,null,null,null,null,null,null,null,null,null,null,null,null,null,null,null,null,null,null,null,null,null,null,null,null,null,0,null,{"$f":"MATCH(\"*\"&AE$1&\"*\",OFFSET(Inscriptions!V$4:V$303,SUM(Masters!AH$6:'Masters'!AH32),0),0)","v":{"$error":"#N/A"}}]
[{"$f":"IF(ISNA(INDEX(Inscriptions!A$4:A$303,SUM(Masters!AH$7:'Masters'!AH34))),\"\",INDEX(Inscriptions!A$4:A$303,SUM(Masters!AH$7:'Masters'!AH34)))","v":""},{"$f":"IF(A34=\"\",\"\",VLOOKUP(A34,Data!G$2:K$302,5,FALSE))","v":""},{"$f":"IF(A34=\"\",\"\",VLOOKUP(A34,Data!G$2:K$302,2,FALSE))","v":""},{"$f":"IF(A34=\"\",\"\",VLOOKUP(A34,Data!G$2:K$302,3,FALSE))","v":""},{"$f":"IF(A34=\"\",\"\",VLOOKUP(A34,Data!G$2:K$302,4,FALSE))","v":""},null,null,null,null,null,null,null,null,null,null,null,null,null,null,null,null,null,null,null,null,null,null,null,null,null,null,0,null,{"$f":"MATCH(\"*\"&AE$1&\"*\",OFFSET(Inscriptions!V$4:V$303,SUM(Masters!AH$6:'Masters'!AH33),0),0)","v":{"$error":"#N/A"}}]
[{"$f":"IF(ISNA(INDEX(Inscriptions!A$4:A$303,SUM(Masters!AH$7:'Masters'!AH35))),\"\",INDEX(Inscriptions!A$4:A$303,SUM(Masters!AH$7:'Masters'!AH35)))","v":""},{"$f":"IF(A35=\"\",\"\",VLOOKUP(A35,Data!G$2:K$302,5,FALSE))","v":""},{"$f":"IF(A35=\"\",\"\",VLOOKUP(A35,Data!G$2:K$302,2,FALSE))","v":""},{"$f":"IF(A35=\"\",\"\",VLOOKUP(A35,Data!G$2:K$302,3,FALSE))","v":""},{"$f":"IF(A35=\"\",\"\",VLOOKUP(A35,Data!G$2:K$302,4,FALSE))","v":""},null,null,null,null,null,null,null,null,null,null,null,null,null,null,null,null,null,null,null,null,null,null,null,null,null,null,0,null,{"$f":"MATCH(\"*\"&AE$1&\"*\",OFFSET(Inscriptions!V$4:V$303,SUM(Masters!AH$6:'Masters'!AH34),0),0)","v":{"$error":"#N/A"}}]
[{"$f":"IF(ISNA(INDEX(Inscriptions!A$4:A$303,SUM(Masters!AH$7:'Masters'!AH36))),\"\",INDEX(Inscriptions!A$4:A$303,SUM(Masters!AH$7:'Masters'!AH36)))","v":""},{"$f":"IF(A36=\"\",\"\",VLOOKUP(A36,Data!G$2:K$302,5,FALSE))","v":""},{"$f":"IF(A36=\"\",\"\",VLOOKUP(A36,Data!G$2:K$302,2,FALSE))","v":""},{"$f":"IF(A36=\"\",\"\",VLOOKUP(A36,Data!G$2:K$302,3,FALSE))","v":""},{"$f":"IF(A36=\"\",\"\",VLOOKUP(A36,Data!G$2:K$302,4,FALSE))","v":""},null,null,null,null,null,null,null,null,null,null,null,null,null,null,null,null,null,null,null,null,null,null,null,null,null,null,0,null,{"$f":"MATCH(\"*\"&AE$1&\"*\",OFFSET(Inscriptions!V$4:V$303,SUM(Masters!AH$6:'Masters'!AH35),0),0)","v":{"$error":"#N/A"}}]
[{"$f":"IF(ISNA(INDEX(Inscriptions!A$4:A$303,SUM(Masters!AH$7:'Masters'!AH37))),\"\",INDEX(Inscriptions!A$4:A$303,SUM(Masters!AH$7:'Masters'!AH37)))","v":""},{"$f":"IF(A37=\"\",\"\",VLOOKUP(A37,Data!G$2:K$302,5,FALSE))","v":""},{"$f":"IF(A37=\"\",\"\",VLOOKUP(A37,Data!G$2:K$302,2,FALSE))","v":""},{"$f":"IF(A37=\"\",\"\",VLOOKUP(A37,Data!G$2:K$302,3,FALSE))","v":""},{"$f":"IF(A37=\"\",\"\",VLOOKUP(A37,Data!G$2:K$302,4,FALSE))","v":""},null,null,null,null,null,null,null,null,null,null,null,null,null,null,null,null,null,null,null,null,null,null,null,null,null,null,0,null,{"$f":"MATCH(\"*\"&AE$1&\"*\",OFFSET(Inscriptions!V$4:V$303,SUM(Masters!AH$6:'Masters'!AH36),0),0)","v":{"$error":"#N/A"}}]
[{"$f":"IF(ISNA(INDEX(Inscriptions!A$4:A$303,SUM(Masters!AH$7:'Masters'!AH38))),\"\",INDEX(Inscriptions!A$4:A$303,SUM(Masters!AH$7:'Masters'!AH38)))","v":""},{"$f":"IF(A38=\"\",\"\",VLOOKUP(A38,Data!G$2:K$302,5,FALSE))","v":""},{"$f":"IF(A38=\"\",\"\",VLOOKUP(A38,Data!G$2:K$302,2,FALSE))","v":""},{"$f":"IF(A38=\"\",\"\",VLOOKUP(A38,Data!G$2:K$302,3,FALSE))","v":""},{"$f":"IF(A38=\"\",\"\",VLOOKUP(A38,Data!G$2:K$302,4,FALSE))","v":""},null,null,null,null,null,null,null,null,null,null,null,null,null,null,null,null,null,null,null,null,null,null,null,null,null,null,0,null,{"$f":"MATCH(\"*\"&AE$1&\"*\",OFFSET(Inscriptions!V$4:V$303,SUM(Masters!AH$6:'Masters'!AH37),0),0)","v":{"$error":"#N/A"}}]
[{"$f":"IF(ISNA(INDEX(Inscriptions!A$4:A$303,SUM(Masters!AH$7:'Masters'!AH39))),\"\",INDEX(Inscriptions!A$4:A$303,SUM(Masters!AH$7:'Masters'!AH39)))","v":""},{"$f":"IF(A39=\"\",\"\",VLOOKUP(A39,Data!G$2:K$302,5,FALSE))","v":""},{"$f":"IF(A39=\"\",\"\",VLOOKUP(A39,Data!G$2:K$302,2,FALSE))","v":""},{"$f":"IF(A39=\"\",\"\",VLOOKUP(A39,Data!G$2:K$302,3,FALSE))","v":""},{"$f":"IF(A39=\"\",\"\",VLOOKUP(A39,Data!G$2:K$302,4,FALSE))","v":""},null,null,null,null,null,null,null,null,null,null,null,null,null,null,null,null,null,null,null,null,null,null,null,null,null,null,0,null,{"$f":"MATCH(\"*\"&AE$1&\"*\",OFFSET(Inscriptions!V$4:V$303,SUM(Masters!AH$6:'Masters'!AH38),0),0)","v":{"$error":"#N/A"}}]
[{"$f":"IF(ISNA(INDEX(Inscriptions!A$4:A$303,SUM(Masters!AH$7:'Masters'!AH40))),\"\",INDEX(Inscriptions!A$4:A$303,SUM(Masters!AH$7:'Masters'!AH40)))","v":""},{"$f":"IF(A40=\"\",\"\",VLOOKUP(A40,Data!G$2:K$302,5,FALSE))","v":""},{"$f":"IF(A40=\"\",\"\",VLOOKUP(A40,Data!G$2:K$302,2,FALSE))","v":""},{"$f":"IF(A40=\"\",\"\",VLOOKUP(A40,Data!G$2:K$302,3,FALSE))","v":""},{"$f":"IF(A40=\"\",\"\",VLOOKUP(A40,Data!G$2:K$302,4,FALSE))","v":""},null,null,null,null,null,null,null,null,null,null,null,null,null,null,null,null,null,null,null,null,null,null,null,null,null,null,0,null,{"$f":"MATCH(\"*\"&AE$1&\"*\",OFFSET(Inscriptions!V$4:V$303,SUM(Masters!AH$6:'Masters'!AH39),0),0)","v":{"$error":"#N/A"}}]
[{"$f":"IF(ISNA(INDEX(Inscriptions!A$4:A$303,SUM(Masters!AH$7:'Masters'!AH41))),\"\",INDEX(Inscriptions!A$4:A$303,SUM(Masters!AH$7:'Masters'!AH41)))","v":""},{"$f":"IF(A41=\"\",\"\",VLOOKUP(A41,Data!G$2:K$302,5,FALSE))","v":""},{"$f":"IF(A41=\"\",\"\",VLOOKUP(A41,Data!G$2:K$302,2,FALSE))","v":""},{"$f":"IF(A41=\"\",\"\",VLOOKUP(A41,Data!G$2:K$302,3,FALSE))","v":""},{"$f":"IF(A41=\"\",\"\",VLOOKUP(A41,Data!G$2:K$302,4,FALSE))","v":""},null,null,null,null,null,null,null,null,null,null,null,null,null,null,null,null,null,null,null,null,null,null,null,null,null,null,0,null,{"$f":"MATCH(\"*\"&AE$1&\"*\",OFFSET(Inscriptions!V$4:V$303,SUM(Masters!AH$6:'Masters'!AH40),0),0)","v":{"$error":"#N/A"}}]
[{"$f":"IF(ISNA(INDEX(Inscriptions!A$4:A$303,SUM(Masters!AH$7:'Masters'!AH42))),\"\",INDEX(Inscriptions!A$4:A$303,SUM(Masters!AH$7:'Masters'!AH42)))","v":""},{"$f":"IF(A42=\"\",\"\",VLOOKUP(A42,Data!G$2:K$302,5,FALSE))","v":""},{"$f":"IF(A42=\"\",\"\",VLOOKUP(A42,Data!G$2:K$302,2,FALSE))","v":""},{"$f":"IF(A42=\"\",\"\",VLOOKUP(A42,Data!G$2:K$302,3,FALSE))","v":""},{"$f":"IF(A42=\"\",\"\",VLOOKUP(A42,Data!G$2:K$302,4,FALSE))","v":""},null,null,null,null,null,null,null,null,null,null,null,null,null,null,null,null,null,null,null,null,null,null,null,null,null,null,0,null,{"$f":"MATCH(\"*\"&AE$1&\"*\",OFFSET(Inscriptions!V$4:V$303,SUM(Masters!AH$6:'Masters'!AH41),0),0)","v":{"$error":"#N/A"}}]
[{"$f":"IF(ISNA(INDEX(Inscriptions!A$4:A$303,SUM(Masters!AH$7:'Masters'!AH43))),\"\",INDEX(Inscriptions!A$4:A$303,SUM(Masters!AH$7:'Masters'!AH43)))","v":""},{"$f":"IF(A43=\"\",\"\",VLOOKUP(A43,Data!G$2:K$302,5,FALSE))","v":""},{"$f":"IF(A43=\"\",\"\",VLOOKUP(A43,Data!G$2:K$302,2,FALSE))","v":""},{"$f":"IF(A43=\"\",\"\",VLOOKUP(A43,Data!G$2:K$302,3,FALSE))","v":""},{"$f":"IF(A43=\"\",\"\",VLOOKUP(A43,Data!G$2:K$302,4,FALSE))","v":""},null,null,null,null,null,null,null,null,null,null,null,null,null,null,null,null,null,null,null,null,null,null,null,null,null,null,0,null,{"$f":"MATCH(\"*\"&AE$1&\"*\",OFFSET(Inscriptions!V$4:V$303,SUM(Masters!AH$6:'Masters'!AH42),0),0)","v":{"$error":"#N/A"}}]
[{"$f":"IF(ISNA(INDEX(Inscriptions!A$4:A$303,SUM(Masters!AH$7:'Masters'!AH44))),\"\",INDEX(Inscriptions!A$4:A$303,SUM(Masters!AH$7:'Masters'!AH44)))","v":""},{"$f":"IF(A44=\"\",\"\",VLOOKUP(A44,Data!G$2:K$302,5,FALSE))","v":""},{"$f":"IF(A44=\"\",\"\",VLOOKUP(A44,Data!G$2:K$302,2,FALSE))","v":""},{"$f":"IF(A44=\"\",\"\",VLOOKUP(A44,Data!G$2:K$302,3,FALSE))","v":""},{"$f":"IF(A44=\"\",\"\",VLOOKUP(A44,Data!G$2:K$302,4,FALSE))","v":""},null,null,null,null,null,null,null,null,null,null,null,null,null,null,null,null,null,null,null,null,null,null,null,null,null,null,0,null,{"$f":"MATCH(\"*\"&AE$1&\"*\",OFFSET(Inscriptions!V$4:V$303,SUM(Masters!AH$6:'Masters'!AH43),0),0)","v":{"$error":"#N/A"}}]
[{"$f":"IF(ISNA(INDEX(Inscriptions!A$4:A$303,SUM(Masters!AH$7:'Masters'!AH45))),\"\",INDEX(Inscriptions!A$4:A$303,SUM(Masters!AH$7:'Masters'!AH45)))","v":""},{"$f":"IF(A45=\"\",\"\",VLOOKUP(A45,Data!G$2:K$302,5,FALSE))","v":""},{"$f":"IF(A45=\"\",\"\",VLOOKUP(A45,Data!G$2:K$302,2,FALSE))","v":""},{"$f":"IF(A45=\"\",\"\",VLOOKUP(A45,Data!G$2:K$302,3,FALSE))","v":""},{"$f":"IF(A45=\"\",\"\",VLOOKUP(A45,Data!G$2:K$302,4,FALSE))","v":""},null,null,null,null,null,null,null,null,null,null,null,null,null,null,null,null,null,null,null,null,null,null,null,null,null,null,0,null,{"$f":"MATCH(\"*\"&AE$1&\"*\",OFFSET(Inscriptions!V$4:V$303,SUM(Masters!AH$6:'Masters'!AH44),0),0)","v":{"$error":"#N/A"}}]
[{"$f":"IF(ISNA(INDEX(Inscriptions!A$4:A$303,SUM(Masters!AH$7:'Masters'!AH46))),\"\",INDEX(Inscriptions!A$4:A$303,SUM(Masters!AH$7:'Masters'!AH46)))","v":""},{"$f":"IF(A46=\"\",\"\",VLOOKUP(A46,Data!G$2:K$302,5,FALSE))","v":""},{"$f":"IF(A46=\"\",\"\",VLOOKUP(A46,Data!G$2:K$302,2,FALSE))","v":""},{"$f":"IF(A46=\"\",\"\",VLOOKUP(A46,Data!G$2:K$302,3,FALSE))","v":""},{"$f":"IF(A46=\"\",\"\",VLOOKUP(A46,Data!G$2:K$302,4,FALSE))","v":""},null,null,null,null,null,null,null,null,null,null,null,null,null,null,null,null,null,null,null,null,null,null,null,null,null,null,0,null,{"$f":"MATCH(\"*\"&AE$1&\"*\",OFFSET(Inscriptions!V$4:V$303,SUM(Masters!AH$6:'Masters'!AH45),0),0)","v":{"$error":"#N/A"}}]
[{"$f":"IF(ISNA(INDEX(Inscriptions!A$4:A$303,SUM(Masters!AH$7:'Masters'!AH47))),\"\",INDEX(Inscriptions!A$4:A$303,SUM(Masters!AH$7:'Masters'!AH47)))","v":""},{"$f":"IF(A47=\"\",\"\",VLOOKUP(A47,Data!G$2:K$302,5,FALSE))","v":""},{"$f":"IF(A47=\"\",\"\",VLOOKUP(A47,Data!G$2:K$302,2,FALSE))","v":""},{"$f":"IF(A47=\"\",\"\",VLOOKUP(A47,Data!G$2:K$302,3,FALSE))","v":""},{"$f":"IF(A47=\"\",\"\",VLOOKUP(A47,Data!G$2:K$302,4,FALSE))","v":""},null,null,null,null,null,null,null,null,null,null,null,null,null,null,null,null,null,null,null,null,null,null,null,null,null,null,0,null,{"$f":"MATCH(\"*\"&AE$1&\"*\",OFFSET(Inscriptions!V$4:V$303,SUM(Masters!AH$6:'Masters'!AH46),0),0)","v":{"$error":"#N/A"}}]
[{"$f":"IF(ISNA(INDEX(Inscriptions!A$4:A$303,SUM(Masters!AH$7:'Masters'!AH48))),\"\",INDEX(Inscriptions!A$4:A$303,SUM(Masters!AH$7:'Masters'!AH48)))","v":""},{"$f":"IF(A48=\"\",\"\",VLOOKUP(A48,Data!G$2:K$302,5,FALSE))","v":""},{"$f":"IF(A48=\"\",\"\",VLOOKUP(A48,Data!G$2:K$302,2,FALSE))","v":""},{"$f":"IF(A48=\"\",\"\",VLOOKUP(A48,Data!G$2:K$302,3,FALSE))","v":""},{"$f":"IF(A48=\"\",\"\",VLOOKUP(A48,Data!G$2:K$302,4,FALSE))","v":""},null,null,null,null,null,null,null,null,null,null,null,null,null,null,null,null,null,null,null,null,null,null,null,null,null,null,0,null,{"$f":"MATCH(\"*\"&AE$1&\"*\",OFFSET(Inscriptions!V$4:V$303,SUM(Masters!AH$6:'Masters'!AH47),0),0)","v":{"$error":"#N/A"}}]
[{"$f":"IF(ISNA(INDEX(Inscriptions!A$4:A$303,SUM(Masters!AH$7:'Masters'!AH49))),\"\",INDEX(Inscriptions!A$4:A$303,SUM(Masters!AH$7:'Masters'!AH49)))","v":""},{"$f":"IF(A49=\"\",\"\",VLOOKUP(A49,Data!G$2:K$302,5,FALSE))","v":""},{"$f":"IF(A49=\"\",\"\",VLOOKUP(A49,Data!G$2:K$302,2,FALSE))","v":""},{"$f":"IF(A49=\"\",\"\",VLOOKUP(A49,Data!G$2:K$302,3,FALSE))","v":""},{"$f":"IF(A49=\"\",\"\",VLOOKUP(A49,Data!G$2:K$302,4,FALSE))","v":""},null,null,null,null,null,null,null,null,null,null,null,null,null,null,null,null,null,null,null,null,null,null,null,null,null,null,0,null,{"$f":"MATCH(\"*\"&AE$1&\"*\",OFFSET(Inscriptions!V$4:V$303,SUM(Masters!AH$6:'Masters'!AH48),0),0)","v":{"$error":"#N/A"}}]
[{"$f":"IF(ISNA(INDEX(Inscriptions!A$4:A$303,SUM(Masters!AH$7:'Masters'!AH50))),\"\",INDEX(Inscriptions!A$4:A$303,SUM(Masters!AH$7:'Masters'!AH50)))","v":""},{"$f":"IF(A50=\"\",\"\",VLOOKUP(A50,Data!G$2:K$302,5,FALSE))","v":""},{"$f":"IF(A50=\"\",\"\",VLOOKUP(A50,Data!G$2:K$302,2,FALSE))","v":""},{"$f":"IF(A50=\"\",\"\",VLOOKUP(A50,Data!G$2:K$302,3,FALSE))","v":""},{"$f":"IF(A50=\"\",\"\",VLOOKUP(A50,Data!G$2:K$302,4,FALSE))","v":""},null,null,null,null,null,null,null,null,null,null,null,null,null,null,null,null,null,null,null,null,null,null,null,null,null,null,0,null,{"$f":"MATCH(\"*\"&AE$1&\"*\",OFFSET(Inscriptions!V$4:V$303,SUM(Masters!AH$6:'Masters'!AH49),0),0)","v":{"$error":"#N/A"}}]
[{"$f":"IF(ISNA(INDEX(Inscriptions!A$4:A$303,SUM(Masters!AH$7:'Masters'!AH51))),\"\",INDEX(Inscriptions!A$4:A$303,SUM(Masters!AH$7:'Masters'!AH51)))","v":""},{"$f":"IF(A51=\"\",\"\",VLOOKUP(A51,Data!G$2:K$302,5,FALSE))","v":""},{"$f":"IF(A51=\"\",\"\",VLOOKUP(A51,Data!G$2:K$302,2,FALSE))","v":""},{"$f":"IF(A51=\"\",\"\",VLOOKUP(A51,Data!G$2:K$302,3,FALSE))","v":""},{"$f":"IF(A51=\"\",\"\",VLOOKUP(A51,Data!G$2:K$302,4,FALSE))","v":""},null,null,null,null,null,null,null,null,null,null,null,null,null,null,null,null,null,null,null,null,null,null,null,null,null,null,0,null,{"$f":"MATCH(\"*\"&AE$1&\"*\",OFFSET(Inscriptions!V$4:V$303,SUM(Masters!AH$6:'Masters'!AH50),0),0)","v":{"$error":"#N/A"}}]
[{"$f":"IF(ISNA(INDEX(Inscriptions!A$4:A$303,SUM(Masters!AH$7:'Masters'!AH52))),\"\",INDEX(Inscriptions!A$4:A$303,SUM(Masters!AH$7:'Masters'!AH52)))","v":""},{"$f":"IF(A52=\"\",\"\",VLOOKUP(A52,Data!G$2:K$302,5,FALSE))","v":""},{"$f":"IF(A52=\"\",\"\",VLOOKUP(A52,Data!G$2:K$302,2,FALSE))","v":""},{"$f":"IF(A52=\"\",\"\",VLOOKUP(A52,Data!G$2:K$302,3,FALSE))","v":""},{"$f":"IF(A52=\"\",\"\",VLOOKUP(A52,Data!G$2:K$302,4,FALSE))","v":""},null,null,null,null,null,null,null,null,null,null,null,null,null,null,null,null,null,null,null,null,null,null,null,null,null,null,0,null,{"$f":"MATCH(\"*\"&AE$1&\"*\",OFFSET(Inscriptions!V$4:V$303,SUM(Masters!AH$6:'Masters'!AH51),0),0)","v":{"$error":"#N/A"}}]
[{"$f":"IF(ISNA(INDEX(Inscriptions!A$4:A$303,SUM(Masters!AH$7:'Masters'!AH53))),\"\",INDEX(Inscriptions!A$4:A$303,SUM(Masters!AH$7:'Masters'!AH53)))","v":""},{"$f":"IF(A53=\"\",\"\",VLOOKUP(A53,Data!G$2:K$302,5,FALSE))","v":""},{"$f":"IF(A53=\"\",\"\",VLOOKUP(A53,Data!G$2:K$302,2,FALSE))","v":""},{"$f":"IF(A53=\"\",\"\",VLOOKUP(A53,Data!G$2:K$302,3,FALSE))","v":""},{"$f":"IF(A53=\"\",\"\",VLOOKUP(A53,Data!G$2:K$302,4,FALSE))","v":""},null,null,null,null,null,null,null,null,null,null,null,null,null,null,null,null,null,null,null,null,null,null,null,null,null,null,0,null,{"$f":"MATCH(\"*\"&AE$1&\"*\",OFFSET(Inscriptions!V$4:V$303,SUM(Masters!AH$6:'Masters'!AH52),0),0)","v":{"$error":"#N/A"}}]
[{"$f":"IF(ISNA(INDEX(Inscriptions!A$4:A$303,SUM(Masters!AH$7:'Masters'!AH54))),\"\",INDEX(Inscriptions!A$4:A$303,SUM(Masters!AH$7:'Masters'!AH54)))","v":""},{"$f":"IF(A54=\"\",\"\",VLOOKUP(A54,Data!G$2:K$302,5,FALSE))","v":""},{"$f":"IF(A54=\"\",\"\",VLOOKUP(A54,Data!G$2:K$302,2,FALSE))","v":""},{"$f":"IF(A54=\"\",\"\",VLOOKUP(A54,Data!G$2:K$302,3,FALSE))","v":""},{"$f":"IF(A54=\"\",\"\",VLOOKUP(A54,Data!G$2:K$302,4,FALSE))","v":""},null,null,null,null,null,null,null,null,null,null,null,null,null,null,null,null,null,null,null,null,null,null,null,null,null,null,0,null,{"$f":"MATCH(\"*\"&AE$1&\"*\",OFFSET(Inscriptions!V$4:V$303,SUM(Masters!AH$6:'Masters'!AH53),0),0)","v":{"$error":"#N/A"}}]
[{"$f":"IF(ISNA(INDEX(Inscriptions!A$4:A$303,SUM(Masters!AH$7:'Masters'!AH55))),\"\",INDEX(Inscriptions!A$4:A$303,SUM(Masters!AH$7:'Masters'!AH55)))","v":""},{"$f":"IF(A55=\"\",\"\",VLOOKUP(A55,Data!G$2:K$302,5,FALSE))","v":""},{"$f":"IF(A55=\"\",\"\",VLOOKUP(A55,Data!G$2:K$302,2,FALSE))","v":""},{"$f":"IF(A55=\"\",\"\",VLOOKUP(A55,Data!G$2:K$302,3,FALSE))","v":""},{"$f":"IF(A55=\"\",\"\",VLOOKUP(A55,Data!G$2:K$302,4,FALSE))","v":""},null,null,null,null,null,null,null,null,null,null,null,null,null,null,null,null,null,null,null,null,null,null,null,null,null,null,0,null,{"$f":"MATCH(\"*\"&AE$1&\"*\",OFFSET(Inscriptions!V$4:V$303,SUM(Masters!AH$6:'Masters'!AH54),0),0)","v":{"$error":"#N/A"}}]
[{"$f":"CONCATENATE(IF(ChoixLangue=Languages!$B$1,Languages!$B105,IF(ChoixLangue=Languages!$C$1,Languages!$C105,IF(ChoixLangue=Languages!$D$1,Languages!$D105,Languages!$E105))),SUM(AF7:AF55))","v":"Nbe nageuses : 0"},"-","-","-",null,"-","-","-","-"]

{"sheet":"Combo","index":24,"n_rows":56,"n_cols":32,"rows_kept":56,"cut":false,"hidden":false,"merged":[[3,0,3,8]]}
[{"$f":"IF('Cover Page'!B5=\"\",\"\",'Cover Page'!B5)","v":""},null,null,null,null,null,null,null,null,null,null,null,null,null,null,null,null,null,null,null,null,null,null,null,null,null,null,null,"x",null,null,{"$f":"MID(CELL(\"filename\",A1),FIND(\"]\",CELL(\"filename\",A1),1)+1,20)","v":"Combo"}]
[{"$f":"IF('Cover Page'!B6=\"\",\"\",'Cover Page'!B6)","v":""},null,null,null,null,null,null,null,{"$f":"IF(ChoixLangue=Languages!$B$1,CONCATENATE(Languages!$B$97,\" \",AF1),IF(ChoixLangue=Languages!$C$1,CONCATENATE(Languages!$C$97,\" \",AF1),IF(ChoixLangue=Languages!$D$1,CONCATENATE(Languages!$D$97,\" \",AF1),CONCATENATE(Languages!$E$97,\" \",AF1))))","v":"Catégorie Combo"}]
[{"$f":"IF('Cover Page'!B7=\"\",\"\",'Cover Page'!B7)","v":""}]
[{"$f":"IF('Cover Page'!B10=\"\",\"\",CONCATENATE(IF(ChoixLangue=Languages!$B$1,Languages!$B98,IF(ChoixLangue=Languages!$C$1,Languages!$C98,IF(ChoixLangue=Languages!$D$1,Languages!$D98,Languages!$E98))),'Cover Page'!B10))","v":""}]
[{"$f":"A56","v":"Nbe nageuses : 0"},null,null,null,{"$f":"IF(ChoixLangue=Languages!$B$1,Languages!$B61,IF(ChoixLangue=Languages!$C$1,Languages!$C61,IF(ChoixLangue=Languages!$D$1,Languages!$D61,Languages!$E61)))","v":"N° de test nécessaire"},2,4,5,3]
[{"$f":"IF(ChoixLangue=Languages!$B$1,Languages!$B99,IF(ChoixLangue=Languages!$C$1,Languages!$C99,IF(ChoixLangue=Languages!$D$1,Languages!$D99,Languages!$E99)))","v":"NOM Prénom"},{"$f":"IF(ChoixLangue=Languages!$B$1,Languages!$B100,IF(ChoixLangue=Languages!$C$1,Languages!$C100,IF(ChoixLangue=Languages!$D$1,Languages!$D100,Languages!$E100)))","v":"Club"},{"$f":"IF(ChoixLangue=Languages!$B$1,Languages!$B101,IF(ChoixLangue=Languages!$C$1,Languages!$C101,IF(ChoixLangue=Languages!$D$1,Languages!$D101,Languages!$E101)))","v":"Licence"},{"$f":"IF(ChoixLangue=Languages!$B$1,Languages!$B102,IF(ChoixLangue=Languages!$C$1,Languages!$C102,IF(ChoixLangue=Languages!$D$1,Languages!$D102,Languages!$E102)))","v":"An. Nais."},{"$f":"IF(ChoixLangue=Languages!$B$1,Languages!$B103,IF(ChoixLangue=Languages!$C$1,Languages!$C103,IF(ChoixLangue=Languages!$D$1,Languages!$D103,Languages!$E103)))","v":"N° Test"},"Combo Union","Combo Juniors","Combo Elite","Combo Masters"]
[{"$f":"IF(ISNA(INDEX(Inscriptions!A$4:A$303,SUM(Combo!AF$7:'Combo'!AF7))),\"\",INDEX(Inscriptions!A$4:A$303,SUM(Combo!AF$7:'Combo'!AF7)))","v":""},{"$f":"IF(A7=\"\",\"\",VLOOKUP(A7,Data!G$2:K$302,5,FALSE))","v":""},{"$f":"IF(A7=\"\",\"\",VLOOKUP(A7,Data!G$2:K$302,2,FALSE))","v":""},{"$f":"IF(A7=\"\",\"\",VLOOKUP(A7,Data!G$2:K$302,3,FALSE))","v":""},{"$f":"IF(A7=\"\",\"\",VLOOKUP(A7,Data!G$2:K$302,4,FALSE))","v":""},null,null,null,null,null,null,null,null,null,null,null,null,null,null,null,null,null,null,null,null,null,null,null,null,{"$f":"IF(A7<>\"\",1,0)","v":0},null,{"$f":"MATCH(\"*\"&AC$1&\"*\",OFFSET(Inscriptions!W$4:W$303,SUM(Combo!AF$6:'Combo'!AF6),0),0)","v":{"$error":"#N/A"}}]
[{"$f":"IF(ISNA(INDEX(Inscriptions!A$4:A$303,SUM(Combo!AF$7:'Combo'!AF8))),\"\",INDEX(Inscriptions!A$4:A$303,SUM(Combo!AF$7:'Combo'!AF8)))","v":""},{"$f":"IF(A8=\"\",\"\",VLOOKUP(A8,Data!G$2:K$302,5,FALSE))","v":""},{"$f":"IF(A8=\"\",\"\",VLOOKUP(A8,Data!G$2:K$302,2,FALSE))","v":""},{"$f":"IF(A8=\"\",\"\",VLOOKUP(A8,Data!G$2:K$302,3,FALSE))","v":""},{"$f":"IF(A8=\"\",\"\",VLOOKUP(A8,Data!G$2:K$302,4,FALSE))","v":""},null,null,null,null,null,null,null,null,null,null,null,null,null,null,null,null,null,null,null,null,null,null,null,null,{"$f":"IF(A8<>\"\",1,0)","v":0},null,{"$f":"MATCH(\"*\"&AC$1&\"*\",OFFSET(Inscriptions!W$4:W$303,SUM(Combo!AF$6:'Combo'!AF7),0),0)","v":{"$error":"#N/A"}}]
[{"$f":"IF(ISNA(INDEX(Inscriptions!A$4:A$303,SUM(Combo!AF$7:'Combo'!AF9))),\"\",INDEX(Inscriptions!A$4:A$303,SUM(Combo!AF$7:'Combo'!AF9)))","v":""},{"$f":"IF(A9=\"\",\"\",VLOOKUP(A9,Data!G$2:K$302,5,FALSE))","v":""},{"$f":"IF(A9=\"\",\"\",VLOOKUP(A9,Data!G$2:K$302,2,FALSE))","v":""},{"$f":"IF(A9=\"\",\"\",VLOOKUP(A9,Data!G$2:K$302,3,FALSE))","v":""},{"$f":"IF(A9=\"\",\"\",VLOOKUP(A9,Data!G$2:K$302,4,FALSE))","v":""},null,null,null,null,null,null,null,null,null,null,null,null,null,null,null,null,null,null,null,null,null,null,null,null,0,null,{"$f":"MATCH(\"*\"&AC$1&\"*\",OFFSET(Inscriptions!W$4:W$303,SUM(Combo!AF$6:'Combo'!AF8),0),0)","v":{"$error":"#N/A"}}]
[{"$f":"IF(ISNA(INDEX(Inscriptions!A$4:A$303,SUM(Combo!AF$7:'Combo'!AF10))),\"\",INDEX(Inscriptions!A$4:A$303,SUM(Combo!AF$7:'Combo'!AF10)))","v":""},{"$f":"IF(A10=\"\",\"\",VLOOKUP(A10,Data!G$2:K$302,5,FALSE))","v":""},{"$f":"IF(A10=\"\",\"\",VLOOKUP(A10,Data!G$2:K$302,2,FALSE))","v":""},{"$f":"IF(A10=\"\",\"\",VLOOKUP(A10,Data!G$2:K$302,3,FALSE))","v":""},{"$f":"IF(A10=\"\",\"\",VLOOKUP(A10,Data!G$2:K$302,4,FALSE))","v":""},null,null,null,null,null,null,null,null,null,null,null,null,null,null,null,null,null,null,null,null,null,null,null,null,0,null,{"$f":"MATCH(\"*\"&AC$1&\"*\",OFFSET(Inscriptions!W$4:W$303,SUM(Combo!AF$6:'Combo'!AF9),0),0)","v":{"$error":"#N/A"}}]
[{"$f":"IF(ISNA(INDEX(Inscriptions!A$4:A$303,SUM(Combo!AF$7:'Combo'!AF11))),\"\",INDEX(Inscriptions!A$4:A$303,SUM(Combo!AF$7:'Combo'!AF11)))","v":""},{"$f":"IF(A11=\"\",\"\",VLOOKUP(A11,Data!G$2:K$302,5,FALSE))","v":""},{"$f":"IF(A11=\"\",\"\",VLOOKUP(A11,Data!G$2:K$302,2,FALSE))","v":""},{"$f":"IF(A11=\"\",\"\",VLOOKUP(A11,Data!G$2:K$302,3,FALSE))","v":""},{"$f":"IF(A11=\"\",\"\",VLOOKUP(A11,Data!G$2:K$302,4,FALSE))","v":""},null,null,null,null,null,null,null,null,null,null,null,null,null,null,null,null,null,null,null,null,null,null,null,null,0,null,{"$f":"MATCH(\"*\"&AC$1&\"*\",OFFSET(Inscriptions!W$4:W$303,SUM(Combo!AF$6:'Combo'!AF10),0),0)","v":{"$error":"#N/A"}}]
[{"$f":"IF(ISNA(INDEX(Inscriptions!A$4:A$303,SUM(Combo!AF$7:'Combo'!AF12))),\"\",INDEX(Inscriptions!A$4:A$303,SUM(Combo!AF$7:'Combo'!AF12)))","v":""},{"$f":"IF(A12=\"\",\"\",VLOOKUP(A12,Data!G$2:K$302,5,FALSE))","v":""},{"$f":"IF(A12=\"\",\"\",VLOOKUP(A12,Data!G$2:K$302,2,FALSE))","v":""},{"$f":"IF(A12=\"\",\"\",VLOOKUP(A12,Data!G$2:K$302,3,FALSE))","v":""},{"$f":"IF(A12=\"\",\"\",VLOOKUP(A12,Data!G$2:K$302,4,FALSE))","v":""},null,null,null,null,null,null,null,null,null,null,null,null,null,null,null,null,null,null,null,null,null,null,null,null,0,null,{"$f":"MATCH(\"*\"&AC$1&\"*\",OFFSET(Inscriptions!W$4:W$303,SUM(Combo!AF$6:'Combo'!AF11),0),0)","v":{"$error":"#N/A"}}]
[{"$f":"IF(ISNA(INDEX(Inscriptions!A$4:A$303,SUM(Combo!AF$7:'Combo'!AF13))),\"\",INDEX(Inscriptions!A$4:A$303,SUM(Combo!AF$7:'Combo'!AF13)))","v":""},{"$f":"IF(A13=\"\",\"\",VLOOKUP(A13,Data!G$2:K$302,5,FALSE))","v":""},{"$f":"IF(A13=\"\",\"\",VLOOKUP(A13,Data!G$2:K$302,2,FALSE))","v":""},{"$f":"IF(A13=\"\",\"\",VLOOKUP(A13,Data!G$2:K$302,3,FALSE))","v":""},{"$f":"IF(A13=\"\",\"\",VLOOKUP(A13,Data!G$2:K$302,4,FALSE))","v":""},null,null,null,null,null,null,null,null,null,null,null,null,null,null,null,null,null,null,null,null,null,null,null,null,0,null,{"$f":"MATCH(\"*\"&AC$1&\"*\",OFFSET(Inscriptions!W$4:W$303,SUM(Combo!AF$6:'Combo'!AF12),0),0)","v":{"$error":"#N/A"}}]
[{"$f":"IF(ISNA(INDEX(Inscriptions!A$4:A$303,SUM(Combo!AF$7:'Combo'!AF14))),\"\",INDEX(Inscriptions!A$4:A$303,SUM(Combo!AF$7:'Combo'!AF14)))","v":""},{"$f":"IF(A14=\"\",\"\",VLOOKUP(A14,Data!G$2:K$302,5,FALSE))","v":""},{"$f":"IF(A14=\"\",\"\",VLOOKUP(A14,Data!G$2:K$302,2,FALSE))","v":""},{"$f":"IF(A14=\"\",\"\",VLOOKUP(A14,Data!G$2:K$302,3,FALSE))","v":""},{"$f":"IF(A14=\"\",\"\",VLOOKUP(A14,Data!G$2:K$302,4,FALSE))","v":""},null,null,null,null,null,null,null,null,null,null,null,null,null,null,null,null,null,null,null,null,null,null,null,null,0,null,{"$f":"MATCH(\"*\"&AC$1&\"*\",OFFSET(Inscriptions!W$4:W$303,SUM(Combo!AF$6:'Combo'!AF13),0),0)","v":{"$error":"#N/A"}}]
[{"$f":"IF(ISNA(INDEX(Inscriptions!A$4:A$303,SUM(Combo!AF$7:'Combo'!AF15))),\"\",INDEX(Inscriptions!A$4:A$303,SUM(Combo!AF$7:'Combo'!AF15)))","v":""},{"$f":"IF(A15=\"\",\"\",VLOOKUP(A15,Data!G$2:K$302,5,FALSE))","v":""},{"$f":"IF(A15=\"\",\"\",VLOOKUP(A15,Data!G$2:K$302,2,FALSE))","v":""},{"$f":"IF(A15=\"\",\"\",VLOOKUP(A15,Data!G$2:K$302,3,FALSE))","v":""},{"$f":"IF(A15=\"\",\"\",VLOOKUP(A15,Data!G$2:K$302,4,FALSE))","v":""},null,null,null,null,null,null,null,null,null,null,null,null,null,null,null,null,null,null,null,null,null,null,null,null,0,null,{"$f":"MATCH(\"*\"&AC$1&\"*\",OFFSET(Inscriptions!W$4:W$303,SUM(Combo!AF$6:'Combo'!AF14),0),0)","v":{"$error":"#N/A"}}]
[{"$f":"IF(ISNA(INDEX(Inscriptions!A$4:A$303,SUM(Combo!AF$7:'Combo'!AF16))),\"\",INDEX(Inscriptions!A$4:A$303,SUM(Combo!AF$7:'Combo'!AF16)))","v":""},{"$f":"IF(A16=\"\",\"\",VLOOKUP(A16,Data!G$2:K$302,5,FALSE))","v":""},{"$f":"IF(A16=\"\",\"\",VLOOKUP(A16,Data!G$2:K$302,2,FALSE))","v":""},{"$f":"IF(A16=\"\",\"\",VLOOKUP(A16,Data!G$2:K$302,3,FALSE))","v":""},{"$f":"IF(A16=\"\",\"\",VLOOKUP(A16,Data!G$2:K$302,4,FALSE))","v":""},null,null,null,null,null,null,null,null,null,null,null,null,null,null,null,null,null,null,null,null,null,null,null,null,0,null,{"$f":"MATCH(\"*\"&AC$1&\"*\",OFFSET(Inscriptions!W$4:W$303,SUM(Combo!AF$6:'Combo'!AF15),0),0)","v":{"$error":"#N/A"}}]
[{"$f":"IF(ISNA(INDEX(Inscriptions!A$4:A$303,SUM(Combo!AF$7:'Combo'!AF17))),\"\",INDEX(Inscriptions!A$4:A$303,SUM(Combo!AF$7:'Combo'!AF17)))","v":""},{"$f":"IF(A17=\"\",\"\",VLOOKUP(A17,Data!G$2:K$302,5,FALSE))","v":""},{"$f":"IF(A17=\"\",\"\",VLOOKUP(A17,Data!G$2:K$302,2,FALSE))","v":""},{"$f":"IF(A17=\"\",\"\",VLOOKUP(A17,Data!G$2:K$302,3,FALSE))","v":""},{"$f":"IF(A17=\"\",\"\",VLOOKUP(A17,Data!G$2:K$302,4,FALSE))","v":""},null,null,null,null,null,null,null,null,null,null,null,null,null,null,null,null,null,null,null,null,null,null,null,null,0,null,{"$f":"MATCH(\"*\"&AC$1&\"*\",OFFSET(Inscriptions!W$4:W$303,SUM(Combo!AF$6:'Combo'!AF16),0),0)","v":{"$error":"#N/A"}}]
[{"$f":"IF(ISNA(INDEX(Inscriptions!A$4:A$303,SUM(Combo!AF$7:'Combo'!AF18))),\"\",INDEX(Inscriptions!A$4:A$303,SUM(Combo!AF$7:'Combo'!AF18)))","v":""},{"$f":"IF(A18=\"\",\"\",VLOOKUP(A18,Data!G$2:K$302,5,FALSE))","v":""},{"$f":"IF(A18=\"\",\"\",VLOOKUP(A18,Data!G$2:K$302,2,FALSE))","v":""},{"$f":"IF(A18=\"\",\"\",VLOOKUP(A18,Data!G$2:K$302,3,FALSE))","v":""},{"$f":"IF(A18=\"\",\"\",VLOOKUP(A18,Data!G$2:K$302,4,FALSE))","v":""},null,null,null,null,null,null,null,null,null,null,null,null,null,null,null,null,null,null,null,null,null,null,null,null,0,null,{"$f":"MATCH(\"*\"&AC$1&\"*\",OFFSET(Inscriptions!W$4:W$303,SUM(Combo!AF$6:'Combo'!AF17),0),0)","v":{"$error":"#N/A"}}]
[{"$f":"IF(ISNA(INDEX(Inscriptions!A$4:A$303,SUM(Combo!AF$7:'Combo'!AF19))),\"\",INDEX(Inscriptions!A$4:A$303,SUM(Combo!AF$7:'Combo'!AF19)))","v":""},{"$f":"IF(A19=\"\",\"\",VLOOKUP(A19,Data!G$2:K$302,5,FALSE))","v":""},{"$f":"IF(A19=\"\",\"\",VLOOKUP(A19,Data!G$2:K$302,2,FALSE))","v":""},{"$f":"IF(A19=\"\",\"\",VLOOKUP(A19,Data!G$2:K$302,3,FALSE))","v":""},{"$f":"IF(A19=\"\",\"\",VLOOKUP(A19,Data!G$2:K$302,4,FALSE))","v":""},null,null,null,null,null,null,null,null,null,null,null,null,null,null,null,null,null,null,null,null,null,null,null,null,0,null,{"$f":"MATCH(\"*\"&AC$1&\"*\",OFFSET(Inscriptions!W$4:W$303,SUM(Combo!AF$6:'Combo'!AF18),0),0)","v":{"$error":"#N/A"}}]
[{"$f":"IF(ISNA(INDEX(Inscriptions!A$4:A$303,SUM(Combo!AF$7:'Combo'!AF20))),\"\",INDEX(Inscriptions!A$4:A$303,SUM(Combo!AF$7:'Combo'!AF20)))","v":""},{"$f":"IF(A20=\"\",\"\",VLOOKUP(A20,Data!G$2:K$302,5,FALSE))","v":""},{"$f":"IF(A20=\"\",\"\",VLOOKUP(A20,Data!G$2:K$302,2,FALSE))","v":""},{"$f":"IF(A20=\"\",\"\",VLOOKUP(A20,Data!G$2:K$302,3,FALSE))","v":""},{"$f":"IF(A20=\"\",\"\",VLOOKUP(A20,Data!G$2:K$302,4,FALSE))","v":""},null,null,null,null,null,null,null,null,null,null,null,null,null,null,null,null,null,null,null,null,null,null,null,null,0,null,{"$f":"MATCH(\"*\"&AC$1&\"*\",OFFSET(Inscriptions!W$4:W$303,SUM(Combo!AF$6:'Combo'!AF19),0),0)","v":{"$error":"#N/A"}}]
[{"$f":"IF(ISNA(INDEX(Inscriptions!A$4:A$303,SUM(Combo!AF$7:'Combo'!AF21))),\"\",INDEX(Inscriptions!A$4:A$303,SUM(Combo!AF$7:'Combo'!AF21)))","v":""},{"$f":"IF(A21=\"\",\"\",VLOOKUP(A21,Data!G$2:K$302,5,FALSE))","v":""},{"$f":"IF(A21=\"\",\"\",VLOOKUP(A21,Data!G$2:K$302,2,FALSE))","v":""},{"$f":"IF(A21=\"\",\"\",VLOOKUP(A21,Data!G$2:K$302,3,FALSE))","v":""},{"$f":"IF(A21=\"\",\"\",VLOOKUP(A21,Data!G$2:K$302,4,FALSE))","v":""},null,null,null,null,null,null,null,null,null,null,null,null,null,null,null,null,null,null,null,null,null,null,null,null,0,null,{"$f":"MATCH(\"*\"&AC$1&\"*\",OFFSET(Inscriptions!W$4:W$303,SUM(Combo!AF$6:'Combo'!AF20),0),0)","v":{"$error":"#N/A"}}]
[{"$f":"IF(ISNA(INDEX(Inscriptions!A$4:A$303,SUM(Combo!AF$7:'Combo'!AF22))),\"\",INDEX(Inscriptions!A$4:A$303,SUM(Combo!AF$7:'Combo'!AF22)))","v":""},{"$f":"IF(A22=\"\",\"\",VLOOKUP(A22,Data!G$2:K$302,5,FALSE))","v":""},{"$f":"IF(A22=\"\",\"\",VLOOKUP(A22,Data!G$2:K$302,2,FALSE))","v":""},{"$f":"IF(A22=\"\",\"\",VLOOKUP(A22,Data!G$2:K$302,3,FALSE))","v":""},{"$f":"IF(A22=\"\",\"\",VLOOKUP(A22,Data!G$2:K$302,4,FALSE))","v":""},null,null,null,null,null,null,null,null,null,null,null,null,null,null,null,null,null,null,null,null,null,null,null,null,0,null,{"$f":"MATCH(\"*\"&AC$1&\"*\",OFFSET(Inscriptions!W$4:W$303,SUM(Combo!AF$6:'Combo'!AF21),0),0)","v":{"$error":"#N/A"}}]
[{"$f":"IF(ISNA(INDEX(Inscriptions!A$4:A$303,SUM(Combo!AF$7:'Combo'!AF23))),\"\",INDEX(Inscriptions!A$4:A$303,SUM(Combo!AF$7:'Combo'!AF23)))","v":""},{"$f":"IF(A23=\"\",\"\",VLOOKUP(A23,Data!G$2:K$302,5,FALSE))","v":""},{"$f":"IF(A23=\"\",\"\",VLOOKUP(A23,Data!G$2:K$302,2,FALSE))","v":""},{"$f":"IF(A23=\"\",\"\",VLOOKUP(A23,Data!G$2:K$302,3,FALSE))","v":""},{"$f":"IF(A23=\"\",\"\",VLOOKUP(A23,Data!G$2:K$302,4,FALSE))","v":""},null,null,null,null,null,null,null,null,null,null,null,null,null,null,null,null,null,null,null,null,null,null,null,null,0,null,{"$f":"MATCH(\"*\"&AC$1&\"*\",OFFSET(Inscriptions!W$4:W$303,SUM(Combo!AF$6:'Combo'!AF22),0),0)","v":{"$error":"#N/A"}}]
[{"$f":"IF(ISNA(INDEX(Inscriptions!A$4:A$303,SUM(Combo!AF$7:'Combo'!AF24))),\"\",INDEX(Inscriptions!A$4:A$303,SUM(Combo!AF$7:'Combo'!AF24)))","v":""},{"$f":"IF(A24=\"\",\"\",VLOOKUP(A24,Data!G$2:K$302,5,FALSE))","v":""},{"$f":"IF(A24=\"\",\"\",VLOOKUP(A24,Data!G$2:K$302,2,FALSE))","v":""},{"$f":"IF(A24=\"\",\"\",VLOOKUP(A24,Data!G$2:K$302,3,FALSE))","v":""},{"$f":"IF(A24=\"\",\"\",VLOOKUP(A24,Data!G$2:K$302,4,FALSE))","v":""},null,null,null,null,null,null,null,null,null,null,null,null,null,null,null,null,null,null,null,null,null,null,null,null,0,null,{"$f":"MATCH(\"*\"&AC$1&\"*\",OFFSET(Inscriptions!W$4:W$303,SUM(Combo!AF$6:'Combo'!AF23),0),0)","v":{"$error":"#N/A"}}]
[{"$f":"IF(ISNA(INDEX(Inscriptions!A$4:A$303,SUM(Combo!AF$7:'Combo'!AF25))),\"\",INDEX(Inscriptions!A$4:A$303,SUM(Combo!AF$7:'Combo'!AF25)))","v":""},{"$f":"IF(A25=\"\",\"\",VLOOKUP(A25,Data!G$2:K$302,5,FALSE))","v":""},{"$f":"IF(A25=\"\",\"\",VLOOKUP(A25,Data!G$2:K$302,2,FALSE))","v":""},{"$f":"IF(A25=\"\",\"\",VLOOKUP(A25,Data!G$2:K$302,3,FALSE))","v":""},{"$f":"IF(A25=\"\",\"\",VLOOKUP(A25,Data!G$2:K$302,4,FALSE))","v":""},null,null,null,null,null,null,null,null,null,null,null,null,null,null,null,null,null,null,null,null,null,null,null,null,0,null,{"$f":"MATCH(\"*\"&AC$1&\"*\",OFFSET(Inscriptions!W$4:W$303,SUM(Combo!AF$6:'Combo'!AF24),0),0)","v":{"$error":"#N/A"}}]
[{"$f":"IF(ISNA(INDEX(Inscriptions!A$4:A$303,SUM(Combo!AF$7:'Combo'!AF26))),\"\",INDEX(Inscriptions!A$4:A$303,SUM(Combo!AF$7:'Combo'!AF26)))","v":""},{"$f":"IF(A26=\"\",\"\",VLOOKUP(A26,Data!G$2:K$302,5,FALSE))","v":""},{"$f":"IF(A26=\"\",\"\",VLOOKUP(A26,Data!G$2:K$302,2,FALSE))","v":""},{"$f":"IF(A26=\"\",\"\",VLOOKUP(A26,Data!G$2:K$302,3,FALSE))","v":""},{"$f":"IF(A26=\"\",\"\",VLOOKUP(A26,Data!G$2:K$302,4,FALSE))","v":""},null,null,null,null,null,null,null,null,null,null,null,null,null,null,null,null,null,null,null,null,null,null,null,null,0,null,{"$f":"MATCH(\"*\"&AC$1&\"*\",OFFSET(Inscriptions!W$4:W$303,SUM(Combo!AF$6:'Combo'!AF25),0),0)","v":{"$error":"#N/A"}}]
[{"$f":"IF(ISNA(INDEX(Inscriptions!A$4:A$303,SUM(Combo!AF$7:'Combo'!AF27))),\"\",INDEX(Inscriptions!A$4:A$303,SUM(Combo!AF$7:'Combo'!AF27)))","v":""},{"$f":"IF(A27=\"\",\"\",VLOOKUP(A27,Data!G$2:K$302,5,FALSE))","v":""},{"$f":"IF(A27=\"\",\"\",VLOOKUP(A27,Data!G$2:K$302,2,FALSE))","v":""},{"$f":"IF(A27=\"\",\"\",VLOOKUP(A27,Data!G$2:K$302,3,FALSE))","v":""},{"$f":"IF(A27=\"\",\"\",VLOOKUP(A27,Data!G$2:K$302,4,FALSE))","v":""},null,null,null,null,null,null,null,null,null,null,null,null,null,null,null,null,null,null,null,null,null,null,null,null,0,null,{"$f":"MATCH(\"*\"&AC$1&\"*\",OFFSET(Inscriptions!W$4:W$303,SUM(Combo!AF$6:'Combo'!AF26),0),0)","v":{"$error":"#N/A"}}]
[{"$f":"IF(ISNA(INDEX(Inscriptions!A$4:A$303,SUM(Combo!AF$7:'Combo'!AF28))),\"\",INDEX(Inscriptions!A$4:A$303,SUM(Combo!AF$7:'Combo'!AF28)))","v":""},{"$f":"IF(A28=\"\",\"\",VLOOKUP(A28,Data!G$2:K$302,5,FALSE))","v":""},{"$f":"IF(A28=\"\",\"\",VLOOKUP(A28,Data!G$2:K$302,2,FALSE))","v":""},{"$f":"IF(A28=\"\",\"\",VLOOKUP(A28,Data!G$2:K$302,3,FALSE))","v":""},{"$f":"IF(A28=\"\",\"\",VLOOKUP(A28,Data!G$2:K$302,4,FALSE))","v":""},null,null,null,null,null,null,null,null,null,null,null,null,null,null,null,null,null,null,null,null,null,null,null,null,0,null,{"$f":"MATCH(\"*\"&AC$1&\"*\",OFFSET(Inscriptions!W$4:W$303,SUM(Combo!AF$6:'Combo'!AF27),0),0)","v":{"$error":"#N/A"}}]
[{"$f":"IF(ISNA(INDEX(Inscriptions!A$4:A$303,SUM(Combo!AF$7:'Combo'!AF29))),\"\",INDEX(Inscriptions!A$4:A$303,SUM(Combo!AF$7:'Combo'!AF29)))","v":""},{"$f":"IF(A29=\"\",\"\",VLOOKUP(A29,Data!G$2:K$302,5,FALSE))","v":""},{"$f":"IF(A29=\"\",\"\",VLOOKUP(A29,Data!G$2:K$302,2,FALSE))","v":""},{"$f":"IF(A29=\"\",\"\",VLOOKUP(A29,Data!G$2:K$302,3,FALSE))","v":""},{"$f":"IF(A29=\"\",\"\",VLOOKUP(A29,Data!G$2:K$302,4,FALSE))","v":""},null,null,null,null,null,null,null,null,null,null,null,null,null,null,null,null,null,null,null,null,null,null,null,null,0,null,{"$f":"MATCH(\"*\"&AC$1&\"*\",OFFSET(Inscriptions!W$4:W$303,SUM(Combo!AF$6:'Combo'!AF28),0),0)","v":{"$error":"#N/A"}}]
[{"$f":"IF(ISNA(INDEX(Inscriptions!A$4:A$303,SUM(Combo!AF$7:'Combo'!AF30))),\"\",INDEX(Inscriptions!A$4:A$303,SUM(Combo!AF$7:'Combo'!AF30)))","v":""},{"$f":"IF(A30=\"\",\"\",VLOOKUP(A30,Data!G$2:K$302,5,FALSE))","v":""},{"$f":"IF(A30=\"\",\"\",VLOOKUP(A30,Data!G$2:K$302,2,FALSE))","v":""},{"$f":"IF(A30=\"\",\"\",VLOOKUP(A30,Data!G$2:K$302,3,FALSE))","v":""},{"$f":"IF(A30=\"\",\"\",VLOOKUP(A30,Data!G$2:K$302,4,FALSE))","v":""},null,null,null,null,null,null,null,null,null,null,null,null,null,null,null,null,null,null,null,null,null,null,null,null,0,null,{"$f":"MATCH(\"*\"&AC$1&\"*\",OFFSET(Inscriptions!W$4:W$303,SUM(Combo!AF$6:'Combo'!AF29),0),0)","v":{"$error":"#N/A"}}]
[{"$f":"IF(ISNA(INDEX(Inscriptions!A$4:A$303,SUM(Combo!AF$7:'Combo'!AF31))),\"\",INDEX(Inscriptions!A$4:A$303,SUM(Combo!AF$7:'Combo'!AF31)))","v":""},{"$f":"IF(A31=\"\",\"\",VLOOKUP(A31,Data!G$2:K$302,5,FALSE))","v":""},{"$f":"IF(A31=\"\",\"\",VLOOKUP(A31,Data!G$2:K$302,2,FALSE))","v":""},{"$f":"IF(A31=\"\",\"\",VLOOKUP(A31,Data!G$2:K$302,3,FALSE))","v":""},{"$f":"IF(A31=\"\",\"\",VLOOKUP(A31,Data!G$2:K$302,4,FALSE))","v":""},null,null,null,null,null,null,null,null,null,null,null,null,null,null,null,null,null,null,null,null,null,null,null,null,0,null,{"$f":"MATCH(\"*\"&AC$1&\"*\",OFFSET(Inscriptions!W$4:W$303,SUM(Combo!AF$6:'Combo'!AF30),0),0)","v":{"$error":"#N/A"}}]
[{"$f":"IF(ISNA(INDEX(Inscriptions!A$4:A$303,SUM(Combo!AF$7:'Combo'!AF32))),\"\",INDEX(Inscriptions!A$4:A$303,SUM(Combo!AF$7:'Combo'!AF32)))","v":""},{"$f":"IF(A32=\"\",\"\",VLOOKUP(A32,Data!G$2:K$302,5,FALSE))","v":""},{"$f":"IF(A32=\"\",\"\",VLOOKUP(A32,Data!G$2:K$302,2,FALSE))","v":""},{"$f":"IF(A32=\"\",\"\",VLOOKUP(A32,Data!G$2:K$302,3,FALSE))","v":""},{"$f":"IF(A32=\"\",\"\",VLOOKUP(A32,Data!G$2:K$302,4,FALSE))","v":""},null,null,null,null,null,null,null,null,null,null,null,null,null,null,null,null,null,null,null,null,null,null,null,null,0,null,{"$f":"MATCH(\"*\"&AC$1&\"*\",OFFSET(Inscriptions!W$4:W$303,SUM(Combo!AF$6:'Combo'!AF31),0),0)","v":{"$error":"#N/A"}}]
[{"$f":"IF(ISNA(INDEX(Inscriptions!A$4:A$303,SUM(Combo!AF$7:'Combo'!AF33))),\"\",INDEX(Inscriptions!A$4:A$303,SUM(Combo!AF$7:'Combo'!AF33)))","v":""},{"$f":"IF(A33=\"\",\"\",VLOOKUP(A33,Data!G$2:K$302,5,FALSE))","v":""},{"$f":"IF(A33=\"\",\"\",VLOOKUP(A33,Data!G$2:K$302,2,FALSE))","v":""},{"$f":"IF(A33=\"\",\"\",VLOOKUP(A33,Data!G$2:K$302,3,FALSE))","v":""},{"$f":"IF(A33=\"\",\"\",VLOOKUP(A33,Data!G$2:K$302,4,FALSE))","v":""},null,null,null,null,null,null,null,null,null,null,null,null,null,null,null,null,null,null,null,null,null,null,null,null,0,null,{"$f":"MATCH(\"*\"&AC$1&\"*\",OFFSET(Inscriptions!W$4:W$303,SUM(Combo!AF$6:'Combo'!AF32),0),0)","v":{"$error":"#N/A"}}]
[{"$f":"IF(ISNA(INDEX(Inscriptions!A$4:A$303,SUM(Combo!AF$7:'Combo'!AF34))),\"\",INDEX(Inscriptions!A$4:A$303,SUM(Combo!AF$7:'Combo'!AF34)))","v":""},{"$f":"IF(A34=\"\",\"\",VLOOKUP(A34,Data!G$2:K$302,5,FALSE))","v":""},{"$f":"IF(A34=\"\",\"\",VLOOKUP(A34,Data!G$2:K$302,2,FALSE))","v":""},{"$f":"IF(A34=\"\",\"\",VLOOKUP(A34,Data!G$2:K$302,3,FALSE))","v":""},{"$f":"IF(A34=\"\",\"\",VLOOKUP(A34,Data!G$2:K$302,4,FALSE))","v":""},null,null,null,null,null,null,null,null,null,null,null,null,null,null,null,null,null,null,null,null,null,null,null,null,0,null,{"$f":"MATCH(\"*\"&AC$1&\"*\",OFFSET(Inscriptions!W$4:W$303,SUM(Combo!AF$6:'Combo'!AF33),0),0)","v":{"$error":"#N/A"}}]
[{"$f":"IF(ISNA(INDEX(Inscriptions!A$4:A$303,SUM(Combo!AF$7:'Combo'!AF35))),\"\",INDEX(Inscriptions!A$4:A$303,SUM(Combo!AF$7:'Combo'!AF35)))","v":""},{"$f":"IF(A35=\"\",\"\",VLOOKUP(A35,Data!G$2:K$302,5,FALSE))","v":""},{"$f":"IF(A35=\"\",\"\",VLOOKUP(A35,Data!G$2:K$302,2,FALSE))","v":""},{"$f":"IF(A35=\"\",\"\",VLOOKUP(A35,Data!G$2:K$302,3,FALSE))","v":""},{"$f":"IF(A35=\"\",\"\",VLOOKUP(A35,Data!G$2:K$302,4,FALSE))","v":""},null,null,null,null,null,null,null,null,null,null,null,null,null,null,null,null,null,null,null,null,null,null,null,null,0,null,{"$f":"MATCH(\"*\"&AC$1&\"*\",OFFSET(Inscriptions!W$4:W$303,SUM(Combo!AF$6:'Combo'!AF34),0),0)","v":{"$error":"#N/A"}}]
[{"$f":"IF(ISNA(INDEX(Inscriptions!A$4:A$303,SUM(Combo!AF$7:'Combo'!AF36))),\"\",INDEX(Inscriptions!A$4:A$303,SUM(Combo!AF$7:'Combo'!AF36)))","v":""},{"$f":"IF(A36=\"\",\"\",VLOOKUP(A36,Data!G$2:K$302,5,FALSE))","v":""},{"$f":"IF(A36=\"\",\"\",VLOOKUP(A36,Data!G$2:K$302,2,FALSE))","v":""},{"$f":"IF(A36=\"\",\"\",VLOOKUP(A36,Data!G$2:K$302,3,FALSE))","v":""},{"$f":"IF(A36=\"\",\"\",VLOOKUP(A36,Data!G$2:K$302,4,FALSE))","v":""},null,null,null,null,null,null,null,null,null,null,null,null,null,null,null,null,null,null,null,null,null,null,null,null,0,null,{"$f":"MATCH(\"*\"&AC$1&\"*\",OFFSET(Inscriptions!W$4:W$303,SUM(Combo!AF$6:'Combo'!AF35),0),0)","v":{"$error":"#N/A"}}]
[{"$f":"IF(ISNA(INDEX(Inscriptions!A$4:A$303,SUM(Combo!AF$7:'Combo'!AF37))),\"\",INDEX(Inscriptions!A$4:A$303,SUM(Combo!AF$7:'Combo'!AF37)))","v":""},{"$f":"IF(A37=\"\",\"\",VLOOKUP(A37,Data!G$2:K$302,5,FALSE))","v":""},{"$f":"IF(A37=\"\",\"\",VLOOKUP(A37,Data!G$2:K$302,2,FALSE))","v":""},{"$f":"IF(A37=\"\",\"\",VLOOKUP(A37,Data!G$2:K$302,3,FALSE))","v":""},{"$f":"IF(A37=\"\",\"\",VLOOKUP(A37,Data!G$2:K$302,4,FALSE))","v":""},null,null,null,null,null,null,null,null,null,null,null,null,null,null,null,null,null,null,null,null,null,null,null,null,0,null,{"$f":"MATCH(\"*\"&AC$1&\"*\",OFFSET(Inscriptions!W$4:W$303,SUM(Combo!AF$6:'Combo'!AF36),0),0)","v":{"$error":"#N/A"}}]
[{"$f":"IF(ISNA(INDEX(Inscriptions!A$4:A$303,SUM(Combo!AF$7:'Combo'!AF38))),\"\",INDEX(Inscriptions!A$4:A$303,SUM(Combo!AF$7:'Combo'!AF38)))","v":""},{"$f":"IF(A38=\"\",\"\",VLOOKUP(A38,Data!G$2:K$302,5,FALSE))","v":""},{"$f":"IF(A38=\"\",\"\",VLOOKUP(A38,Data!G$2:K$302,2,FALSE))","v":""},{"$f":"IF(A38=\"\",\"\",VLOOKUP(A38,Data!G$2:K$302,3,FALSE))","v":""},{"$f":"IF(A38=\"\",\"\",VLOOKUP(A38,Data!G$2:K$302,4,FALSE))","v":""},null,null,null,null,null,null,null,null,null,null,null,null,null,null,null,null,null,null,null,null,null,null,null,null,0,null,{"$f":"MATCH(\"*\"&AC$1&\"*\",OFFSET(Inscriptions!W$4:W$303,SUM(Combo!AF$6:'Combo'!AF37),0),0)","v":{"$error":"#N/A"}}]
[{"$f":"IF(ISNA(INDEX(Inscriptions!A$4:A$303,SUM(Combo!AF$7:'Combo'!AF39))),\"\",INDEX(Inscriptions!A$4:A$303,SUM(Combo!AF$7:'Combo'!AF39)))","v":""},{"$f":"IF(A39=\"\",\"\",VLOOKUP(A39,Data!G$2:K$302,5,FALSE))","v":""},{"$f":"IF(A39=\"\",\"\",VLOOKUP(A39,Data!G$2:K$302,2,FALSE))","v":""},{"$f":"IF(A39=\"\",\"\",VLOOKUP(A39,Data!G$2:K$302,3,FALSE))","v":""},{"$f":"IF(A39=\"\",\"\",VLOOKUP(A39,Data!G$2:K$302,4,FALSE))","v":""},null,null,null,null,null,null,null,null,null,null,null,null,null,null,null,null,null,null,null,null,null,null,null,null,0,null,{"$f":"MATCH(\"*\"&AC$1&\"*\",OFFSET(Inscriptions!W$4:W$303,SUM(Combo!AF$6:'Combo'!AF38),0),0)","v":{"$error":"#N/A"}}]
[{"$f":"IF(ISNA(INDEX(Inscriptions!A$4:A$303,SUM(Combo!AF$7:'Combo'!AF40))),\"\",INDEX(Inscriptions!A$4:A$303,SUM(Combo!AF$7:'Combo'!AF40)))","v":""},{"$f":"IF(A40=\"\",\"\",VLOOKUP(A40,Data!G$2:K$302,5,FALSE))","v":""},{"$f":"IF(A40=\"\",\"\",VLOOKUP(A40,Data!G$2:K$302,2,FALSE))","v":""},{"$f":"IF(A40=\"\",\"\",VLOOKUP(A40,Data!G$2:K$302,3,FALSE))","v":""},{"$f":"IF(A40=\"\",\"\",VLOOKUP(A40,Data!G$2:K$302,4,FALSE))","v":""},null,null,null,null,null,null,null,null,null,null,null,null,null,null,null,null,null,null,null,null,null,null,null,null,0,null,{"$f":"MATCH(\"*\"&AC$1&\"*\",OFFSET(Inscriptions!W$4:W$303,SUM(Combo!AF$6:'Combo'!AF39),0),0)","v":{"$error":"#N/A"}}]
[{"$f":"IF(ISNA(INDEX(Inscriptions!A$4:A$303,SUM(Combo!AF$7:'Combo'!AF41))),\"\",INDEX(Inscriptions!A$4:A$303,SUM(Combo!AF$7:'Combo'!AF41)))","v":""},{"$f":"IF(A41=\"\",\"\",VLOOKUP(A41,Data!G$2:K$302,5,FALSE))","v":""},{"$f":"IF(A41=\"\",\"\",VLOOKUP(A41,Data!G$2:K$302,2,FALSE))","v":""},{"$f":"IF(A41=\"\",\"\",VLOOKUP(A41,Data!G$2:K$302,3,FALSE))","v":""},{"$f":"IF(A41=\"\",\"\",VLOOKUP(A41,Data!G$2:K$302,4,FALSE))","v":""},null,null,null,null,null,null,null,null,null,null,null,null,null,null,null,null,null,null,null,null,null,null,null,null,0,null,{"$f":"MATCH(\"*\"&AC$1&\"*\",OFFSET(Inscriptions!W$4:W$303,SUM(Combo!AF$6:'Combo'!AF40),0),0)","v":{"$error":"#N/A"}}]
[{"$f":"IF(ISNA(INDEX(Inscriptions!A$4:A$303,SUM(Combo!AF$7:'Combo'!AF42))),\"\",INDEX(Inscriptions!A$4:A$303,SUM(Combo!AF$7:'Combo'!AF42)))","v":""},{"$f":"IF(A42=\"\",\"\",VLOOKUP(A42,Data!G$2:K$302,5,FALSE))","v":""},{"$f":"IF(A42=\"\",\"\",VLOOKUP(A42,Data!G$2:K$302,2,FALSE))","v":""},{"$f":"IF(A42=\"\",\"\",VLOOKUP(A42,Data!G$2:K$302,3,FALSE))","v":""},{"$f":"IF(A42=\"\",\"\",VLOOKUP(A42,Data!G$2:K$302,4,FALSE))","v":""},null,null,null,null,null,null,null,null,null,null,null,null,null,null,null,null,null,null,null,null,null,null,null,null,0,null,{"$f":"MATCH(\"*\"&AC$1&\"*\",OFFSET(Inscriptions!W$4:W$303,SUM(Combo!AF$6:'Combo'!AF41),0),0)","v":{"$error":"#N/A"}}]
[{"$f":"IF(ISNA(INDEX(Inscriptions!A$4:A$303,SUM(Combo!AF$7:'Combo'!AF43))),\"\",INDEX(Inscriptions!A$4:A$303,SUM(Combo!AF$7:'Combo'!AF43)))","v":""},{"$f":"IF(A43=\"\",\"\",VLOOKUP(A43,Data!G$2:K$302,5,FALSE))","v":""},{"$f":"IF(A43=\"\",\"\",VLOOKUP(A43,Data!G$2:K$302,2,FALSE))","v":""},{"$f":"IF(A43=\"\",\"\",VLOOKUP(A43,Data!G$2:K$302,3,FALSE))","v":""},{"$f":"IF(A43=\"\",\"\",VLOOKUP(A43,Data!G$2:K$302,4,FALSE))","v":""},null,null,null,null,null,null,null,null,null,null,null,null,null,null,null,null,null,null,null,null,null,null,null,null,0,null,{"$f":"MATCH(\"*\"&AC$1&\"*\",OFFSET(Inscriptions!W$4:W$303,SUM(Combo!AF$6:'Combo'!AF42),0),0)","v":{"$error":"#N/A"}}]
[{"$f":"IF(ISNA(INDEX(Inscriptions!A$4:A$303,SUM(Combo!AF$7:'Combo'!AF44))),\"\",INDEX(Inscriptions!A$4:A$303,SUM(Combo!AF$7:'Combo'!AF44)))","v":""},{"$f":"IF(A44=\"\",\"\",VLOOKUP(A44,Data!G$2:K$302,5,FALSE))","v":""},{"$f":"IF(A44=\"\",\"\",VLOOKUP(A44,Data!G$2:K$302,2,FALSE))","v":""},{"$f":"IF(A44=\"\",\"\",VLOOKUP(A44,Data!G$2:K$302,3,FALSE))","v":""},{"$f":"IF(A44=\"\",\"\",VLOOKUP(A44,Data!G$2:K$302,4,FALSE))","v":""},null,null,null,null,null,null,null,null,null,null,null,null,null,null,null,null,null,null,null,null,null,null,null,null,0,null,{"$f":"MATCH(\"*\"&AC$1&\"*\",OFFSET(Inscriptions!W$4:W$303,SUM(Combo!AF$6:'Combo'!AF43),0),0)","v":{"$error":"#N/A"}}]
[{"$f":"IF(ISNA(INDEX(Inscriptions!A$4:A$303,SUM(Combo!AF$7:'Combo'!AF45))),\"\",INDEX(Inscriptions!A$4:A$303,SUM(Combo!AF$7:'Combo'!AF45)))","v":""},{"$f":"IF(A45=\"\",\"\",VLOOKUP(A45,Data!G$2:K$302,5,FALSE))","v":""},{"$f":"IF(A45=\"\",\"\",VLOOKUP(A45,Data!G$2:K$302,2,FALSE))","v":""},{"$f":"IF(A45=\"\",\"\",VLOOKUP(A45,Data!G$2:K$302,3,FALSE))","v":""},{"$f":"IF(A45=\"\",\"\",VLOOKUP(A45,Data!G$2:K$302,4,FALSE))","v":""},null,null,null,null,null,null,null,null,null,null,null,null,null,null,null,null,null,null,null,null,null,null,null,null,0,null,{"$f":"MATCH(\"*\"&AC$1&\"*\",OFFSET(Inscriptions!W$4:W$303,SUM(Combo!AF$6:'Combo'!AF44),0),0)","v":{"$error":"#N/A"}}]
[{"$f":"IF(ISNA(INDEX(Inscriptions!A$4:A$303,SUM(Combo!AF$7:'Combo'!AF46))),\"\",INDEX(Inscriptions!A$4:A$303,SUM(Combo!AF$7:'Combo'!AF46)))","v":""},{"$f":"IF(A46=\"\",\"\",VLOOKUP(A46,Data!G$2:K$302,5,FALSE))","v":""},{"$f":"IF(A46=\"\",\"\",VLOOKUP(A46,Data!G$2:K$302,2,FALSE))","v":""},{"$f":"IF(A46=\"\",\"\",VLOOKUP(A46,Data!G$2:K$302,3,FALSE))","v":""},{"$f":"IF(A46=\"\",\"\",VLOOKUP(A46,Data!G$2:K$302,4,FALSE))","v":""},null,null,null,null,null,null,null,null,null,null,null,null,null,null,null,null,null,null,null,null,null,null,null,null,0,null,{"$f":"MATCH(\"*\"&AC$1&\"*\",OFFSET(Inscriptions!W$4:W$303,SUM(Combo!AF$6:'Combo'!AF45),0),0)","v":{"$error":"#N/A"}}]
[{"$f":"IF(ISNA(INDEX(Inscriptions!A$4:A$303,SUM(Combo!AF$7:'Combo'!AF47))),\"\",INDEX(Inscriptions!A$4:A$303,SUM(Combo!AF$7:'Combo'!AF47)))","v":""},{"$f":"IF(A47=\"\",\"\",VLOOKUP(A47,Data!G$2:K$302,5,FALSE))","v":""},{"$f":"IF(A47=\"\",\"\",VLOOKUP(A47,Data!G$2:K$302,2,FALSE))","v":""},{"$f":"IF(A47=\"\",\"\",VLOOKUP(A47,Data!G$2:K$302,3,FALSE))","v":""},{"$f":"IF(A47=\"\",\"\",VLOOKUP(A47,Data!G$2:K$302,4,FALSE))","v":""},null,null,null,null,null,null,null,null,null,null,null,null,null,null,null,null,null,null,null,null,null,null,null,null,0,null,{"$f":"MATCH(\"*\"&AC$1&\"*\",OFFSET(Inscriptions!W$4:W$303,SUM(Combo!AF$6:'Combo'!AF46),0),0)","v":{"$error":"#N/A"}}]
[{"$f":"IF(ISNA(INDEX(Inscriptions!A$4:A$303,SUM(Combo!AF$7:'Combo'!AF48))),\"\",INDEX(Inscriptions!A$4:A$303,SUM(Combo!AF$7:'Combo'!AF48)))","v":""},{"$f":"IF(A48=\"\",\"\",VLOOKUP(A48,Data!G$2:K$302,5,FALSE))","v":""},{"$f":"IF(A48=\"\",\"\",VLOOKUP(A48,Data!G$2:K$302,2,FALSE))","v":""},{"$f":"IF(A48=\"\",\"\",VLOOKUP(A48,Data!G$2:K$302,3,FALSE))","v":""},{"$f":"IF(A48=\"\",\"\",VLOOKUP(A48,Data!G$2:K$302,4,FALSE))","v":""},null,null,null,null,null,null,null,null,null,null,null,null,null,null,null,null,null,null,null,null,null,null,null,null,0,null,{"$f":"MATCH(\"*\"&AC$1&\"*\",OFFSET(Inscriptions!W$4:W$303,SUM(Combo!AF$6:'Combo'!AF47),0),0)","v":{"$error":"#N/A"}}]
[{"$f":"IF(ISNA(INDEX(Inscriptions!A$4:A$303,SUM(Combo!AF$7:'Combo'!AF49))),\"\",INDEX(Inscriptions!A$4:A$303,SUM(Combo!AF$7:'Combo'!AF49)))","v":""},{"$f":"IF(A49=\"\",\"\",VLOOKUP(A49,Data!G$2:K$302,5,FALSE))","v":""},{"$f":"IF(A49=\"\",\"\",VLOOKUP(A49,Data!G$2:K$302,2,FALSE))","v":""},{"$f":"IF(A49=\"\",\"\",VLOOKUP(A49,Data!G$2:K$302,3,FALSE))","v":""},{"$f":"IF(A49=\"\",\"\",VLOOKUP(A49,Data!G$2:K$302,4,FALSE))","v":""},null,null,null,null,null,null,null,null,null,null,null,null,null,null,null,null,null,null,null,null,null,null,null,null,0,null,{"$f":"MATCH(\"*\"&AC$1&\"*\",OFFSET(Inscriptions!W$4:W$303,SUM(Combo!AF$6:'Combo'!AF48),0),0)","v":{"$error":"#N/A"}}]
[{"$f":"IF(ISNA(INDEX(Inscriptions!A$4:A$303,SUM(Combo!AF$7:'Combo'!AF50))),\"\",INDEX(Inscriptions!A$4:A$303,SUM(Combo!AF$7:'Combo'!AF50)))","v":""},{"$f":"IF(A50=\"\",\"\",VLOOKUP(A50,Data!G$2:K$302,5,FALSE))","v":""},{"$f":"IF(A50=\"\",\"\",VLOOKUP(A50,Data!G$2:K$302,2,FALSE))","v":""},{"$f":"IF(A50=\"\",\"\",VLOOKUP(A50,Data!G$2:K$302,3,FALSE))","v":""},{"$f":"IF(A50=\"\",\"\",VLOOKUP(A50,Data!G$2:K$302,4,FALSE))","v":""},null,null,null,null,null,null,null,null,null,null,null,null,null,null,null,null,null,null,null,null,null,null,null,null,0,null,{"$f":"MATCH(\"*\"&AC$1&\"*\",OFFSET(Inscriptions!W$4:W$303,SUM(Combo!AF$6:'Combo'!AF49),0),0)","v":{"$error":"#N/A"}}]
[{"$f":"IF(ISNA(INDEX(Inscriptions!A$4:A$303,SUM(Combo!AF$7:'Combo'!AF51))),\"\",INDEX(Inscriptions!A$4:A$303,SUM(Combo!AF$7:'Combo'!AF51)))","v":""},{"$f":"IF(A51=\"\",\"\",VLOOKUP(A51,Data!G$2:K$302,5,FALSE))","v":""},{"$f":"IF(A51=\"\",\"\",VLOOKUP(A51,Data!G$2:K$302,2,FALSE))","v":""},{"$f":"IF(A51=\"\",\"\",VLOOKUP(A51,Data!G$2:K$302,3,FALSE))","v":""},{"$f":"IF(A51=\"\",\"\",VLOOKUP(A51,Data!G$2:K$302,4,FALSE))","v":""},null,null,null,null,null,null,null,null,null,null,null,null,null,null,null,null,null,null,null,null,null,null,null,null,0,null,{"$f":"MATCH(\"*\"&AC$1&\"*\",OFFSET(Inscriptions!W$4:W$303,SUM(Combo!AF$6:'Combo'!AF50),0),0)","v":{"$error":"#N/A"}}]
[{"$f":"IF(ISNA(INDEX(Inscriptions!A$4:A$303,SUM(Combo!AF$7:'Combo'!AF52))),\"\",INDEX(Inscriptions!A$4:A$303,SUM(Combo!AF$7:'Combo'!AF52)))","v":""},{"$f":"IF(A52=\"\",\"\",VLOOKUP(A52,Data!G$2:K$302,5,FALSE))","v":""},{"$f":"IF(A52=\"\",\"\",VLOOKUP(A52,Data!G$2:K$302,2,FALSE))","v":""},{"$f":"IF(A52=\"\",\"\",VLOOKUP(A52,Data!G$2:K$302,3,FALSE))","v":""},{"$f":"IF(A52=\"\",\"\",VLOOKUP(A52,Data!G$2:K$302,4,FALSE))","v":""},null,null,null,null,null,null,null,null,null,null,null,null,null,null,null,null,null,null,null,null,null,null,null,null,0,null,{"$f":"MATCH(\"*\"&AC$1&\"*\",OFFSET(Inscriptions!W$4:W$303,SUM(Combo!AF$6:'Combo'!AF51),0),0)","v":{"$error":"#N/A"}}]
[{"$f":"IF(ISNA(INDEX(Inscriptions!A$4:A$303,SUM(Combo!AF$7:'Combo'!AF53))),\"\",INDEX(Inscriptions!A$4:A$303,SUM(Combo!AF$7:'Combo'!AF53)))","v":""},{"$f":"IF(A53=\"\",\"\",VLOOKUP(A53,Data!G$2:K$302,5,FALSE))","v":""},{"$f":"IF(A53=\"\",\"\",VLOOKUP(A53,Data!G$2:K$302,2,FALSE))","v":""},{"$f":"IF(A53=\"\",\"\",VLOOKUP(A53,Data!G$2:K$302,3,FALSE))","v":""},{"$f":"IF(A53=\"\",\"\",VLOOKUP(A53,Data!G$2:K$302,4,FALSE))","v":""},null,null,null,null,null,null,null,null,null,null,null,null,null,null,null,null,null,null,null,null,null,null,null,null,0,null,{"$f":"MATCH(\"*\"&AC$1&\"*\",OFFSET(Inscriptions!W$4:W$303,SUM(Combo!AF$6:'Combo'!AF52),0),0)","v":{"$error":"#N/A"}}]
[{"$f":"IF(ISNA(INDEX(Inscriptions!A$4:A$303,SUM(Combo!AF$7:'Combo'!AF54))),\"\",INDEX(Inscriptions!A$4:A$303,SUM(Combo!AF$7:'Combo'!AF54)))","v":""},{"$f":"IF(A54=\"\",\"\",VLOOKUP(A54,Data!G$2:K$302,5,FALSE))","v":""},{"$f":"IF(A54=\"\",\"\",VLOOKUP(A54,Data!G$2:K$302,2,FALSE))","v":""},{"$f":"IF(A54=\"\",\"\",VLOOKUP(A54,Data!G$2:K$302,3,FALSE))","v":""},{"$f":"IF(A54=\"\",\"\",VLOOKUP(A54,Data!G$2:K$302,4,FALSE))","v":""},null,null,null,null,null,null,null,null,null,null,null,null,null,null,null,null,null,null,null,null,null,null,null,null,0,null,{"$f":"MATCH(\"*\"&AC$1&\"*\",OFFSET(Inscriptions!W$4:W$303,SUM(Combo!AF$6:'Combo'!AF53),0),0)","v":{"$error":"#N/A"}}]
[{"$f":"IF(ISNA(INDEX(Inscriptions!A$4:A$303,SUM(Combo!AF$7:'Combo'!AF55))),\"\",INDEX(Inscriptions!A$4:A$303,SUM(Combo!AF$7:'Combo'!AF55)))","v":""},{"$f":"IF(A55=\"\",\"\",VLOOKUP(A55,Data!G$2:K$302,5,FALSE))","v":""},{"$f":"IF(A55=\"\",\"\",VLOOKUP(A55,Data!G$2:K$302,2,FALSE))","v":""},{"$f":"IF(A55=\"\",\"\",VLOOKUP(A55,Data!G$2:K$302,3,FALSE))","v":""},{"$f":"IF(A55=\"\",\"\",VLOOKUP(A55,Data!G$2:K$302,4,FALSE))","v":""},null,null,null,null,null,null,null,null,null,null,null,null,null,null,null,null,null,null,null,null,null,null,null,null,0,null,{"$f":"MATCH(\"*\"&AC$1&\"*\",OFFSET(Inscriptions!W$4:W$303,SUM(Combo!AF$6:'Combo'!AF54),0),0)","v":{"$error":"#N/A"}}]
[{"$f":"CONCATENATE(IF(ChoixLangue=Languages!$B$1,Languages!$B105,IF(ChoixLangue=Languages!$C$1,Languages!$C105,IF(ChoixLangue=Languages!$D$1,Languages!$D105,Languages!$E105))),SUM(AD7:AD55))","v":"Nbe nageuses : 0"},"-","-","-",null,null,"-","-","-"]

{"sheet":"Highlight","index":25,"n_rows":56,"n_cols":28,"rows_kept":56,"cut":false,"hidden":true,"merged":[[1,5,1,7],[3,0,3,7]]}
[{"$f":"IF('Cover Page'!B5=\"\",\"\",'Cover Page'!B5)","v":""},null,null,null,null,null,null,null,null,null,null,null,null,null,null,null,null,null,null,null,null,null,null,null,"x",null,null,{"$f":"MID(CELL(\"filename\",A1),FIND(\"]\",CELL(\"filename\",A1),1)+1,20)","v":"Highlight"}]
[{"$f":"IF('Cover Page'!B6=\"\",\"\",'Cover Page'!B6)","v":""},null,null,null,null,{"$f":"IF(ChoixLangue=Languages!$B$1,CONCATENATE(Languages!$B$97,\" \",AB1),IF(ChoixLangue=Languages!$C$1,CONCATENATE(Languages!$C$97,\" \",AB1),IF(ChoixLangue=Languages!$D$1,CONCATENATE(Languages!$D$97,\" \",AB1),CONCATENATE(Languages!$E$97,\" \",AB1))))","v":"Catégorie Highlight"}]
[{"$f":"IF('Cover Page'!B7=\"\",\"\",'Cover Page'!B7)","v":""}]
[{"$f":"IF('Cover Page'!B10=\"\",\"\",CONCATENATE(IF(ChoixLangue=Languages!$B$1,Languages!$B98,IF(ChoixLangue=Languages!$C$1,Languages!$C98,IF(ChoixLangue=Languages!$D$1,Languages!$D98,Languages!$E98))),'Cover Page'!B10))","v":""}]
[{"$f":"A56","v":"Nbe nageuses : 0"}]
[{"$f":"IF(ChoixLangue=Languages!$B$1,Languages!$B99,IF(ChoixLangue=Languages!$C$1,Languages!$C99,IF(ChoixLangue=Languages!$D$1,Languages!$D99,Languages!$E99)))","v":"NOM Prénom"},{"$f":"IF(ChoixLangue=Languages!$B$1,Languages!$B100,IF(ChoixLangue=Languages!$C$1,Languages!$C100,IF(ChoixLangue=Languages!$D$1,Languages!$D100,Languages!$E100)))","v":"Club"},{"$f":"IF(ChoixLangue=Languages!$B$1,Languages!$B101,IF(ChoixLangue=Languages!$C$1,Languages!$C101,IF(ChoixLangue=Languages!$D$1,Languages!$D101,Languages!$E101)))","v":"Licence"},{"$f":"IF(ChoixLangue=Languages!$B$1,Languages!$B102,IF(ChoixLangue=Languages!$C$1,Languages!$C102,IF(ChoixLangue=Languages!$D$1,Languages!$D102,Languages!$E102)))","v":"An. Nais."},{"$f":"IF(ChoixLangue=Languages!$B$1,Languages!$B103,IF(ChoixLangue=Languages!$C$1,Languages!$C103,IF(ChoixLangue=Languages!$D$1,Languages!$D103,Languages!$E103)))","v":"N° Test"},"Juniors","Seniors","All categories"]
[{"$f":"IF(ISNA(INDEX(Inscriptions!A$4:A$303,SUM(Highlight!AB$7:'Highlight'!AB7))),\"\",INDEX(Inscriptions!A$4:A$303,SUM(Highlight!AB$7:'Highlight'!AB7)))","v":""},{"$f":"IF(A7=\"\",\"\",VLOOKUP(A7,Data!G$2:K$302,5,FALSE))","v":""},{"$f":"IF(A7=\"\",\"\",VLOOKUP(A7,Data!G$2:K$302,2,FALSE))","v":""},{"$f":"IF(A7=\"\",\"\",VLOOKUP(A7,Data!G$2:K$302,3,FALSE))","v":""},{"$f":"IF(A7=\"\",\"\",VLOOKUP(A7,Data!G$2:K$302,4,FALSE))","v":""},null,null,null,null,null,null,null,null,null,null,null,null,null,null,null,null,null,null,null,null,{"$f":"IF(A7<>\"\",1,0)","v":0},null,{"$f":"MATCH(\"*\"&Y$1&\"*\",OFFSET(Inscriptions!M$4:M$303,SUM(Highlight!AB$6:'Highlight'!AB6),0),0)","v":{"$error":"#N/A"}}]
[{"$f":"IF(ISNA(INDEX(Inscriptions!A$4:A$303,SUM(Highlight!AB$7:'Highlight'!AB8))),\"\",INDEX(Inscriptions!A$4:A$303,SUM(Highlight!AB$7:'Highlight'!AB8)))","v":""},{"$f":"IF(A8=\"\",\"\",VLOOKUP(A8,Data!G$2:K$302,5,FALSE))","v":""},{"$f":"IF(A8=\"\",\"\",VLOOKUP(A8,Data!G$2:K$302,2,FALSE))","v":""},{"$f":"IF(A8=\"\",\"\",VLOOKUP(A8,Data!G$2:K$302,3,FALSE))","v":""},{"$f":"IF(A8=\"\",\"\",VLOOKUP(A8,Data!G$2:K$302,4,FALSE))","v":""},null,null,null,null,null,null,null,null,null,null,null,null,null,null,null,null,null,null,null,null,{"$f":"IF(A8<>\"\",1,0)","v":0},null,{"$f":"MATCH(\"*\"&Y$1&\"*\",OFFSET(Inscriptions!M$4:M$303,SUM(Highlight!AB$6:'Highlight'!AB7),0),0)","v":{"$error":"#N/A"}}]
[{"$f":"IF(ISNA(INDEX(Inscriptions!A$4:A$303,SUM(Highlight!AB$7:'Highlight'!AB9))),\"\",INDEX(Inscriptions!A$4:A$303,SUM(Highlight!AB$7:'Highlight'!AB9)))","v":""},{"$f":"IF(A9=\"\",\"\",VLOOKUP(A9,Data!G$2:K$302,5,FALSE))","v":""},{"$f":"IF(A9=\"\",\"\",VLOOKUP(A9,Data!G$2:K$302,2,FALSE))","v":""},{"$f":"IF(A9=\"\",\"\",VLOOKUP(A9,Data!G$2:K$302,3,FALSE))","v":""},{"$f":"IF(A9=\"\",\"\",VLOOKUP(A9,Data!G$2:K$302,4,FALSE))","v":""},null,null,null,null,null,null,null,null,null,null,null,null,null,null,null,null,null,null,null,null,{"$f":"IF(A9<>\"\",1,0)","v":0},null,{"$f":"MATCH(\"*\"&Y$1&\"*\",OFFSET(Inscriptions!M$4:M$303,SUM(Highlight!AB$6:'Highlight'!AB8),0),0)","v":{"$error":"#N/A"}}]
[{"$f":"IF(ISNA(INDEX(Inscriptions!A$4:A$303,SUM(Highlight!AB$7:'Highlight'!AB10))),\"\",INDEX(Inscriptions!A$4:A$303,SUM(Highlight!AB$7:'Highlight'!AB10)))","v":""},{"$f":"IF(A10=\"\",\"\",VLOOKUP(A10,Data!G$2:K$302,5,FALSE))","v":""},{"$f":"IF(A10=\"\",\"\",VLOOKUP(A10,Data!G$2:K$302,2,FALSE))","v":""},{"$f":"IF(A10=\"\",\"\",VLOOKUP(A10,Data!G$2:K$302,3,FALSE))","v":""},{"$f":"IF(A10=\"\",\"\",VLOOKUP(A10,Data!G$2:K$302,4,FALSE))","v":""},null,null,null,null,null,null,null,null,null,null,null,null,null,null,null,null,null,null,null,null,0,null,{"$f":"MATCH(\"*\"&Y$1&\"*\",OFFSET(Inscriptions!M$4:M$303,SUM(Highlight!AB$6:'Highlight'!AB9),0),0)","v":{"$error":"#N/A"}}]
[{"$f":"IF(ISNA(INDEX(Inscriptions!A$4:A$303,SUM(Highlight!AB$7:'Highlight'!AB11))),\"\",INDEX(Inscriptions!A$4:A$303,SUM(Highlight!AB$7:'Highlight'!AB11)))","v":""},{"$f":"IF(A11=\"\",\"\",VLOOKUP(A11,Data!G$2:K$302,5,FALSE))","v":""},{"$f":"IF(A11=\"\",\"\",VLOOKUP(A11,Data!G$2:K$302,2,FALSE))","v":""},{"$f":"IF(A11=\"\",\"\",VLOOKUP(A11,Data!G$2:K$302,3,FALSE))","v":""},{"$f":"IF(A11=\"\",\"\",VLOOKUP(A11,Data!G$2:K$302,4,FALSE))","v":""},null,null,null,null,null,null,null,null,null,null,null,null,null,null,null,null,null,null,null,null,0,null,{"$f":"MATCH(\"*\"&Y$1&\"*\",OFFSET(Inscriptions!M$4:M$303,SUM(Highlight!AB$6:'Highlight'!AB10),0),0)","v":{"$error":"#N/A"}}]
[{"$f":"IF(ISNA(INDEX(Inscriptions!A$4:A$303,SUM(Highlight!AB$7:'Highlight'!AB12))),\"\",INDEX(Inscriptions!A$4:A$303,SUM(Highlight!AB$7:'Highlight'!AB12)))","v":""},{"$f":"IF(A12=\"\",\"\",VLOOKUP(A12,Data!G$2:K$302,5,FALSE))","v":""},{"$f":"IF(A12=\"\",\"\",VLOOKUP(A12,Data!G$2:K$302,2,FALSE))","v":""},{"$f":"IF(A12=\"\",\"\",VLOOKUP(A12,Data!G$2:K$302,3,FALSE))","v":""},{"$f":"IF(A12=\"\",\"\",VLOOKUP(A12,Data!G$2:K$302,4,FALSE))","v":""},null,null,null,null,null,null,null,null,null,null,null,null,null,null,null,null,null,null,null,null,0,null,{"$f":"MATCH(\"*\"&Y$1&\"*\",OFFSET(Inscriptions!M$4:M$303,SUM(Highlight!AB$6:'Highlight'!AB11),0),0)","v":{"$error":"#N/A"}}]
[{"$f":"IF(ISNA(INDEX(Inscriptions!A$4:A$303,SUM(Highlight!AB$7:'Highlight'!AB13))),\"\",INDEX(Inscriptions!A$4:A$303,SUM(Highlight!AB$7:'Highlight'!AB13)))","v":""},{"$f":"IF(A13=\"\",\"\",VLOOKUP(A13,Data!G$2:K$302,5,FALSE))","v":""},{"$f":"IF(A13=\"\",\"\",VLOOKUP(A13,Data!G$2:K$302,2,FALSE))","v":""},{"$f":"IF(A13=\"\",\"\",VLOOKUP(A13,Data!G$2:K$302,3,FALSE))","v":""},{"$f":"IF(A13=\"\",\"\",VLOOKUP(A13,Data!G$2:K$302,4,FALSE))","v":""},null,null,null,null,null,null,null,null,null,null,null,null,null,null,null,null,null,null,null,null,0,null,{"$f":"MATCH(\"*\"&Y$1&\"*\",OFFSET(Inscriptions!M$4:M$303,SUM(Highlight!AB$6:'Highlight'!AB12),0),0)","v":{"$error":"#N/A"}}]
[{"$f":"IF(ISNA(INDEX(Inscriptions!A$4:A$303,SUM(Highlight!AB$7:'Highlight'!AB14))),\"\",INDEX(Inscriptions!A$4:A$303,SUM(Highlight!AB$7:'Highlight'!AB14)))","v":""},{"$f":"IF(A14=\"\",\"\",VLOOKUP(A14,Data!G$2:K$302,5,FALSE))","v":""},{"$f":"IF(A14=\"\",\"\",VLOOKUP(A14,Data!G$2:K$302,2,FALSE))","v":""},{"$f":"IF(A14=\"\",\"\",VLOOKUP(A14,Data!G$2:K$302,3,FALSE))","v":""},{"$f":"IF(A14=\"\",\"\",VLOOKUP(A14,Data!G$2:K$302,4,FALSE))","v":""},null,null,null,null,null,null,null,null,null,null,null,null,null,null,null,null,null,null,null,null,0,null,{"$f":"MATCH(\"*\"&Y$1&\"*\",OFFSET(Inscriptions!M$4:M$303,SUM(Highlight!AB$6:'Highlight'!AB13),0),0)","v":{"$error":"#N/A"}}]
[{"$f":"IF(ISNA(INDEX(Inscriptions!A$4:A$303,SUM(Highlight!AB$7:'Highlight'!AB15))),\"\",INDEX(Inscriptions!A$4:A$303,SUM(Highlight!AB$7:'Highlight'!AB15)))","v":""},{"$f":"IF(A15=\"\",\"\",VLOOKUP(A15,Data!G$2:K$302,5,FALSE))","v":""},{"$f":"IF(A15=\"\",\"\",VLOOKUP(A15,Data!G$2:K$302,2,FALSE))","v":""},{"$f":"IF(A15=\"\",\"\",VLOOKUP(A15,Data!G$2:K$302,3,FALSE))","v":""},{"$f":"IF(A15=\"\",\"\",VLOOKUP(A15,Data!G$2:K$302,4,FALSE))","v":""},null,null,null,null,null,null,null,null,null,null,null,null,null,null,null,null,null,null,null,null,0,null,{"$f":"MATCH(\"*\"&Y$1&\"*\",OFFSET(Inscriptions!M$4:M$303,SUM(Highlight!AB$6:'Highlight'!AB14),0),0)","v":{"$error":"#N/A"}}]
[{"$f":"IF(ISNA(INDEX(Inscriptions!A$4:A$303,SUM(Highlight!AB$7:'Highlight'!AB16))),\"\",INDEX(Inscriptions!A$4:A$303,SUM(Highlight!AB$7:'Highlight'!AB16)))","v":""},{"$f":"IF(A16=\"\",\"\",VLOOKUP(A16,Data!G$2:K$302,5,FALSE))","v":""},{"$f":"IF(A16=\"\",\"\",VLOOKUP(A16,Data!G$2:K$302,2,FALSE))","v":""},{"$f":"IF(A16=\"\",\"\",VLOOKUP(A16,Data!G$2:K$302,3,FALSE))","v":""},{"$f":"IF(A16=\"\",\"\",VLOOKUP(A16,Data!G$2:K$302,4,FALSE))","v":""},null,null,null,null,null,null,null,null,null,null,null,null,null,null,null,null,null,null,null,null,0,null,{"$f":"MATCH(\"*\"&Y$1&\"*\",OFFSET(Inscriptions!M$4:M$303,SUM(Highlight!AB$6:'Highlight'!AB15),0),0)","v":{"$error":"#N/A"}}]
[{"$f":"IF(ISNA(INDEX(Inscriptions!A$4:A$303,SUM(Highlight!AB$7:'Highlight'!AB17))),\"\",INDEX(Inscriptions!A$4:A$303,SUM(Highlight!AB$7:'Highlight'!AB17)))","v":""},{"$f":"IF(A17=\"\",\"\",VLOOKUP(A17,Data!G$2:K$302,5,FALSE))","v":""},{"$f":"IF(A17=\"\",\"\",VLOOKUP(A17,Data!G$2:K$302,2,FALSE))","v":""},{"$f":"IF(A17=\"\",\"\",VLOOKUP(A17,Data!G$2:K$302,3,FALSE))","v":""},{"$f":"IF(A17=\"\",\"\",VLOOKUP(A17,Data!G$2:K$302,4,FALSE))","v":""},null,null,null,null,null,null,null,null,null,null,null,null,null,null,null,null,null,null,null,null,0,null,{"$f":"MATCH(\"*\"&Y$1&\"*\",OFFSET(Inscriptions!M$4:M$303,SUM(Highlight!AB$6:'Highlight'!AB16),0),0)","v":{"$error":"#N/A"}}]
[{"$f":"IF(ISNA(INDEX(Inscriptions!A$4:A$303,SUM(Highlight!AB$7:'Highlight'!AB18))),\"\",INDEX(Inscriptions!A$4:A$303,SUM(Highlight!AB$7:'Highlight'!AB18)))","v":""},{"$f":"IF(A18=\"\",\"\",VLOOKUP(A18,Data!G$2:K$302,5,FALSE))","v":""},{"$f":"IF(A18=\"\",\"\",VLOOKUP(A18,Data!G$2:K$302,2,FALSE))","v":""},{"$f":"IF(A18=\"\",\"\",VLOOKUP(A18,Data!G$2:K$302,3,FALSE))","v":""},{"$f":"IF(A18=\"\",\"\",VLOOKUP(A18,Data!G$2:K$302,4,FALSE))","v":""},null,null,null,null,null,null,null,null,null,null,null,null,null,null,null,null,null,null,null,null,0,null,{"$f":"MATCH(\"*\"&Y$1&\"*\",OFFSET(Inscriptions!M$4:M$303,SUM(Highlight!AB$6:'Highlight'!AB17),0),0)","v":{"$error":"#N/A"}}]
[{"$f":"IF(ISNA(INDEX(Inscriptions!A$4:A$303,SUM(Highlight!AB$7:'Highlight'!AB19))),\"\",INDEX(Inscriptions!A$4:A$303,SUM(Highlight!AB$7:'Highlight'!AB19)))","v":""},{"$f":"IF(A19=\"\",\"\",VLOOKUP(A19,Data!G$2:K$302,5,FALSE))","v":""},{"$f":"IF(A19=\"\",\"\",VLOOKUP(A19,Data!G$2:K$302,2,FALSE))","v":""},{"$f":"IF(A19=\"\",\"\",VLOOKUP(A19,Data!G$2:K$302,3,FALSE))","v":""},{"$f":"IF(A19=\"\",\"\",VLOOKUP(A19,Data!G$2:K$302,4,FALSE))","v":""},null,null,null,null,null,null,null,null,null,null,null,null,null,null,null,null,null,null,null,null,0,null,{"$f":"MATCH(\"*\"&Y$1&\"*\",OFFSET(Inscriptions!M$4:M$303,SUM(Highlight!AB$6:'Highlight'!AB18),0),0)","v":{"$error":"#N/A"}}]
[{"$f":"IF(ISNA(INDEX(Inscriptions!A$4:A$303,SUM(Highlight!AB$7:'Highlight'!AB20))),\"\",INDEX(Inscriptions!A$4:A$303,SUM(Highlight!AB$7:'Highlight'!AB20)))","v":""},{"$f":"IF(A20=\"\",\"\",VLOOKUP(A20,Data!G$2:K$302,5,FALSE))","v":""},{"$f":"IF(A20=\"\",\"\",VLOOKUP(A20,Data!G$2:K$302,2,FALSE))","v":""},{"$f":"IF(A20=\"\",\"\",VLOOKUP(A20,Data!G$2:K$302,3,FALSE))","v":""},{"$f":"IF(A20=\"\",\"\",VLOOKUP(A20,Data!G$2:K$302,4,FALSE))","v":""},null,null,null,null,null,null,null,null,null,null,null,null,null,null,null,null,null,null,null,null,0,null,{"$f":"MATCH(\"*\"&Y$1&\"*\",OFFSET(Inscriptions!M$4:M$303,SUM(Highlight!AB$6:'Highlight'!AB19),0),0)","v":{"$error":"#N/A"}}]
[{"$f":"IF(ISNA(INDEX(Inscriptions!A$4:A$303,SUM(Highlight!AB$7:'Highlight'!AB21))),\"\",INDEX(Inscriptions!A$4:A$303,SUM(Highlight!AB$7:'Highlight'!AB21)))","v":""},{"$f":"IF(A21=\"\",\"\",VLOOKUP(A21,Data!G$2:K$302,5,FALSE))","v":""},{"$f":"IF(A21=\"\",\"\",VLOOKUP(A21,Data!G$2:K$302,2,FALSE))","v":""},{"$f":"IF(A21=\"\",\"\",VLOOKUP(A21,Data!G$2:K$302,3,FALSE))","v":""},{"$f":"IF(A21=\"\",\"\",VLOOKUP(A21,Data!G$2:K$302,4,FALSE))","v":""},null,null,null,null,null,null,null,null,null,null,null,null,null,null,null,null,null,null,null,null,0,null,{"$f":"MATCH(\"*\"&Y$1&\"*\",OFFSET(Inscriptions!M$4:M$303,SUM(Highlight!AB$6:'Highlight'!AB20),0),0)","v":{"$error":"#N/A"}}]
[{"$f":"IF(ISNA(INDEX(Inscriptions!A$4:A$303,SUM(Highlight!AB$7:'Highlight'!AB22))),\"\",INDEX(Inscriptions!A$4:A$303,SUM(Highlight!AB$7:'Highlight'!AB22)))","v":""},{"$f":"IF(A22=\"\",\"\",VLOOKUP(A22,Data!G$2:K$302,5,FALSE))","v":""},{"$f":"IF(A22=\"\",\"\",VLOOKUP(A22,Data!G$2:K$302,2,FALSE))","v":""},{"$f":"IF(A22=\"\",\"\",VLOOKUP(A22,Data!G$2:K$302,3,FALSE))","v":""},{"$f":"IF(A22=\"\",\"\",VLOOKUP(A22,Data!G$2:K$302,4,FALSE))","v":""},null,null,null,null,null,null,null,null,null,null,null,null,null,null,null,null,null,null,null,null,0,null,{"$f":"MATCH(\"*\"&Y$1&\"*\",OFFSET(Inscriptions!M$4:M$303,SUM(Highlight!AB$6:'Highlight'!AB21),0),0)","v":{"$error":"#N/A"}}]
[{"$f":"IF(ISNA(INDEX(Inscriptions!A$4:A$303,SUM(Highlight!AB$7:'Highlight'!AB23))),\"\",INDEX(Inscriptions!A$4:A$303,SUM(Highlight!AB$7:'Highlight'!AB23)))","v":""},{"$f":"IF(A23=\"\",\"\",VLOOKUP(A23,Data!G$2:K$302,5,FALSE))","v":""},{"$f":"IF(A23=\"\",\"\",VLOOKUP(A23,Data!G$2:K$302,2,FALSE))","v":""},{"$f":"IF(A23=\"\",\"\",VLOOKUP(A23,Data!G$2:K$302,3,FALSE))","v":""},{"$f":"IF(A23=\"\",\"\",VLOOKUP(A23,Data!G$2:K$302,4,FALSE))","v":""},null,null,null,null,null,null,null,null,null,null,null,null,null,null,null,null,null,null,null,null,0,null,{"$f":"MATCH(\"*\"&Y$1&\"*\",OFFSET(Inscriptions!M$4:M$303,SUM(Highlight!AB$6:'Highlight'!AB22),0),0)","v":{"$error":"#N/A"}}]
[{"$f":"IF(ISNA(INDEX(Inscriptions!A$4:A$303,SUM(Highlight!AB$7:'Highlight'!AB24))),\"\",INDEX(Inscriptions!A$4:A$303,SUM(Highlight!AB$7:'Highlight'!AB24)))","v":""},{"$f":"IF(A24=\"\",\"\",VLOOKUP(A24,Data!G$2:K$302,5,FALSE))","v":""},{"$f":"IF(A24=\"\",\"\",VLOOKUP(A24,Data!G$2:K$302,2,FALSE))","v":""},{"$f":"IF(A24=\"\",\"\",VLOOKUP(A24,Data!G$2:K$302,3,FALSE))","v":""},{"$f":"IF(A24=\"\",\"\",VLOOKUP(A24,Data!G$2:K$302,4,FALSE))","v":""},null,null,null,null,null,null,null,null,null,null,null,null,null,null,null,null,null,null,null,null,0,null,{"$f":"MATCH(\"*\"&Y$1&\"*\",OFFSET(Inscriptions!M$4:M$303,SUM(Highlight!AB$6:'Highlight'!AB23),0),0)","v":{"$error":"#N/A"}}]
[{"$f":"IF(ISNA(INDEX(Inscriptions!A$4:A$303,SUM(Highlight!AB$7:'Highlight'!AB25))),\"\",INDEX(Inscriptions!A$4:A$303,SUM(Highlight!AB$7:'Highlight'!AB25)))","v":""},{"$f":"IF(A25=\"\",\"\",VLOOKUP(A25,Data!G$2:K$302,5,FALSE))","v":""},{"$f":"IF(A25=\"\",\"\",VLOOKUP(A25,Data!G$2:K$302,2,FALSE))","v":""},{"$f":"IF(A25=\"\",\"\",VLOOKUP(A25,Data!G$2:K$302,3,FALSE))","v":""},{"$f":"IF(A25=\"\",\"\",VLOOKUP(A25,Data!G$2:K$302,4,FALSE))","v":""},null,null,null,null,null,null,null,null,null,null,null,null,null,null,null,null,null,null,null,null,0,null,{"$f":"MATCH(\"*\"&Y$1&\"*\",OFFSET(Inscriptions!M$4:M$303,SUM(Highlight!AB$6:'Highlight'!AB24),0),0)","v":{"$error":"#N/A"}}]
[{"$f":"IF(ISNA(INDEX(Inscriptions!A$4:A$303,SUM(Highlight!AB$7:'Highlight'!AB26))),\"\",INDEX(Inscriptions!A$4:A$303,SUM(Highlight!AB$7:'Highlight'!AB26)))","v":""},{"$f":"IF(A26=\"\",\"\",VLOOKUP(A26,Data!G$2:K$302,5,FALSE))","v":""},{"$f":"IF(A26=\"\",\"\",VLOOKUP(A26,Data!G$2:K$302,2,FALSE))","v":""},{"$f":"IF(A26=\"\",\"\",VLOOKUP(A26,Data!G$2:K$302,3,FALSE))","v":""},{"$f":"IF(A26=\"\",\"\",VLOOKUP(A26,Data!G$2:K$302,4,FALSE))","v":""},null,null,null,null,null,null,null,null,null,null,null,null,null,null,null,null,null,null,null,null,0,null,{"$f":"MATCH(\"*\"&Y$1&\"*\",OFFSET(Inscriptions!M$4:M$303,SUM(Highlight!AB$6:'Highlight'!AB25),0),0)","v":{"$error":"#N/A"}}]
[{"$f":"IF(ISNA(INDEX(Inscriptions!A$4:A$303,SUM(Highlight!AB$7:'Highlight'!AB27))),\"\",INDEX(Inscriptions!A$4:A$303,SUM(Highlight!AB$7:'Highlight'!AB27)))","v":""},{"$f":"IF(A27=\"\",\"\",VLOOKUP(A27,Data!G$2:K$302,5,FALSE))","v":""},{"$f":"IF(A27=\"\",\"\",VLOOKUP(A27,Data!G$2:K$302,2,FALSE))","v":""},{"$f":"IF(A27=\"\",\"\",VLOOKUP(A27,Data!G$2:K$302,3,FALSE))","v":""},{"$f":"IF(A27=\"\",\"\",VLOOKUP(A27,Data!G$2:K$302,4,FALSE))","v":""},null,null,null,null,null,null,null,null,null,null,null,null,null,null,null,null,null,null,null,null,0,null,{"$f":"MATCH(\"*\"&Y$1&\"*\",OFFSET(Inscriptions!M$4:M$303,SUM(Highlight!AB$6:'Highlight'!AB26),0),0)","v":{"$error":"#N/A"}}]
[{"$f":"IF(ISNA(INDEX(Inscriptions!A$4:A$303,SUM(Highlight!AB$7:'Highlight'!AB28))),\"\",INDEX(Inscriptions!A$4:A$303,SUM(Highlight!AB$7:'Highlight'!AB28)))","v":""},{"$f":"IF(A28=\"\",\"\",VLOOKUP(A28,Data!G$2:K$302,5,FALSE))","v":""},{"$f":"IF(A28=\"\",\"\",VLOOKUP(A28,Data!G$2:K$302,2,FALSE))","v":""},{"$f":"IF(A28=\"\",\"\",VLOOKUP(A28,Data!G$2:K$302,3,FALSE))","v":""},{"$f":"IF(A28=\"\",\"\",VLOOKUP(A28,Data!G$2:K$302,4,FALSE))","v":""},null,null,null,null,null,null,null,null,null,null,null,null,null,null,null,null,null,null,null,null,0,null,{"$f":"MATCH(\"*\"&Y$1&\"*\",OFFSET(Inscriptions!M$4:M$303,SUM(Highlight!AB$6:'Highlight'!AB27),0),0)","v":{"$error":"#N/A"}}]
[{"$f":"IF(ISNA(INDEX(Inscriptions!A$4:A$303,SUM(Highlight!AB$7:'Highlight'!AB29))),\"\",INDEX(Inscriptions!A$4:A$303,SUM(Highlight!AB$7:'Highlight'!AB29)))","v":""},{"$f":"IF(A29=\"\",\"\",VLOOKUP(A29,Data!G$2:K$302,5,FALSE))","v":""},{"$f":"IF(A29=\"\",\"\",VLOOKUP(A29,Data!G$2:K$302,2,FALSE))","v":""},{"$f":"IF(A29=\"\",\"\",VLOOKUP(A29,Data!G$2:K$302,3,FALSE))","v":""},{"$f":"IF(A29=\"\",\"\",VLOOKUP(A29,Data!G$2:K$302,4,FALSE))","v":""},null,null,null,null,null,null,null,null,null,null,null,null,null,null,null,null,null,null,null,null,0,null,{"$f":"MATCH(\"*\"&Y$1&\"*\",OFFSET(Inscriptions!M$4:M$303,SUM(Highlight!AB$6:'Highlight'!AB28),0),0)","v":{"$error":"#N/A"}}]
[{"$f":"IF(ISNA(INDEX(Inscriptions!A$4:A$303,SUM(Highlight!AB$7:'Highlight'!AB30))),\"\",INDEX(Inscriptions!A$4:A$303,SUM(Highlight!AB$7:'Highlight'!AB30)))","v":""},{"$f":"IF(A30=\"\",\"\",VLOOKUP(A30,Data!G$2:K$302,5,FALSE))","v":""},{"$f":"IF(A30=\"\",\"\",VLOOKUP(A30,Data!G$2:K$302,2,FALSE))","v":""},{"$f":"IF(A30=\"\",\"\",VLOOKUP(A30,Data!G$2:K$302,3,FALSE))","v":""},{"$f":"IF(A30=\"\",\"\",VLOOKUP(A30,Data!G$2:K$302,4,FALSE))","v":""},null,null,null,null,null,null,null,null,null,null,null,null,null,null,null,null,null,null,null,null,0,null,{"$f":"MATCH(\"*\"&Y$1&\"*\",OFFSET(Inscriptions!M$4:M$303,SUM(Highlight!AB$6:'Highlight'!AB29),0),0)","v":{"$error":"#N/A"}}]
[{"$f":"IF(ISNA(INDEX(Inscriptions!A$4:A$303,SUM(Highlight!AB$7:'Highlight'!AB31))),\"\",INDEX(Inscriptions!A$4:A$303,SUM(Highlight!AB$7:'Highlight'!AB31)))","v":""},{"$f":"IF(A31=\"\",\"\",VLOOKUP(A31,Data!G$2:K$302,5,FALSE))","v":""},{"$f":"IF(A31=\"\",\"\",VLOOKUP(A31,Data!G$2:K$302,2,FALSE))","v":""},{"$f":"IF(A31=\"\",\"\",VLOOKUP(A31,Data!G$2:K$302,3,FALSE))","v":""},{"$f":"IF(A31=\"\",\"\",VLOOKUP(A31,Data!G$2:K$302,4,FALSE))","v":""},null,null,null,null,null,null,null,null,null,null,null,null,null,null,null,null,null,null,null,null,0,null,{"$f":"MATCH(\"*\"&Y$1&\"*\",OFFSET(Inscriptions!M$4:M$303,SUM(Highlight!AB$6:'Highlight'!AB30),0),0)","v":{"$error":"#N/A"}}]
[{"$f":"IF(ISNA(INDEX(Inscriptions!A$4:A$303,SUM(Highlight!AB$7:'Highlight'!AB32))),\"\",INDEX(Inscriptions!A$4:A$303,SUM(Highlight!AB$7:'Highlight'!AB32)))","v":""},{"$f":"IF(A32=\"\",\"\",VLOOKUP(A32,Data!G$2:K$302,5,FALSE))","v":""},{"$f":"IF(A32=\"\",\"\",VLOOKUP(A32,Data!G$2:K$302,2,FALSE))","v":""},{"$f":"IF(A32=\"\",\"\",VLOOKUP(A32,Data!G$2:K$302,3,FALSE))","v":""},{"$f":"IF(A32=\"\",\"\",VLOOKUP(A32,Data!G$2:K$302,4,FALSE))","v":""},null,null,null,null,null,null,null,null,null,null,null,null,null,null,null,null,null,null,null,null,0,null,{"$f":"MATCH(\"*\"&Y$1&\"*\",OFFSET(Inscriptions!M$4:M$303,SUM(Highlight!AB$6:'Highlight'!AB31),0),0)","v":{"$error":"#N/A"}}]
[{"$f":"IF(ISNA(INDEX(Inscriptions!A$4:A$303,SUM(Highlight!AB$7:'Highlight'!AB33))),\"\",INDEX(Inscriptions!A$4:A$303,SUM(Highlight!AB$7:'Highlight'!AB33)))","v":""},{"$f":"IF(A33=\"\",\"\",VLOOKUP(A33,Data!G$2:K$302,5,FALSE))","v":""},{"$f":"IF(A33=\"\",\"\",VLOOKUP(A33,Data!G$2:K$302,2,FALSE))","v":""},{"$f":"IF(A33=\"\",\"\",VLOOKUP(A33,Data!G$2:K$302,3,FALSE))","v":""},{"$f":"IF(A33=\"\",\"\",VLOOKUP(A33,Data!G$2:K$302,4,FALSE))","v":""},null,null,null,null,null,null,null,null,null,null,null,null,null,null,null,null,null,null,null,null,0,null,{"$f":"MATCH(\"*\"&Y$1&\"*\",OFFSET(Inscriptions!M$4:M$303,SUM(Highlight!AB$6:'Highlight'!AB32),0),0)","v":{"$error":"#N/A"}}]
[{"$f":"IF(ISNA(INDEX(Inscriptions!A$4:A$303,SUM(Highlight!AB$7:'Highlight'!AB34))),\"\",INDEX(Inscriptions!A$4:A$303,SUM(Highlight!AB$7:'Highlight'!AB34)))","v":""},{"$f":"IF(A34=\"\",\"\",VLOOKUP(A34,Data!G$2:K$302,5,FALSE))","v":""},{"$f":"IF(A34=\"\",\"\",VLOOKUP(A34,Data!G$2:K$302,2,FALSE))","v":""},{"$f":"IF(A34=\"\",\"\",VLOOKUP(A34,Data!G$2:K$302,3,FALSE))","v":""},{"$f":"IF(A34=\"\",\"\",VLOOKUP(A34,Data!G$2:K$302,4,FALSE))","v":""},null,null,null,null,null,null,null,null,null,null,null,null,null,null,null,null,null,null,null,null,0,null,{"$f":"MATCH(\"*\"&Y$1&\"*\",OFFSET(Inscriptions!M$4:M$303,SUM(Highlight!AB$6:'Highlight'!AB33),0),0)","v":{"$error":"#N/A"}}]
[{"$f":"IF(ISNA(INDEX(Inscriptions!A$4:A$303,SUM(Highlight!AB$7:'Highlight'!AB35))),\"\",INDEX(Inscriptions!A$4:A$303,SUM(Highlight!AB$7:'Highlight'!AB35)))","v":""},{"$f":"IF(A35=\"\",\"\",VLOOKUP(A35,Data!G$2:K$302,5,FALSE))","v":""},{"$f":"IF(A35=\"\",\"\",VLOOKUP(A35,Data!G$2:K$302,2,FALSE))","v":""},{"$f":"IF(A35=\"\",\"\",VLOOKUP(A35,Data!G$2:K$302,3,FALSE))","v":""},{"$f":"IF(A35=\"\",\"\",VLOOKUP(A35,Data!G$2:K$302,4,FALSE))","v":""},null,null,null,null,null,null,null,null,null,null,null,null,null,null,null,null,null,null,null,null,0,null,{"$f":"MATCH(\"*\"&Y$1&\"*\",OFFSET(Inscriptions!M$4:M$303,SUM(Highlight!AB$6:'Highlight'!AB34),0),0)","v":{"$error":"#N/A"}}]
[{"$f":"IF(ISNA(INDEX(Inscriptions!A$4:A$303,SUM(Highlight!AB$7:'Highlight'!AB36))),\"\",INDEX(Inscriptions!A$4:A$303,SUM(Highlight!AB$7:'Highlight'!AB36)))","v":""},{"$f":"IF(A36=\"\",\"\",VLOOKUP(A36,Data!G$2:K$302,5,FALSE))","v":""},{"$f":"IF(A36=\"\",\"\",VLOOKUP(A36,Data!G$2:K$302,2,FALSE))","v":""},{"$f":"IF(A36=\"\",\"\",VLOOKUP(A36,Data!G$2:K$302,3,FALSE))","v":""},{"$f":"IF(A36=\"\",\"\",VLOOKUP(A36,Data!G$2:K$302,4,FALSE))","v":""},null,null,null,null,null,null,null,null,null,null,null,null,null,null,null,null,null,null,null,null,0,null,{"$f":"MATCH(\"*\"&Y$1&\"*\",OFFSET(Inscriptions!M$4:M$303,SUM(Highlight!AB$6:'Highlight'!AB35),0),0)","v":{"$error":"#N/A"}}]
[{"$f":"IF(ISNA(INDEX(Inscriptions!A$4:A$303,SUM(Highlight!AB$7:'Highlight'!AB37))),\"\",INDEX(Inscriptions!A$4:A$303,SUM(Highlight!AB$7:'Highlight'!AB37)))","v":""},{"$f":"IF(A37=\"\",\"\",VLOOKUP(A37,Data!G$2:K$302,5,FALSE))","v":""},{"$f":"IF(A37=\"\",\"\",VLOOKUP(A37,Data!G$2:K$302,2,FALSE))","v":""},{"$f":"IF(A37=\"\",\"\",VLOOKUP(A37,Data!G$2:K$302,3,FALSE))","v":""},{"$f":"IF(A37=\"\",\"\",VLOOKUP(A37,Data!G$2:K$302,4,FALSE))","v":""},null,null,null,null,null,null,null,null,null,null,null,null,null,null,null,null,null,null,null,null,0,null,{"$f":"MATCH(\"*\"&Y$1&\"*\",OFFSET(Inscriptions!M$4:M$303,SUM(Highlight!AB$6:'Highlight'!AB36),0),0)","v":{"$error":"#N/A"}}]
[{"$f":"IF(ISNA(INDEX(Inscriptions!A$4:A$303,SUM(Highlight!AB$7:'Highlight'!AB38))),\"\",INDEX(Inscriptions!A$4:A$303,SUM(Highlight!AB$7:'Highlight'!AB38)))","v":""},{"$f":"IF(A38=\"\",\"\",VLOOKUP(A38,Data!G$2:K$302,5,FALSE))","v":""},{"$f":"IF(A38=\"\",\"\",VLOOKUP(A38,Data!G$2:K$302,2,FALSE))","v":""},{"$f":"IF(A38=\"\",\"\",VLOOKUP(A38,Data!G$2:K$302,3,FALSE))","v":""},{"$f":"IF(A38=\"\",\"\",VLOOKUP(A38,Data!G$2:K$302,4,FALSE))","v":""},null,null,null,null,null,null,null,null,null,null,null,null,null,null,null,null,null,null,null,null,0,null,{"$f":"MATCH(\"*\"&Y$1&\"*\",OFFSET(Inscriptions!M$4:M$303,SUM(Highlight!AB$6:'Highlight'!AB37),0),0)","v":{"$error":"#N/A"}}]
[{"$f":"IF(ISNA(INDEX(Inscriptions!A$4:A$303,SUM(Highlight!AB$7:'Highlight'!AB39))),\"\",INDEX(Inscriptions!A$4:A$303,SUM(Highlight!AB$7:'Highlight'!AB39)))","v":""},{"$f":"IF(A39=\"\",\"\",VLOOKUP(A39,Data!G$2:K$302,5,FALSE))","v":""},{"$f":"IF(A39=\"\",\"\",VLOOKUP(A39,Data!G$2:K$302,2,FALSE))","v":""},{"$f":"IF(A39=\"\",\"\",VLOOKUP(A39,Data!G$2:K$302,3,FALSE))","v":""},{"$f":"IF(A39=\"\",\"\",VLOOKUP(A39,Data!G$2:K$302,4,FALSE))","v":""},null,null,null,null,null,null,null,null,null,null,null,null,null,null,null,null,null,null,null,null,0,null,{"$f":"MATCH(\"*\"&Y$1&\"*\",OFFSET(Inscriptions!M$4:M$303,SUM(Highlight!AB$6:'Highlight'!AB38),0),0)","v":{"$error":"#N/A"}}]
[{"$f":"IF(ISNA(INDEX(Inscriptions!A$4:A$303,SUM(Highlight!AB$7:'Highlight'!AB40))),\"\",INDEX(Inscriptions!A$4:A$303,SUM(Highlight!AB$7:'Highlight'!AB40)))","v":""},{"$f":"IF(A40=\"\",\"\",VLOOKUP(A40,Data!G$2:K$302,5,FALSE))","v":""},{"$f":"IF(A40=\"\",\"\",VLOOKUP(A40,Data!G$2:K$302,2,FALSE))","v":""},{"$f":"IF(A40=\"\",\"\",VLOOKUP(A40,Data!G$2:K$302,3,FALSE))","v":""},{"$f":"IF(A40=\"\",\"\",VLOOKUP(A40,Data!G$2:K$302,4,FALSE))","v":""},null,null,null,null,null,null,null,null,null,null,null,null,null,null,null,null,null,null,null,null,0,null,{"$f":"MATCH(\"*\"&Y$1&\"*\",OFFSET(Inscriptions!M$4:M$303,SUM(Highlight!AB$6:'Highlight'!AB39),0),0)","v":{"$error":"#N/A"}}]
[{"$f":"IF(ISNA(INDEX(Inscriptions!A$4:A$303,SUM(Highlight!AB$7:'Highlight'!AB41))),\"\",INDEX(Inscriptions!A$4:A$303,SUM(Highlight!AB$7:'Highlight'!AB41)))","v":""},{"$f":"IF(A41=\"\",\"\",VLOOKUP(A41,Data!G$2:K$302,5,FALSE))","v":""},{"$f":"IF(A41=\"\",\"\",VLOOKUP(A41,Data!G$2:K$302,2,FALSE))","v":""},{"$f":"IF(A41=\"\",\"\",VLOOKUP(A41,Data!G$2:K$302,3,FALSE))","v":""},{"$f":"IF(A41=\"\",\"\",VLOOKUP(A41,Data!G$2:K$302,4,FALSE))","v":""},null,null,null,null,null,null,null,null,null,null,null,null,null,null,null,null,null,null,null,null,0,null,{"$f":"MATCH(\"*\"&Y$1&\"*\",OFFSET(Inscriptions!M$4:M$303,SUM(Highlight!AB$6:'Highlight'!AB40),0),0)","v":{"$error":"#N/A"}}]
[{"$f":"IF(ISNA(INDEX(Inscriptions!A$4:A$303,SUM(Highlight!AB$7:'Highlight'!AB42))),\"\",INDEX(Inscriptions!A$4:A$303,SUM(Highlight!AB$7:'Highlight'!AB42)))","v":""},{"$f":"IF(A42=\"\",\"\",VLOOKUP(A42,Data!G$2:K$302,5,FALSE))","v":""},{"$f":"IF(A42=\"\",\"\",VLOOKUP(A42,Data!G$2:K$302,2,FALSE))","v":""},{"$f":"IF(A42=\"\",\"\",VLOOKUP(A42,Data!G$2:K$302,3,FALSE))","v":""},{"$f":"IF(A42=\"\",\"\",VLOOKUP(A42,Data!G$2:K$302,4,FALSE))","v":""},null,null,null,null,null,null,null,null,null,null,null,null,null,null,null,null,null,null,null,null,0,null,{"$f":"MATCH(\"*\"&Y$1&\"*\",OFFSET(Inscriptions!M$4:M$303,SUM(Highlight!AB$6:'Highlight'!AB41),0),0)","v":{"$error":"#N/A"}}]
[{"$f":"IF(ISNA(INDEX(Inscriptions!A$4:A$303,SUM(Highlight!AB$7:'Highlight'!AB43))),\"\",INDEX(Inscriptions!A$4:A$303,SUM(Highlight!AB$7:'Highlight'!AB43)))","v":""},{"$f":"IF(A43=\"\",\"\",VLOOKUP(A43,Data!G$2:K$302,5,FALSE))","v":""},{"$f":"IF(A43=\"\",\"\",VLOOKUP(A43,Data!G$2:K$302,2,FALSE))","v":""},{"$f":"IF(A43=\"\",\"\",VLOOKUP(A43,Data!G$2:K$302,3,FALSE))","v":""},{"$f":"IF(A43=\"\",\"\",VLOOKUP(A43,Data!G$2:K$302,4,FALSE))","v":""},null,null,null,null,null,null,null,null,null,null,null,null,null,null,null,null,null,null,null,null,0,null,{"$f":"MATCH(\"*\"&Y$1&\"*\",OFFSET(Inscriptions!M$4:M$303,SUM(Highlight!AB$6:'Highlight'!AB42),0),0)","v":{"$error":"#N/A"}}]
[{"$f":"IF(ISNA(INDEX(Inscriptions!A$4:A$303,SUM(Highlight!AB$7:'Highlight'!AB44))),\"\",INDEX(Inscriptions!A$4:A$303,SUM(Highlight!AB$7:'Highlight'!AB44)))","v":""},{"$f":"IF(A44=\"\",\"\",VLOOKUP(A44,Data!G$2:K$302,5,FALSE))","v":""},{"$f":"IF(A44=\"\",\"\",VLOOKUP(A44,Data!G$2:K$302,2,FALSE))","v":""},{"$f":"IF(A44=\"\",\"\",VLOOKUP(A44,Data!G$2:K$302,3,FALSE))","v":""},{"$f":"IF(A44=\"\",\"\",VLOOKUP(A44,Data!G$2:K$302,4,FALSE))","v":""},null,null,null,null,null,null,null,null,null,null,null,null,null,null,null,null,null,null,null,null,0,null,{"$f":"MATCH(\"*\"&Y$1&\"*\",OFFSET(Inscriptions!M$4:M$303,SUM(Highlight!AB$6:'Highlight'!AB43),0),0)","v":{"$error":"#N/A"}}]
[{"$f":"IF(ISNA(INDEX(Inscriptions!A$4:A$303,SUM(Highlight!AB$7:'Highlight'!AB45))),\"\",INDEX(Inscriptions!A$4:A$303,SUM(Highlight!AB$7:'Highlight'!AB45)))","v":""},{"$f":"IF(A45=\"\",\"\",VLOOKUP(A45,Data!G$2:K$302,5,FALSE))","v":""},{"$f":"IF(A45=\"\",\"\",VLOOKUP(A45,Data!G$2:K$302,2,FALSE))","v":""},{"$f":"IF(A45=\"\",\"\",VLOOKUP(A45,Data!G$2:K$302,3,FALSE))","v":""},{"$f":"IF(A45=\"\",\"\",VLOOKUP(A45,Data!G$2:K$302,4,FALSE))","v":""},null,null,null,null,null,null,null,null,null,null,null,null,null,null,null,null,null,null,null,null,0,null,{"$f":"MATCH(\"*\"&Y$1&\"*\",OFFSET(Inscriptions!M$4:M$303,SUM(Highlight!AB$6:'Highlight'!AB44),0),0)","v":{"$error":"#N/A"}}]
[{"$f":"IF(ISNA(INDEX(Inscriptions!A$4:A$303,SUM(Highlight!AB$7:'Highlight'!AB46))),\"\",INDEX(Inscriptions!A$4:A$303,SUM(Highlight!AB$7:'Highlight'!AB46)))","v":""},{"$f":"IF(A46=\"\",\"\",VLOOKUP(A46,Data!G$2:K$302,5,FALSE))","v":""},{"$f":"IF(A46=\"\",\"\",VLOOKUP(A46,Data!G$2:K$302,2,FALSE))","v":""},{"$f":"IF(A46=\"\",\"\",VLOOKUP(A46,Data!G$2:K$302,3,FALSE))","v":""},{"$f":"IF(A46=\"\",\"\",VLOOKUP(A46,Data!G$2:K$302,4,FALSE))","v":""},null,null,null,null,null,null,null,null,null,null,null,null,null,null,null,null,null,null,null,null,0,null,{"$f":"MATCH(\"*\"&Y$1&\"*\",OFFSET(Inscriptions!M$4:M$303,SUM(Highlight!AB$6:'Highlight'!AB45),0),0)","v":{"$error":"#N/A"}}]
[{"$f":"IF(ISNA(INDEX(Inscriptions!A$4:A$303,SUM(Highlight!AB$7:'Highlight'!AB47))),\"\",INDEX(Inscriptions!A$4:A$303,SUM(Highlight!AB$7:'Highlight'!AB47)))","v":""},{"$f":"IF(A47=\"\",\"\",VLOOKUP(A47,Data!G$2:K$302,5,FALSE))","v":""},{"$f":"IF(A47=\"\",\"\",VLOOKUP(A47,Data!G$2:K$302,2,FALSE))","v":""},{"$f":"IF(A47=\"\",\"\",VLOOKUP(A47,Data!G$2:K$302,3,FALSE))","v":""},{"$f":"IF(A47=\"\",\"\",VLOOKUP(A47,Data!G$2:K$302,4,FALSE))","v":""},null,null,null,null,null,null,null,null,null,null,null,null,null,null,null,null,null,null,null,null,0,null,{"$f":"MATCH(\"*\"&Y$1&\"*\",OFFSET(Inscriptions!M$4:M$303,SUM(Highlight!AB$6:'Highlight'!AB46),0),0)","v":{"$error":"#N/A"}}]
[{"$f":"IF(ISNA(INDEX(Inscriptions!A$4:A$303,SUM(Highlight!AB$7:'Highlight'!AB48))),\"\",INDEX(Inscriptions!A$4:A$303,SUM(Highlight!AB$7:'Highlight'!AB48)))","v":""},{"$f":"IF(A48=\"\",\"\",VLOOKUP(A48,Data!G$2:K$302,5,FALSE))","v":""},{"$f":"IF(A48=\"\",\"\",VLOOKUP(A48,Data!G$2:K$302,2,FALSE))","v":""},{"$f":"IF(A48=\"\",\"\",VLOOKUP(A48,Data!G$2:K$302,3,FALSE))","v":""},{"$f":"IF(A48=\"\",\"\",VLOOKUP(A48,Data!G$2:K$302,4,FALSE))","v":""},null,null,null,null,null,null,null,null,null,null,null,null,null,null,null,null,null,null,null,null,0,null,{"$f":"MATCH(\"*\"&Y$1&\"*\",OFFSET(Inscriptions!M$4:M$303,SUM(Highlight!AB$6:'Highlight'!AB47),0),0)","v":{"$error":"#N/A"}}]
[{"$f":"IF(ISNA(INDEX(Inscriptions!A$4:A$303,SUM(Highlight!AB$7:'Highlight'!AB49))),\"\",INDEX(Inscriptions!A$4:A$303,SUM(Highlight!AB$7:'Highlight'!AB49)))","v":""},{"$f":"IF(A49=\"\",\"\",VLOOKUP(A49,Data!G$2:K$302,5,FALSE))","v":""},{"$f":"IF(A49=\"\",\"\",VLOOKUP(A49,Data!G$2:K$302,2,FALSE))","v":""},{"$f":"IF(A49=\"\",\"\",VLOOKUP(A49,Data!G$2:K$302,3,FALSE))","v":""},{"$f":"IF(A49=\"\",\"\",VLOOKUP(A49,Data!G$2:K$302,4,FALSE))","v":""},null,null,null,null,null,null,null,null,null,null,null,null,null,null,null,null,null,null,null,null,0,null,{"$f":"MATCH(\"*\"&Y$1&\"*\",OFFSET(Inscriptions!M$4:M$303,SUM(Highlight!AB$6:'Highlight'!AB48),0),0)","v":{"$error":"#N/A"}}]
[{"$f":"IF(ISNA(INDEX(Inscriptions!A$4:A$303,SUM(Highlight!AB$7:'Highlight'!AB50))),\"\",INDEX(Inscriptions!A$4:A$303,SUM(Highlight!AB$7:'Highlight'!AB50)))","v":""},{"$f":"IF(A50=\"\",\"\",VLOOKUP(A50,Data!G$2:K$302,5,FALSE))","v":""},{"$f":"IF(A50=\"\",\"\",VLOOKUP(A50,Data!G$2:K$302,2,FALSE))","v":""},{"$f":"IF(A50=\"\",\"\",VLOOKUP(A50,Data!G$2:K$302,3,FALSE))","v":""},{"$f":"IF(A50=\"\",\"\",VLOOKUP(A50,Data!G$2:K$302,4,FALSE))","v":""},null,null,null,null,null,null,null,null,null,null,null,null,null,null,null,null,null,null,null,null,0,null,{"$f":"MATCH(\"*\"&Y$1&\"*\",OFFSET(Inscriptions!M$4:M$303,SUM(Highlight!AB$6:'Highlight'!AB49),0),0)","v":{"$error":"#N/A"}}]
[{"$f":"IF(ISNA(INDEX(Inscriptions!A$4:A$303,SUM(Highlight!AB$7:'Highlight'!AB51))),\"\",INDEX(Inscriptions!A$4:A$303,SUM(Highlight!AB$7:'Highlight'!AB51)))","v":""},{"$f":"IF(A51=\"\",\"\",VLOOKUP(A51,Data!G$2:K$302,5,FALSE))","v":""},{"$f":"IF(A51=\"\",\"\",VLOOKUP(A51,Data!G$2:K$302,2,FALSE))","v":""},{"$f":"IF(A51=\"\",\"\",VLOOKUP(A51,Data!G$2:K$302,3,FALSE))","v":""},{"$f":"IF(A51=\"\",\"\",VLOOKUP(A51,Data!G$2:K$302,4,FALSE))","v":""},null,null,null,null,null,null,null,null,null,null,null,null,null,null,null,null,null,null,null,null,0,null,{"$f":"MATCH(\"*\"&Y$1&\"*\",OFFSET(Inscriptions!M$4:M$303,SUM(Highlight!AB$6:'Highlight'!AB50),0),0)","v":{"$error":"#N/A"}}]
[{"$f":"IF(ISNA(INDEX(Inscriptions!A$4:A$303,SUM(Highlight!AB$7:'Highlight'!AB52))),\"\",INDEX(Inscriptions!A$4:A$303,SUM(Highlight!AB$7:'Highlight'!AB52)))","v":""},{"$f":"IF(A52=\"\",\"\",VLOOKUP(A52,Data!G$2:K$302,5,FALSE))","v":""},{"$f":"IF(A52=\"\",\"\",VLOOKUP(A52,Data!G$2:K$302,2,FALSE))","v":""},{"$f":"IF(A52=\"\",\"\",VLOOKUP(A52,Data!G$2:K$302,3,FALSE))","v":""},{"$f":"IF(A52=\"\",\"\",VLOOKUP(A52,Data!G$2:K$302,4,FALSE))","v":""},null,null,null,null,null,null,null,null,null,null,null,null,null,null,null,null,null,null,null,null,0,null,{"$f":"MATCH(\"*\"&Y$1&\"*\",OFFSET(Inscriptions!M$4:M$303,SUM(Highlight!AB$6:'Highlight'!AB51),0),0)","v":{"$error":"#N/A"}}]
[{"$f":"IF(ISNA(INDEX(Inscriptions!A$4:A$303,SUM(Highlight!AB$7:'Highlight'!AB53))),\"\",INDEX(Inscriptions!A$4:A$303,SUM(Highlight!AB$7:'Highlight'!AB53)))","v":""},{"$f":"IF(A53=\"\",\"\",VLOOKUP(A53,Data!G$2:K$302,5,FALSE))","v":""},{"$f":"IF(A53=\"\",\"\",VLOOKUP(A53,Data!G$2:K$302,2,FALSE))","v":""},{"$f":"IF(A53=\"\",\"\",VLOOKUP(A53,Data!G$2:K$302,3,FALSE))","v":""},{"$f":"IF(A53=\"\",\"\",VLOOKUP(A53,Data!G$2:K$302,4,FALSE))","v":""},null,null,null,null,null,null,null,null,null,null,null,null,null,null,null,null,null,null,null,null,0,null,{"$f":"MATCH(\"*\"&Y$1&\"*\",OFFSET(Inscriptions!M$4:M$303,SUM(Highlight!AB$6:'Highlight'!AB52),0),0)","v":{"$error":"#N/A"}}]
[{"$f":"IF(ISNA(INDEX(Inscriptions!A$4:A$303,SUM(Highlight!AB$7:'Highlight'!AB54))),\"\",INDEX(Inscriptions!A$4:A$303,SUM(Highlight!AB$7:'Highlight'!AB54)))","v":""},{"$f":"IF(A54=\"\",\"\",VLOOKUP(A54,Data!G$2:K$302,5,FALSE))","v":""},{"$f":"IF(A54=\"\",\"\",VLOOKUP(A54,Data!G$2:K$302,2,FALSE))","v":""},{"$f":"IF(A54=\"\",\"\",VLOOKUP(A54,Data!G$2:K$302,3,FALSE))","v":""},{"$f":"IF(A54=\"\",\"\",VLOOKUP(A54,Data!G$2:K$302,4,FALSE))","v":""},null,null,null,null,null,null,null,null,null,null,null,null,null,null,null,null,null,null,null,null,0,null,{"$f":"MATCH(\"*\"&Y$1&\"*\",OFFSET(Inscriptions!M$4:M$303,SUM(Highlight!AB$6:'Highlight'!AB53),0),0)","v":{"$error":"#N/A"}}]
[{"$f":"IF(ISNA(INDEX(Inscriptions!A$4:A$303,SUM(Highlight!AB$7:'Highlight'!AB55))),\"\",INDEX(Inscriptions!A$4:A$303,SUM(Highlight!AB$7:'Highlight'!AB55)))","v":""},{"$f":"IF(A55=\"\",\"\",VLOOKUP(A55,Data!G$2:K$302,5,FALSE))","v":""},{"$f":"IF(A55=\"\",\"\",VLOOKUP(A55,Data!G$2:K$302,2,FALSE))","v":""},{"$f":"IF(A55=\"\",\"\",VLOOKUP(A55,Data!G$2:K$302,3,FALSE))","v":""},{"$f":"IF(A55=\"\",\"\",VLOOKUP(A55,Data!G$2:K$302,4,FALSE))","v":""},null,null,null,null,null,null,null,null,null,null,null,null,null,null,null,null,null,null,null,null,0,null,{"$f":"MATCH(\"*\"&Y$1&\"*\",OFFSET(Inscriptions!M$4:M$303,SUM(Highlight!AB$6:'Highlight'!AB54),0),0)","v":{"$error":"#N/A"}}]
[{"$f":"CONCATENATE(IF(ChoixLangue=Languages!$B$1,Languages!$B105,IF(ChoixLangue=Languages!$C$1,Languages!$C105,IF(ChoixLangue=Languages!$D$1,Languages!$D105,Languages!$E105))),SUM(Z7:Z55))","v":"Nbe nageuses : 0"},"-","-","-"]

{"sheet":"Data2","index":26,"n_rows":608,"n_cols":11,"rows_kept":608,"cut":false,"hidden":true,"merged":[]}
[null,null,null,null,null,null,{"$f":"IF(ChoixLangue=Languages!B$1,Languages!B89,IF(ChoixLangue=Languages!C$1,Languages!C89,IF(ChoixLangue=Languages!D$1,Languages!D89,Languages!E89)))","v":"Nageuses"},{"$f":"IF(ChoixLangue=Languages!B$1,Languages!B90,IF(ChoixLangue=Languages!C$1,Languages!C90,IF(ChoixLangue=Languages!D$1,Languages!D90,Languages!E90)))","v":"N° de licence"},{"$f":"IF(ChoixLangue=Languages!B$1,Languages!B91,IF(ChoixLangue=Languages!C$1,Languages!C91,IF(ChoixLangue=Languages!D$1,Languages!D91,Languages!E91)))","v":"An nais."},{"$f":"IF(ChoixLangue=Languages!B$1,Languages!B92,IF(ChoixLangue=Languages!C$1,Languages!C92,IF(ChoixLangue=Languages!D$1,Languages!D92,Languages!E92)))","v":"N° Test"},{"$f":"IF(ChoixLangue=Languages!B$1,Languages!B86,IF(ChoixLangue=Languages!C$1,Languages!C86,IF(ChoixLangue=Languages!D$1,Languages!D86,Languages!E86)))","v":"Club"}]
[]
[null,null,null,null,null,null,"ABARRAH Abarrah",2004,0,3,"LN"]
[null,null,null,null,null,null,"SOFIA Sofia",2004,0,5,"LN"]
[null,null,null,null,null,null,"ABOUSSOROR Aboussoror",2001,0,5,"LN"]
[null,null,null,null,null,null,"DÉLIA Délia",2006,0,2,"LN"]
[null,null,null,null,null,null,"ACEVEDO Acevedo",2008,10262,3,"LN"]
[null,null,null,null,null,null,"THÉA Théa",2008,10370,3,"LN"]
[null,null,null,null,null,null,"AKMAN Akman",1996,0,3,"LN"]
[null,null,null,null,null,null,"NICOLE Nicole",2010,10184,2,"LN"]
[null,null,null,null,null,null,"ARTIFONI Artifoni",1998,10411,3,"LN"]
[null,null,null,null,null,null,"CLARA Clara",2009,10374,4,"LN"]
[null,null,null,null,null,null,"BACKHAUS Backhaus",2006,10397,3,"LN"]
[null,null,null,null,null,null,"IRIS Iris",2008,0,3,"LN"]
[null,null,null,null,null,null,"BALLESTER Ballester",2005,10556,5,"LN"]
[null,null,null,null,null,null,"TIZIANA Tiziana",2002,0,4,"LN"]
[null,null,null,null,null,null,"BARBONI Barboni",2007,0,2,"LN"]
[null,null,null,null,null,null,"ALESSIA Alessia",2004,0,4,"LN"]
[null,null,null,null,null,null,"BATTILANA Battilana",2007,0,3,"LN"]
[null,null,null,null,null,null,"KONSTANTINE Konstantine",2006,0,2,"LN"]
[null,null,null,null,null,null,"BATTILANA Battilana",2006,0,3,"LN"]
[null,null,null,null,null,null,"JACINTHE Jacinthe",2001,0,5,"LN"]
[null,null,null,null,null,null,"BAUMGARTNER Baumgartner",2006,5803,4,"LN"]
[null,null,null,null,null,null,"JULIA Julia",1996,0,6,"LN"]
[null,null,null,null,null,null,"BENSLIMANE Benslimane",2002,10604,5,"LN"]
[null,null,null,null,null,null,"LENA Lena",2008,10418,3,"LN"]
[null,null,null,null,null,null,"BINDON Bindon",2006,0,2,"LN"]
[null,null,null,null,null,null,"OLIVIA Olivia",2006,0,3,"LN"]
[null,null,null,null,null,null,"BLANC Blanc",2006,0,2,"LN"]
[null,null,null,null,null,null,"ELODIE Elodie",2004,5789,6,"LN"]
[null,null,null,null,null,null,"BONOMI Bonomi",2008,10416,3,"LN"]
[null,null,null,null,null,null,"ALESSIA Alessia",2004,0,3,"LN"]
[null,null,null,null,null,null,"BOREL Borel",1999,0,6,"LN"]
[null,null,null,null,null,null,"LOANE Loane",2006,0,2,"LN"]
[null,null,null,null,null,null,"CASCIANA Casciana",2004,0,2,"LN"]
[null,null,null,null,null,null,"LIVIA Livia",2012,10523,2,"LN"]
[null,null,null,null,null,null,"CASTRO CARRION Castro Carrion",2008,10664,3,"LN"]
[null,null,null,null,null,null,"MÉLANIE Mélanie",1991,10325,6,"LN"]
[null,null,null,null,null,null,"CAZÉ Cazé",2009,0,3,"LN"]
[null,null,null,null,null,null,"MAÏ Maï",2008,0,2,"LN"]
[null,null,null,null,null,null,"CHEVALLEY Chevalley",2009,10414,3,"LN"]
[null,null,null,null,null,null,"ELODIE Elodie",2011,0,2,"LN"]
[null,null,null,null,null,null,"CHEVRIER Chevrier",2000,0,5,"LN"]
[null,null,null,null,null,null,"NINA Nina",2010,10162,4,"LN"]
[null,null,null,null,null,null,"CHRAST Chrast",2007,10663,4,"LN"]
[null,null,null,null,null,null,"LIVIA Livia",2002,0,4,"LN"]
[null,null,null,null,null,null,"CIAFFI Ciaffi",1997,0,6,"LN"]
[null,null,null,null,null,null,"SOPHIA Sophia",2005,0,4,"LN"]
[null,null,null,null,null,null,"CLEMENCEAU Clemenceau",1999,0,3,"LN"]
[null,null,null,null,null,null,"LEA Lea",1977,28116,4,"LN"]
[null,null,null,null,null,null,"CODEREY Coderey",2008,0,3,"LN"]
[null,null,null,null,null,null,"SORAYA Soraya",2008,10313,2,"LN"]
[null,null,null,null,null,null,"CONTRERAS PERLAZA Contreras Perlaza",2005,0,2,"LN"]
[null,null,null,null,null,null,"NATACHA Natacha",2010,10553,4,"LN"]
[null,null,null,null,null,null,"CORREIA Correia",1994,0,3,"LN"]
[null,null,null,null,null,null,"OLIVIA Olivia",2006,0,4,"LN"]
[null,null,null,null,null,null,"CUENI Cueni",2005,0,5,"LN"]
[null,null,null,null,null,null,"LARA Lara",2007,0,4,"LN"]
[null,null,null,null,null,null,"D'AGOSTINO D'Agostino",2005,10473,5,"LN"]
[null,null,null,null,null,null,"LAURA Laura",2004,0,5,"LN"]
[null,null,null,null,null,null,"DA SILVA DIAZ Da Silva Diaz",2006,0,4,"LN"]
[null,null,null,null,null,null,"GABRIELA ROSA Gabriela Rosa",2009,10591,2,"LN"]
[null,null,null,null,null,null,"DE PALO De Palo",2009,11318,2,"LN"]
[null,null,null,null,null,null,"REBECCA Rebecca",2006,0,0,"LN"]
[null,null,null,null,null,null,"DIDAY Diday",2010,0,2,"LN"]
[null,null,null,null,null,null,"ALINE Aline",2008,10463,3,"LN"]
[null,null,null,null,null,null,"DJOKIC Djokic",1988,0,6,"LN"]
[null,null,null,null,null,null,"MACHA Macha",2007,0,2,"LN"]
[null,null,null,null,null,null,"DOVAT Dovat",2000,0,4,"LN"]
[null,null,null,null,null,null,"MELINE Meline",2004,0,5,"LN"]
[null,null,null,null,null,null,"DUCOLONE Ducolone",2003,0,5,"LN"]
[null,null,null,null,null,null,"ZOÉ-FÉLICIA Zoé-Félicia",2005,0,3,"LN"]
[null,null,null,null,null,null,"DUMUSC Dumusc",1990,0,6,"LN"]
[null,null,null,null,null,null,"ESTELLE Estelle",2007,0,2,"LN"]
[null,null,null,null,null,null,"DUPERREX Duperrex",2007,0,2,"LN"]
[null,null,null,null,null,null,"ANAÉ Anaé",2005,0,4,"LN"]
[null,null,null,null,null,null,"DURAN Duran",2003,10394,2,"LN"]
[null,null,null,null,null,null,"MAILYS Mailys",2007,10307,4,"LN"]
[null,null,null,null,null,null,"FERNANDEZ ALVAREZ Fernandez Alvarez",2004,0,2,"LN"]
[null,null,null,null,null,null,"LARA Lara",2010,10266,3,"LN"]
[null,null,null,null,null,null,"FRANCEY Francey",2007,0,2,"LN"]
[null,null,null,null,null,null,"THAYSSA Thayssa",1997,0,6,"LN"]
[null,null,null,null,null,null,"GALLEGO Gallego",2008,0,3,"LN"]
[null,null,null,null,null,null,"ALBA Alba",2006,10514,3,"LN"]
[null,null,null,null,null,null,"GEROLD Gerold",2007,0,3,"LN"]
[null,null,null,null,null,null,"ABBY Abby",2009,0,3,"LN"]
[null,null,null,null,null,null,"GEROLD Gerold",2009,10247,2,"LN"]
[null,null,null,null,null,null,"ZOÉ Zoé",2007,10436,2,"LN"]
[null,null,null,null,null,null,"GÉTAIN Gétain",2009,10176,3,"LN"]
[null,null,null,null,null,null,"SARAH-MAUDE Sarah-Maude",2010,0,2,"LN"]
[null,null,null,null,null,null,"GLOOR Gloor",1998,0,4,"LN"]
[null,null,null,null,null,null,"SOPHIE Sophie",2004,0,5,"LN"]
[null,null,null,null,null,null,"HAENSEL RIBERA Haensel Ribera",2006,0,3,"LN"]
[null,null,null,null,null,null,"ALMENDRA Almendra",2007,10422,2,"LN"]
[null,null,null,null,null,null,"JACQMARCQ Jacqmarcq",2004,0,5,"LN"]
[null,null,null,null,null,null,"MAËLLE Maëlle",2007,10301,4,"LN"]
[null,null,null,null,null,null,"JEL Jel",2007,0,4,"LN"]
[null,null,null,null,null,null,"JEAN-PHILIPPE Jean-Philippe",2000,0,6,"LN"]
[null,null,null,null,null,null,"KAUZ Kauz",null,null,null,"LN"]
[null,null,null,null,null,null,"CLARA Clara",null,null,null,"LN"]
[null,null,null,null,null,null,"LAMBERT Lambert",null,null,null,"LN"]
[null,null,null,null,null,null,"EMILIE BELINDA Emilie Belinda",null,null,null,"LN"]
[null,null,null,null,null,null,"LLECH Llech",null,null,null,"LN"]
[null,null,null,null,null,null,"SARAH Sarah",null,null,null,"LN"]
[null,null,null,null,null,null,"LLERENA HIDALGO Llerena Hidalgo",null,null,null,"LN"]
[null,null,null,null,null,null,"OCEANE Oceane",null,null,null,"LN"]
[null,null,null,null,null,null,"LOBELLO Lobello",null,null,null,"LN"]
[null,null,null,null,null,null,"MELANIE Melanie",null,null,null,"LN"]
[null,null,null,null,null,null,"LOTTI COUTO Lotti Couto",null,null,null,"LN"]
[null,null,null,null,null,null,"CLARA Clara",null,null,null,"LN"]
[null,null,null,null,null,null,"LUKACS Lukacs",null,null,null,"LN"]
[null,null,null,null,null,null,"LEE-ANN Lee-Ann",null,null,null,"LN"]
[null,null,null,null,null,null,"LUTE Lute",null,null,null,"LN"]
[null,null,null,null,null,null,"WIEKE Wieke",null,null,null,"LN"]
[null,null,null,null,null,null,"LUTE Lute",null,null,null,"LN"]
[null,null,null,null,null,null,"MAARTJE Maartje",null,null,null,"LN"]
[null,null,null,null,null,null,"MAILLOT Maillot",null,null,null,"LN"]
[null,null,null,null,null,null,"XULIA Xulia",null,null,null,"LN"]
[null,null,null,null,null,null,"MAILLOT RODRIGUEZ Maillot Rodriguez",null,null,null,"LN"]
[null,null,null,null,null,null,"ESTELA Estela",null,null,null,"LN"]
[null,null,null,null,null,null,"MALEC Malec",null,null,null,"LN"]
[null,null,null,null,null,null,"SARA Sara",null,null,null,"LN"]
[null,null,null,null,null,null,"MALEC Malec",null,null,null,"LN"]
[null,null,null,null,null,null,"MIRJAM Mirjam",null,null,null,"LN"]
[null,null,null,null,null,null,"MYAGMARSUREN Myagmarsuren",null,null,null,"LN"]
[null,null,null,null,null,null,"MARAL Maral",null,null,null,"LN"]
[null,null,null,null,null,null,"NEMETH Nemeth",null,null,null,"LN"]
[null,null,null,null,null,null,"FLORA Flora",null,null,null,"LN"]
[null,null,null,null,null,null,"NEUVEGLISE Neuveglise",null,null,null,"LN"]
[null,null,null,null,null,null,"LUCILE Lucile",null,null,null,"LN"]
[null,null,null,null,null,null,"NICOD (FISCHER) Nicod (Fischer)",null,null,null,"LN"]
[null,null,null,null,null,null,"PAMELA Pamela",null,null,null,"LN"]
[null,null,null,null,null,null,"NYFFELER Nyffeler",null,null,null,"LN"]
[null,null,null,null,null,null,"CÉLIA Célia",null,null,null,"LN"]
[null,null,null,null,null,null,"PACOZZI Pacozzi",null,null,null,"LN"]
[null,null,null,null,null,null,"LÉA Léa",null,null,null,"LN"]
[null,null,null,null,null,null,"PARAIRE Paraire",null,null,null,"LN"]
[null,null,null,null,null,null,"ALMA Alma",null,null,null,"LN"]
[null,null,null,null,null,null,"PILET Pilet",null,null,null,"LN"]
[null,null,null,null,null,null,"EMILIE Emilie",null,null,null,"LN"]
[null,null,null,null,null,null,"PORCHET Porchet",null,null,null,"LN"]
[null,null,null,null,null,null,"EMMA Emma",null,null,null,"LN"]
[null,null,null,null,null,null,"POUCHÈLE Pouchèle",null,null,null,"LN"]
[null,null,null,null,null,null,"MORGANE Morgane",null,null,null,"LN"]
[null,null,null,null,null,null,"RAY Ray",null,null,null,"LN"]
[null,null,null,null,null,null,"JUSTINE Justine",null,null,null,"LN"]
[null,null,null,null,null,null,"REGAMEY Regamey",null,null,null,"LN"]
[null,null,null,null,null,null,"ALYSSA Alyssa",null,null,null,"LN"]
[null,null,null,null,null,null,"RUMO Rumo",null,null,null,"LN"]
[null,null,null,null,null,null,"ZOÉ Zoé",null,null,null,"LN"]
[null,null,null,null,null,null,"SALOMON Salomon",null,null,null,"LN"]
[null,null,null,null,null,null,"JOY-ANNE Joy-Anne",null,null,null,"LN"]
[null,null,null,null,null,null,"SANTORO Santoro",null,null,null,"LN"]
[null,null,null,null,null,null,"ELIZABETTA Elizabetta",null,null,null,"LN"]
[null,null,null,null,null,null,"SANTORO Santoro",null,null,null,"LN"]
[null,null,null,null,null,null,"BENEDETTA Benedetta",null,null,null,"LN"]
[null,null,null,null,null,null,"SCHÄFER Schäfer",null,null,null,"LN"]
[null,null,null,null,null,null,"CLEA Clea",null,null,null,"LN"]
[null,null,null,null,null,null,"SCHAFER Schafer",null,null,null,"LN"]
[null,null,null,null,null,null,"EMMA Emma",null,null,null,"LN"]
[null,null,null,null,null,null,"SÉCHAUD Séchaud",null,null,null,"LN"]
[null,null,null,null,null,null,"MARJORIE Marjorie",null,null,null,"LN"]
[null,null,null,null,null,null,"SOLAK Solak",null,null,null,"LN"]
[null,null,null,null,null,null,"CLARA Clara",null,null,null,"LN"]
[null,null,null,null,null,null,"SONDEREGGER Sonderegger",null,null,null,"LN"]
[null,null,null,null,null,null,"MAURINE Maurine",null,null,null,"LN"]
[null,null,null,null,null,null,"SONDEREGGER Sonderegger",null,null,null,"LN"]
[null,null,null,null,null,null,"ELIE Elie",null,null,null,"LN"]
[null,null,null,null,null,null,"SONDEREGGER Sonderegger",null,null,null,"LN"]
[null,null,null,null,null,null,"ROSE Rose",null,null,null,"LN"]
[null,null,null,null,null,null,"SPARACIO Sparacio",null,null,null,"LN"]
[null,null,null,null,null,null,"CARLOTA Carlota",null,null,null,"LN"]
[null,null,null,null,null,null,"STANIMIROVIC Stanimirovic",null,null,null,"LN"]
[null,null,null,null,null,null,"LIDIA Lidia",null,null,null,"LN"]
[null,null,null,null,null,null,"THOMAS Thomas",null,null,null,"LN"]
[null,null,null,null,null,null,"ALANA Alana",null,null,null,"LN"]
[null,null,null,null,null,null,"TRAN Tran",null,null,null,"LN"]
[null,null,null,null,null,null,"OC?ANE Oc?ane",null,null,null,"LN"]
[null,null,null,null,null,null,"TRIFONI Trifoni",null,null,null,"LN"]
[null,null,null,null,null,null,"FRANCESCA Francesca",null,null,null,"LN"]
[null,null,null,null,null,null,"VALTERIO Valterio",null,null,null,"LN"]
[null,null,null,null,null,null,"MORGANA Morgana",null,null,null,"LN"]
[null,null,null,null,null,null,"VIAL Vial",null,null,null,"LN"]
[null,null,null,null,null,null,"LYDIE Lydie",null,null,null,"LN"]
[null,null,null,null,null,null,"VOLLET Vollet",null,null,null,"LN"]
[null,null,null,null,null,null,"LEIGHTON Leighton",null,null,null,"LN"]
[null,null,null,null,null,null,"VON MURALT Von Muralt",null,null,null,"LN"]
[null,null,null,null,null,null,"THELMA Thelma",null,null,null,"LN"]
[null,null,null,null,null,null,"VUILLET Vuillet",null,null,null,"LN"]
[null,null,null,null,null,null,"ELIA Elia",null,null,null,"LN"]
[null,null,null,null,null,null,"WENDT FRANÇOIS Wendt François",null,null,null,"LN"]
[null,null,null,null,null,null,"ELIN SOFIA Elin Sofia",null,null,null,"LN"]
[null,null,null,null,null,null,"WIBIN Wibin",null,null,null,"LN"]
[null,null,null,null,null,null,"PASCALINE Pascaline",null,null,null,"LN"]
[]
[]
[]
[]
[]
[]
[]
[]
[]
[]
[]
[]
[]
[]
[]
[]
[]
[]
[]
[]
[]
[]
[]
[]
[]
[]
[]
[]
[]
[]
[]
[]
[]
[]
[]
[]
[]
[]
[]
[]
[]
[]
[]
[]
[]
[]
[]
[]
[]
[]
[]
[]
[]
[]
[]
[]
[]
[]
[]
[]
[]
[]
[]
[]
[]
[]
[]
[]
[]
[]
[]
[]
[]
[]
[]
[]
[]
[]
[]
[]
[]
[]
[]
[]
[]
[]
[]
[]
[]
[]
[]
[]
[]
[]
[]
[]
[]
[]
[]
[]
[]
[]
[]
[]
[]
[]
[]
[]
[null,null,null,null,null,null," "]
[null,null,null,null,null,null," "]
[null,null,null,null,null,null," "]
[null,null,null,null,null,null," "]
[null,null,null,null,null,null," "]
[null,null,null,null,null,null," "]
[null,null,null,null,null,null," "]
[null,null,null,null,null,null," "]
[null,null,null,null,null,null," "]
[null,null,null,null,null,null," "]
[null,null,null,null,null,null," "]
[null,null,null,null,null,null," "]
[null,null,null,null,null,null," "]
[null,null,null,null,null,null," "]
[null,null,null,null,null,null," "]
[null,null,null,null,null,null," "]
[null,null,null,null,null,null," "]
[null,null,null,null,null,null," "]
[null,null,null,null,null,null," "]
[null,null,null,null,null,null," "]
[null,null,null,null,null,null," "]
[null,null,null,null,null,null," "]
[null,null,null,null,null,null," "]
[null,null,null,null,null,null," "]
[null,null,null,null,null,null," "]
[null,null,null,null,null,null," "]
[null,null,null,null,null,null," "]
[null,null,null,null,null,null," "]
[null,null,null,null,null,null," "]
[null,null,null,null,null,null," "]
[null,null,null,null,null,null," "]
[null,null,null,null,null,null," "]
[null,null,null,null,null,null," "]
[null,null,null,null,null,null," "]
[null,null,null,null,null,null," "]
[null,null,null,null,null,null," "]
[null,null,null,null,null,null," "]
[null,null,null,null,null,null," "]
[null,null,null,null,null,null," "]
[null,null,null,null,null,null," "]
[null,null,null,null,null,null," "]
[null,null,null,null,null,null," "]
[null,null,null,null,null,null," "]
[null,null,null,null,null,null," "]
[null,null,null,null,null,null," "]
[null,null,null,null,null,null," "]
[null,null,null,null,null,null," "]
[null,null,null,null,null,null," "]
[null,null,null,null,null,null," "]
[null,null,null,null,null,null," "]
[null,null,null,null,null,null," "]
[null,null,null,null,null,null," "]
[null,null,null,null,null,null," "]
[null,null,null,null,null,null," "]
[null,null,null,null,null,null," "]
[null,null,null,null,null,null," "]
[null,null,null,null,null,null," "]
[null,null,null,null,null,null," "]
[null,null,null,null,null,null," "]
[null,null,null,null,null,null," "]
[null,null,null,null,null,null," "]
[null,null,null,null,null,null," "]
[null,null,null,null,null,null," "]
[null,null,null,null,null,null," "]
[null,null,null,null,null,null," "]
[null,null,null,null,null,null," "]
[null,null,null,null,null,null," "]
[null,null,null,null,null,null," "]
[null,null,null,null,null,null," "]
[null,null,null,null,null,null," "]
[null,null,null,null,null,null," "]
[null,null,null,null,null,null," "]
[null,null,null,null,null,null," "]
[null,null,null,null,null,null," "]
[null,null,null,null,null,null," "]
[null,null,null,null,null,null," "]
[null,null,null,null,null,null," "]
[null,null,null,null,null,null," "]
[null,null,null,null,null,null," "]
[null,null,null,null,null,null," "]
[null,null,null,null,null,null," "]
[null,null,null,null,null,null," "]
[null,null,null,null,null,null," "]
[null,null,null,null,null,null," "]
[null,null,null,null,null,null," "]
[null,null,null,null,null,null," "]
[null,null,null,null,null,null," "]
[null,null,null,null,null,null," "]
[null,null,null,null,null,null," "]
[null,null,null,null,null,null," "]
[null,null,null,null,null,null," "]
[null,null,null,null,null,null," "]
[null,null,null,null,null,null," "]
[null,null,null,null,null,null," "]
[null,null,null,null,null,null," "]
[null,null,null,null,null,null," "]
[null,null,null,null,null,null," "]
[null,null,null,null,null,null," "]
[null,null,null,null,null,null," "]
[null,null,null,null,null,null," "]
[null,null,null,null,null,null," "]
[null,null,null,null,null,null," "]
[null,null,null,null,null,null," "]
[null,null,null,null,null,null," "]
[null,null,null,null,null,null," "]
[null,null,null,null,null,null," "]
[null,null,null,null,null,null," "]
[null,null,null,null,null,null," "]
[null,null,null,null,null,null," "]
[null,null,null,null,null,null," "]
[null,null,null,null,null,null," "]
[null,null,null,null,null,null," "]
[null,null,null,null,null,null," "]
[null,null,null,null,null,null," "]
[null,null,null,null,null,null," "]
[null,null,null,null,null,null," "]
[null,null,null,null,null,null," "]
[null,null,null,null,null,null," "]
[null,null,null,null,null,null," "]
[null,null,null,null,null,null," "]
[null,null,null,null,null,null," "]
[null,null,null,null,null,null," "]
[null,null,null,null,null,null," "]
[null,null,null,null,null,null," "]
[null,null,null,null,null,null," "]
[null,null,null,null,null,null," "]
[null,null,null,null,null,null," "]
[null,null,null,null,null,null," "]
[null,null,null,null,null,null," "]
[null,null,null,null,null,null," "]
[null,null,null,null,null,null," "]
[null,null,null,null,null,null," "]
[null,null,null,null,null,null," "]
[null,null,null,null,null,null," "]
[null,null,null,null,null,null," "]
[null,null,null,null,null,null," "]
[null,null,null,null,null,null," "]
[null,null,null,null,null,null," "]
[null,null,null,null,null,null," "]
[null,null,null,null,null,null," "]
[null,null,null,null,null,null," "]
[null,null,null,null,null,null," "]
[null,null,null,null,null,null," "]
[null,null,null,null,null,null," "]
[null,null,null,null,null,null," "]
[null,null,null,null,null,null," "]
[null,null,null,null,null,null," "]
[null,null,null,null,null,null," "]
[null,null,null,null,null,null," "]
[null,null,null,null,null,null," "]
[null,null,null,null,null,null," "]
[null,null,null,null,null,null," "]
[null,null,null,null,null,null," "]
[null,null,null,null,null,null," "]
[null,null,null,null,null,null," "]
[null,null,null,null,null,null," "]
[null,null,null,null,null,null," "]
[null,null,null,null,null,null," "]
[null,null,null,null,null,null," "]
[null,null,null,null,null,null," "]
[null,null,null,null,null,null," "]
[null,null,null,null,null,null," "]
[null,null,null,null,null,null," "]
[null,null,null,null,null,null," "]
[null,null,null,null,null,null," "]
[null,null,null,null,null,null," "]
[null,null,null,null,null,null," "]
[null,null,null,null,null,null," "]
[null,null,null,null,null,null," "]
[null,null,null,null,null,null," "]
[null,null,null,null,null,null," "]
[null,null,null,null,null,null," "]
[null,null,null,null,null,null," "]
[null,null,null,null,null,null," "]
[null,null,null,null,null,null," "]
[null,null,null,null,null,null," "]
[null,null,null,null,null,null," "]
[null,null,null,null,null,null," "]
[null,null,null,null,null,null," "]
[null,null,null,null,null,null," "]
[null,null,null,null,null,null," "]
[null,null,null,null,null,null," "]
[null,null,null,null,null,null," "]
[null,null,null,null,null,null," "]
[null,null,null,null,null,null," "]
[null,null,null,null,null,null," "]
[null,null,null,null,null,null," "]
[null,null,null,null,null,null," "]
[null,null,null,null,null,null," "]
[null,null,null,null,null,null," "]
[null,null,null,null,null,null," "]
[null,null,null,null,null,null," "]
[null,null,null,null,null,null," "]
[null,null,null,null,null,null," "]
[null,null,null,null,null,null," "]
[null,null,null,null,null,null," "]
[null,null,null,null,null,null," "]
[null,null,null,null,null,null," "]
[null,null,null,null,null,null," "]
[null,null,null,null,null,null," "]
[null,null,null,null,null,null," "]
[null,null,null,null,null,null," "]
[null,null,null,null,null,null," "]
[null,null,null,null,null,null," "]
[null,null,null,null,null,null," "]
[null,null,null,null,null,null," "]
[null,null,null,null,null,null," "]
[null,null,null,null,null,null," "]
[null,null,null,null,null,null," "]
[null,null,null,null,null,null," "]
[null,null,null,null,null,null," "]
[null,null,null,null,null,null," "]
[null,null,null,null,null,null," "]
[null,null,null,null,null,null," "]
[null,null,null,null,null,null," "]
[null,null,null,null,null,null," "]
[null,null,null,null,null,null," "]
[null,null,null,null,null,null," "]
[null,null,null,null,null,null," "]
[null,null,null,null,null,null," "]
[null,null,null,null,null,null," "]
[null,null,null,null,null,null," "]
[null,null,null,null,null,null," "]
[null,null,null,null,null,null," "]
[null,null,null,null,null,null," "]
[null,null,null,null,null,null," "]
[null,null,null,null,null,null," "]
[null,null,null,null,null,null," "]
[null,null,null,null,null,null," "]
[null,null,null,null,null,null," "]
[null,null,null,null,null,null," "]
[null,null,null,null,null,null," "]
[null,null,null,null,null,null," "]
[null,null,null,null,null,null," "]
[null,null,null,null,null,null," "]
[null,null,null,null,null,null," "]
[null,null,null,null,null,null," "]
[null,null,null,null,null,null," "]
[null,null,null,null,null,null," "]
[null,null,null,null,null,null," "]
[null,null,null,null,null,null," "]
[null,null,null,null,null,null," "]
[null,null,null,null,null,null," "]
[null,null,null,null,null,null," "]
[null,null,null,null,null,null," "]
[null,null,null,null,null,null," "]
[null,null,null,null,null,null," "]
[null,null,null,null,null,null," "]
[null,null,null,null,null,null," "]
[null,null,null,null,null,null," "]
[null,null,null,null,null,null," "]
[null,null,null,null,null,null," "]
[null,null,null,null,null,null," "]
[null,null,null,null,null,null," "]
[null,null,null,null,null,null," "]
[null,null,null,null,null,null," "]
[null,null,null,null,null,null," "]
[null,null,null,null,null,null," "]
[null,null,null,null,null,null," "]
[null,null,null,null,null,null," "]
[null,null,null,null,null,null," "]
[null,null,null,null,null,null," "]
[null,null,null,null,null,null," "]
[null,null,null,null,null,null," "]
[null,null,null,null,null,null," "]
[null,null,null,null,null,null," "]
[null,null,null,null,null,null," "]
[null,null,null,null,null,null," "]
[null,null,null,null,null,null," "]
[null,null,null,null,null,null," "]
[null,null,null,null,null,null," "]
[null,null,null,null,null,null," "]
[null,null,null,null,null,null," "]
[null,null,null,null,null,null," "]
[null,null,null,null,null,null," "]
[null,null,null,null,null,null," "]
[null,null,null,null,null,null," "]
[null,null,null,null,null,null," "]
[null,null,null,null,null,null," "]
[null,null,null,null,null,null," "]
[null,null,null,null,null,null," "]
[null,null,null,null,null,null," "]
[null,null,null,null,null,null," "]
[null,null,null,null,null,null," "]
[null,null,null,null,null,null," "]
[null,null,null,null,null,null," "]
[null,null,null,null,null,null," "]
[null,null,null,null,null,null," "]
[null,null,null,null,null,null," "]
[null,null,null,null,null,null," "]
[null,null,null,null,null,null," "]
[null,null,null,null,null,null," "]
[null,null,null,null,null,null," "]
[null,null,null,null,null,null," "]
[null,null,null,null,null,null," "]
[null,null,null,null,null,null," "]
[null,null,null,null,null,null," "]
[null,null,null,null,null,null," "]
[null,null,null,null,null,null," "]
[null,null,null,null,null,null," "]
[null,null,null,null,null,null," "]
[null,null,null,null,null,null," "]
[null,null,null,null,null,null,", "]
[null,null,null,null,null,null,", "]
[null,null,null,null,null,null,", "]
[null,null,null,null,null,null,", "]

{"sheet":"Data","index":27,"n_rows":2140,"n_cols":14,"rows_kept":2140,"cut":false,"hidden":false,"merged":[]}
[{"$f":"IF(ChoixLangue=Languages!B$1,Languages!B85,IF(ChoixLangue=Languages!C$1,Languages!C85,IF(ChoixLangue=Languages!D$1,Languages!D85,Languages!E85)))","v":"Juges"},{"$f":"IF(ChoixLangue=Languages!B$1,Languages!B86,IF(ChoixLangue=Languages!C$1,Languages!C86,IF(ChoixLangue=Languages!D$1,Languages!D86,Languages!E86)))","v":"Club"},{"$f":"IF(ChoixLangue=Languages!B$1,Languages!B87,IF(ChoixLangue=Languages!C$1,Languages!C87,IF(ChoixLangue=Languages!D$1,Languages!D87,Languages!E87)))","v":"Nom du club"},{"$f":"IF(ChoixLangue=Languages!B$1,Languages!B88,IF(ChoixLangue=Languages!C$1,Languages!C88,IF(ChoixLangue=Languages!D$1,Languages!D88,Languages!E88)))","v":"Brevet"},{"$f":"IF(ChoixLangue=Languages!B$1,Languages!B95,IF(ChoixLangue=Languages!C$1,Languages!C95,IF(ChoixLangue=Languages!D$1,Languages!D95,Languages!E95)))","v":"E-mail du juge"},null,{"$f":"IF(ChoixLangue=Languages!B$1,Languages!B89,IF(ChoixLangue=Languages!C$1,Languages!C89,IF(ChoixLangue=Languages!D$1,Languages!D89,Languages!E89)))","v":"Nageuses"},{"$f":"IF(ChoixLangue=Languages!B$1,Languages!B90,IF(ChoixLangue=Languages!C$1,Languages!C90,IF(ChoixLangue=Languages!D$1,Languages!D90,Languages!E90)))","v":"N° de licence"},{"$f":"IF(ChoixLangue=Languages!B$1,Languages!B91,IF(ChoixLangue=Languages!C$1,Languages!C91,IF(ChoixLangue=Languages!D$1,Languages!D91,Languages!E91)))","v":"An nais."},{"$f":"IF(ChoixLangue=Languages!B$1,Languages!B92,IF(ChoixLangue=Languages!C$1,Languages!C92,IF(ChoixLangue=Languages!D$1,Languages!D92,Languages!E92)))","v":"N° Test"},{"$f":"IF(ChoixLangue=Languages!B$1,Languages!B86,IF(ChoixLangue=Languages!C$1,Languages!C86,IF(ChoixLangue=Languages!D$1,Languages!D86,Languages!E86)))","v":"Club"},null,{"$f":"IF(ChoixLangue=Languages!B$1,Languages!B86,IF(ChoixLangue=Languages!C$1,Languages!C86,IF(ChoixLangue=Languages!D$1,Languages!D86,Languages!E86)))","v":"Club"},{"$f":"IF(ChoixLangue=Languages!B$1,Languages!B94,IF(ChoixLangue=Languages!C$1,Languages!C94,IF(ChoixLangue=Languages!D$1,Languages!D94,Languages!E94)))","v":"Nom du club"}]
[null,null,{"$f":"IF(B2=\"\",\"\",LOOKUP(B2,M$2:M$50,N$2:N$50))","v":""},null,null,null,null,null,null,{"$f":"IF(G2<>\"\",LOOKUP(G2,Import!D$4:D$303,Import!J$4:J$303),\"\")","v":""},{"$f":"IF(G2=\"\",\"\",'Cover Page'!B$11)","v":""},null,"_"]
[null,null,null,null,null,null,null,null,null,null,null,null,"_LS","LEMAN SYNCHRO"]
[null,null,null,null,null,null,null,null,null,null,null,null,"ACR","Aqua Club Riviera"]
[null,null,null,null,null,null,null,null,null,null,null,null,"ASM","Arpitania Synchro Masters"]
[null,null,null,null,null,null,null,null,null,null,null,null,"ASY","Argovia Synchro"]
[null,null,null,null,null,null,null,null,null,null,null,null,"AVU","Avully Natation"]
[null,null,null,null,null,null,null,null,null,null,null,null,"BFA","Blue Flamingo Amden"]
[null,null,null,null,null,null,null,null,null,null,null,null,"BISS","Società Pallanuoto Bissone"]
[null,null,null,null,null,null,null,null,null,null,null,null,"BUEL","Schwimmclub Bülach"]
[null,null,null,null,null,null,null,null,null,null,null,null,"CNM","Cercle des Nageurs Monthey"]
[null,null,null,null,null,null,null,null,null,null,null,null,"DSV","Dauphins Synchro Vernier"]
[null,null,null,null,null,null,null,null,null,null,null,null,"FLOS","Schwimmclub Flös Buchs"]
[null,null,null,null,null,null,null,null,null,null,null,null,"FSN","Swiss Aquatics"]
[null,null,null,null,null,null,null,null,null,null,null,null,"GeBern","GN1885 - SY Bern"]
[null,null,null,null,null,null,null,null,null,null,null,null,"GN1885","Genève Natation 1885"]
[null,null,null,null,null,null,null,null,null,null,null,null,"GSO","Genève Synchro Onex"]
[null,null,null,null,null,null,null,null,null,null,null,null,"LN","Lausanne Natation"]
[null,null,null,null,null,null,null,null,null,null,null,null,"LNZ","Limmat-Nixen Zürich"]
[null,null,null,null,null,null,null,null,null,null,null,null,"LUG","Lugano Nuoto P. Sincro"]
[null,null,null,null,null,null,null,null,null,null,null,null,"MEYR","Meyrin Natation"]
[null,null,null,null,null,null,null,null,null,null,null,null,"MN","Montreux Natation"]
[null,null,null,null,null,null,null,null,null,null,null,null,"MORG","Morges Natation"]
[null,null,null,null,null,null,null,null,null,null,null,null,"NSL","Nuoto Sport Locarno"]
[null,null,null,null,null,null,null,null,null,null,null,null,"PLAN","Club de Plan-les-Ouates"]
[null,null,null,null,null,null,null,null,null,null,null,null,"PULL","Pully Natation"]
[null,null,null,null,null,null,null,null,null,null,null,null,"RFN","Red-Fish Neuchâtel"]
[null,null,null,null,null,null,null,null,null,null,null,null,"ROS","Regionalverband Ostschweiz"]
[null,null,null,null,null,null,null,null,null,null,null,null,"RSI","Svizzera Italiana"]
[null,null,null,null,null,null,null,null,null,null,null,null,"RSR","Région Romande"]
[null,null,null,null,null,null,null,null,null,null,null,null,"RSY","Riviera Synchro"]
[null,null,null,null,null,null,null,null,null,null,null,null,"RZO","Regionalverband Zentralschweiz Ost"]
[null,null,{"$f":"IF(B33=\"\",\"\",LOOKUP(B33,M$2:M$50,N$2:N$50))","v":""},null,null,null,null,null,null,null,null,null,"RZW","Regionalverband Zentralschweiz West "]
[null,null,"",null,null,null,null,null,null,null,null,null,"SCDU","Schwimmclub Dübendorf"]
[null,null,"",null,null,null,null,null,null,null,null,null,"SCL","Schwimmclub Limmattal"]
[null,null,"",null,null,null,null,null,null,null,null,null,"SCSO","Schwimmclub Solothurn"]
[null,null,"",null,null,null,null,null,null,null,null,null,"SION","Cercle des Nageurs de Sion"]
[null,null,"",null,null,null,null,null,null,null,null,null,"SRSO","Swim Regio Solothurn"]
[null,null,"",null,null,null,null,null,null,null,null,null,"SVB","Schwimmverein beider Basel"]
[null,null,"",null,null,null,null,null,null,null,null,null,"SVS","SYV Schönenwerd"]
[null,null,"",null,null,null,null,null,null,null,null,null,"SYB","Synchroverein Bern"]
[null,null,"",null,null,null,null,null,null,null,null,null,"SYTG","Synchro Team Glatt"]
[null,null,"",null,null,null,null,null,null,null,null,null,"SYU","Synchronschwimmen Uri"]
[null,null,"",null,null,null,null,null,null,null,null,null,"ValSyn","Valais Synchro"]
[null,null,"",null,null,null,null,null,null,null,null,null,"WSB","Wassersport Bäretswil"]
[null,null,""]
[null,null,""]
[null,null,""]
[null,null,""]
[null,null,""]
[null,null,""]
["-","-","-","-",null,null,null,null,null,null,null,null,"-","-"]
[]
[]
[]
[]
[]
[]
[]
[]
[]
[]
[]
[]
[]
[]
[]
[]
[]
[]
[]
[]
[]
[]
[]
[]
[]
[]
[]
[]
[]
[]
[]
[]
[]
[]
[]
[]
[]
[]
[]
[]
[]
[]
[]
[]
[]
[]
[]
[]
[]
[]
[]
[]
[]
[]
[]
[]
[]
[]
[]
[]
[]
[]
[]
[]
[]
[]
[]
[]
[]
[]
[]
[]
[]
[]
[]
[]
[]
[]
[]
[]
[]
[]
[]
[]
[]
[]
[]
[]
[]
[]
[]
[]
[]
[]
[]
[]
[]
[]
[]
[]
[]
[]
[]
[]
[]
[]
[]
[]
[]
[]
[]
[]
[]
[]
[]
[]
[]
[]
[]
[]
[]
[]
[]
[]
[]
[]
[]
[]
[]
[]
[]
[]
[]
[]
[]
[]
[]
[]
[]
[]
[]
[]
[]
[]
[]
[]
[]
[]
[]
[]
[]
[]
[]
[]
[]
[]
[]
[]
[]
[]
[]
[]
[]
[]
[]
[]
[]
[]
[]
[]
[]
[]
[]
[]
[]
[]
[]
[]
[]
[]
[]
[]
[]
[]
[]
[]
[]
[]
[]
[]
[]
[]
[]
[]
[]
[]
[]
[]
[]
[]
[]
[]
[]
[]
[]
[]
[]
[]
[]
[]
[]
[]
[]
[]
[]
[]
[]
[]
[]
[]
[]
[]
[]
[]
[]
[]
[]
[]
[]
[]
[]
[]
[]
[]
[]
[]
[]
[]
[]
[]
[]
[]
[]
[]
[]
[]
[]
[]
[]
[]
[null,null,null,null,null,null,"-","-","-","-","-"]
[]
[]
[]
[]
[]
[]
[]
[]
[]
[]
[]
[]
[]
[]
[]
[]
[]
[]
[]
[]
[]
[]
[]
[]
[]
[]
[]
[]
[]
[]
[]
[]
[]
[]
[]
[]
[]
[]
[]
[]
[]
[]
[]
[]
[]
[]
[]
[]
[]
[]
[]
[]
[]
[]
[]
[]
[]
[]
[]
[]
[]
[]
[]
[]
[]
[]
[]
[]
[]
[]
[]
[]
[]
[]
[]
[]
[]
[]
[]
[]
[]
[]
[]
[]
[]
[]
[]
[]
[]
[]
[]
[]
[]
[]
[]
[]
[]
[]
[]
[]
[]
[]
[]
[]
[]
[]
[]
[]
[]
[]
[]
[]
[]
[]
[]
[]
[]
[]
[]
[]
[]
[]
[]
[]
[]
[]
[]
[]
[]
[]
[]
[]
[]
[]
[]
[]
[]
[]
[]
[]
[]
[]
[]
[]
[]
[]
[]
[]
[]
[]
[]
[]
[]
[]
[]
[]
[]
[]
[]
[]
[]
[]
[]
[]
[]
[]
[]
[]
[]
[]
[]
[]
[]
[]
[]
[]
[]
[]
[]
[]
[]
[]
[]
[]
[]
[]
[]
[]
[]
[]
[]
[]
[]
[]
[]
[]
[]
[]
[]
[]
[]
[]
[]
[]
[]
[]
[]
[]
[]
[]
[]
[]
[]
[]
[]
[]
[]
[]
[]
[]
[]
[]
[]
[]
[]
[]
[]
[]
[]
[]
[]
[]
[]
[]
[]
[]
[]
[]
[]
[]
[]
[]
[]
[]
[]
[]
[]
[]
[]
[]
[]
[]
[]
[]
[]
[]
[]
[]
[]
[]
[]
[]
[]
[]
[]
[]
[]
[]
[]
[]
[]
[]
[]
[]
[]
[]
[]
[]
[]
[]
[]
[]
[]
[]
[]
[]
[]
[]
[]
[]
[]
[]
[]
[]
[]
[]
[]
[]
[]
[]
[]
[]
[]
[]
[]
[]
[]
[]
[]
[]
[]
[]
[]
[]
[]
[]
[]
[]
[]
[]
[]
[]
[]
[]
[]
[]
[]
[]
[]
[]
[]
[]
[]
[]
[]
[]
[]
[]
[]
[]
[]
[]
[]
[]
[]
[]
[]
[]
[]
[]
[]
[]
[]
[]
[]
[]
[]
[]
[]
[]
[]
[]
[]
[]
[]
[]
[]
[]
[]
[]
[]
[]
[]
[]
[]
[]
[]
[]
[]
[]
[]
[]
[]
[]
[]
[]
[]
[]
[]
[]
[]
[]
[]
[]
[]
[]
[]
[]
[]
[]
[]
[]
[]
[]
[]
[]
[]
[]
[]
[]
[]
[]
[]
[]
[]
[]
[]
[]
[]
[]
[]
[]
[]
[]
[]
[]
[]
[]
[]
[]
[]
[]
[]
[]
[]
[]
[]
[]
[]
[]
[]
[]
[]
[]
[]
[]
[]
[]
[]
[]
[]
[]
[]
[]
[]
[]
[]
[]
[]
[]
[]
[]
[]
[]
[]
[]
[]
[]
[]
[]
[]
[]
[]
[]
[]
[]
[]
[]
[]
[]
[]
[]
[]
[]
[]
[]
[]
[]
[]
[]
[]
[]
[]
[]
[]
[]
[]
[]
[]
[]
[]
[]
[]
[]
[]
[]
[]
[]
[]
[]
[]
[]
[]
[]
[]
[]
[]
[]
[]
[]
[]
[]
[]
[]
[]
[]
[]
[]
[]
[]
[]
[]
[]
[]
[]
[]
[]
[]
[]
[]
[]
[]
[]
[]
[]
[]
[]
[]
[]
[]
[]
[]
[]
[]
[]
[]
[]
[]
[]
[]
[]
[]
[]
[]
[]
[]
[]
[]
[]
[]
[]
[]
[]
[]
[]
[]
[]
[]
[]
[]
[]
[]
[]
[]
[]
[]
[]
[]
[]
[]
[]
[]
[]
[]
[]
[]
[]
[]
[]
[]
[]
[]
[]
[]
[]
[]
[]
[]
[]
[]
[]
[]
[]
[]
[]
[]
[]
[]
[]
[]
[]
[]
[]
[]
[]
[]
[]
[]
[]
[]
[]
[]
[]
[]
[]
[]
[]
[]
[]
[]
[]
[]
[]
[]
[]
[]
[]
[]
[]
[]
[]
[]
[]
[]
[]
[]
[]
[]
[]
[]
[]
[]
[]
[]
[]
[]
[]
[]
[]
[]
[]
[]
[]
[]
[]
[]
[]
[]
[]
[]
[]
[]
[]
[]
[]
[]
[]
[]
[]
[]
[]
[]
[]
[]
[]
[]
[]
[]
[]
[]
[]
[]
[]
[]
[]
[]
[]
[]
[]
[]
[]
[]
[]
[]
[]
[]
[]
[]
[]
[]
[]
[]
[]
[]
[]
[]
[]
[]
[]
[]
[]
[]
[]
[]
[]
[]
[]
[]
[]
[]
[]
[]
[]
[]
[]
[]
[]
[]
[]
[]
[]
[]
[]
[]
[]
[]
[]
[]
[]
[]
[]
[]
[]
[]
[]
[]
[]
[]
[]
[]
[]
[]
[]
[]
[]
[]
[]
[]
[]
[]
[]
[]
[]
[]
[]
[]
[]
[]
[]
[]
[]
[]
[]
[]
[]
[]
[]
[]
[]
[]
[]
[]
[]
[]
[]
[]
[]
[]
[]
[]
[]
[]
[]
[]
[]
[]
[]
[]
[]
[]
[]
[]
[]
[]
[]
[]
[]
[]
[]
[]
[]
[]
[]
[]
[]
[]
[]
[]
[]
[]
[]
[]
[]
[]
[]
[]
[]
[]
[]
[]
[]
[]
[]
[]
[]
[]
[]
[]
[]
[]
[]
[]
[]
[]
[]
[]
[]
[]
[]
[]
[]
[]
[]
[]
[]
[]
[]
[]
[]
[]
[]
[]
[]
[]
[]
[]
[]
[]
[]
[]
[]
[]
[]
[]
[]
[]
[]
[]
[]
[]
[]
[]
[]
[]
[]
[]
[]
[]
[]
[]
[]
[]
[]
[]
[]
[]
[]
[]
[]
[]
[]
[]
[]
[]
[]
[]
[]
[]
[]
[]
[]
[]
[]
[]
[]
[]
[]
[]
[]
[]
[]
[]
[]
[]
[]
[]
[]
[]
[]
[]
[]
[]
[]
[]
[]
[]
[]
[]
[]
[]
[]
[]
[]
[]
[]
[]
[]
[]
[]
[]
[]
[]
[]
[]
[]
[]
[]
[]
[]
[]
[]
[]
[]
[]
[]
[]
[]
[]
[]
[]
[]
[]
[]
[]
[]
[]
[]
[]
[]
[]
[]
[]
[]
[]
[]
[]
[]
[]
[]
[]
[]
[]
[]
[]
[]
[]
[]
[]
[]
[]
[]
[]
[]
[]
[]
[]
[]
[]
[]
[]
[]
[]
[]
[]
[]
[]
[]
[]
[]
[]
[]
[]
[]
[]
[]
[]
[]
[]
[]
[]
[]
[]
[]
[]
[]
[]
[]
[]
[]
[]
[]
[]
[]
[]
[]
[]
[]
[]
[]
[]
[]
[]
[]
[]
[]
[]
[]
[]
[]
[]
[]
[]
[]
[]
[]
[]
[]
[]
[]
[]
[]
[]
[]
[]
[]
[]
[]
[]
[]
[]
[]
[]
[]
[]
[]
[]
[]
[]
[]
[]
[]
[]
[]
[]
[]
[]
[]
[]
[]
[]
[]
[]
[]
[]
[]
[]
[]
[]
[]
[]
[]
[]
[]
[]
[]
[]
[]
[]
[]
[]
[]
[]
[]
[]
[]
[]
[]
[]
[]
[]
[]
[]
[]
[]
[]
[]
[]
[]
[]
[]
[]
[]
[]
[]
[]
[]
[]
[]
[]
[]
[]
[]
[]
[]
[]
[]
[]
[]
[]
[]
[]
[]
[]
[]
[]
[]
[]
[]
[]
[]
[]
[]
[]
[]
[]
[]
[]
[]
[]
[]
[]
[]
[]
[]
[]
[]
[]
[]
[]
[]
[]
[]
[]
[]
[]
[]
[]
[]
[]
[]
[]
[]
[]
[]
[]
[]
[]
[]
[]
[]
[]
[]
[]
[]
[]
[]
[]
[]
[]
[]
[]
[]
[]
[]
[]
[]
[]
[]
[]
[]
[]
[]
[]
[]
[]
[]
[]
[]
[]
[]
[]
[]
[]
[]
[]
[]
[]
[]
[]
[]
[]
[]
[]
[]
[]
[]
[]
[]
[]
[]
[]
[]
[]
[]
[]
[]
[]
[]
[]
[]
[]
[]
[]
[]
[]
[]
[]
[]
[]
[]
[]
[]
[]
[]
[]
[]
[]
[]
[]
[]
[]
[]
[]
[]
[]
[]
[]
[]
[]
[]
[]
[]
[]
[]
[]
[]
[]
[]
[]
[]
[]
[]
[]
[]
[]
[]
[]
[]
[]
[]
[]
[]
[]
[]
[]
[]
[]
[]
[]
[]
[]
[]
[]
[]
[]
[]
[]
[]
[]
[]
[]
[]
[]
[]
[]
[]
[]
[]
[]
[]
[]
[]
[]
[]
[]
[]
[]
[]
[]
[]
[]
[]
[]
[]
[]
[]
[]
[]
[]
[]
[]
[]
[]
[]
[]
[]
[]
[]
[]
[]
[]
[]
[]
[]
[]
[]
[]
[]
[]
[]
[]
[]
[]
[]
[]
[]
[]
[]
[]
[]
[]
[]
[]
[]
[]
[]
[]
[]
[]
[]
[]
[]
[]
[]
[]
[]
[]
[]
[]
[]
[]
[]
[]
[]
[]
[]
[]
[]
[]
[]
[]
[]
[]
[]
[]
[]
[]
[]
[]
[]
[]
[]
[]
[]
[]
[]
[]
[]
[]
[]
[]
[]
[]
[]
[]
[]
[]
[]
[]
[]
[]
[]
[]
[]
[]
[]
[]
[]
[]
[]
[]
[]
[]
[]
[]
[]
[]
[]
[]
[]
[]
[]
[]
[]
[]
[]
[]
[]
[]
[]
[]
[]
[]
[]
[]
[]
[]
[]
[]
[]
[]
[]
[]
[]
[]
[]
[]
[]
[]
[]
[]
[]
[]
[]
[]
[]
[]
[]
[]
[]
[]
[]
[]
[]
[]
[]
[]
[]
[]
[]
[]
[]
[]
[]
[]
[]
[]
[]
[]
[]
[]
[]
[]
[]
[]
[]
[]
[]
[]
[]
[]
[]
[]
[]
[]
[]
[]
[]
[]
[]
[]
[]
[]
[]
[]
["-","-","-","-"]
[]
[]
[]
[]
[]
[]
[]
[]
[]
[]
[]
[]
[]
[]
[]
[]
[]
[]
[]
[]
[]
[]
[]
[]
[]
[]
[]
[]
[]
[]
[]
[]
[]
[]
[]
[]
[]
[]
[]
[]
[]
[]
[]
[]
[]
[]
[]
[]
[]
[]
[]
[]
[]
[]
[]
[]
[]
[]
[]
[]
[]
[]
[]
[]
[]
[]
[]
[]
[]
[]
[]
[]
[]
[]
[]
[]
[]
[]
[]
[]
[]
[]
[]
[]
[]
[]
[]
[]
[]
[]
[]
[]
[]
[]
[]
[]
[]
[]
[]
[]
[]
[]
[]
[]
[]
[]
[]
[]
[]
[]
[]
[]
[]
[]
[]
[]
[]
[]
[]
[]
[]
[]
[]
[]
[]
[]
[]
[]
[]
[]
[]
[]
[]
[]
[]
[]
[]
[]
[]
[]
[]
[]
[]
[]
[]
[]
[]
[]
[]
[]
[]
[]
[]
[]
[]
[]
[]
[]
[]
[]
[]
[]
[]
[]
[]
[]
[]
[]
[]
[]
[]
[]
[]
[]
[]
[]
[]
[]
[]
[]
[]
[]
[]
[]
[]
[]
[]
[]
[]
[]
[]
[]
[]
[]
[]
[]
[]
[]
[]
[]
[]
[]
[]
[]
[]
[]
[]
[]
[]
[]
[]
[]
[]
[]
[]
[]
[]
[]
[]
[]
[]
[]
[]
[]
[]
[]
[]
[]
[]
[]
[]
[]
[]
[]
[]
[]
[]
[]
[]
[]
[]
[]
[]
[]
[]
[]
[]
[]
[]
[]
[null,null,null,null,null,"-"]

{"sheet":"Import2","index":28,"n_rows":500,"n_cols":7,"rows_kept":500,"cut":false,"hidden":true,"merged":[]}
["Abarrah","Sofia",0,2004,"LN",3]
["Aboussoror","Délia",0,2004,"LN",5]
["Acevedo","Théa",0,2001,"LN",5]
["Akman","Nicole",0,2006,"LN",2]
["Artifoni","Clara",10262,2008,"LN",3]
["Backhaus","Iris",10370,2008,"LN",3]
["Ballester","Tiziana",0,1996,"LN",3]
["Barboni","Alessia",10184,2010,"LN",2]
["Battilana","Konstantine",10411,1998,"LN",3]
["Battilana","Jacinthe",10374,2009,"LN",4]
["Baumgartner","Julia",10397,2006,"LN",3]
["Benslimane","Lena",0,2008,"LN",3]
["Bindon","Olivia",10556,2005,"LN",5]
["Blanc","Elodie",0,2002,"LN",4]
["Bonomi","Alessia",0,2007,"LN",2]
["Borel","Loane",0,2004,"LN",4]
["Casciana","Livia",0,2007,"LN",3]
["Castro Carrion","Mélanie",0,2006,"LN",2]
["Cazé","Maï",0,2006,"LN",3]
["Chevalley","Elodie",0,2001,"LN",5]
["Chevrier","Nina",5803,2006,"LN",4]
["Chrast","Livia",0,1996,"LN",6]
["Ciaffi","Sophia",10604,2002,"LN",5]
["Clemenceau","Lea",10418,2008,"LN",3]
["Coderey","Soraya",0,2006,"LN",2]
["Contreras Perlaza","Natacha",0,2006,"LN",3]
["Correia","Olivia",0,2006,"LN",2]
["Cueni","Lara",5789,2004,"LN",6]
["D'Agostino","Laura",10416,2008,"LN",3]
["Da Silva Diaz","Gabriela Rosa",0,2004,"LN",3]
["De Palo","Rebecca",0,1999,"LN",6]
["Diday","Aline",0,2006,"LN",2]
["Djokic","Macha",0,2004,"LN",2]
["Dovat","Meline",10523,2012,"LN",2]
["Ducolone","Zoé-Félicia",10664,2008,"LN",3]
["Dumusc","Estelle",10325,1991,"LN",6]
["Duperrex","Anaé",0,2009,"LN",3]
["Duran","Mailys",0,2008,"LN",2]
["Fernandez Alvarez","Lara",10414,2009,"LN",3]
["Francey","Thayssa",0,2011,"LN",2]
["Gallego","Alba",0,2000,"LN",5]
["Gerold","Abby",10162,2010,"LN",4]
["Gerold","Zoé",10663,2007,"LN",4]
["Gétain","Sarah-Maude",0,2002,"LN",4]
["Gloor","Sophie",0,1997,"LN",6]
["Haensel Ribera","Almendra",0,2005,"LN",4]
["Jacqmarcq","Maëlle",0,1999,"LN",3]
["Jel","Jean-Philippe",28116,1977,"LN",4]
["Kauz","Clara",0,2008,"LN",3]
["Lambert","Emilie Belinda",10313,2008,"LN",2]
["Llech","Sarah",0,2005,"LN",2]
["Llerena Hidalgo","Oceane",10553,2010,"LN",4]
["Lobello","Melanie",0,1994,"LN",3]
["Lotti Couto","Clara",0,2006,"LN",4]
["Lukacs","Lee-Ann",0,2005,"LN",5]
["Lute","Wieke",0,2007,"LN",4]
["Lute","Maartje",10473,2005,"LN",5]
["Maillot","Xulia",0,2004,"LN",5]
["Maillot Rodriguez","Estela",0,2006,"LN",4]
["Malec","Sara",10591,2009,"LN",2]
["Malec","Mirjam",11318,2009,"LN",2]
["Myagmarsuren","Maral",0,2006,"LN",0]
["Nemeth","Flora",0,2010,"LN",2]
["Neuveglise","Lucile",10463,2008,"LN",3]
["Nicod (Fischer)","Pamela",0,1988,"LN",6]
["Nyffeler","Célia",0,2007,"LN",2]
["Pacozzi","Léa",0,2000,"LN",4]
["Paraire","Alma",0,2004,"LN",5]
["Pilet","Emilie",0,2003,"LN",5]
["Porchet","Emma",0,2005,"LN",3]
["Pouchèle","Morgane",0,1990,"LN",6]
["Ray","Justine",0,2007,"LN",2]
["Regamey","Alyssa",0,2007,"LN",2]
["Rumo","Zoé",0,2005,"LN",4]
["Salomon","Joy-Anne",10394,2003,"LN",2]
["Santoro","Elizabetta",10307,2007,"LN",4]
["Santoro","Benedetta",0,2004,"LN",2]
["Schäfer","Clea",10266,2010,"LN",3]
["Schafer","Emma",0,2007,"LN",2]
["Séchaud","Marjorie",0,1997,"LN",6]
["Solak","Clara",0,2008,"LN",3]
["Sonderegger","Elie",0,2007,"LN",3]
["Sonderegger","Rose",0,2009,"LN",3]
["Sonderegger","Maurine",10514,2006,"LN",3]
["Sparacio","Carlota",10247,2009,"LN",2]
["Stanimirovic","Lidia",10436,2007,"LN",2]
["Thomas","Alana",10176,2009,"LN",3]
["Tran","Oc?ane",0,2010,"LN",2]
["Trifoni","Francesca",0,1998,"LN",4]
["Valterio","Morgana",0,2004,"LN",5]
["Vial","Lydie",0,2006,"LN",3]
["Vollet","Leighton",10422,2007,"LN",2]
["Von Muralt","Thelma",0,2004,"LN",5]
["Vuillet","Elia",10301,2007,"LN",4]
["Wendt François","Elin Sofia",0,2007,"LN",4]
["Wibin","Pascaline",0,2000,"LN",6]
[]
[]
[]
[]
[]
[]
[]
[]
[]
[]
[]
[]
[]
[]
[]
[]
[]
[]
[]
[]
[]
[]
[]
[]
[]
[]
[]
[]
[]
[]
[]
[]
[]
[]
[]
[]
[]
[]
[]
[]
[]
[]
[]
[]
[]
[]
[]
[]
[]
[]
[]
[]
[]
[]
[]
[]
[]
[]
[]
[]
[]
[]
[]
[]
[]
[]
[]
[]
[]
[]
[]
[]
[]
[]
[]
[]
[]
[]
[]
[]
[]
[]
[]
[]
[]
[]
[]
[]
[]
[]
[]
[]
[]
[]
[]
[]
[]
[]
[]
[]
[]
[]
[]
[]
[]
[]
[]
[]
[]
[]
[]
[]
[]
[]
[]
[]
[]
[]
[]
[]
[]
[]
[]
[]
[]
[]
[]
[]
[]
[]
[]
[]
[]
[]
[]
[]
[]
[]
[]
[]
[]
[]
[]
[]
[]
[]
[]
[]
[]
[]
[]
[]
[]
[]
[]
[]
[]
[]
[]
[]
[]
[]
[]
[]
[]
[]
[]
[]
[]
[]
[]
[]
[]
[]
[]
[]
[]
[]
[]
[]
[]
[]
[]
[]
[]
[]
[]
[]
[]
[]
[]
[]
[]
[]
[]
[]
[]
[]
[]
[]
[]
[]
[]
[]
[]
[]
[]
[]
[]
[]
[]
[]
[]
[]
[]
[]
[]
[]
[]
[]
[]
[]
[]
[]
[]
[]
[]
[]
[]
[]
[]
[]
[]
[]
[]
[]
[]
[]
[]
[]
[]
[]
[]
[]
[]
[]
[]
[]
[]
[]
[]
[]
[]
[]
[]
[]
[]
[]
[]
[]
[]
[]
[]
[]
[]
[]
[]
[]
[]
[]
[]
[]
[]
[]
[]
[]
[]
[]
[]
[]
[]
[]
[]
[]
[]
[]
[]
[]
[]
[]
[]
[]
[]
[]
[]
[]
[]
[]
[]
[]
[]
[]
[]
[]
[]
[{"$error":"#N/A"},{"$error":"#N/A"},{"$error":"#N/A"},{"$error":"#N/A"},{"$error":"#N/A"},{"$error":"#N/A"},{"$error":"#N/A"}]
[{"$error":"#N/A"},{"$error":"#N/A"},{"$error":"#N/A"},{"$error":"#N/A"},{"$error":"#N/A"},{"$error":"#N/A"},{"$error":"#N/A"}]
[{"$error":"#N/A"},{"$error":"#N/A"},{"$error":"#N/A"},{"$error":"#N/A"},{"$error":"#N/A"},{"$error":"#N/A"},{"$error":"#N/A"}]
[{"$error":"#N/A"},{"$error":"#N/A"},{"$error":"#N/A"},{"$error":"#N/A"},{"$error":"#N/A"},{"$error":"#N/A"},{"$error":"#N/A"}]
[{"$error":"#N/A"},{"$error":"#N/A"},{"$error":"#N/A"},{"$error":"#N/A"},{"$error":"#N/A"},{"$error":"#N/A"},{"$error":"#N/A"}]
[{"$error":"#N/A"},{"$error":"#N/A"},{"$error":"#N/A"},{"$error":"#N/A"},{"$error":"#N/A"},{"$error":"#N/A"},{"$error":"#N/A"}]
[{"$error":"#N/A"},{"$error":"#N/A"},{"$error":"#N/A"},{"$error":"#N/A"},{"$error":"#N/A"},{"$error":"#N/A"},{"$error":"#N/A"}]
[{"$error":"#N/A"},{"$error":"#N/A"},{"$error":"#N/A"},{"$error":"#N/A"},{"$error":"#N/A"},{"$error":"#N/A"},{"$error":"#N/A"}]
[{"$error":"#N/A"},{"$error":"#N/A"},{"$error":"#N/A"},{"$error":"#N/A"},{"$error":"#N/A"},{"$error":"#N/A"},{"$error":"#N/A"}]
[{"$error":"#N/A"},{"$error":"#N/A"},{"$error":"#N/A"},{"$error":"#N/A"},{"$error":"#N/A"},{"$error":"#N/A"},{"$error":"#N/A"}]
[{"$error":"#N/A"},{"$error":"#N/A"},{"$error":"#N/A"},{"$error":"#N/A"},{"$error":"#N/A"},{"$error":"#N/A"},{"$error":"#N/A"}]
[{"$error":"#N/A"},{"$error":"#N/A"},{"$error":"#N/A"},{"$error":"#N/A"},{"$error":"#N/A"},{"$error":"#N/A"},{"$error":"#N/A"}]
[{"$error":"#N/A"},{"$error":"#N/A"},{"$error":"#N/A"},{"$error":"#N/A"},{"$error":"#N/A"},{"$error":"#N/A"},{"$error":"#N/A"}]
[{"$error":"#N/A"},{"$error":"#N/A"},{"$error":"#N/A"},{"$error":"#N/A"},{"$error":"#N/A"},{"$error":"#N/A"},{"$error":"#N/A"}]
[{"$error":"#N/A"},{"$error":"#N/A"},{"$error":"#N/A"},{"$error":"#N/A"},{"$error":"#N/A"},{"$error":"#N/A"},{"$error":"#N/A"}]
[{"$error":"#N/A"},{"$error":"#N/A"},{"$error":"#N/A"},{"$error":"#N/A"},{"$error":"#N/A"},{"$error":"#N/A"},{"$error":"#N/A"}]
[{"$error":"#N/A"},{"$error":"#N/A"},{"$error":"#N/A"},{"$error":"#N/A"},{"$error":"#N/A"},{"$error":"#N/A"},{"$error":"#N/A"}]
[{"$error":"#N/A"},{"$error":"#N/A"},{"$error":"#N/A"},{"$error":"#N/A"},{"$error":"#N/A"},{"$error":"#N/A"},{"$error":"#N/A"}]
[{"$error":"#N/A"},{"$error":"#N/A"},{"$error":"#N/A"},{"$error":"#N/A"},{"$error":"#N/A"},{"$error":"#N/A"},{"$error":"#N/A"}]
[{"$error":"#N/A"},{"$error":"#N/A"},{"$error":"#N/A"},{"$error":"#N/A"},{"$error":"#N/A"},{"$error":"#N/A"},{"$error":"#N/A"}]
[{"$error":"#N/A"},{"$error":"#N/A"},{"$error":"#N/A"},{"$error":"#N/A"},{"$error":"#N/A"},{"$error":"#N/A"},{"$error":"#N/A"}]
[{"$error":"#N/A"},{"$error":"#N/A"},{"$error":"#N/A"},{"$error":"#N/A"},{"$error":"#N/A"},{"$error":"#N/A"},{"$error":"#N/A"}]
[{"$error":"#N/A"},{"$error":"#N/A"},{"$error":"#N/A"},{"$error":"#N/A"},{"$error":"#N/A"},{"$error":"#N/A"},{"$error":"#N/A"}]
[{"$error":"#N/A"},{"$error":"#N/A"},{"$error":"#N/A"},{"$error":"#N/A"},{"$error":"#N/A"},{"$error":"#N/A"},{"$error":"#N/A"}]
[{"$error":"#N/A"},{"$error":"#N/A"},{"$error":"#N/A"},{"$error":"#N/A"},{"$error":"#N/A"},{"$error":"#N/A"},{"$error":"#N/A"}]
[{"$error":"#N/A"},{"$error":"#N/A"},{"$error":"#N/A"},{"$error":"#N/A"},{"$error":"#N/A"},{"$error":"#N/A"},{"$error":"#N/A"}]
[{"$error":"#N/A"},{"$error":"#N/A"},{"$error":"#N/A"},{"$error":"#N/A"},{"$error":"#N/A"},{"$error":"#N/A"},{"$error":"#N/A"}]
[{"$error":"#N/A"},{"$error":"#N/A"},{"$error":"#N/A"},{"$error":"#N/A"},{"$error":"#N/A"},{"$error":"#N/A"},{"$error":"#N/A"}]
[{"$error":"#N/A"},{"$error":"#N/A"},{"$error":"#N/A"},{"$error":"#N/A"},{"$error":"#N/A"},{"$error":"#N/A"},{"$error":"#N/A"}]
[{"$error":"#N/A"},{"$error":"#N/A"},{"$error":"#N/A"},{"$error":"#N/A"},{"$error":"#N/A"},{"$error":"#N/A"},{"$error":"#N/A"}]
[{"$error":"#N/A"},{"$error":"#N/A"},{"$error":"#N/A"},{"$error":"#N/A"},{"$error":"#N/A"},{"$error":"#N/A"},{"$error":"#N/A"}]
[{"$error":"#N/A"},{"$error":"#N/A"},{"$error":"#N/A"},{"$error":"#N/A"},{"$error":"#N/A"},{"$error":"#N/A"},{"$error":"#N/A"}]
[{"$error":"#N/A"},{"$error":"#N/A"},{"$error":"#N/A"},{"$error":"#N/A"},{"$error":"#N/A"},{"$error":"#N/A"},{"$error":"#N/A"}]
[{"$error":"#N/A"},{"$error":"#N/A"},{"$error":"#N/A"},{"$error":"#N/A"},{"$error":"#N/A"},{"$error":"#N/A"},{"$error":"#N/A"}]
[{"$error":"#N/A"},{"$error":"#N/A"},{"$error":"#N/A"},{"$error":"#N/A"},{"$error":"#N/A"},{"$error":"#N/A"},{"$error":"#N/A"}]
[{"$error":"#N/A"},{"$error":"#N/A"},{"$error":"#N/A"},{"$error":"#N/A"},{"$error":"#N/A"},{"$error":"#N/A"},{"$error":"#N/A"}]
[{"$error":"#N/A"},{"$error":"#N/A"},{"$error":"#N/A"},{"$error":"#N/A"},{"$error":"#N/A"},{"$error":"#N/A"},{"$error":"#N/A"}]
[{"$error":"#N/A"},{"$error":"#N/A"},{"$error":"#N/A"},{"$error":"#N/A"},{"$error":"#N/A"},{"$error":"#N/A"},{"$error":"#N/A"}]
[{"$error":"#N/A"},{"$error":"#N/A"},{"$error":"#N/A"},{"$error":"#N/A"},{"$error":"#N/A"},{"$error":"#N/A"},{"$error":"#N/A"}]
[{"$error":"#N/A"},{"$error":"#N/A"},{"$error":"#N/A"},{"$error":"#N/A"},{"$error":"#N/A"},{"$error":"#N/A"},{"$error":"#N/A"}]
[{"$error":"#N/A"},{"$error":"#N/A"},{"$error":"#N/A"},{"$error":"#N/A"},{"$error":"#N/A"},{"$error":"#N/A"},{"$error":"#N/A"}]
[{"$error":"#N/A"},{"$error":"#N/A"},{"$error":"#N/A"},{"$error":"#N/A"},{"$error":"#N/A"},{"$error":"#N/A"},{"$error":"#N/A"}]
[{"$error":"#N/A"},{"$error":"#N/A"},{"$error":"#N/A"},{"$error":"#N/A"},{"$error":"#N/A"},{"$error":"#N/A"},{"$error":"#N/A"}]
[{"$error":"#N/A"},{"$error":"#N/A"},{"$error":"#N/A"},{"$error":"#N/A"},{"$error":"#N/A"},{"$error":"#N/A"},{"$error":"#N/A"}]
[{"$error":"#N/A"},{"$error":"#N/A"},{"$error":"#N/A"},{"$error":"#N/A"},{"$error":"#N/A"},{"$error":"#N/A"},{"$error":"#N/A"}]
[{"$error":"#N/A"},{"$error":"#N/A"},{"$error":"#N/A"},{"$error":"#N/A"},{"$error":"#N/A"},{"$error":"#N/A"},{"$error":"#N/A"}]
[{"$error":"#N/A"},{"$error":"#N/A"},{"$error":"#N/A"},{"$error":"#N/A"},{"$error":"#N/A"},{"$error":"#N/A"},{"$error":"#N/A"}]
[{"$error":"#N/A"},{"$error":"#N/A"},{"$error":"#N/A"},{"$error":"#N/A"},{"$error":"#N/A"},{"$error":"#N/A"},{"$error":"#N/A"}]
[{"$error":"#N/A"},{"$error":"#N/A"},{"$error":"#N/A"},{"$error":"#N/A"},{"$error":"#N/A"},{"$error":"#N/A"},{"$error":"#N/A"}]
[{"$error":"#N/A"},{"$error":"#N/A"},{"$error":"#N/A"},{"$error":"#N/A"},{"$error":"#N/A"},{"$error":"#N/A"},{"$error":"#N/A"}]
[{"$error":"#N/A"},{"$error":"#N/A"},{"$error":"#N/A"},{"$error":"#N/A"},{"$error":"#N/A"},{"$error":"#N/A"},{"$error":"#N/A"}]
[{"$error":"#N/A"},{"$error":"#N/A"},{"$error":"#N/A"},{"$error":"#N/A"},{"$error":"#N/A"},{"$error":"#N/A"},{"$error":"#N/A"}]
[{"$error":"#N/A"},{"$error":"#N/A"},{"$error":"#N/A"},{"$error":"#N/A"},{"$error":"#N/A"},{"$error":"#N/A"},{"$error":"#N/A"}]
[{"$error":"#N/A"},{"$error":"#N/A"},{"$error":"#N/A"},{"$error":"#N/A"},{"$error":"#N/A"},{"$error":"#N/A"},{"$error":"#N/A"}]
[{"$error":"#N/A"},{"$error":"#N/A"},{"$error":"#N/A"},{"$error":"#N/A"},{"$error":"#N/A"},{"$error":"#N/A"},{"$error":"#N/A"}]
[{"$error":"#N/A"},{"$error":"#N/A"},{"$error":"#N/A"},{"$error":"#N/A"},{"$error":"#N/A"},{"$error":"#N/A"},{"$error":"#N/A"}]
[{"$error":"#N/A"},{"$error":"#N/A"},{"$error":"#N/A"},{"$error":"#N/A"},{"$error":"#N/A"},{"$error":"#N/A"},{"$error":"#N/A"}]
[{"$error":"#N/A"},{"$error":"#N/A"},{"$error":"#N/A"},{"$error":"#N/A"},{"$error":"#N/A"},{"$error":"#N/A"},{"$error":"#N/A"}]
[{"$error":"#N/A"},{"$error":"#N/A"},{"$error":"#N/A"},{"$error":"#N/A"},{"$error":"#N/A"},{"$error":"#N/A"},{"$error":"#N/A"}]
[{"$error":"#N/A"},{"$error":"#N/A"},{"$error":"#N/A"},{"$error":"#N/A"},{"$error":"#N/A"},{"$error":"#N/A"},{"$error":"#N/A"}]
[{"$error":"#N/A"},{"$error":"#N/A"},{"$error":"#N/A"},{"$error":"#N/A"},{"$error":"#N/A"},{"$error":"#N/A"},{"$error":"#N/A"}]
[{"$error":"#N/A"},{"$error":"#N/A"},{"$error":"#N/A"},{"$error":"#N/A"},{"$error":"#N/A"},{"$error":"#N/A"},{"$error":"#N/A"}]
[{"$error":"#N/A"},{"$error":"#N/A"},{"$error":"#N/A"},{"$error":"#N/A"},{"$error":"#N/A"},{"$error":"#N/A"},{"$error":"#N/A"}]
[{"$error":"#N/A"},{"$error":"#N/A"},{"$error":"#N/A"},{"$error":"#N/A"},{"$error":"#N/A"},{"$error":"#N/A"},{"$error":"#N/A"}]
[{"$error":"#N/A"},{"$error":"#N/A"},{"$error":"#N/A"},{"$error":"#N/A"},{"$error":"#N/A"},{"$error":"#N/A"},{"$error":"#N/A"}]
[{"$error":"#N/A"},{"$error":"#N/A"},{"$error":"#N/A"},{"$error":"#N/A"},{"$error":"#N/A"},{"$error":"#N/A"},{"$error":"#N/A"}]
[{"$error":"#N/A"},{"$error":"#N/A"},{"$error":"#N/A"},{"$error":"#N/A"},{"$error":"#N/A"},{"$error":"#N/A"},{"$error":"#N/A"}]
[{"$error":"#N/A"},{"$error":"#N/A"},{"$error":"#N/A"},{"$error":"#N/A"},{"$error":"#N/A"},{"$error":"#N/A"},{"$error":"#N/A"}]
[{"$error":"#N/A"},{"$error":"#N/A"},{"$error":"#N/A"},{"$error":"#N/A"},{"$error":"#N/A"},{"$error":"#N/A"},{"$error":"#N/A"}]
[{"$error":"#N/A"},{"$error":"#N/A"},{"$error":"#N/A"},{"$error":"#N/A"},{"$error":"#N/A"},{"$error":"#N/A"},{"$error":"#N/A"}]
[{"$error":"#N/A"},{"$error":"#N/A"},{"$error":"#N/A"},{"$error":"#N/A"},{"$error":"#N/A"},{"$error":"#N/A"},{"$error":"#N/A"}]
[{"$error":"#N/A"},{"$error":"#N/A"},{"$error":"#N/A"},{"$error":"#N/A"},{"$error":"#N/A"},{"$error":"#N/A"},{"$error":"#N/A"}]
[{"$error":"#N/A"},{"$error":"#N/A"},{"$error":"#N/A"},{"$error":"#N/A"},{"$error":"#N/A"},{"$error":"#N/A"},{"$error":"#N/A"}]
[{"$error":"#N/A"},{"$error":"#N/A"},{"$error":"#N/A"},{"$error":"#N/A"},{"$error":"#N/A"},{"$error":"#N/A"},{"$error":"#N/A"}]
[{"$error":"#N/A"},{"$error":"#N/A"},{"$error":"#N/A"},{"$error":"#N/A"},{"$error":"#N/A"},{"$error":"#N/A"},{"$error":"#N/A"}]
[{"$error":"#N/A"},{"$error":"#N/A"},{"$error":"#N/A"},{"$error":"#N/A"},{"$error":"#N/A"},{"$error":"#N/A"},{"$error":"#N/A"}]
[{"$error":"#N/A"},{"$error":"#N/A"},{"$error":"#N/A"},{"$error":"#N/A"},{"$error":"#N/A"},{"$error":"#N/A"},{"$error":"#N/A"}]
[{"$error":"#N/A"},{"$error":"#N/A"},{"$error":"#N/A"},{"$error":"#N/A"},{"$error":"#N/A"},{"$error":"#N/A"},{"$error":"#N/A"}]
[{"$error":"#N/A"},{"$error":"#N/A"},{"$error":"#N/A"},{"$error":"#N/A"},{"$error":"#N/A"},{"$error":"#N/A"},{"$error":"#N/A"}]
[{"$error":"#N/A"},{"$error":"#N/A"},{"$error":"#N/A"},{"$error":"#N/A"},{"$error":"#N/A"},{"$error":"#N/A"},{"$error":"#N/A"}]
[{"$error":"#N/A"},{"$error":"#N/A"},{"$error":"#N/A"},{"$error":"#N/A"},{"$error":"#N/A"},{"$error":"#N/A"},{"$error":"#N/A"}]
[{"$error":"#N/A"},{"$error":"#N/A"},{"$error":"#N/A"},{"$error":"#N/A"},{"$error":"#N/A"},{"$error":"#N/A"},{"$error":"#N/A"}]
[{"$error":"#N/A"},{"$error":"#N/A"},{"$error":"#N/A"},{"$error":"#N/A"},{"$error":"#N/A"},{"$error":"#N/A"},{"$error":"#N/A"}]
[{"$error":"#N/A"},{"$error":"#N/A"},{"$error":"#N/A"},{"$error":"#N/A"},{"$error":"#N/A"},{"$error":"#N/A"},{"$error":"#N/A"}]
[{"$error":"#N/A"},{"$error":"#N/A"},{"$error":"#N/A"},{"$error":"#N/A"},{"$error":"#N/A"},{"$error":"#N/A"},{"$error":"#N/A"}]
[{"$error":"#N/A"},{"$error":"#N/A"},{"$error":"#N/A"},{"$error":"#N/A"},{"$error":"#N/A"},{"$error":"#N/A"},{"$error":"#N/A"}]
[{"$error":"#N/A"},{"$error":"#N/A"},{"$error":"#N/A"},{"$error":"#N/A"},{"$error":"#N/A"},{"$error":"#N/A"},{"$error":"#N/A"}]
[{"$error":"#N/A"},{"$error":"#N/A"},{"$error":"#N/A"},{"$error":"#N/A"},{"$error":"#N/A"},{"$error":"#N/A"},{"$error":"#N/A"}]
[{"$error":"#N/A"},{"$error":"#N/A"},{"$error":"#N/A"},{"$error":"#N/A"},{"$error":"#N/A"},{"$error":"#N/A"},{"$error":"#N/A"}]
[{"$error":"#N/A"},{"$error":"#N/A"},{"$error":"#N/A"},{"$error":"#N/A"},{"$error":"#N/A"},{"$error":"#N/A"},{"$error":"#N/A"}]
[{"$error":"#N/A"},{"$error":"#N/A"},{"$error":"#N/A"},{"$error":"#N/A"},{"$error":"#N/A"},{"$error":"#N/A"},{"$error":"#N/A"}]
[{"$error":"#N/A"},{"$error":"#N/A"},{"$error":"#N/A"},{"$error":"#N/A"},{"$error":"#N/A"},{"$error":"#N/A"},{"$error":"#N/A"}]
[{"$error":"#N/A"},{"$error":"#N/A"},{"$error":"#N/A"},{"$error":"#N/A"},{"$error":"#N/A"},{"$error":"#N/A"},{"$error":"#N/A"}]
[{"$error":"#N/A"},{"$error":"#N/A"},{"$error":"#N/A"},{"$error":"#N/A"},{"$error":"#N/A"},{"$error":"#N/A"},{"$error":"#N/A"}]
[{"$error":"#N/A"},{"$error":"#N/A"},{"$error":"#N/A"},{"$error":"#N/A"},{"$error":"#N/A"},{"$error":"#N/A"},{"$error":"#N/A"}]
[{"$error":"#N/A"},{"$error":"#N/A"},{"$error":"#N/A"},{"$error":"#N/A"},{"$error":"#N/A"},{"$error":"#N/A"},{"$error":"#N/A"}]
[{"$error":"#N/A"},{"$error":"#N/A"},{"$error":"#N/A"},{"$error":"#N/A"},{"$error":"#N/A"},{"$error":"#N/A"},{"$error":"#N/A"}]
[{"$error":"#N/A"},{"$error":"#N/A"},{"$error":"#N/A"},{"$error":"#N/A"},{"$error":"#N/A"},{"$error":"#N/A"},{"$error":"#N/A"}]
[{"$error":"#N/A"},{"$error":"#N/A"},{"$error":"#N/A"},{"$error":"#N/A"},{"$error":"#N/A"},{"$error":"#N/A"},{"$error":"#N/A"}]

{"sheet":"Import","index":29,"n_rows":304,"n_cols":18,"rows_kept":304,"cut":false,"hidden":false,"merged":[[0,2,0,10],[0,12,0,17]]}
[null,null,{"$f":"IF(ChoixLangue=Languages!$B$1,Languages!$B130,IF(ChoixLangue=Languages!$C$1,Languages!$C130,IF(ChoixLangue=Languages!$D$1,Languages!$D130,Languages!$E130)))","v":"Import des nageuses et des tests depuis internet (artswim.ch)"},null,null,null,null,null,null,null,null,null,{"$f":"IF(ChoixLangue=Languages!$B$1,Languages!$B131,IF(ChoixLangue=Languages!$C$1,Languages!$C131,IF(ChoixLangue=Languages!$D$1,Languages!$D131,Languages!$E131)))","v":"Import des juges depuis internet (artswim.ch)"}]
[null,null,null,{"$f":"IF(ChoixLangue=Languages!$B$1,Languages!$B109,IF(ChoixLangue=Languages!$C$1,Languages!$C109,IF(ChoixLangue=Languages!$D$1,Languages!$D109,Languages!$E109)))","v":"Nom"},{"$f":"IF(ChoixLangue=Languages!$B$1,Languages!$B110,IF(ChoixLangue=Languages!$C$1,Languages!$C110,IF(ChoixLangue=Languages!$D$1,Languages!$D110,Languages!$E110)))","v":"Prénom"},{"$f":"IF(ChoixLangue=Languages!$B$1,Languages!$B101,IF(ChoixLangue=Languages!$C$1,Languages!$C101,IF(ChoixLangue=Languages!$D$1,Languages!$D101,Languages!$E101)))","v":"Licence"},{"$f":"IF(ChoixLangue=Languages!$B$1,Languages!$B102,IF(ChoixLangue=Languages!$C$1,Languages!$C102,IF(ChoixLangue=Languages!$D$1,Languages!$D102,Languages!$E102)))","v":"An. Nais."},{"$f":"IF(ChoixLangue=Languages!$B$1,Languages!$B100,IF(ChoixLangue=Languages!$C$1,Languages!$C100,IF(ChoixLangue=Languages!$D$1,Languages!$D100,Languages!$E100)))","v":"Club"},{"$f":"IF(ChoixLangue=Languages!$B$1,Languages!$B103,IF(ChoixLangue=Languages!$C$1,Languages!$C103,IF(ChoixLangue=Languages!$D$1,Languages!$D103,Languages!$E103)))","v":"N° Test"},null,null,null,null,{"$f":"IF(ChoixLangue=Languages!$B$1,Languages!$B99,IF(ChoixLangue=Languages!$C$1,Languages!$C99,IF(ChoixLangue=Languages!$D$1,Languages!$D99,Languages!$E99)))","v":"NOM Prénom"},{"$f":"IF(ChoixLangue=Languages!$B$1,Languages!$B100,IF(ChoixLangue=Languages!$C$1,Languages!$C100,IF(ChoixLangue=Languages!$D$1,Languages!$D100,Languages!$E100)))","v":"Club"},{"$f":"IF(ChoixLangue=Languages!B$1,Languages!B35,IF(ChoixLangue=Languages!C$1,Languages!C35,IF(ChoixLangue=Languages!D$1,Languages!D35,Languages!E35)))","v":"Qualification (A-F)"},"Email"]
[]
[]
[]
[]
[]
[]
[]
[]
[]
[]
[]
[]
[]
[]
[]
[]
[]
[]
[]
[]
[]
[]
[]
[]
[]
[]
[]
[]
[]
[]
[]
[]
[]
[]
[]
[]
[]
[]
[]
[]
[]
[]
[]
[]
[]
[]
[]
[]
[]
[]
[null,null,null,null,null,null,null,null,null,null,null,null,null,null,null,null,null,"-"]
[]
[]
[]
[]
[]
[]
[]
[]
[]
[]
[]
[]
[]
[]
[]
[]
[]
[]
[]
[]
[]
[]
[]
[]
[]
[]
[]
[]
[]
[]
[]
[]
[]
[]
[]
[]
[]
[]
[]
[]
[]
[]
[]
[]
[]
[]
[]
[]
[]
[]
[]
[]
[]
[]
[]
[]
[]
[]
[]
[]
[]
[]
[]
[]
[]
[]
[]
[]
[]
[]
[]
[]
[]
[]
[]
[]
[]
[]
[]
[]
[]
[]
[]
[]
[]
[]
[]
[]
[]
[]
[]
[]
[]
[]
[]
[]
[]
[]
[]
[]
[]
[]
[]
[]
[]
[]
[]
[]
[]
[]
[]
[]
[]
[]
[]
[]
[]
[]
[]
[]
[]
[]
[]
[]
[]
[]
[]
[]
[]
[]
[]
[]
[]
[]
[]
[]
[]
[]
[]
[]
[]
[]
[]
[]
[]
[]
[]
[]
[]
[]
[]
[]
[]
[]
[]
[]
[]
[]
[]
[]
[]
[]
[]
[]
[]
[]
[]
[]
[]
[]
[]
[]
[]
[]
[]
[]
[]
[]
[]
[]
[]
[]
[]
[]
[]
[]
[]
[]
[]
[]
[]
[]
[]
[]
[]
[]
[]
[]
[]
[]
[]
[]
[]
[]
[]
[]
[]
[]
[]
[]
[]
[]
[]
[]
[]
[]
[]
[]
[]
[]
[]
[]
[]
[]
[]
[]
[]
[]
[]
[]
[]
[]
[]
[]
[]
[]
[]
[]
[]
[]
[]
[]
[]
[]
[]
[]
[]
[]
[]
[]
["-","-","-",null,null,null,null,null,null,"-","-"]

{"sheet":"Languages","index":30,"n_rows":205,"n_cols":12,"rows_kept":205,"cut":false,"hidden":true,"merged":[[1,0,52,0],[149,0,202,0],[54,0,82,0],[96,0,104,0],[84,0,94,0],[106,0,130,0]]}
["Onglets","Deutsch","Français","English","??"]
["Cover Page","Sprachwahl","Choix de la langue","Choose your language",null,null,{"$f":"IF(ChoixLangue=B$1,B3,IF(ChoixLangue=C$1,C3,IF(ChoixLangue=D$1,D3,E3)))","v":"Test"},null,{"$f":"IF(B2=\"\",\"\",B2)","v":"Sprachwahl"},{"$f":"IF(I2=\"\",IF(C2=\"\",\"\",C2),IF(C2=\"\",I2,CONCATENATE(I2,\", \",C2)))","v":"Sprachwahl, Choix de la langue"},{"$f":"IF(J2=\"\",IF(D2=\"\",\"\",D2),IF(D2=\"\",J2,CONCATENATE(J2,\", \",D2)))","v":"Sprachwahl, Choix de la langue, Choose your language"},{"$f":"IF(K2=\"\",IF(E2=\"\",\"\",E2),IF(E2=\"\",K2,CONCATENATE(K2,\", \",E2)))","v":"Sprachwahl, Choix de la langue, Choose your language"}]
[null,"Test","Test","Test",null,null,{"$f":"IF(ChoixLangue=B$1,B4,IF(ChoixLangue=C$1,C4,IF(ChoixLangue=D$1,D4,E4)))","v":"Compétition"}]
[null,"Wettkampf","Compétition","Competition"]
[null,"Tests","du test","of the test"]
[null,"Testtages","du test","of the testday"]
[null,"Wettkampfveranstaltung","compétition","Competition"]
[null,"Wettkampftages","compétition","Competition day"]
[null,"Name der Wettkampfveranstaltung:","Nom de la compétition :","Competition name:"]
[null,{"$f":"IF(TypeComp=G$2,CONCATENATE(\"Daten des \",B5,\":\"),CONCATENATE(\"Daten der \",B7,\":\"))","v":"Daten der Wettkampfveranstaltung:"},{"$f":"IF(TypeComp=G$2,CONCATENATE(\"Données \",C5,\" :\"),CONCATENATE(\"Données de la \",C7,\" :\"))","v":"Données de la compétition :"},"Competition dates:"]
[null,{"$f":"IF(TypeComp=G$2,CONCATENATE(\"Datum des \",B6,\":\"),CONCATENATE(\"Datum des \",B8,\":\"))","v":"Datum des Wettkampftages:"},{"$f":"IF(TypeComp=G$2,CONCATENATE(\"Date \",C6,\" :\"),CONCATENATE(\"Date de la \",C8,\" :\"))","v":"Date de la compétition :"},"Competition date:"]
[null,{"$f":"IF(TypeComp=G$2,CONCATENATE(\"Ort des \",B5,\":\"),CONCATENATE(\"Ort der \",B7,\":\"))","v":"Ort der Wettkampfveranstaltung:"},{"$f":"IF(TypeComp=G$2,CONCATENATE(\"Lieu \",C5,\" :\"),CONCATENATE(\"Lieu de la \",C7,\" :\"))","v":"Lieu de la compétition :"},"Competition place:"]
[null,"Anmeldeschluss:","Délai d'inscription :","Final inscription date:"]
[null,"Daten des Vereins:","Données du club :","Details of the club:"]
[null,"Verein:","Club :","Club:"]
[null,"off. Abkürzung:","Abréviation officielle :","off. Abbreviation"]
[null,"Strasse:","Adresse :","Street:"]
[null,"PLZ und Ort:","N° postal et domicile :","ZIP and place:"]
[null,"E-mail des Vereins:","Adresse e-mail :","Email address:"]
[null,"Daten des technischen Verantwortlichen:","Données du responsable technique :","Details of technical responsible:"]
[null,"Name Vorname:","Nom, prénom :","Name, first name:"]
[null,"Telefon Nr:","N° de tél. :","Telefon number:"]
[null,"E-mail:","Adresse e-mail :","Email address:"]
[null,"Instruktionen:","Instructions :","Instructions:"]
[null,"1. Füllen Sie die gelben Felder links aus","1. Remplissez les plages jaunes à gauche","1. Fill in the yellow fields on the left"]
[null,"2. Wählen Sie den Wettkamp Typ","2. Choisissez le type de compétition","2. Choose the competition type"]
[null,"3. Wählen Sie die gewünschten Laschen/Kategorien aus, in dem Sie die CheckBox markieren. Die nicht ausgewählten Kategorien werden verborgen.","3. Sélectionnez les onglets (Catégories) à masquer avec les cases à cocher ci-contre","3. Choose the checkbox of the desired categories, the ones which are not chosen will be hidden"]
[null,"4. Tragen Sie die Richter in die gelben Felder unten ein","4. Saisissez les juges dans les cellules jaunes du bas","4. Enter the juges in the down mentioned yellow fields"]
[null,"5. Geben Sie die Schwimmerinen in der \"Inscriptions\" Lasche ein","5. Saisissez les nageuses dans l'onglet \"Inscriptions\"","5. Enter the swimmers in the tab \"Inscriptions\""]
[null,"6. Geben Sie in jeder Kategorie-Lasche die von der Schwimmerin geschwommenen Wettkämpfe ein","6. Sur chaque onglet indiquez les épreuves nagées par nageuse","6. Please enter in each tab the event of each swimmer"]
[null,"7. Senden Sie das neu erstellte File aus Ihrem Webmail als Anhang an Artistic Swimming","7. Envoyez le nouveau fichier comme pièce jointe depuis un Webmail à Artistic Swimming","7. Please send the new file as attachment from your email account to Artistic Swimming"]
[null,"    Die Email Adresse ist oben links neben \"e-mail\" vermerkt.","    L'adresse e-mail est indiquée en haut à gauche à côté de \"e-mail :\"","    You'll find the address on the top left next to \"e-mail:\""]
[null,"Richtermeldungen:","Juges à inscrire :","Inscription of Judges"]
[null,"NAME Vorname","NOM Prénom","Name, first name:"]
[null,"Qualifikation (A - F)","Qualification (A-F)","Qualification (A-F)"]
[null,"Anzahl der Richter","Nombre de juges","Number of judges"]
[null,"Siehe Reglement 6.6 Art. 11. ","Voir l'article 11 du règlement 6.6","Please check reg. 6.6, article 11"]
[null,"(1 - 6 Schwimmerinnen: 1 Wertungsrichter + 1 F-Richter)","(1 - 6 nageuses 1 juge + 1 juge F)","(1 - 6 swimmers: 1 judge + 1 F-judge)"]
[null,"(7 - 14 Schwimmerinnen: 2 Wertungsrichter + 1 F-Richter)","(7 - 14 nageuses 2 juges + 1 juge F)","(7 - 14 swimmers: 2 judges + 1 F-judge)"]
[null,"(15 - 24 Schwimmerinnen: 3 Wertungsrichter + 1 F-Richter)","(15 - 24 nageuses 3 juges + 1 juge F)","(15 - 24 swimmers: 3 judges + 1 F-judge)"]
[null,"(24 - 32 Schwimmerinnen: 4 Wertungsrichter + 2 F-Richter)","(25 - 32 nageuses 4 juges + 2 juges F)","(25 - 32 swimmers: 4 judges + 2 F-judges)"]
[null,"(mehr als 33 Schwimmerinnen: 5 Wertungsrichter + 2 F-Richter)","(plus des 33 nageuses 5 juges + 2 juges F)","(more than 33 swimmers: 5 judges + 2 F-judges)"]
[null,"Die Richter müssen für die angemeldeten Teststufen qualifiziert sein.","Les juges doivent être qualifiés pour les niveaux de tests","The judges have to be qualified for the selected level of the test"]
[null,"Wettkampftyp","Type d'événement","Event Type"]
[null,"Bemerkungen","Remarques","Remarks"]
[null,"Allgemeine Bemerkungen [Zeilenumbruch mit (Alt + Eingabetaste)]","Remarques générales [retour à la ligne avec (Alt + ENTER)]","General remarks [line break with (Alt + RETURN)]"]
[null,"E-mail der Schiedsrichter hinzufügen","Saisir l'e-mail du juge arbitre","Enter the e-mail of the Referee "]
[null,"Siehe Reglement 6.2, Art. 1.4.2 ","Voir l'article 1.4.2 du règlement 6.2","Please check article 1.4.2 from regl. 6.2"]
[null,"(1 - 10 Schwimmerinnen: 1 Wertungsrichter)","(1 - 10 nageuses = 1 juge)","(1 - 10 swimmers: 1 judge)"]
[null,"(11 - 20 Schwimmerinnen: 2 Wertungsrichter)","(11 - 20 nageuses = 2 juges)","(10 à 20 swimmers: 2 judges)"]
[null,"(bei mehr als 20 Schwimmerinnen: 3 Wertungsrichter)","(plus de 20 nageuses = 3 juges)","(More than 20 swimmers: 3 judges)"]
[null,"Alle teilnehmenden Vereine stellen je mindestens einen F-Richter","Chaque club participant met au moins un juge F à disposition","Every participating club puts at least on judge F at disposal"]
[null,"Im Regional Wettkämpfe könne Spezielle Regeln können angewendet werden","Dans les compétitions régionales des règles particulières peuvent être appliquées","In the regional competition special rules can be applied"]
[]
["Inscriptions","Meldungen Schwimmerinnen:","Nageuses à inscrire :","Inscription of swimmers:"]
[null,"NAME Vorname","NOM Prénom","Name, first name"]
[null,"Verein","Club","Club"]
[null,"Lizenz Nr.","Licence","Licence"]
[null,"Test Nr.","N° Test","Test Nr"]
[null,"Jahrgang","An. Nais.","Year of birth"]
[null,"Nötige Test Nr","N° de test nécessaire","Necessary Nr of test"]
[null,"Tests","Tests","Tests"]
[null,"J4","J4","J4"]
[null,"U10","U10","U10"]
[null,"U13","U13","U13"]
[null,"J3","J3","J3"]
[null,"J2","J2","J2"]
[null,"J1","J1","J1"]
[null,"All categories","All categories","All categories"]
[null,"U1 RSR","U1 RSR","U1 RSR"]
[null,"U15","U15","U15"]
[null,"U18","U18","U18"]
[null,"Novizen","Débutants","Beginners"]
[null,"Nachwuchs","Espoirs","Youngsters"]
[null,"Junioren","Juniors","Juniors"]
[null,"U2 RSR","U2 RSR","U2 RSR"]
[null,"U3 RSR","U3 RSR","U3 RSR"]
[null,"Masters","Masters","Masters"]
[null,"Free Combo","Groupe combiné","Free Combination"]
[null,"Anzahl Kat.","Nbe Cat.","Number of cat."]
[null,"Anzahl Schwimmerinnen per Kategorie","Nbes de nageuses par catégorie","Number of swimmers per cat."]
[null,"Kategorie 1","Catégorie 1","Category 1"]
[null,"Kategorie 2","Catégorie 2","Category 2"]
[]
["Data","Richter","Juges","Judges"]
[null,"Verein","Club","Club"]
[null,"Name des Vereins","Nom du club","Name of the club"]
[null,"Diplom","Brevet","Brevet"]
[null,"Schwimmerinnen","Nageuses","Swimmers"]
[null,"Lizenz Nr.","N° de licence","License number"]
[null,"Jg.","An nais.","YOB"]
[null,"Test Nr.","N° Test","Test Nr",{"$f":"E86","v":0}]
[null,null,null,null,{"$f":"E92","v":0}]
[null,{"$f":"B87","v":"Name des Vereins"},{"$f":"C87","v":"Nom du club"},{"$f":"D87","v":"Name of the club"},{"$f":"E87","v":0}]
[null,"Richter E-mail","E-mail du juge","Judge e-mail"]
[]
["Cat. / Kat.","Kategorie","Catégorie","Category"]
[null,"Meldeliste für: ","Liste des inscriptions pour le : ","Entry list for:"]
[null,{"$f":"B56","v":"NAME Vorname"},"NOM Prénom","Name, first name",0]
[null,"Verein","Club","Club",0]
[null,"Lizenz Nr.","Licence","Licence",0]
[null,"Jahrgang","An. Nais.","Year of birth"]
[null,{"$f":"B92","v":"Test Nr."},{"$f":"C92","v":"N° Test"},"Test Nr"]
[null,"Pflicht","Figures","Figures"]
[null,"Anzahl Schwimmerinnen: ","Nbe nageuses : ","Number of swimmers:"]
[]
["Import","Import der Schwimmerinnen aus der Lizenzierungsdatenbank des Verbandes","Données des nageuses","Data of the swimmers from database licence of the federation"]
[null,"Personen-Nr.","No. de personne","Person-number"]
[null,"Name","Nom","Name"]
[null,"Vorname","Prénom","First name"]
[null,"Geburtsdatum","Date de naissance","Date of birth"]
[null,"E-mail","E-mail","E-Mail"]
[null,"Geschlecht","Sexe","Gender"]
[null,"Nationalität","Nationalité","Nationality"]
[null,"Telefon Privat","Téléphone privé","Privat telefon number"]
[null,"Telefon Mobile","Tél. mobile","Mobile number"]
[null,"Korr. Adresse","Corresp. Adresse","Corr. Address"]
[null,"Korr. PLZ","Corresp. Code postal","Corr. ZIP"]
[null,"Korr. Ort","Corresp. Lieu","Corr. Place"]
[null,"Saison","Saison","Season"]
[null,"Typ","Type","Typ"]
[null,"Status","Status","Status"]
[null,"Korr. Firma","Corresp. Entreprise","Corr. Company"]
[null,"Korr. Adresse","Corresp. Adresse","Corr. Address"]
[null,"Korr. PLZ","Corresp. Code postal","Corr. ZIP"]
[null,"Korr. Ort","Corresp. Lieu","Corr. Place"]
[null,"Zu den Tests","Vers les tests","To the tests"]
[null,"Zu den Richtern","Vers les juges","To the judges"]
[null,"Zurrück","Retour","Back home"]
[null,"Schwimmerinnen und Testen von Internet (artswim.ch) Webseite importieren","Import des nageuses et des tests depuis internet (artswim.ch)","Import the swimmer and the tests from internet (artswim.ch) "]
[null,"Richter von Internet (artswim.ch) importieren","Import des juges depuis internet (artswim.ch)","Import the judges from internet (artswim.ch)"]
[]
["13.09.2017\nCover Page","8. Der Manschaftsführer und weitere Offizielle (Badges) können auf \n    den Zeilen 66 bis 70 eingegeben werden","8. Le Team manager et les officiels (accréditations) peuvent être\n    saisis sur les lignes 66 à 70","8. The team manager and the officials (accreditations) can be\n    indicated on rows 66 to 70"]
[]
["13.9.2019\nCover Page","Wählen Sie den Logo hier ►►► ","Choisissez ici le logo à afficher ►►► ","Choose the logo here ►►► "]
[]
[]
[]
[]
[]
[]
[]
[]
[]
[]
[]
[]
["Les traductions des macros ne doivent pas changer de place (entre les lignes 150 et 205)"]
[]
["Macros","Eingabehilfe einschalten","Afficher l'aide à la saisie","Show the input help"]
[null,"Eingabefeld für Richter\nTeil oder ganze Name tippen","Zone de saisie des juges\nsaisir tout ou partie du nom","Judges Input region\nType part or all of the judge name"]
[null,"Auswahlfeld\nDer angeklickte Name wird in die Richterliste geschrieben","Zone de choix\nUn clic sur le juge désiré et celui-ci est recopié dans la liste","Choice region\nClic on the correct judge name, he's copied in the judge list"]
[null,"Deine Auswahl hat keinen Platz mehr auf der Richterliste - Bitte zuerst einen Namen löschen!","Il n'y a plus de place sur la liste des juges - Efface d'abord un nom!","Your choice has no more place on the judge's list - Please delete first a name!"]
[null,{"$f":"B62","v":"Tests"},{"$f":"C62","v":"Tests"},"Tests"]
[null,{"$f":"B63","v":"J4"},{"$f":"C63","v":"J4"},"Cat. 4"]
[null,{"$f":"B64","v":"U10"},"U10","Cat. 4A U-10"]
[null,"U13","U13","Cat. 4B U-13"]
[null,"J3","J3","J3"]
[null,"J2","J2","J2"]
[null,"J1","J1","J1"]
[null,"All categories","All categories","All categories"]
[null,"U1 RSR","U1 RSR","NPT"]
[null,"U15","U15","15 and younger"]
[null,"U18","U18","18 and younger"]
[null,"Novizen","Débutants","Beginners"]
[null,"Nachwuchs","Espoirs","Youth"]
[null,"Junioren","Juniors","Juniors"]
[null,"U2 RSR","U2 RSR","NPT -18"]
[null,"U3 RSR","U3 RSR","NPT +18"]
[null,"Masters","Masters","Masters"]
[null,"Free Combo","Groupe combiné","Combination"]
[null,"Kategorie 1","Catégorie 1","Category 1"]
[null,"Kategorie 2","Catégorie 2","Category 2"]
[null,"Renc. Romande","Renc. Romande","Renc. Romande"]
[]
[]
[]
[]
[]
[null,"Eingabehilfe einschalten","Afficher l'aide à la saisie","Show the input help"]
[null,"Eingabefeld für Schwimmerin\nTeil oder ganze Name tippen","Saisie de la nageuse\nsaisir tout ou partie du nom","Input field for swimmer \nType part or all of the swimmer name"]
[null,"Auswahlfeld\nDer angeklickte Name wird in die Schwimmerliste geschrieben","Champ de sélection\nLe nom cliqué sera inscrit dans la liste des nageuses","Choice field\nThe clicked name is written in the swimmer's list"]
[null,"Es sind bereits 300 Schwimmerinnen erfasst - mehr geht nicht!","Il y a déjà 300 nageuse inscrites - Impossible d'en inscrire plus !","They are already 300 registered swimmers - any more doesn't go!"]
[]
[]
[]
[]
[]
[]
[null,"Überweisung","Transfert","Transfer"]
[null,"Löschen","Effacer","Erase","erase"]
[null,"Überweisen der Richter","Transférer les juges","Transfer the judges","tranfert_judges"]
[null,"Richter löschen","Effacer les juges","Erase the judges","erase_judges"]
[null,"Schwimmerinnen löschen","Effacer les données des nageuses","Erase swimmer's data","erase_tests"]
[null,"Sortieren der Richter","Tri des juges","Sort the judges"]
[null,"Sortieren der Club","Tri des clubs","Sort the clubs"]
[null,"Schwimmerinnen sortieren ","Tri des nageuses","Sort the swimmers"]
[]
[]
[null,"Das gewünschte Register ist maskiert, unmöglich es anzuzeigen!!","L'onglet désiré est masqué, impossible de l'afficher !!","The wished tab is masked, unpossible to show it !!"]
[null,"Bitte wählen Ihr Club in Cover Page","Veuillez sélectionner votre club dans l'onglet Cover Page, avant d'effectuer cette opération, svp.","Please choose your club in Cover Page before execute this operation"]
[null,"Überweisen die Schwimmerinnen und die Testdaten auf das Datenblatt","Transférer les données nageuses et tests vers Data","Transfer swimmers and tests data to Data's Sheet","transfer_tests_data"]
[null,"Überweisen der Richter","Transférer les données des juges","Transfer Judges Datas","transfer_judges_data"]
[null,"Importieren Sie Richter aus ArtSwim.ch","Importer les juges depuis ArtSwim.ch","Import judges from ArtSwim.ch","import_judges"]
[null,"Importieren Schwimmerinnen Data von ArtSwim.ch","Importer les nageuses depuis ArtSwim.ch","Import swimmers from ArtSwim.ch","import_swimmers"]

{"sheet":"Logos","index":31,"n_rows":12,"n_cols":6,"rows_kept":12,"cut":false,"hidden":true,"merged":[]}
["Logos",null,null,null,null,"Pied de page"]
["SAAS"]
["Combiné"]
["Swiss-Youth"]
["ROS"]
["RSI"]
["RSR"]
["RZO"]
["RZW"]
["Comen"]
["Len"]
["Fina"]